{"text_format":"1","workbook":"xlsx","n_sheets":7,"sheets":["Main","1. ByFundManager","InTranDist","Reference","InTran","Extra","InFoTran"],"not_rendered":{"charts":0,"images":0,"macros":1,"external_links":0,"defined_names":24,"comments":1,"pivot_tables":0},"unopened":[],"bounds":{"document_bytes":16777216,"sheet_cells":100000,"rows_first":2000,"rows_last":500,"rows_between":2000,"halvings":0,"cell_chars":16384,"cell_head_chars":4096},"cells_cut":0,"cells_raw":0,"read":"whole","date_system":"1900"}

{"sheet":"Main","index":0,"n_rows":23,"n_cols":7,"rows_kept":23,"cut":false,"hidden":false,"merged":[]}
[]
[null,"VCap","Fund By Manager"]
[]
[null,null,null,null,null,"* Please sheet(s) to print"]
[null,"* Step 1 : Connect to Server",null,null,null,"Sheet","YES/NO"]
[null,null,null,null,null,"1. ByFundManager","NO"]
[]
[]
[]
[]
[null," * Step 2 : Change Only If Necessary"]
[]
[null,"Company :","VCAP ASSET MANAGERS SDN. BHD."]
[null,"Start Date :","2017-01-01"]
[null,"Value Date :","2017-09-30"]
[]
[null,"* Step 3 : Refresh Data"]
[]
[]
[]
[]
[]
[null,"* Step 4 : Print Report"]

{"sheet":"1. ByFundManager","index":1,"n_rows":210,"n_cols":32,"rows_kept":210,"cut":false,"hidden":false,"merged":[[107,23,107,25],[107,27,107,29],[3,27,3,29],[133,3,133,5],[133,7,133,9],[133,11,133,13],[133,15,133,17],[133,19,133,21],[3,15,3,17],[3,11,3,13],[3,23,3,25],[3,19,3,21],[3,7,3,9],[3,3,3,5],[29,23,29,25],[29,27,29,29],[55,3,55,5],[55,7,55,9],[55,11,55,13],[55,15,55,17],[55,19,55,21],[29,3,29,5],[29,7,29,9],[29,11,29,13],[29,15,29,17],[29,19,29,21],[55,23,55,25],[55,27,55,29],[81,3,81,5],[81,7,81,9],[81,11,81,13],[81,15,81,17],[81,19,81,21],[81,23,81,25],[81,27,81,29],[107,3,107,5],[107,7,107,9],[107,11,107,13],[107,15,107,17],[107,19,107,21],[133,23,133,25],[133,27,133,29],[159,3,159,5],[159,7,159,9],[159,11,159,13],[159,15,159,17],[159,19,159,21],[159,23,159,25],[159,27,159,29],[185,23,185,25],[185,27,185,29],[185,3,185,5],[185,7,185,9],[185,11,185,13],[185,15,185,17],[185,19,185,21]]}
[]
[null,null,{"$f":"\"SUMMARY OF TRADES BY PORTFOLIO MANAGERS From \" & TEXT(StartDate,\"dd-mm-yyyy\") & \" To \" & TEXT(ValueDate,\"dd-mm-yyyy\")","v":"SUMMARY OF TRADES BY PORTFOLIO MANAGERS From 01-01-2017 To 30-09-2017"}]
[]
[null,null,"ALEX.LEE","YH-AUR-VCAM",null,null,null,"KWAP",null,null,null,"MEQESG",null,null,null,"YAMIR-VCAM",null,null,null,"VCAM-TABA",null,null,null,"ASEAN5ESG",null,null,null,"Total"]
[null,null,"Brokers","Trade Value (RM)","Brokerage Fees (RM)","Capital Gains (RM)","%","Trade Value (RM)","Brokerage Fees (RM)","Capital Gains (RM)","%","Trade Value (RM)","Brokerage Fees (RM)","Capital Gains (RM)","%","Trade Value (RM)","Brokerage Fees (RM)","Capital Gains (RM)","%","Trade Value (RM)","Brokerage Fees (RM)","Capital Gains (RM)","%","Trade Value (RM)","Brokerage Fees (RM)","Capital Gains (RM)","%","Trade Value (RM)","Brokerage Fees (RM)","Capital Gains (RM)","%","Trade Value Ranking"]
[null,null,"CLSA LIMITED",{"$f":"+SUMIFS(InTran!$R:$R,InTran!$G:$G,C6,InTran!$O:$O,$C$4,InTran!$C:$C,$D$4)","v":162493504.57999995},{"$f":"+SUMIFS(InTran!$S:$S,InTran!$G:$G,C6,InTran!$O:$O,$C$4,InTran!$C:$C,$D$4)","v":218385.22},{"$f":"+SUMIFS(InTran!$M:$M,InTran!$G:$G,C6,InTran!$O:$O,$C$4,InTran!$C:$C,$D$4)","v":7477066.0799999982},{"$f":"+IFERROR(D6/SUM($D$6:$D$27),0)","v":0.32394916295744469},{"$f":"+SUMIFS(InTran!$R:$R,InTran!$G:$G,C6,InTran!$O:$O,$C$4,InTran!$C:$C,$H$4)","v":0},{"$f":"+SUMIFS(InTran!$S:$S,InTran!$G:$G,C6,InTran!$O:$O,$C$4,InTran!$C:$C,$H$4)","v":0},{"$f":"+SUMIFS(InTran!$M:$M,InTran!$G:$G,C6,InTran!$O:$O,$C$4,InTran!$C:$C,$H$4)","v":0},{"$f":"+IFERROR(H6/SUM($H$6:$H$27),0)","v":0},{"$f":"+SUMIFS(InTran!$R:$R,InTran!$G:$G,C6,InTran!$O:$O,$C$4,InTran!$C:$C,$L$4)","v":1958923.76},{"$f":"+SUMIFS(InTran!$S:$S,InTran!$G:$G,C6,InTran!$O:$O,$C$4,InTran!$C:$C,$L$4)","v":3907.92},{"$f":"+SUMIFS(InTran!$M:$M,InTran!$G:$G,C6,InTran!$O:$O,$C$4,InTran!$C:$C,$L$4)","v":0},{"$f":"+IFERROR(L6/SUM($L$6:$L$27),0)","v":5.0063654785452688E-2},{"$f":"+SUMIFS(InTran!$R:$R,InTran!$G:$G,C6,InTran!$O:$O,$C$4,InTran!$C:$C,$P$4)","v":0},{"$f":"+SUMIFS(InTran!$S:$S,InTran!$G:$G,C6,InTran!$O:$O,$C$4,InTran!$C:$C,$P$4)","v":0},{"$f":"+SUMIFS(InTran!$M:$M,InTran!$G:$G,C6,InTran!$O:$O,$C$4,InTran!$C:$C,$P$4)","v":0},{"$f":"+IFERROR(P6/SUM($P$6:$P$27),0)","v":0},{"$f":"+SUMIFS(InTran!$R:$R,InTran!$G:$G,C6,InTran!$O:$O,$C$4,InTran!$C:$C,$T$4)","v":0},{"$f":"+SUMIFS(InTran!$S:$S,InTran!$G:$G,C6,InTran!$O:$O,$C$4,InTran!$C:$C,$T$4)","v":0},{"$f":"+SUMIFS(InTran!$M:$M,InTran!$G:$G,C6,InTran!$O:$O,$C$4,InTran!$C:$C,$T$4)","v":0},{"$f":"+IFERROR(T6/SUM($T$6:$T$27),0)","v":0},{"$f":"+SUMIFS(InTran!$R:$R,InTran!$G:$G,C6,InTran!$O:$O,$C$4,InTran!$C:$C,$X$4)","v":2154792.8603067193},{"$f":"+SUMIFS(InTran!$S:$S,InTran!$G:$G,C6,InTran!$O:$O,$C$4,InTran!$C:$C,$X$4)","v":5103.9338063666519},{"$f":"+SUMIFS(InTran!$M:$M,InTran!$G:$G,C6,InTran!$O:$O,$C$4,InTran!$C:$C,$X$4)","v":-319.36},{"$f":"+IFERROR(X6/SUM($X$6:$X$27),0)","v":0.18807008941530406},{"$f":"+SUMIFS(InTran!$R:$R,InTran!$G:$G,C6,InTran!$O:$O,$C$4)","v":166607221.20030662},{"$f":"+SUMIFS(InTran!$S:$S,InTran!$G:$G,C6,InTran!$O:$O,$C$4)","v":227397.07380636665},{"$f":"+SUMIFS(InTran!$M:$M,InTran!$G:$G,C6,InTran!$O:$O,$C$4)","v":7476746.7199999988},{"$f":"+IFERROR(AB6/SUM($AB$6:$AB$27),0)","v":0.30115838545151852},{"$f":"+RANK(AB6,$AB$6:$AB$27)","v":1}]
[null,null,"CREDIT SUISSE SECURITIES (M) SDN BHD",{"$f":"+SUMIFS(InTran!$R:$R,InTran!$G:$G,C7,InTran!$O:$O,$C$4,InTran!$C:$C,$D$4)","v":110559241.18000001},{"$f":"+SUMIFS(InTran!$S:$S,InTran!$G:$G,C7,InTran!$O:$O,$C$4,InTran!$C:$C,$D$4)","v":173520.94},{"$f":"+SUMIFS(InTran!$M:$M,InTran!$G:$G,C7,InTran!$O:$O,$C$4,InTran!$C:$C,$D$4)","v":6438731},{"$f":"+IFERROR(D7/SUM($D$6:$D$27),0)","v":0.22041234035812352},{"$f":"+SUMIFS(InTran!$R:$R,InTran!$G:$G,C7,InTran!$O:$O,$C$4,InTran!$C:$C,$H$4)","v":0},{"$f":"+SUMIFS(InTran!$S:$S,InTran!$G:$G,C7,InTran!$O:$O,$C$4,InTran!$C:$C,$H$4)","v":0},{"$f":"+SUMIFS(InTran!$M:$M,InTran!$G:$G,C7,InTran!$O:$O,$C$4,InTran!$C:$C,$H$4)","v":0},{"$f":"+IFERROR(H7/SUM($H$6:$H$27),0)","v":0},{"$f":"+SUMIFS(InTran!$R:$R,InTran!$G:$G,C7,InTran!$O:$O,$C$4,InTran!$C:$C,$L$4)","v":12862319.309999999},{"$f":"+SUMIFS(InTran!$S:$S,InTran!$G:$G,C7,InTran!$O:$O,$C$4,InTran!$C:$C,$L$4)","v":26274.33},{"$f":"+SUMIFS(InTran!$M:$M,InTran!$G:$G,C7,InTran!$O:$O,$C$4,InTran!$C:$C,$L$4)","v":1669030.41},{"$f":"+IFERROR(L7/SUM($L$6:$L$27),0)","v":0.32871861928720592},{"$f":"+SUMIFS(InTran!$R:$R,InTran!$G:$G,C7,InTran!$O:$O,$C$4,InTran!$C:$C,$P$4)","v":0},{"$f":"+SUMIFS(InTran!$S:$S,InTran!$G:$G,C7,InTran!$O:$O,$C$4,InTran!$C:$C,$P$4)","v":0},{"$f":"+SUMIFS(InTran!$M:$M,InTran!$G:$G,C7,InTran!$O:$O,$C$4,InTran!$C:$C,$P$4)","v":0},{"$f":"+IFERROR(P7/SUM($P$6:$P$27),0)","v":0},{"$f":"+SUMIFS(InTran!$R:$R,InTran!$G:$G,C7,InTran!$O:$O,$C$4,InTran!$C:$C,$T$4)","v":410114.4},{"$f":"+SUMIFS(InTran!$S:$S,InTran!$G:$G,C7,InTran!$O:$O,$C$4,InTran!$C:$C,$T$4)","v":924.4},{"$f":"+SUMIFS(InTran!$M:$M,InTran!$G:$G,C7,InTran!$O:$O,$C$4,InTran!$C:$C,$T$4)","v":32166.15},{"$f":"+IFERROR(T7/SUM($T$6:$T$27),0)","v":0.3968823542168799},{"$f":"+SUMIFS(InTran!$R:$R,InTran!$G:$G,C7,InTran!$O:$O,$C$4,InTran!$C:$C,$X$4)","v":905871.9},{"$f":"+SUMIFS(InTran!$S:$S,InTran!$G:$G,C7,InTran!$O:$O,$C$4,InTran!$C:$C,$X$4)","v":2032.6100000000001},{"$f":"+SUMIFS(InTran!$M:$M,InTran!$G:$G,C7,InTran!$O:$O,$C$4,InTran!$C:$C,$X$4)","v":-230.21999999999997},{"$f":"+IFERROR(X7/SUM($X$6:$X$27),0)","v":7.9064402138199402E-2},{"$f":"+SUMIFS(InTran!$R:$R,InTran!$G:$G,C7,InTran!$O:$O,$C$4)","v":124737546.78999999},{"$f":"+SUMIFS(InTran!$S:$S,InTran!$G:$G,C7,InTran!$O:$O,$C$4)","v":202752.28},{"$f":"+SUMIFS(InTran!$M:$M,InTran!$G:$G,C7,InTran!$O:$O,$C$4)","v":8139697.3399999989},{"$f":"+IFERROR(AB7/SUM($AB$6:$AB$27),0)","v":0.22547496996721114},{"$f":"+RANK(AB7,$AB$6:$AB$27)","v":2}]
[null,null,"MACQUARIE CAPITAL SECURITIES (MALAYSIA) SDN BHD",{"$f":"+SUMIFS(InTran!$R:$R,InTran!$G:$G,C8,InTran!$O:$O,$C$4,InTran!$C:$C,$D$4)","v":81315521.539999977},{"$f":"+SUMIFS(InTran!$S:$S,InTran!$G:$G,C8,InTran!$O:$O,$C$4,InTran!$C:$C,$D$4)","v":136565.43999999997},{"$f":"+SUMIFS(InTran!$M:$M,InTran!$G:$G,C8,InTran!$O:$O,$C$4,InTran!$C:$C,$D$4)","v":5967255.3200000003},{"$f":"+IFERROR(D8/SUM($D$6:$D$27),0)","v":0.16211168074944268},{"$f":"+SUMIFS(InTran!$R:$R,InTran!$G:$G,C8,InTran!$O:$O,$C$4,InTran!$C:$C,$H$4)","v":0},{"$f":"+SUMIFS(InTran!$S:$S,InTran!$G:$G,C8,InTran!$O:$O,$C$4,InTran!$C:$C,$H$4)","v":0},{"$f":"+SUMIFS(InTran!$M:$M,InTran!$G:$G,C8,InTran!$O:$O,$C$4,InTran!$C:$C,$H$4)","v":0},{"$f":"+IFERROR(H8/SUM($H$6:$H$27),0)","v":0},{"$f":"+SUMIFS(InTran!$R:$R,InTran!$G:$G,C8,InTran!$O:$O,$C$4,InTran!$C:$C,$L$4)","v":8867287.2800000012},{"$f":"+SUMIFS(InTran!$S:$S,InTran!$G:$G,C8,InTran!$O:$O,$C$4,InTran!$C:$C,$L$4)","v":17976.18},{"$f":"+SUMIFS(InTran!$M:$M,InTran!$G:$G,C8,InTran!$O:$O,$C$4,InTran!$C:$C,$L$4)","v":940232.88},{"$f":"+IFERROR(L8/SUM($L$6:$L$27),0)","v":0.22661872724916859},{"$f":"+SUMIFS(InTran!$R:$R,InTran!$G:$G,C8,InTran!$O:$O,$C$4,InTran!$C:$C,$P$4)","v":0},{"$f":"+SUMIFS(InTran!$S:$S,InTran!$G:$G,C8,InTran!$O:$O,$C$4,InTran!$C:$C,$P$4)","v":0},{"$f":"+SUMIFS(InTran!$M:$M,InTran!$G:$G,C8,InTran!$O:$O,$C$4,InTran!$C:$C,$P$4)","v":0},{"$f":"+IFERROR(P8/SUM($P$6:$P$27),0)","v":0},{"$f":"+SUMIFS(InTran!$R:$R,InTran!$G:$G,C8,InTran!$O:$O,$C$4,InTran!$C:$C,$T$4)","v":132127.41999999998},{"$f":"+SUMIFS(InTran!$S:$S,InTran!$G:$G,C8,InTran!$O:$O,$C$4,InTran!$C:$C,$T$4)","v":298.06},{"$f":"+SUMIFS(InTran!$M:$M,InTran!$G:$G,C8,InTran!$O:$O,$C$4,InTran!$C:$C,$T$4)","v":10918.72},{"$f":"+IFERROR(T8/SUM($T$6:$T$27),0)","v":0.1278644239417159},{"$f":"+SUMIFS(InTran!$R:$R,InTran!$G:$G,C8,InTran!$O:$O,$C$4,InTran!$C:$C,$X$4)","v":1453268.4881343681},{"$f":"+SUMIFS(InTran!$S:$S,InTran!$G:$G,C8,InTran!$O:$O,$C$4,InTran!$C:$C,$X$4)","v":3385.5747449312244},{"$f":"+SUMIFS(InTran!$M:$M,InTran!$G:$G,C8,InTran!$O:$O,$C$4,InTran!$C:$C,$X$4)","v":4611.6899999999996},{"$f":"+IFERROR(X8/SUM($X$6:$X$27),0)","v":0.12684111755826485},{"$f":"+SUMIFS(InTran!$R:$R,InTran!$G:$G,C8,InTran!$O:$O,$C$4)","v":91768204.728134349},{"$f":"+SUMIFS(InTran!$S:$S,InTran!$G:$G,C8,InTran!$O:$O,$C$4)","v":158225.25474493124},{"$f":"+SUMIFS(InTran!$M:$M,InTran!$G:$G,C8,InTran!$O:$O,$C$4)","v":6923018.6100000003},{"$f":"+IFERROR(AB8/SUM($AB$6:$AB$27),0)","v":0.16587975102521235},{"$f":"+RANK(AB8,$AB$6:$AB$27)","v":3}]
[null,null,"UBS SECURITIES MALAYSIA SDN BHD",{"$f":"+SUMIFS(InTran!$R:$R,InTran!$G:$G,C9,InTran!$O:$O,$C$4,InTran!$C:$C,$D$4)","v":78435514.680000007},{"$f":"+SUMIFS(InTran!$S:$S,InTran!$G:$G,C9,InTran!$O:$O,$C$4,InTran!$C:$C,$D$4)","v":88520.91},{"$f":"+SUMIFS(InTran!$M:$M,InTran!$G:$G,C9,InTran!$O:$O,$C$4,InTran!$C:$C,$D$4)","v":3773464.66},{"$f":"+IFERROR(D9/SUM($D$6:$D$27),0)","v":0.15637006163660389},{"$f":"+SUMIFS(InTran!$R:$R,InTran!$G:$G,C9,InTran!$O:$O,$C$4,InTran!$C:$C,$H$4)","v":0},{"$f":"+SUMIFS(InTran!$S:$S,InTran!$G:$G,C9,InTran!$O:$O,$C$4,InTran!$C:$C,$H$4)","v":0},{"$f":"+SUMIFS(InTran!$M:$M,InTran!$G:$G,C9,InTran!$O:$O,$C$4,InTran!$C:$C,$H$4)","v":0},{"$f":"+IFERROR(H9/SUM($H$6:$H$27),0)","v":0},{"$f":"+SUMIFS(InTran!$R:$R,InTran!$G:$G,C9,InTran!$O:$O,$C$4,InTran!$C:$C,$L$4)","v":9421434.8100000005},{"$f":"+SUMIFS(InTran!$S:$S,InTran!$G:$G,C9,InTran!$O:$O,$C$4,InTran!$C:$C,$L$4)","v":9410.2000000000007},{"$f":"+SUMIFS(InTran!$M:$M,InTran!$G:$G,C9,InTran!$O:$O,$C$4,InTran!$C:$C,$L$4)","v":0},{"$f":"+IFERROR(L9/SUM($L$6:$L$27),0)","v":0.2407809173295683},{"$f":"+SUMIFS(InTran!$R:$R,InTran!$G:$G,C9,InTran!$O:$O,$C$4,InTran!$C:$C,$P$4)","v":0},{"$f":"+SUMIFS(InTran!$S:$S,InTran!$G:$G,C9,InTran!$O:$O,$C$4,InTran!$C:$C,$P$4)","v":0},{"$f":"+SUMIFS(InTran!$M:$M,InTran!$G:$G,C9,InTran!$O:$O,$C$4,InTran!$C:$C,$P$4)","v":0},{"$f":"+IFERROR(P9/SUM($P$6:$P$27),0)","v":0},{"$f":"+SUMIFS(InTran!$R:$R,InTran!$G:$G,C9,InTran!$O:$O,$C$4,InTran!$C:$C,$T$4)","v":0},{"$f":"+SUMIFS(InTran!$S:$S,InTran!$G:$G,C9,InTran!$O:$O,$C$4,InTran!$C:$C,$T$4)","v":0},{"$f":"+SUMIFS(InTran!$M:$M,InTran!$G:$G,C9,InTran!$O:$O,$C$4,InTran!$C:$C,$T$4)","v":0},{"$f":"+IFERROR(T9/SUM($T$6:$T$27),0)","v":0},{"$f":"+SUMIFS(InTran!$R:$R,InTran!$G:$G,C9,InTran!$O:$O,$C$4,InTran!$C:$C,$X$4)","v":238257.48},{"$f":"+SUMIFS(InTran!$S:$S,InTran!$G:$G,C9,InTran!$O:$O,$C$4,InTran!$C:$C,$X$4)","v":534.46},{"$f":"+SUMIFS(InTran!$M:$M,InTran!$G:$G,C9,InTran!$O:$O,$C$4,InTran!$C:$C,$X$4)","v":-181.76},{"$f":"+IFERROR(X9/SUM($X$6:$X$27),0)","v":2.0795087264715909E-2},{"$f":"+SUMIFS(InTran!$R:$R,InTran!$G:$G,C9,InTran!$O:$O,$C$4)","v":88095206.970000014},{"$f":"+SUMIFS(InTran!$S:$S,InTran!$G:$G,C9,InTran!$O:$O,$C$4)","v":98465.57},{"$f":"+SUMIFS(InTran!$M:$M,InTran!$G:$G,C9,InTran!$O:$O,$C$4)","v":3773282.9000000004},{"$f":"+IFERROR(AB9/SUM($AB$6:$AB$27),0)","v":0.15924045852253693},{"$f":"+RANK(AB9,$AB$6:$AB$27)","v":4}]
[null,null,"CIMB INVESTMENT BANK BHD",{"$f":"+SUMIFS(InTran!$R:$R,InTran!$G:$G,C10,InTran!$O:$O,$C$4,InTran!$C:$C,$D$4)","v":25301142.57},{"$f":"+SUMIFS(InTran!$S:$S,InTran!$G:$G,C10,InTran!$O:$O,$C$4,InTran!$C:$C,$D$4)","v":42018.460000000006},{"$f":"+SUMIFS(InTran!$M:$M,InTran!$G:$G,C10,InTran!$O:$O,$C$4,InTran!$C:$C,$D$4)","v":1608793.5799999998},{"$f":"+IFERROR(D10/SUM($D$6:$D$27),0)","v":5.0440686713007769E-2},{"$f":"+SUMIFS(InTran!$R:$R,InTran!$G:$G,C10,InTran!$O:$O,$C$4,InTran!$C:$C,$H$4)","v":0},{"$f":"+SUMIFS(InTran!$S:$S,InTran!$G:$G,C10,InTran!$O:$O,$C$4,InTran!$C:$C,$H$4)","v":0},{"$f":"+SUMIFS(InTran!$M:$M,InTran!$G:$G,C10,InTran!$O:$O,$C$4,InTran!$C:$C,$H$4)","v":0},{"$f":"+IFERROR(H10/SUM($H$6:$H$27),0)","v":0},{"$f":"+SUMIFS(InTran!$R:$R,InTran!$G:$G,C10,InTran!$O:$O,$C$4,InTran!$C:$C,$L$4)","v":5053376.4000000004},{"$f":"+SUMIFS(InTran!$S:$S,InTran!$G:$G,C10,InTran!$O:$O,$C$4,InTran!$C:$C,$L$4)","v":5060},{"$f":"+SUMIFS(InTran!$M:$M,InTran!$G:$G,C10,InTran!$O:$O,$C$4,InTran!$C:$C,$L$4)","v":-78968.31},{"$f":"+IFERROR(L10/SUM($L$6:$L$27),0)","v":0.12914769668756976},{"$f":"+SUMIFS(InTran!$R:$R,InTran!$G:$G,C10,InTran!$O:$O,$C$4,InTran!$C:$C,$P$4)","v":0},{"$f":"+SUMIFS(InTran!$S:$S,InTran!$G:$G,C10,InTran!$O:$O,$C$4,InTran!$C:$C,$P$4)","v":0},{"$f":"+SUMIFS(InTran!$M:$M,InTran!$G:$G,C10,InTran!$O:$O,$C$4,InTran!$C:$C,$P$4)","v":0},{"$f":"+IFERROR(P10/SUM($P$6:$P$27),0)","v":0},{"$f":"+SUMIFS(InTran!$R:$R,InTran!$G:$G,C10,InTran!$O:$O,$C$4,InTran!$C:$C,$T$4)","v":78791.19},{"$f":"+SUMIFS(InTran!$S:$S,InTran!$G:$G,C10,InTran!$O:$O,$C$4,InTran!$C:$C,$T$4)","v":176.63},{"$f":"+SUMIFS(InTran!$M:$M,InTran!$G:$G,C10,InTran!$O:$O,$C$4,InTran!$C:$C,$T$4)","v":0},{"$f":"+IFERROR(T10/SUM($T$6:$T$27),0)","v":7.6249048994011137E-2},{"$f":"+SUMIFS(InTran!$R:$R,InTran!$G:$G,C10,InTran!$O:$O,$C$4,InTran!$C:$C,$X$4)","v":624476.38441511523},{"$f":"+SUMIFS(InTran!$S:$S,InTran!$G:$G,C10,InTran!$O:$O,$C$4,InTran!$C:$C,$X$4)","v":1470.0508660823887},{"$f":"+SUMIFS(InTran!$M:$M,InTran!$G:$G,C10,InTran!$O:$O,$C$4,InTran!$C:$C,$X$4)","v":0},{"$f":"+IFERROR(X10/SUM($X$6:$X$27),0)","v":5.4504231760810186E-2},{"$f":"+SUMIFS(InTran!$R:$R,InTran!$G:$G,C10,InTran!$O:$O,$C$4)","v":31057786.544415116},{"$f":"+SUMIFS(InTran!$S:$S,InTran!$G:$G,C10,InTran!$O:$O,$C$4)","v":48725.140866082387},{"$f":"+SUMIFS(InTran!$M:$M,InTran!$G:$G,C10,InTran!$O:$O,$C$4)","v":1529825.27},{"$f":"+IFERROR(AB10/SUM($AB$6:$AB$27),0)","v":5.6139900683949098E-2},{"$f":"+RANK(AB10,$AB$6:$AB$27)","v":5}]
[null,null,"NOMURA SECURITIES MALAYSIA SDN BHD",{"$f":"+SUMIFS(InTran!$R:$R,InTran!$G:$G,C11,InTran!$O:$O,$C$4,InTran!$C:$C,$D$4)","v":27961806.359999999},{"$f":"+SUMIFS(InTran!$S:$S,InTran!$G:$G,C11,InTran!$O:$O,$C$4,InTran!$C:$C,$D$4)","v":27994},{"$f":"+SUMIFS(InTran!$M:$M,InTran!$G:$G,C11,InTran!$O:$O,$C$4,InTran!$C:$C,$D$4)","v":1522319.9100000001},{"$f":"+IFERROR(D11/SUM($D$6:$D$27),0)","v":5.5745020630289591E-2},{"$f":"+SUMIFS(InTran!$R:$R,InTran!$G:$G,C11,InTran!$O:$O,$C$4,InTran!$C:$C,$H$4)","v":0},{"$f":"+SUMIFS(InTran!$S:$S,InTran!$G:$G,C11,InTran!$O:$O,$C$4,InTran!$C:$C,$H$4)","v":0},{"$f":"+SUMIFS(InTran!$M:$M,InTran!$G:$G,C11,InTran!$O:$O,$C$4,InTran!$C:$C,$H$4)","v":0},{"$f":"+IFERROR(H11/SUM($H$6:$H$27),0)","v":0},{"$f":"+SUMIFS(InTran!$R:$R,InTran!$G:$G,C11,InTran!$O:$O,$C$4,InTran!$C:$C,$L$4)","v":0},{"$f":"+SUMIFS(InTran!$S:$S,InTran!$G:$G,C11,InTran!$O:$O,$C$4,InTran!$C:$C,$L$4)","v":0},{"$f":"+SUMIFS(InTran!$M:$M,InTran!$G:$G,C11,InTran!$O:$O,$C$4,InTran!$C:$C,$L$4)","v":0},{"$f":"+IFERROR(L11/SUM($L$6:$L$27),0)","v":0},{"$f":"+SUMIFS(InTran!$R:$R,InTran!$G:$G,C11,InTran!$O:$O,$C$4,InTran!$C:$C,$P$4)","v":0},{"$f":"+SUMIFS(InTran!$S:$S,InTran!$G:$G,C11,InTran!$O:$O,$C$4,InTran!$C:$C,$P$4)","v":0},{"$f":"+SUMIFS(InTran!$M:$M,InTran!$G:$G,C11,InTran!$O:$O,$C$4,InTran!$C:$C,$P$4)","v":0},{"$f":"+IFERROR(P11/SUM($P$6:$P$27),0)","v":0},{"$f":"+SUMIFS(InTran!$R:$R,InTran!$G:$G,C11,InTran!$O:$O,$C$4,InTran!$C:$C,$T$4)","v":0},{"$f":"+SUMIFS(InTran!$S:$S,InTran!$G:$G,C11,InTran!$O:$O,$C$4,InTran!$C:$C,$T$4)","v":0},{"$f":"+SUMIFS(InTran!$M:$M,InTran!$G:$G,C11,InTran!$O:$O,$C$4,InTran!$C:$C,$T$4)","v":0},{"$f":"+IFERROR(T11/SUM($T$6:$T$27),0)","v":0},{"$f":"+SUMIFS(InTran!$R:$R,InTran!$G:$G,C11,InTran!$O:$O,$C$4,InTran!$C:$C,$X$4)","v":239453.86},{"$f":"+SUMIFS(InTran!$S:$S,InTran!$G:$G,C11,InTran!$O:$O,$C$4,InTran!$C:$C,$X$4)","v":536.78},{"$f":"+SUMIFS(InTran!$M:$M,InTran!$G:$G,C11,InTran!$O:$O,$C$4,InTran!$C:$C,$X$4)","v":0},{"$f":"+IFERROR(X11/SUM($X$6:$X$27),0)","v":2.0899507182620521E-2},{"$f":"+SUMIFS(InTran!$R:$R,InTran!$G:$G,C11,InTran!$O:$O,$C$4)","v":28201260.219999999},{"$f":"+SUMIFS(InTran!$S:$S,InTran!$G:$G,C11,InTran!$O:$O,$C$4)","v":28530.78},{"$f":"+SUMIFS(InTran!$M:$M,InTran!$G:$G,C11,InTran!$O:$O,$C$4)","v":1522319.9100000001},{"$f":"+IFERROR(AB11/SUM($AB$6:$AB$27),0)","v":5.0976457889195644E-2},{"$f":"+RANK(AB11,$AB$6:$AB$27)","v":6}]
[null,null,"MAYBANK INVESTMENT BANK BHD",{"$f":"+SUMIFS(InTran!$R:$R,InTran!$G:$G,C12,InTran!$O:$O,$C$4,InTran!$C:$C,$D$4)","v":12117114.940000001},{"$f":"+SUMIFS(InTran!$S:$S,InTran!$G:$G,C12,InTran!$O:$O,$C$4,InTran!$C:$C,$D$4)","v":14616.2},{"$f":"+SUMIFS(InTran!$M:$M,InTran!$G:$G,C12,InTran!$O:$O,$C$4,InTran!$C:$C,$D$4)","v":837539.73},{"$f":"+IFERROR(D12/SUM($D$6:$D$27),0)","v":2.4156837852799231E-2},{"$f":"+SUMIFS(InTran!$R:$R,InTran!$G:$G,C12,InTran!$O:$O,$C$4,InTran!$C:$C,$H$4)","v":0},{"$f":"+SUMIFS(InTran!$S:$S,InTran!$G:$G,C12,InTran!$O:$O,$C$4,InTran!$C:$C,$H$4)","v":0},{"$f":"+SUMIFS(InTran!$M:$M,InTran!$G:$G,C12,InTran!$O:$O,$C$4,InTran!$C:$C,$H$4)","v":0},{"$f":"+IFERROR(H12/SUM($H$6:$H$27),0)","v":0},{"$f":"+SUMIFS(InTran!$R:$R,InTran!$G:$G,C12,InTran!$O:$O,$C$4,InTran!$C:$C,$L$4)","v":0},{"$f":"+SUMIFS(InTran!$S:$S,InTran!$G:$G,C12,InTran!$O:$O,$C$4,InTran!$C:$C,$L$4)","v":0},{"$f":"+SUMIFS(InTran!$M:$M,InTran!$G:$G,C12,InTran!$O:$O,$C$4,InTran!$C:$C,$L$4)","v":0},{"$f":"+IFERROR(L12/SUM($L$6:$L$27),0)","v":0},{"$f":"+SUMIFS(InTran!$R:$R,InTran!$G:$G,C12,InTran!$O:$O,$C$4,InTran!$C:$C,$P$4)","v":0},{"$f":"+SUMIFS(InTran!$S:$S,InTran!$G:$G,C12,InTran!$O:$O,$C$4,InTran!$C:$C,$P$4)","v":0},{"$f":"+SUMIFS(InTran!$M:$M,InTran!$G:$G,C12,InTran!$O:$O,$C$4,InTran!$C:$C,$P$4)","v":0},{"$f":"+IFERROR(P12/SUM($P$6:$P$27),0)","v":0},{"$f":"+SUMIFS(InTran!$R:$R,InTran!$G:$G,C12,InTran!$O:$O,$C$4,InTran!$C:$C,$T$4)","v":0},{"$f":"+SUMIFS(InTran!$S:$S,InTran!$G:$G,C12,InTran!$O:$O,$C$4,InTran!$C:$C,$T$4)","v":0},{"$f":"+SUMIFS(InTran!$M:$M,InTran!$G:$G,C12,InTran!$O:$O,$C$4,InTran!$C:$C,$T$4)","v":0},{"$f":"+IFERROR(T12/SUM($T$6:$T$27),0)","v":0},{"$f":"+SUMIFS(InTran!$R:$R,InTran!$G:$G,C12,InTran!$O:$O,$C$4,InTran!$C:$C,$X$4)","v":788590.14},{"$f":"+SUMIFS(InTran!$S:$S,InTran!$G:$G,C12,InTran!$O:$O,$C$4,InTran!$C:$C,$X$4)","v":1772.92},{"$f":"+SUMIFS(InTran!$M:$M,InTran!$G:$G,C12,InTran!$O:$O,$C$4,InTran!$C:$C,$X$4)","v":2119.7800000000002},{"$f":"+IFERROR(X12/SUM($X$6:$X$27),0)","v":6.8828062721869351E-2},{"$f":"+SUMIFS(InTran!$R:$R,InTran!$G:$G,C12,InTran!$O:$O,$C$4)","v":12905705.08},{"$f":"+SUMIFS(InTran!$S:$S,InTran!$G:$G,C12,InTran!$O:$O,$C$4)","v":16389.120000000003},{"$f":"+SUMIFS(InTran!$M:$M,InTran!$G:$G,C12,InTran!$O:$O,$C$4)","v":839659.51},{"$f":"+IFERROR(AB12/SUM($AB$6:$AB$27),0)","v":2.332828839593603E-2},{"$f":"+RANK(AB12,$AB$6:$AB$27)","v":7}]
[null,null,"KENANGA INVESTMENT BANK BHD",{"$f":"+SUMIFS(InTran!$R:$R,InTran!$G:$G,C13,InTran!$O:$O,$C$4,InTran!$C:$C,$D$4)","v":3418020},{"$f":"+SUMIFS(InTran!$S:$S,InTran!$G:$G,C13,InTran!$O:$O,$C$4,InTran!$C:$C,$D$4)","v":17000},{"$f":"+SUMIFS(InTran!$M:$M,InTran!$G:$G,C13,InTran!$O:$O,$C$4,InTran!$C:$C,$D$4)","v":0},{"$f":"+IFERROR(D13/SUM($D$6:$D$27),0)","v":6.8142091022885699E-3},{"$f":"+SUMIFS(InTran!$R:$R,InTran!$G:$G,C13,InTran!$O:$O,$C$4,InTran!$C:$C,$H$4)","v":0},{"$f":"+SUMIFS(InTran!$S:$S,InTran!$G:$G,C13,InTran!$O:$O,$C$4,InTran!$C:$C,$H$4)","v":0},{"$f":"+SUMIFS(InTran!$M:$M,InTran!$G:$G,C13,InTran!$O:$O,$C$4,InTran!$C:$C,$H$4)","v":0},{"$f":"+IFERROR(H13/SUM($H$6:$H$27),0)","v":0},{"$f":"+SUMIFS(InTran!$R:$R,InTran!$G:$G,C13,InTran!$O:$O,$C$4,InTran!$C:$C,$L$4)","v":965319.11},{"$f":"+SUMIFS(InTran!$S:$S,InTran!$G:$G,C13,InTran!$O:$O,$C$4,InTran!$C:$C,$L$4)","v":2178.31},{"$f":"+SUMIFS(InTran!$M:$M,InTran!$G:$G,C13,InTran!$O:$O,$C$4,InTran!$C:$C,$L$4)","v":53738.61},{"$f":"+IFERROR(L13/SUM($L$6:$L$27),0)","v":2.4670384661034706E-2},{"$f":"+SUMIFS(InTran!$R:$R,InTran!$G:$G,C13,InTran!$O:$O,$C$4,InTran!$C:$C,$P$4)","v":0},{"$f":"+SUMIFS(InTran!$S:$S,InTran!$G:$G,C13,InTran!$O:$O,$C$4,InTran!$C:$C,$P$4)","v":0},{"$f":"+SUMIFS(InTran!$M:$M,InTran!$G:$G,C13,InTran!$O:$O,$C$4,InTran!$C:$C,$P$4)","v":0},{"$f":"+IFERROR(P13/SUM($P$6:$P$27),0)","v":0},{"$f":"+SUMIFS(InTran!$R:$R,InTran!$G:$G,C13,InTran!$O:$O,$C$4,InTran!$C:$C,$T$4)","v":0},{"$f":"+SUMIFS(InTran!$S:$S,InTran!$G:$G,C13,InTran!$O:$O,$C$4,InTran!$C:$C,$T$4)","v":0},{"$f":"+SUMIFS(InTran!$M:$M,InTran!$G:$G,C13,InTran!$O:$O,$C$4,InTran!$C:$C,$T$4)","v":0},{"$f":"+IFERROR(T13/SUM($T$6:$T$27),0)","v":0},{"$f":"+SUMIFS(InTran!$R:$R,InTran!$G:$G,C13,InTran!$O:$O,$C$4,InTran!$C:$C,$X$4)","v":0},{"$f":"+SUMIFS(InTran!$S:$S,InTran!$G:$G,C13,InTran!$O:$O,$C$4,InTran!$C:$C,$X$4)","v":0},{"$f":"+SUMIFS(InTran!$M:$M,InTran!$G:$G,C13,InTran!$O:$O,$C$4,InTran!$C:$C,$X$4)","v":0},{"$f":"+IFERROR(X13/SUM($X$6:$X$27),0)","v":0},{"$f":"+SUMIFS(InTran!$R:$R,InTran!$G:$G,C13,InTran!$O:$O,$C$4)","v":4383339.1100000003},{"$f":"+SUMIFS(InTran!$S:$S,InTran!$G:$G,C13,InTran!$O:$O,$C$4)","v":19178.310000000001},{"$f":"+SUMIFS(InTran!$M:$M,InTran!$G:$G,C13,InTran!$O:$O,$C$4)","v":53738.61},{"$f":"+IFERROR(AB13/SUM($AB$6:$AB$27),0)","v":7.9233020018202351E-3},{"$f":"+RANK(AB13,$AB$6:$AB$27)","v":8}]
[null,null,"MACQUARIE CAPITAL SECURITIES (MALAYSIA) SDN BHD (FOREIGN)",{"$f":"+SUMIFS(InTran!$R:$R,InTran!$G:$G,C14,InTran!$O:$O,$C$4,InTran!$C:$C,$D$4)","v":0},{"$f":"+SUMIFS(InTran!$S:$S,InTran!$G:$G,C14,InTran!$O:$O,$C$4,InTran!$C:$C,$D$4)","v":0},{"$f":"+SUMIFS(InTran!$M:$M,InTran!$G:$G,C14,InTran!$O:$O,$C$4,InTran!$C:$C,$D$4)","v":0},{"$f":"+IFERROR(D14/SUM($D$6:$D$27),0)","v":0},{"$f":"+SUMIFS(InTran!$R:$R,InTran!$G:$G,C14,InTran!$O:$O,$C$4,InTran!$C:$C,$H$4)","v":0},{"$f":"+SUMIFS(InTran!$S:$S,InTran!$G:$G,C14,InTran!$O:$O,$C$4,InTran!$C:$C,$H$4)","v":0},{"$f":"+SUMIFS(InTran!$M:$M,InTran!$G:$G,C14,InTran!$O:$O,$C$4,InTran!$C:$C,$H$4)","v":0},{"$f":"+IFERROR(H14/SUM($H$6:$H$27),0)","v":0},{"$f":"+SUMIFS(InTran!$R:$R,InTran!$G:$G,C14,InTran!$O:$O,$C$4,InTran!$C:$C,$L$4)","v":0},{"$f":"+SUMIFS(InTran!$S:$S,InTran!$G:$G,C14,InTran!$O:$O,$C$4,InTran!$C:$C,$L$4)","v":0},{"$f":"+SUMIFS(InTran!$M:$M,InTran!$G:$G,C14,InTran!$O:$O,$C$4,InTran!$C:$C,$L$4)","v":0},{"$f":"+IFERROR(L14/SUM($L$6:$L$27),0)","v":0},{"$f":"+SUMIFS(InTran!$R:$R,InTran!$G:$G,C14,InTran!$O:$O,$C$4,InTran!$C:$C,$P$4)","v":0},{"$f":"+SUMIFS(InTran!$S:$S,InTran!$G:$G,C14,InTran!$O:$O,$C$4,InTran!$C:$C,$P$4)","v":0},{"$f":"+SUMIFS(InTran!$M:$M,InTran!$G:$G,C14,InTran!$O:$O,$C$4,InTran!$C:$C,$P$4)","v":0},{"$f":"+IFERROR(P14/SUM($P$6:$P$27),0)","v":0},{"$f":"+SUMIFS(InTran!$R:$R,InTran!$G:$G,C14,InTran!$O:$O,$C$4,InTran!$C:$C,$T$4)","v":0},{"$f":"+SUMIFS(InTran!$S:$S,InTran!$G:$G,C14,InTran!$O:$O,$C$4,InTran!$C:$C,$T$4)","v":0},{"$f":"+SUMIFS(InTran!$M:$M,InTran!$G:$G,C14,InTran!$O:$O,$C$4,InTran!$C:$C,$T$4)","v":0},{"$f":"+IFERROR(T14/SUM($T$6:$T$27),0)","v":0},{"$f":"+SUMIFS(InTran!$R:$R,InTran!$G:$G,C14,InTran!$O:$O,$C$4,InTran!$C:$C,$X$4)","v":3401259.205603268},{"$f":"+SUMIFS(InTran!$S:$S,InTran!$G:$G,C14,InTran!$O:$O,$C$4,InTran!$C:$C,$X$4)","v":8482.1259304628948},{"$f":"+SUMIFS(InTran!$M:$M,InTran!$G:$G,C14,InTran!$O:$O,$C$4,InTran!$C:$C,$X$4)","v":1755.54},{"$f":"+IFERROR(X14/SUM($X$6:$X$27),0)","v":0.29686153815795524},{"$f":"+SUMIFS(InTran!$R:$R,InTran!$G:$G,C14,InTran!$O:$O,$C$4)","v":3401259.205603268},{"$f":"+SUMIFS(InTran!$S:$S,InTran!$G:$G,C14,InTran!$O:$O,$C$4)","v":8482.1259304628948},{"$f":"+SUMIFS(InTran!$M:$M,InTran!$G:$G,C14,InTran!$O:$O,$C$4)","v":1755.54},{"$f":"+IFERROR(AB14/SUM($AB$6:$AB$27),0)","v":6.1480992449306241E-3},{"$f":"+RANK(AB14,$AB$6:$AB$27)","v":9}]
[null,null,"CLSA LIMITED FOREIGN",{"$f":"+SUMIFS(InTran!$R:$R,InTran!$G:$G,C15,InTran!$O:$O,$C$4,InTran!$C:$C,$D$4)","v":0},{"$f":"+SUMIFS(InTran!$S:$S,InTran!$G:$G,C15,InTran!$O:$O,$C$4,InTran!$C:$C,$D$4)","v":0},{"$f":"+SUMIFS(InTran!$M:$M,InTran!$G:$G,C15,InTran!$O:$O,$C$4,InTran!$C:$C,$D$4)","v":0},{"$f":"+IFERROR(D15/SUM($D$6:$D$27),0)","v":0},{"$f":"+SUMIFS(InTran!$R:$R,InTran!$G:$G,C15,InTran!$O:$O,$C$4,InTran!$C:$C,$H$4)","v":0},{"$f":"+SUMIFS(InTran!$S:$S,InTran!$G:$G,C15,InTran!$O:$O,$C$4,InTran!$C:$C,$H$4)","v":0},{"$f":"+SUMIFS(InTran!$M:$M,InTran!$G:$G,C15,InTran!$O:$O,$C$4,InTran!$C:$C,$H$4)","v":0},{"$f":"+IFERROR(H15/SUM($H$6:$H$27),0)","v":0},{"$f":"+SUMIFS(InTran!$R:$R,InTran!$G:$G,C15,InTran!$O:$O,$C$4,InTran!$C:$C,$L$4)","v":0},{"$f":"+SUMIFS(InTran!$S:$S,InTran!$G:$G,C15,InTran!$O:$O,$C$4,InTran!$C:$C,$L$4)","v":0},{"$f":"+SUMIFS(InTran!$M:$M,InTran!$G:$G,C15,InTran!$O:$O,$C$4,InTran!$C:$C,$L$4)","v":0},{"$f":"+IFERROR(L15/SUM($L$6:$L$27),0)","v":0},{"$f":"+SUMIFS(InTran!$R:$R,InTran!$G:$G,C15,InTran!$O:$O,$C$4,InTran!$C:$C,$P$4)","v":0},{"$f":"+SUMIFS(InTran!$S:$S,InTran!$G:$G,C15,InTran!$O:$O,$C$4,InTran!$C:$C,$P$4)","v":0},{"$f":"+SUMIFS(InTran!$M:$M,InTran!$G:$G,C15,InTran!$O:$O,$C$4,InTran!$C:$C,$P$4)","v":0},{"$f":"+IFERROR(P15/SUM($P$6:$P$27),0)","v":0},{"$f":"+SUMIFS(InTran!$R:$R,InTran!$G:$G,C15,InTran!$O:$O,$C$4,InTran!$C:$C,$T$4)","v":0},{"$f":"+SUMIFS(InTran!$S:$S,InTran!$G:$G,C15,InTran!$O:$O,$C$4,InTran!$C:$C,$T$4)","v":0},{"$f":"+SUMIFS(InTran!$M:$M,InTran!$G:$G,C15,InTran!$O:$O,$C$4,InTran!$C:$C,$T$4)","v":0},{"$f":"+IFERROR(T15/SUM($T$6:$T$27),0)","v":0},{"$f":"+SUMIFS(InTran!$R:$R,InTran!$G:$G,C15,InTran!$O:$O,$C$4,InTran!$C:$C,$X$4)","v":1180070.9392804264},{"$f":"+SUMIFS(InTran!$S:$S,InTran!$G:$G,C15,InTran!$O:$O,$C$4,InTran!$C:$C,$X$4)","v":3159.5255290057557},{"$f":"+SUMIFS(InTran!$M:$M,InTran!$G:$G,C15,InTran!$O:$O,$C$4,InTran!$C:$C,$X$4)","v":0},{"$f":"+IFERROR(X15/SUM($X$6:$X$27),0)","v":0.10299646483666214},{"$f":"+SUMIFS(InTran!$R:$R,InTran!$G:$G,C15,InTran!$O:$O,$C$4)","v":1180070.9392804264},{"$f":"+SUMIFS(InTran!$S:$S,InTran!$G:$G,C15,InTran!$O:$O,$C$4)","v":3159.5255290057557},{"$f":"+SUMIFS(InTran!$M:$M,InTran!$G:$G,C15,InTran!$O:$O,$C$4)","v":0},{"$f":"+IFERROR(AB15/SUM($AB$6:$AB$27),0)","v":2.133090368062006E-3},{"$f":"+RANK(AB15,$AB$6:$AB$27)","v":10}]
[null,null,"TA SECURITIES HOLDINGS BHD",{"$f":"+SUMIFS(InTran!$R:$R,InTran!$G:$G,C16,InTran!$O:$O,$C$4,InTran!$C:$C,$D$4)","v":0},{"$f":"+SUMIFS(InTran!$S:$S,InTran!$G:$G,C16,InTran!$O:$O,$C$4,InTran!$C:$C,$D$4)","v":0},{"$f":"+SUMIFS(InTran!$M:$M,InTran!$G:$G,C16,InTran!$O:$O,$C$4,InTran!$C:$C,$D$4)","v":0},{"$f":"+IFERROR(D16/SUM($D$6:$D$27),0)","v":0},{"$f":"+SUMIFS(InTran!$R:$R,InTran!$G:$G,C16,InTran!$O:$O,$C$4,InTran!$C:$C,$H$4)","v":0},{"$f":"+SUMIFS(InTran!$S:$S,InTran!$G:$G,C16,InTran!$O:$O,$C$4,InTran!$C:$C,$H$4)","v":0},{"$f":"+SUMIFS(InTran!$M:$M,InTran!$G:$G,C16,InTran!$O:$O,$C$4,InTran!$C:$C,$H$4)","v":0},{"$f":"+IFERROR(H16/SUM($H$6:$H$27),0)","v":0},{"$f":"+SUMIFS(InTran!$R:$R,InTran!$G:$G,C16,InTran!$O:$O,$C$4,InTran!$C:$C,$L$4)","v":0},{"$f":"+SUMIFS(InTran!$S:$S,InTran!$G:$G,C16,InTran!$O:$O,$C$4,InTran!$C:$C,$L$4)","v":0},{"$f":"+SUMIFS(InTran!$M:$M,InTran!$G:$G,C16,InTran!$O:$O,$C$4,InTran!$C:$C,$L$4)","v":0},{"$f":"+IFERROR(L16/SUM($L$6:$L$27),0)","v":0},{"$f":"+SUMIFS(InTran!$R:$R,InTran!$G:$G,C16,InTran!$O:$O,$C$4,InTran!$C:$C,$P$4)","v":0},{"$f":"+SUMIFS(InTran!$S:$S,InTran!$G:$G,C16,InTran!$O:$O,$C$4,InTran!$C:$C,$P$4)","v":0},{"$f":"+SUMIFS(InTran!$M:$M,InTran!$G:$G,C16,InTran!$O:$O,$C$4,InTran!$C:$C,$P$4)","v":0},{"$f":"+IFERROR(P16/SUM($P$6:$P$27),0)","v":0},{"$f":"+SUMIFS(InTran!$R:$R,InTran!$G:$G,C16,InTran!$O:$O,$C$4,InTran!$C:$C,$T$4)","v":412306.96},{"$f":"+SUMIFS(InTran!$S:$S,InTran!$G:$G,C16,InTran!$O:$O,$C$4,InTran!$C:$C,$T$4)","v":930.66},{"$f":"+SUMIFS(InTran!$M:$M,InTran!$G:$G,C16,InTran!$O:$O,$C$4,InTran!$C:$C,$T$4)","v":-148750.88},{"$f":"+IFERROR(T16/SUM($T$6:$T$27),0)","v":0.39900417284739315},{"$f":"+SUMIFS(InTran!$R:$R,InTran!$G:$G,C16,InTran!$O:$O,$C$4,InTran!$C:$C,$X$4)","v":0},{"$f":"+SUMIFS(InTran!$S:$S,InTran!$G:$G,C16,InTran!$O:$O,$C$4,InTran!$C:$C,$X$4)","v":0},{"$f":"+SUMIFS(InTran!$M:$M,InTran!$G:$G,C16,InTran!$O:$O,$C$4,InTran!$C:$C,$X$4)","v":0},{"$f":"+IFERROR(X16/SUM($X$6:$X$27),0)","v":0},{"$f":"+SUMIFS(InTran!$R:$R,InTran!$G:$G,C16,InTran!$O:$O,$C$4)","v":412306.96},{"$f":"+SUMIFS(InTran!$S:$S,InTran!$G:$G,C16,InTran!$O:$O,$C$4)","v":930.66},{"$f":"+SUMIFS(InTran!$M:$M,InTran!$G:$G,C16,InTran!$O:$O,$C$4)","v":-148750.88},{"$f":"+IFERROR(AB16/SUM($AB$6:$AB$27),0)","v":7.452840128384261E-4},{"$f":"+RANK(AB16,$AB$6:$AB$27)","v":11}]
[null,null,"MAYBANK INVESTMENT BANK BHD (FOREIGN)",{"$f":"+SUMIFS(InTran!$R:$R,InTran!$G:$G,C17,InTran!$O:$O,$C$4,InTran!$C:$C,$D$4)","v":0},{"$f":"+SUMIFS(InTran!$S:$S,InTran!$G:$G,C17,InTran!$O:$O,$C$4,InTran!$C:$C,$D$4)","v":0},{"$f":"+SUMIFS(InTran!$M:$M,InTran!$G:$G,C17,InTran!$O:$O,$C$4,InTran!$C:$C,$D$4)","v":0},{"$f":"+IFERROR(D17/SUM($D$6:$D$27),0)","v":0},{"$f":"+SUMIFS(InTran!$R:$R,InTran!$G:$G,C17,InTran!$O:$O,$C$4,InTran!$C:$C,$H$4)","v":0},{"$f":"+SUMIFS(InTran!$S:$S,InTran!$G:$G,C17,InTran!$O:$O,$C$4,InTran!$C:$C,$H$4)","v":0},{"$f":"+SUMIFS(InTran!$M:$M,InTran!$G:$G,C17,InTran!$O:$O,$C$4,InTran!$C:$C,$H$4)","v":0},{"$f":"+IFERROR(H17/SUM($H$6:$H$27),0)","v":0},{"$f":"+SUMIFS(InTran!$R:$R,InTran!$G:$G,C17,InTran!$O:$O,$C$4,InTran!$C:$C,$L$4)","v":0},{"$f":"+SUMIFS(InTran!$S:$S,InTran!$G:$G,C17,InTran!$O:$O,$C$4,InTran!$C:$C,$L$4)","v":0},{"$f":"+SUMIFS(InTran!$M:$M,InTran!$G:$G,C17,InTran!$O:$O,$C$4,InTran!$C:$C,$L$4)","v":0},{"$f":"+IFERROR(L17/SUM($L$6:$L$27),0)","v":0},{"$f":"+SUMIFS(InTran!$R:$R,InTran!$G:$G,C17,InTran!$O:$O,$C$4,InTran!$C:$C,$P$4)","v":0},{"$f":"+SUMIFS(InTran!$S:$S,InTran!$G:$G,C17,InTran!$O:$O,$C$4,InTran!$C:$C,$P$4)","v":0},{"$f":"+SUMIFS(InTran!$M:$M,InTran!$G:$G,C17,InTran!$O:$O,$C$4,InTran!$C:$C,$P$4)","v":0},{"$f":"+IFERROR(P17/SUM($P$6:$P$27),0)","v":0},{"$f":"+SUMIFS(InTran!$R:$R,InTran!$G:$G,C17,InTran!$O:$O,$C$4,InTran!$C:$C,$T$4)","v":0},{"$f":"+SUMIFS(InTran!$S:$S,InTran!$G:$G,C17,InTran!$O:$O,$C$4,InTran!$C:$C,$T$4)","v":0},{"$f":"+SUMIFS(InTran!$M:$M,InTran!$G:$G,C17,InTran!$O:$O,$C$4,InTran!$C:$C,$T$4)","v":0},{"$f":"+IFERROR(T17/SUM($T$6:$T$27),0)","v":0},{"$f":"+SUMIFS(InTran!$R:$R,InTran!$G:$G,C17,InTran!$O:$O,$C$4,InTran!$C:$C,$X$4)","v":372790.79754068842},{"$f":"+SUMIFS(InTran!$S:$S,InTran!$G:$G,C17,InTran!$O:$O,$C$4,InTran!$C:$C,$X$4)","v":743.97125454545449},{"$f":"+SUMIFS(InTran!$M:$M,InTran!$G:$G,C17,InTran!$O:$O,$C$4,InTran!$C:$C,$X$4)","v":0},{"$f":"+IFERROR(X17/SUM($X$6:$X$27),0)","v":3.2537140770319807E-2},{"$f":"+SUMIFS(InTran!$R:$R,InTran!$G:$G,C17,InTran!$O:$O,$C$4)","v":372790.79754068842},{"$f":"+SUMIFS(InTran!$S:$S,InTran!$G:$G,C17,InTran!$O:$O,$C$4)","v":743.97125454545449},{"$f":"+SUMIFS(InTran!$M:$M,InTran!$G:$G,C17,InTran!$O:$O,$C$4)","v":0},{"$f":"+IFERROR(AB17/SUM($AB$6:$AB$27),0)","v":6.7385479386610771E-4},{"$f":"+RANK(AB17,$AB$6:$AB$27)","v":12}]
[null,null,"CIMB INVESTMENT BANK BHD (FOREIGN)",{"$f":"+SUMIFS(InTran!$R:$R,InTran!$G:$G,C18,InTran!$O:$O,$C$4,InTran!$C:$C,$D$4)","v":0},{"$f":"+SUMIFS(InTran!$S:$S,InTran!$G:$G,C18,InTran!$O:$O,$C$4,InTran!$C:$C,$D$4)","v":0},{"$f":"+SUMIFS(InTran!$M:$M,InTran!$G:$G,C18,InTran!$O:$O,$C$4,InTran!$C:$C,$D$4)","v":0},{"$f":"+IFERROR(D18/SUM($D$6:$D$27),0)","v":0},{"$f":"+SUMIFS(InTran!$R:$R,InTran!$G:$G,C18,InTran!$O:$O,$C$4,InTran!$C:$C,$H$4)","v":0},{"$f":"+SUMIFS(InTran!$S:$S,InTran!$G:$G,C18,InTran!$O:$O,$C$4,InTran!$C:$C,$H$4)","v":0},{"$f":"+SUMIFS(InTran!$M:$M,InTran!$G:$G,C18,InTran!$O:$O,$C$4,InTran!$C:$C,$H$4)","v":0},{"$f":"+IFERROR(H18/SUM($H$6:$H$27),0)","v":0},{"$f":"+SUMIFS(InTran!$R:$R,InTran!$G:$G,C18,InTran!$O:$O,$C$4,InTran!$C:$C,$L$4)","v":0},{"$f":"+SUMIFS(InTran!$S:$S,InTran!$G:$G,C18,InTran!$O:$O,$C$4,InTran!$C:$C,$L$4)","v":0},{"$f":"+SUMIFS(InTran!$M:$M,InTran!$G:$G,C18,InTran!$O:$O,$C$4,InTran!$C:$C,$L$4)","v":0},{"$f":"+IFERROR(L18/SUM($L$6:$L$27),0)","v":0},{"$f":"+SUMIFS(InTran!$R:$R,InTran!$G:$G,C18,InTran!$O:$O,$C$4,InTran!$C:$C,$P$4)","v":0},{"$f":"+SUMIFS(InTran!$S:$S,InTran!$G:$G,C18,InTran!$O:$O,$C$4,InTran!$C:$C,$P$4)","v":0},{"$f":"+SUMIFS(InTran!$M:$M,InTran!$G:$G,C18,InTran!$O:$O,$C$4,InTran!$C:$C,$P$4)","v":0},{"$f":"+IFERROR(P18/SUM($P$6:$P$27),0)","v":0},{"$f":"+SUMIFS(InTran!$R:$R,InTran!$G:$G,C18,InTran!$O:$O,$C$4,InTran!$C:$C,$T$4)","v":0},{"$f":"+SUMIFS(InTran!$S:$S,InTran!$G:$G,C18,InTran!$O:$O,$C$4,InTran!$C:$C,$T$4)","v":0},{"$f":"+SUMIFS(InTran!$M:$M,InTran!$G:$G,C18,InTran!$O:$O,$C$4,InTran!$C:$C,$T$4)","v":0},{"$f":"+IFERROR(T18/SUM($T$6:$T$27),0)","v":0},{"$f":"+SUMIFS(InTran!$R:$R,InTran!$G:$G,C18,InTran!$O:$O,$C$4,InTran!$C:$C,$X$4)","v":98560.59554342489},{"$f":"+SUMIFS(InTran!$S:$S,InTran!$G:$G,C18,InTran!$O:$O,$C$4,InTran!$C:$C,$X$4)","v":245.49883747797708},{"$f":"+SUMIFS(InTran!$M:$M,InTran!$G:$G,C18,InTran!$O:$O,$C$4,InTran!$C:$C,$X$4)","v":0},{"$f":"+IFERROR(X18/SUM($X$6:$X$27),0)","v":8.6023581932785087E-3},{"$f":"+SUMIFS(InTran!$R:$R,InTran!$G:$G,C18,InTran!$O:$O,$C$4)","v":98560.59554342489},{"$f":"+SUMIFS(InTran!$S:$S,InTran!$G:$G,C18,InTran!$O:$O,$C$4)","v":245.49883747797708},{"$f":"+SUMIFS(InTran!$M:$M,InTran!$G:$G,C18,InTran!$O:$O,$C$4)","v":0},{"$f":"+IFERROR(AB18/SUM($AB$6:$AB$27),0)","v":1.7815764292300278E-4},{"$f":"+RANK(AB18,$AB$6:$AB$27)","v":13}]
[null,null,"AFFIN INVESTMENT BANK BERHAD",{"$f":"+SUMIFS(InTran!$R:$R,InTran!$G:$G,C19,InTran!$O:$O,$C$4,InTran!$C:$C,$D$4)","v":0},{"$f":"+SUMIFS(InTran!$S:$S,InTran!$G:$G,C19,InTran!$O:$O,$C$4,InTran!$C:$C,$D$4)","v":0},{"$f":"+SUMIFS(InTran!$M:$M,InTran!$G:$G,C19,InTran!$O:$O,$C$4,InTran!$C:$C,$D$4)","v":0},{"$f":"+IFERROR(D19/SUM($D$6:$D$27),0)","v":0},{"$f":"+SUMIFS(InTran!$R:$R,InTran!$G:$G,C19,InTran!$O:$O,$C$4,InTran!$C:$C,$H$4)","v":0},{"$f":"+SUMIFS(InTran!$S:$S,InTran!$G:$G,C19,InTran!$O:$O,$C$4,InTran!$C:$C,$H$4)","v":0},{"$f":"+SUMIFS(InTran!$M:$M,InTran!$G:$G,C19,InTran!$O:$O,$C$4,InTran!$C:$C,$H$4)","v":0},{"$f":"+IFERROR(H19/SUM($H$6:$H$27),0)","v":0},{"$f":"+SUMIFS(InTran!$R:$R,InTran!$G:$G,C19,InTran!$O:$O,$C$4,InTran!$C:$C,$L$4)","v":0},{"$f":"+SUMIFS(InTran!$S:$S,InTran!$G:$G,C19,InTran!$O:$O,$C$4,InTran!$C:$C,$L$4)","v":0},{"$f":"+SUMIFS(InTran!$M:$M,InTran!$G:$G,C19,InTran!$O:$O,$C$4,InTran!$C:$C,$L$4)","v":0},{"$f":"+IFERROR(L19/SUM($L$6:$L$27),0)","v":0},{"$f":"+SUMIFS(InTran!$R:$R,InTran!$G:$G,C19,InTran!$O:$O,$C$4,InTran!$C:$C,$P$4)","v":0},{"$f":"+SUMIFS(InTran!$S:$S,InTran!$G:$G,C19,InTran!$O:$O,$C$4,InTran!$C:$C,$P$4)","v":0},{"$f":"+SUMIFS(InTran!$M:$M,InTran!$G:$G,C19,InTran!$O:$O,$C$4,InTran!$C:$C,$P$4)","v":0},{"$f":"+IFERROR(P19/SUM($P$6:$P$27),0)","v":0},{"$f":"+SUMIFS(InTran!$R:$R,InTran!$G:$G,C19,InTran!$O:$O,$C$4,InTran!$C:$C,$T$4)","v":0},{"$f":"+SUMIFS(InTran!$S:$S,InTran!$G:$G,C19,InTran!$O:$O,$C$4,InTran!$C:$C,$T$4)","v":0},{"$f":"+SUMIFS(InTran!$M:$M,InTran!$G:$G,C19,InTran!$O:$O,$C$4,InTran!$C:$C,$T$4)","v":0},{"$f":"+IFERROR(T19/SUM($T$6:$T$27),0)","v":0},{"$f":"+SUMIFS(InTran!$R:$R,InTran!$G:$G,C19,InTran!$O:$O,$C$4,InTran!$C:$C,$X$4)","v":0},{"$f":"+SUMIFS(InTran!$S:$S,InTran!$G:$G,C19,InTran!$O:$O,$C$4,InTran!$C:$C,$X$4)","v":0},{"$f":"+SUMIFS(InTran!$M:$M,InTran!$G:$G,C19,InTran!$O:$O,$C$4,InTran!$C:$C,$X$4)","v":0},{"$f":"+IFERROR(X19/SUM($X$6:$X$27),0)","v":0},{"$f":"+SUMIFS(InTran!$R:$R,InTran!$G:$G,C19,InTran!$O:$O,$C$4)","v":0},{"$f":"+SUMIFS(InTran!$S:$S,InTran!$G:$G,C19,InTran!$O:$O,$C$4)","v":0},{"$f":"+SUMIFS(InTran!$M:$M,InTran!$G:$G,C19,InTran!$O:$O,$C$4)","v":0},{"$f":"+IFERROR(AB19/SUM($AB$6:$AB$27),0)","v":0},{"$f":"+RANK(AB19,$AB$6:$AB$27)","v":14}]
[null,null,"ALLIANCE INVESTMENT BANK BERHAD",{"$f":"+SUMIFS(InTran!$R:$R,InTran!$G:$G,C20,InTran!$O:$O,$C$4,InTran!$C:$C,$D$4)","v":0},{"$f":"+SUMIFS(InTran!$S:$S,InTran!$G:$G,C20,InTran!$O:$O,$C$4,InTran!$C:$C,$D$4)","v":0},{"$f":"+SUMIFS(InTran!$M:$M,InTran!$G:$G,C20,InTran!$O:$O,$C$4,InTran!$C:$C,$D$4)","v":0},{"$f":"+IFERROR(D20/SUM($D$6:$D$27),0)","v":0},{"$f":"+SUMIFS(InTran!$R:$R,InTran!$G:$G,C20,InTran!$O:$O,$C$4,InTran!$C:$C,$H$4)","v":0},{"$f":"+SUMIFS(InTran!$S:$S,InTran!$G:$G,C20,InTran!$O:$O,$C$4,InTran!$C:$C,$H$4)","v":0},{"$f":"+SUMIFS(InTran!$M:$M,InTran!$G:$G,C20,InTran!$O:$O,$C$4,InTran!$C:$C,$H$4)","v":0},{"$f":"+IFERROR(H20/SUM($H$6:$H$27),0)","v":0},{"$f":"+SUMIFS(InTran!$R:$R,InTran!$G:$G,C20,InTran!$O:$O,$C$4,InTran!$C:$C,$L$4)","v":0},{"$f":"+SUMIFS(InTran!$S:$S,InTran!$G:$G,C20,InTran!$O:$O,$C$4,InTran!$C:$C,$L$4)","v":0},{"$f":"+SUMIFS(InTran!$M:$M,InTran!$G:$G,C20,InTran!$O:$O,$C$4,InTran!$C:$C,$L$4)","v":0},{"$f":"+IFERROR(L20/SUM($L$6:$L$27),0)","v":0},{"$f":"+SUMIFS(InTran!$R:$R,InTran!$G:$G,C20,InTran!$O:$O,$C$4,InTran!$C:$C,$P$4)","v":0},{"$f":"+SUMIFS(InTran!$S:$S,InTran!$G:$G,C20,InTran!$O:$O,$C$4,InTran!$C:$C,$P$4)","v":0},{"$f":"+SUMIFS(InTran!$M:$M,InTran!$G:$G,C20,InTran!$O:$O,$C$4,InTran!$C:$C,$P$4)","v":0},{"$f":"+IFERROR(P20/SUM($P$6:$P$27),0)","v":0},{"$f":"+SUMIFS(InTran!$R:$R,InTran!$G:$G,C20,InTran!$O:$O,$C$4,InTran!$C:$C,$T$4)","v":0},{"$f":"+SUMIFS(InTran!$S:$S,InTran!$G:$G,C20,InTran!$O:$O,$C$4,InTran!$C:$C,$T$4)","v":0},{"$f":"+SUMIFS(InTran!$M:$M,InTran!$G:$G,C20,InTran!$O:$O,$C$4,InTran!$C:$C,$T$4)","v":0},{"$f":"+IFERROR(T20/SUM($T$6:$T$27),0)","v":0},{"$f":"+SUMIFS(InTran!$R:$R,InTran!$G:$G,C20,InTran!$O:$O,$C$4,InTran!$C:$C,$X$4)","v":0},{"$f":"+SUMIFS(InTran!$S:$S,InTran!$G:$G,C20,InTran!$O:$O,$C$4,InTran!$C:$C,$X$4)","v":0},{"$f":"+SUMIFS(InTran!$M:$M,InTran!$G:$G,C20,InTran!$O:$O,$C$4,InTran!$C:$C,$X$4)","v":0},{"$f":"+IFERROR(X20/SUM($X$6:$X$27),0)","v":0},{"$f":"+SUMIFS(InTran!$R:$R,InTran!$G:$G,C20,InTran!$O:$O,$C$4)","v":0},{"$f":"+SUMIFS(InTran!$S:$S,InTran!$G:$G,C20,InTran!$O:$O,$C$4)","v":0},{"$f":"+SUMIFS(InTran!$M:$M,InTran!$G:$G,C20,InTran!$O:$O,$C$4)","v":0},{"$f":"+IFERROR(AB20/SUM($AB$6:$AB$27),0)","v":0},{"$f":"+RANK(AB20,$AB$6:$AB$27)","v":14}]
[null,null,"AMINVESTMENT BANK BHD",{"$f":"+SUMIFS(InTran!$R:$R,InTran!$G:$G,C21,InTran!$O:$O,$C$4,InTran!$C:$C,$D$4)","v":0},{"$f":"+SUMIFS(InTran!$S:$S,InTran!$G:$G,C21,InTran!$O:$O,$C$4,InTran!$C:$C,$D$4)","v":0},{"$f":"+SUMIFS(InTran!$M:$M,InTran!$G:$G,C21,InTran!$O:$O,$C$4,InTran!$C:$C,$D$4)","v":0},{"$f":"+IFERROR(D21/SUM($D$6:$D$27),0)","v":0},{"$f":"+SUMIFS(InTran!$R:$R,InTran!$G:$G,C21,InTran!$O:$O,$C$4,InTran!$C:$C,$H$4)","v":0},{"$f":"+SUMIFS(InTran!$S:$S,InTran!$G:$G,C21,InTran!$O:$O,$C$4,InTran!$C:$C,$H$4)","v":0},{"$f":"+SUMIFS(InTran!$M:$M,InTran!$G:$G,C21,InTran!$O:$O,$C$4,InTran!$C:$C,$H$4)","v":0},{"$f":"+IFERROR(H21/SUM($H$6:$H$27),0)","v":0},{"$f":"+SUMIFS(InTran!$R:$R,InTran!$G:$G,C21,InTran!$O:$O,$C$4,InTran!$C:$C,$L$4)","v":0},{"$f":"+SUMIFS(InTran!$S:$S,InTran!$G:$G,C21,InTran!$O:$O,$C$4,InTran!$C:$C,$L$4)","v":0},{"$f":"+SUMIFS(InTran!$M:$M,InTran!$G:$G,C21,InTran!$O:$O,$C$4,InTran!$C:$C,$L$4)","v":0},{"$f":"+IFERROR(L21/SUM($L$6:$L$27),0)","v":0},{"$f":"+SUMIFS(InTran!$R:$R,InTran!$G:$G,C21,InTran!$O:$O,$C$4,InTran!$C:$C,$P$4)","v":0},{"$f":"+SUMIFS(InTran!$S:$S,InTran!$G:$G,C21,InTran!$O:$O,$C$4,InTran!$C:$C,$P$4)","v":0},{"$f":"+SUMIFS(InTran!$M:$M,InTran!$G:$G,C21,InTran!$O:$O,$C$4,InTran!$C:$C,$P$4)","v":0},{"$f":"+IFERROR(P21/SUM($P$6:$P$27),0)","v":0},{"$f":"+SUMIFS(InTran!$R:$R,InTran!$G:$G,C21,InTran!$O:$O,$C$4,InTran!$C:$C,$T$4)","v":0},{"$f":"+SUMIFS(InTran!$S:$S,InTran!$G:$G,C21,InTran!$O:$O,$C$4,InTran!$C:$C,$T$4)","v":0},{"$f":"+SUMIFS(InTran!$M:$M,InTran!$G:$G,C21,InTran!$O:$O,$C$4,InTran!$C:$C,$T$4)","v":0},{"$f":"+IFERROR(T21/SUM($T$6:$T$27),0)","v":0},{"$f":"+SUMIFS(InTran!$R:$R,InTran!$G:$G,C21,InTran!$O:$O,$C$4,InTran!$C:$C,$X$4)","v":0},{"$f":"+SUMIFS(InTran!$S:$S,InTran!$G:$G,C21,InTran!$O:$O,$C$4,InTran!$C:$C,$X$4)","v":0},{"$f":"+SUMIFS(InTran!$M:$M,InTran!$G:$G,C21,InTran!$O:$O,$C$4,InTran!$C:$C,$X$4)","v":0},{"$f":"+IFERROR(X21/SUM($X$6:$X$27),0)","v":0},{"$f":"+SUMIFS(InTran!$R:$R,InTran!$G:$G,C21,InTran!$O:$O,$C$4)","v":0},{"$f":"+SUMIFS(InTran!$S:$S,InTran!$G:$G,C21,InTran!$O:$O,$C$4)","v":0},{"$f":"+SUMIFS(InTran!$M:$M,InTran!$G:$G,C21,InTran!$O:$O,$C$4)","v":0},{"$f":"+IFERROR(AB21/SUM($AB$6:$AB$27),0)","v":0},{"$f":"+RANK(AB21,$AB$6:$AB$27)","v":14}]
[null,null,"BIMB SECURITIES SDN BHD",{"$f":"+SUMIFS(InTran!$R:$R,InTran!$G:$G,C22,InTran!$O:$O,$C$4,InTran!$C:$C,$D$4)","v":0},{"$f":"+SUMIFS(InTran!$S:$S,InTran!$G:$G,C22,InTran!$O:$O,$C$4,InTran!$C:$C,$D$4)","v":0},{"$f":"+SUMIFS(InTran!$M:$M,InTran!$G:$G,C22,InTran!$O:$O,$C$4,InTran!$C:$C,$D$4)","v":0},{"$f":"+IFERROR(D22/SUM($D$6:$D$27),0)","v":0},{"$f":"+SUMIFS(InTran!$R:$R,InTran!$G:$G,C22,InTran!$O:$O,$C$4,InTran!$C:$C,$H$4)","v":0},{"$f":"+SUMIFS(InTran!$S:$S,InTran!$G:$G,C22,InTran!$O:$O,$C$4,InTran!$C:$C,$H$4)","v":0},{"$f":"+SUMIFS(InTran!$M:$M,InTran!$G:$G,C22,InTran!$O:$O,$C$4,InTran!$C:$C,$H$4)","v":0},{"$f":"+IFERROR(H22/SUM($H$6:$H$27),0)","v":0},{"$f":"+SUMIFS(InTran!$R:$R,InTran!$G:$G,C22,InTran!$O:$O,$C$4,InTran!$C:$C,$L$4)","v":0},{"$f":"+SUMIFS(InTran!$S:$S,InTran!$G:$G,C22,InTran!$O:$O,$C$4,InTran!$C:$C,$L$4)","v":0},{"$f":"+SUMIFS(InTran!$M:$M,InTran!$G:$G,C22,InTran!$O:$O,$C$4,InTran!$C:$C,$L$4)","v":0},{"$f":"+IFERROR(L22/SUM($L$6:$L$27),0)","v":0},{"$f":"+SUMIFS(InTran!$R:$R,InTran!$G:$G,C22,InTran!$O:$O,$C$4,InTran!$C:$C,$P$4)","v":0},{"$f":"+SUMIFS(InTran!$S:$S,InTran!$G:$G,C22,InTran!$O:$O,$C$4,InTran!$C:$C,$P$4)","v":0},{"$f":"+SUMIFS(InTran!$M:$M,InTran!$G:$G,C22,InTran!$O:$O,$C$4,InTran!$C:$C,$P$4)","v":0},{"$f":"+IFERROR(P22/SUM($P$6:$P$27),0)","v":0},{"$f":"+SUMIFS(InTran!$R:$R,InTran!$G:$G,C22,InTran!$O:$O,$C$4,InTran!$C:$C,$T$4)","v":0},{"$f":"+SUMIFS(InTran!$S:$S,InTran!$G:$G,C22,InTran!$O:$O,$C$4,InTran!$C:$C,$T$4)","v":0},{"$f":"+SUMIFS(InTran!$M:$M,InTran!$G:$G,C22,InTran!$O:$O,$C$4,InTran!$C:$C,$T$4)","v":0},{"$f":"+IFERROR(T22/SUM($T$6:$T$27),0)","v":0},{"$f":"+SUMIFS(InTran!$R:$R,InTran!$G:$G,C22,InTran!$O:$O,$C$4,InTran!$C:$C,$X$4)","v":0},{"$f":"+SUMIFS(InTran!$S:$S,InTran!$G:$G,C22,InTran!$O:$O,$C$4,InTran!$C:$C,$X$4)","v":0},{"$f":"+SUMIFS(InTran!$M:$M,InTran!$G:$G,C22,InTran!$O:$O,$C$4,InTran!$C:$C,$X$4)","v":0},{"$f":"+IFERROR(X22/SUM($X$6:$X$27),0)","v":0},{"$f":"+SUMIFS(InTran!$R:$R,InTran!$G:$G,C22,InTran!$O:$O,$C$4)","v":0},{"$f":"+SUMIFS(InTran!$S:$S,InTran!$G:$G,C22,InTran!$O:$O,$C$4)","v":0},{"$f":"+SUMIFS(InTran!$M:$M,InTran!$G:$G,C22,InTran!$O:$O,$C$4)","v":0},{"$f":"+IFERROR(AB22/SUM($AB$6:$AB$27),0)","v":0},{"$f":"+RANK(AB22,$AB$6:$AB$27)","v":14}]
[null,null,"HONG LEONG INVESTMENT BANK BHD",{"$f":"+SUMIFS(InTran!$R:$R,InTran!$G:$G,C23,InTran!$O:$O,$C$4,InTran!$C:$C,$D$4)","v":0},{"$f":"+SUMIFS(InTran!$S:$S,InTran!$G:$G,C23,InTran!$O:$O,$C$4,InTran!$C:$C,$D$4)","v":0},{"$f":"+SUMIFS(InTran!$M:$M,InTran!$G:$G,C23,InTran!$O:$O,$C$4,InTran!$C:$C,$D$4)","v":0},{"$f":"+IFERROR(D23/SUM($D$6:$D$27),0)","v":0},{"$f":"+SUMIFS(InTran!$R:$R,InTran!$G:$G,C23,InTran!$O:$O,$C$4,InTran!$C:$C,$H$4)","v":0},{"$f":"+SUMIFS(InTran!$S:$S,InTran!$G:$G,C23,InTran!$O:$O,$C$4,InTran!$C:$C,$H$4)","v":0},{"$f":"+SUMIFS(InTran!$M:$M,InTran!$G:$G,C23,InTran!$O:$O,$C$4,InTran!$C:$C,$H$4)","v":0},{"$f":"+IFERROR(H23/SUM($H$6:$H$27),0)","v":0},{"$f":"+SUMIFS(InTran!$R:$R,InTran!$G:$G,C23,InTran!$O:$O,$C$4,InTran!$C:$C,$L$4)","v":0},{"$f":"+SUMIFS(InTran!$S:$S,InTran!$G:$G,C23,InTran!$O:$O,$C$4,InTran!$C:$C,$L$4)","v":0},{"$f":"+SUMIFS(InTran!$M:$M,InTran!$G:$G,C23,InTran!$O:$O,$C$4,InTran!$C:$C,$L$4)","v":0},{"$f":"+IFERROR(L23/SUM($L$6:$L$27),0)","v":0},{"$f":"+SUMIFS(InTran!$R:$R,InTran!$G:$G,C23,InTran!$O:$O,$C$4,InTran!$C:$C,$P$4)","v":0},{"$f":"+SUMIFS(InTran!$S:$S,InTran!$G:$G,C23,InTran!$O:$O,$C$4,InTran!$C:$C,$P$4)","v":0},{"$f":"+SUMIFS(InTran!$M:$M,InTran!$G:$G,C23,InTran!$O:$O,$C$4,InTran!$C:$C,$P$4)","v":0},{"$f":"+IFERROR(P23/SUM($P$6:$P$27),0)","v":0},{"$f":"+SUMIFS(InTran!$R:$R,InTran!$G:$G,C23,InTran!$O:$O,$C$4,InTran!$C:$C,$T$4)","v":0},{"$f":"+SUMIFS(InTran!$S:$S,InTran!$G:$G,C23,InTran!$O:$O,$C$4,InTran!$C:$C,$T$4)","v":0},{"$f":"+SUMIFS(InTran!$M:$M,InTran!$G:$G,C23,InTran!$O:$O,$C$4,InTran!$C:$C,$T$4)","v":0},{"$f":"+IFERROR(T23/SUM($T$6:$T$27),0)","v":0},{"$f":"+SUMIFS(InTran!$R:$R,InTran!$G:$G,C23,InTran!$O:$O,$C$4,InTran!$C:$C,$X$4)","v":0},{"$f":"+SUMIFS(InTran!$S:$S,InTran!$G:$G,C23,InTran!$O:$O,$C$4,InTran!$C:$C,$X$4)","v":0},{"$f":"+SUMIFS(InTran!$M:$M,InTran!$G:$G,C23,InTran!$O:$O,$C$4,InTran!$C:$C,$X$4)","v":0},{"$f":"+IFERROR(X23/SUM($X$6:$X$27),0)","v":0},{"$f":"+SUMIFS(InTran!$R:$R,InTran!$G:$G,C23,InTran!$O:$O,$C$4)","v":0},{"$f":"+SUMIFS(InTran!$S:$S,InTran!$G:$G,C23,InTran!$O:$O,$C$4)","v":0},{"$f":"+SUMIFS(InTran!$M:$M,InTran!$G:$G,C23,InTran!$O:$O,$C$4)","v":0},{"$f":"+IFERROR(AB23/SUM($AB$6:$AB$27),0)","v":0},{"$f":"+RANK(AB23,$AB$6:$AB$27)","v":14}]
[null,null,"KAF-SEAGROATT & CAMPBELL SECURITIES SDN BHD",{"$f":"+SUMIFS(InTran!$R:$R,InTran!$G:$G,C24,InTran!$O:$O,$C$4,InTran!$C:$C,$D$4)","v":0},{"$f":"+SUMIFS(InTran!$S:$S,InTran!$G:$G,C24,InTran!$O:$O,$C$4,InTran!$C:$C,$D$4)","v":0},{"$f":"+SUMIFS(InTran!$M:$M,InTran!$G:$G,C24,InTran!$O:$O,$C$4,InTran!$C:$C,$D$4)","v":0},{"$f":"+IFERROR(D24/SUM($D$6:$D$27),0)","v":0},{"$f":"+SUMIFS(InTran!$R:$R,InTran!$G:$G,C24,InTran!$O:$O,$C$4,InTran!$C:$C,$H$4)","v":0},{"$f":"+SUMIFS(InTran!$S:$S,InTran!$G:$G,C24,InTran!$O:$O,$C$4,InTran!$C:$C,$H$4)","v":0},{"$f":"+SUMIFS(InTran!$M:$M,InTran!$G:$G,C24,InTran!$O:$O,$C$4,InTran!$C:$C,$H$4)","v":0},{"$f":"+IFERROR(H24/SUM($H$6:$H$27),0)","v":0},{"$f":"+SUMIFS(InTran!$R:$R,InTran!$G:$G,C24,InTran!$O:$O,$C$4,InTran!$C:$C,$L$4)","v":0},{"$f":"+SUMIFS(InTran!$S:$S,InTran!$G:$G,C24,InTran!$O:$O,$C$4,InTran!$C:$C,$L$4)","v":0},{"$f":"+SUMIFS(InTran!$M:$M,InTran!$G:$G,C24,InTran!$O:$O,$C$4,InTran!$C:$C,$L$4)","v":0},{"$f":"+IFERROR(L24/SUM($L$6:$L$27),0)","v":0},{"$f":"+SUMIFS(InTran!$R:$R,InTran!$G:$G,C24,InTran!$O:$O,$C$4,InTran!$C:$C,$P$4)","v":0},{"$f":"+SUMIFS(InTran!$S:$S,InTran!$G:$G,C24,InTran!$O:$O,$C$4,InTran!$C:$C,$P$4)","v":0},{"$f":"+SUMIFS(InTran!$M:$M,InTran!$G:$G,C24,InTran!$O:$O,$C$4,InTran!$C:$C,$P$4)","v":0},{"$f":"+IFERROR(P24/SUM($P$6:$P$27),0)","v":0},{"$f":"+SUMIFS(InTran!$R:$R,InTran!$G:$G,C24,InTran!$O:$O,$C$4,InTran!$C:$C,$T$4)","v":0},{"$f":"+SUMIFS(InTran!$S:$S,InTran!$G:$G,C24,InTran!$O:$O,$C$4,InTran!$C:$C,$T$4)","v":0},{"$f":"+SUMIFS(InTran!$M:$M,InTran!$G:$G,C24,InTran!$O:$O,$C$4,InTran!$C:$C,$T$4)","v":0},{"$f":"+IFERROR(T24/SUM($T$6:$T$27),0)","v":0},{"$f":"+SUMIFS(InTran!$R:$R,InTran!$G:$G,C24,InTran!$O:$O,$C$4,InTran!$C:$C,$X$4)","v":0},{"$f":"+SUMIFS(InTran!$S:$S,InTran!$G:$G,C24,InTran!$O:$O,$C$4,InTran!$C:$C,$X$4)","v":0},{"$f":"+SUMIFS(InTran!$M:$M,InTran!$G:$G,C24,InTran!$O:$O,$C$4,InTran!$C:$C,$X$4)","v":0},{"$f":"+IFERROR(X24/SUM($X$6:$X$27),0)","v":0},{"$f":"+SUMIFS(InTran!$R:$R,InTran!$G:$G,C24,InTran!$O:$O,$C$4)","v":0},{"$f":"+SUMIFS(InTran!$S:$S,InTran!$G:$G,C24,InTran!$O:$O,$C$4)","v":0},{"$f":"+SUMIFS(InTran!$M:$M,InTran!$G:$G,C24,InTran!$O:$O,$C$4)","v":0},{"$f":"+IFERROR(AB24/SUM($AB$6:$AB$27),0)","v":0},{"$f":"+RANK(AB24,$AB$6:$AB$27)","v":14}]
[null,null,"MIDF AMANAH INVESTMENT BANK BHD",{"$f":"+SUMIFS(InTran!$R:$R,InTran!$G:$G,C25,InTran!$O:$O,$C$4,InTran!$C:$C,$D$4)","v":0},{"$f":"+SUMIFS(InTran!$S:$S,InTran!$G:$G,C25,InTran!$O:$O,$C$4,InTran!$C:$C,$D$4)","v":0},{"$f":"+SUMIFS(InTran!$M:$M,InTran!$G:$G,C25,InTran!$O:$O,$C$4,InTran!$C:$C,$D$4)","v":0},{"$f":"+IFERROR(D25/SUM($D$6:$D$27),0)","v":0},{"$f":"+SUMIFS(InTran!$R:$R,InTran!$G:$G,C25,InTran!$O:$O,$C$4,InTran!$C:$C,$H$4)","v":0},{"$f":"+SUMIFS(InTran!$S:$S,InTran!$G:$G,C25,InTran!$O:$O,$C$4,InTran!$C:$C,$H$4)","v":0},{"$f":"+SUMIFS(InTran!$M:$M,InTran!$G:$G,C25,InTran!$O:$O,$C$4,InTran!$C:$C,$H$4)","v":0},{"$f":"+IFERROR(H25/SUM($H$6:$H$27),0)","v":0},{"$f":"+SUMIFS(InTran!$R:$R,InTran!$G:$G,C25,InTran!$O:$O,$C$4,InTran!$C:$C,$L$4)","v":0},{"$f":"+SUMIFS(InTran!$S:$S,InTran!$G:$G,C25,InTran!$O:$O,$C$4,InTran!$C:$C,$L$4)","v":0},{"$f":"+SUMIFS(InTran!$M:$M,InTran!$G:$G,C25,InTran!$O:$O,$C$4,InTran!$C:$C,$L$4)","v":0},{"$f":"+IFERROR(L25/SUM($L$6:$L$27),0)","v":0},{"$f":"+SUMIFS(InTran!$R:$R,InTran!$G:$G,C25,InTran!$O:$O,$C$4,InTran!$C:$C,$P$4)","v":0},{"$f":"+SUMIFS(InTran!$S:$S,InTran!$G:$G,C25,InTran!$O:$O,$C$4,InTran!$C:$C,$P$4)","v":0},{"$f":"+SUMIFS(InTran!$M:$M,InTran!$G:$G,C25,InTran!$O:$O,$C$4,InTran!$C:$C,$P$4)","v":0},{"$f":"+IFERROR(P25/SUM($P$6:$P$27),0)","v":0},{"$f":"+SUMIFS(InTran!$R:$R,InTran!$G:$G,C25,InTran!$O:$O,$C$4,InTran!$C:$C,$T$4)","v":0},{"$f":"+SUMIFS(InTran!$S:$S,InTran!$G:$G,C25,InTran!$O:$O,$C$4,InTran!$C:$C,$T$4)","v":0},{"$f":"+SUMIFS(InTran!$M:$M,InTran!$G:$G,C25,InTran!$O:$O,$C$4,InTran!$C:$C,$T$4)","v":0},{"$f":"+IFERROR(T25/SUM($T$6:$T$27),0)","v":0},{"$f":"+SUMIFS(InTran!$R:$R,InTran!$G:$G,C25,InTran!$O:$O,$C$4,InTran!$C:$C,$X$4)","v":0},{"$f":"+SUMIFS(InTran!$S:$S,InTran!$G:$G,C25,InTran!$O:$O,$C$4,InTran!$C:$C,$X$4)","v":0},{"$f":"+SUMIFS(InTran!$M:$M,InTran!$G:$G,C25,InTran!$O:$O,$C$4,InTran!$C:$C,$X$4)","v":0},{"$f":"+IFERROR(X25/SUM($X$6:$X$27),0)","v":0},{"$f":"+SUMIFS(InTran!$R:$R,InTran!$G:$G,C25,InTran!$O:$O,$C$4)","v":0},{"$f":"+SUMIFS(InTran!$S:$S,InTran!$G:$G,C25,InTran!$O:$O,$C$4)","v":0},{"$f":"+SUMIFS(InTran!$M:$M,InTran!$G:$G,C25,InTran!$O:$O,$C$4)","v":0},{"$f":"+IFERROR(AB25/SUM($AB$6:$AB$27),0)","v":0},{"$f":"+RANK(AB25,$AB$6:$AB$27)","v":14}]
[null,null,"NOT APPLICABLE",{"$f":"+SUMIFS(InTran!$R:$R,InTran!$G:$G,C26,InTran!$O:$O,$C$4,InTran!$C:$C,$D$4)","v":0},{"$f":"+SUMIFS(InTran!$S:$S,InTran!$G:$G,C26,InTran!$O:$O,$C$4,InTran!$C:$C,$D$4)","v":0},{"$f":"+SUMIFS(InTran!$M:$M,InTran!$G:$G,C26,InTran!$O:$O,$C$4,InTran!$C:$C,$D$4)","v":0},{"$f":"+IFERROR(D26/SUM($D$6:$D$27),0)","v":0},{"$f":"+SUMIFS(InTran!$R:$R,InTran!$G:$G,C26,InTran!$O:$O,$C$4,InTran!$C:$C,$H$4)","v":0},{"$f":"+SUMIFS(InTran!$S:$S,InTran!$G:$G,C26,InTran!$O:$O,$C$4,InTran!$C:$C,$H$4)","v":0},{"$f":"+SUMIFS(InTran!$M:$M,InTran!$G:$G,C26,InTran!$O:$O,$C$4,InTran!$C:$C,$H$4)","v":0},{"$f":"+IFERROR(H26/SUM($H$6:$H$27),0)","v":0},{"$f":"+SUMIFS(InTran!$R:$R,InTran!$G:$G,C26,InTran!$O:$O,$C$4,InTran!$C:$C,$L$4)","v":0},{"$f":"+SUMIFS(InTran!$S:$S,InTran!$G:$G,C26,InTran!$O:$O,$C$4,InTran!$C:$C,$L$4)","v":0},{"$f":"+SUMIFS(InTran!$M:$M,InTran!$G:$G,C26,InTran!$O:$O,$C$4,InTran!$C:$C,$L$4)","v":0},{"$f":"+IFERROR(L26/SUM($L$6:$L$27),0)","v":0},{"$f":"+SUMIFS(InTran!$R:$R,InTran!$G:$G,C26,InTran!$O:$O,$C$4,InTran!$C:$C,$P$4)","v":0},{"$f":"+SUMIFS(InTran!$S:$S,InTran!$G:$G,C26,InTran!$O:$O,$C$4,InTran!$C:$C,$P$4)","v":0},{"$f":"+SUMIFS(InTran!$M:$M,InTran!$G:$G,C26,InTran!$O:$O,$C$4,InTran!$C:$C,$P$4)","v":0},{"$f":"+IFERROR(P26/SUM($P$6:$P$27),0)","v":0},{"$f":"+SUMIFS(InTran!$R:$R,InTran!$G:$G,C26,InTran!$O:$O,$C$4,InTran!$C:$C,$T$4)","v":0},{"$f":"+SUMIFS(InTran!$S:$S,InTran!$G:$G,C26,InTran!$O:$O,$C$4,InTran!$C:$C,$T$4)","v":0},{"$f":"+SUMIFS(InTran!$M:$M,InTran!$G:$G,C26,InTran!$O:$O,$C$4,InTran!$C:$C,$T$4)","v":0},{"$f":"+IFERROR(T26/SUM($T$6:$T$27),0)","v":0},{"$f":"+SUMIFS(InTran!$R:$R,InTran!$G:$G,C26,InTran!$O:$O,$C$4,InTran!$C:$C,$X$4)","v":0},{"$f":"+SUMIFS(InTran!$S:$S,InTran!$G:$G,C26,InTran!$O:$O,$C$4,InTran!$C:$C,$X$4)","v":0},{"$f":"+SUMIFS(InTran!$M:$M,InTran!$G:$G,C26,InTran!$O:$O,$C$4,InTran!$C:$C,$X$4)","v":0},{"$f":"+IFERROR(X26/SUM($X$6:$X$27),0)","v":0},{"$f":"+SUMIFS(InTran!$R:$R,InTran!$G:$G,C26,InTran!$O:$O,$C$4)","v":0},{"$f":"+SUMIFS(InTran!$S:$S,InTran!$G:$G,C26,InTran!$O:$O,$C$4)","v":0},{"$f":"+SUMIFS(InTran!$M:$M,InTran!$G:$G,C26,InTran!$O:$O,$C$4)","v":0},{"$f":"+IFERROR(AB26/SUM($AB$6:$AB$27),0)","v":0},{"$f":"+RANK(AB26,$AB$6:$AB$27)","v":14}]
[null,null,"RHB INVESTMENT BANK BERHAD",{"$f":"+SUMIFS(InTran!$R:$R,InTran!$G:$G,C27,InTran!$O:$O,$C$4,InTran!$C:$C,$D$4)","v":0},{"$f":"+SUMIFS(InTran!$S:$S,InTran!$G:$G,C27,InTran!$O:$O,$C$4,InTran!$C:$C,$D$4)","v":0},{"$f":"+SUMIFS(InTran!$M:$M,InTran!$G:$G,C27,InTran!$O:$O,$C$4,InTran!$C:$C,$D$4)","v":0},{"$f":"+IFERROR(D27/SUM($D$6:$D$27),0)","v":0},{"$f":"+SUMIFS(InTran!$R:$R,InTran!$G:$G,C27,InTran!$O:$O,$C$4,InTran!$C:$C,$H$4)","v":0},{"$f":"+SUMIFS(InTran!$S:$S,InTran!$G:$G,C27,InTran!$O:$O,$C$4,InTran!$C:$C,$H$4)","v":0},{"$f":"+SUMIFS(InTran!$M:$M,InTran!$G:$G,C27,InTran!$O:$O,$C$4,InTran!$C:$C,$H$4)","v":0},{"$f":"+IFERROR(H27/SUM($H$6:$H$27),0)","v":0},{"$f":"+SUMIFS(InTran!$R:$R,InTran!$G:$G,C27,InTran!$O:$O,$C$4,InTran!$C:$C,$L$4)","v":0},{"$f":"+SUMIFS(InTran!$S:$S,InTran!$G:$G,C27,InTran!$O:$O,$C$4,InTran!$C:$C,$L$4)","v":0},{"$f":"+SUMIFS(InTran!$M:$M,InTran!$G:$G,C27,InTran!$O:$O,$C$4,InTran!$C:$C,$L$4)","v":0},{"$f":"+IFERROR(L27/SUM($L$6:$L$27),0)","v":0},{"$f":"+SUMIFS(InTran!$R:$R,InTran!$G:$G,C27,InTran!$O:$O,$C$4,InTran!$C:$C,$P$4)","v":0},{"$f":"+SUMIFS(InTran!$S:$S,InTran!$G:$G,C27,InTran!$O:$O,$C$4,InTran!$C:$C,$P$4)","v":0},{"$f":"+SUMIFS(InTran!$M:$M,InTran!$G:$G,C27,InTran!$O:$O,$C$4,InTran!$C:$C,$P$4)","v":0},{"$f":"+IFERROR(P27/SUM($P$6:$P$27),0)","v":0},{"$f":"+SUMIFS(InTran!$R:$R,InTran!$G:$G,C27,InTran!$O:$O,$C$4,InTran!$C:$C,$T$4)","v":0},{"$f":"+SUMIFS(InTran!$S:$S,InTran!$G:$G,C27,InTran!$O:$O,$C$4,InTran!$C:$C,$T$4)","v":0},{"$f":"+SUMIFS(InTran!$M:$M,InTran!$G:$G,C27,InTran!$O:$O,$C$4,InTran!$C:$C,$T$4)","v":0},{"$f":"+IFERROR(T27/SUM($T$6:$T$27),0)","v":0},{"$f":"+SUMIFS(InTran!$R:$R,InTran!$G:$G,C27,InTran!$O:$O,$C$4,InTran!$C:$C,$X$4)","v":0},{"$f":"+SUMIFS(InTran!$S:$S,InTran!$G:$G,C27,InTran!$O:$O,$C$4,InTran!$C:$C,$X$4)","v":0},{"$f":"+SUMIFS(InTran!$M:$M,InTran!$G:$G,C27,InTran!$O:$O,$C$4,InTran!$C:$C,$X$4)","v":0},{"$f":"+IFERROR(X27/SUM($X$6:$X$27),0)","v":0},{"$f":"+SUMIFS(InTran!$R:$R,InTran!$G:$G,C27,InTran!$O:$O,$C$4)","v":0},{"$f":"+SUMIFS(InTran!$S:$S,InTran!$G:$G,C27,InTran!$O:$O,$C$4)","v":0},{"$f":"+SUMIFS(InTran!$M:$M,InTran!$G:$G,C27,InTran!$O:$O,$C$4)","v":0},{"$f":"+IFERROR(AB27/SUM($AB$6:$AB$27),0)","v":0},{"$f":"+RANK(AB27,$AB$6:$AB$27)","v":14}]
[null,null,"Total",{"$f":"SUM(D6:D27)","v":501601865.84999996},{"$f":"SUM(E6:E27)","v":718621.16999999993},{"$f":"SUM(F6:F27)","v":27625170.279999997},{"$f":"SUM(G6:G27)","v":1},{"$f":"SUM(H6:H27)","v":0},{"$f":"SUM(I6:I27)","v":0},{"$f":"SUM(J6:J27)","v":0},{"$f":"SUM(K6:K27)","v":0},{"$f":"SUM(L6:L27)","v":39128660.670000002},{"$f":"SUM(M6:M27)","v":64806.94},{"$f":"SUM(N6:N27)","v":2584033.59},{"$f":"SUM(O6:O27)","v":0.99999999999999989},{"$f":"SUM(P6:P27)","v":0},{"$f":"SUM(Q6:Q27)","v":0},{"$f":"SUM(R6:R27)","v":0},{"$f":"SUM(S6:S27)","v":0},{"$f":"SUM(T6:T27)","v":1033339.97},{"$f":"SUM(U6:U27)","v":2329.75},{"$f":"SUM(V6:V27)","v":-105666.01000000001},{"$f":"SUM(W6:W27)","v":1.0000000000000002},{"$f":"SUM(X6:X27)","v":11457392.65082401},{"$f":"SUM(Y6:Y27)","v":27467.450968872348},{"$f":"SUM(Z6:Z27)","v":7755.6699999999992},{"$f":"SUM(AA6:AA27)","v":0.99999999999999989},{"$f":"SUM(AB6:AB27)","v":553221259.14082384},{"$f":"SUM(AC6:AC27)","v":813225.31096887251},{"$f":"SUM(AD6:AD27)","v":30111293.530000001},{"$f":"SUM(AE6:AE27)","v":1.0000000000000002}]
[]
[null,null,"ANGIE","YH-AUR-VCAM",null,null,null,"KWAP",null,null,null,"MEQESG",null,null,null,"YAMIR-VCAM",null,null,null,"VCAM-TABA",null,null,null,"ASEAN5ESG",null,null,null,"Total"]
[null,null,"Brokers","Trade Value (RM)","Brokerage Fees (RM)","Capital Gains (RM)","%","Trade Value (RM)","Brokerage Fees (RM)","Capital Gains (RM)","%","Trade Value (RM)","Brokerage Fees (RM)","Capital Gains (RM)","%","Trade Value (RM)","Brokerage Fees (RM)","Capital Gains (RM)","%","Trade Value (RM)","Brokerage Fees (RM)","Capital Gains (RM)","%","Trade Value (RM)","Brokerage Fees (RM)","Capital Gains (RM)","%","Trade Value (RM)","Brokerage Fees (RM)","Capital Gains (RM)","%","Trade Value Ranking"]
[null,null,"KENANGA INVESTMENT BANK BHD",{"$f":"+SUMIFS(InTran!$R:$R,InTran!$G:$G,C32,InTran!$O:$O,$C$30,InTran!$C:$C,$D$30)","v":3418020},{"$f":"+SUMIFS(InTran!$S:$S,InTran!$G:$G,C32,InTran!$O:$O,$C$30,InTran!$C:$C,$D$30)","v":17000},{"$f":"+SUMIFS(InTran!$M:$M,InTran!$G:$G,C32,InTran!$O:$O,$C$30,InTran!$C:$C,$D$30)","v":0},{"$f":"+IFERROR(D32/SUM($D$32:$D$53),0)","v":4.1877050593026842E-2},{"$f":"+SUMIFS(InTran!$R:$R,InTran!$G:$G,C32,InTran!$O:$O,$C$30,InTran!$C:$C,$H$30)","v":5656828.9299999997},{"$f":"+SUMIFS(InTran!$S:$S,InTran!$G:$G,C32,InTran!$O:$O,$C$30,InTran!$C:$C,$H$30)","v":11286},{"$f":"+SUMIFS(InTran!$M:$M,InTran!$G:$G,C32,InTran!$O:$O,$C$30,InTran!$C:$C,$H$30)","v":0},{"$f":"+IFERROR(H32/SUM($H$32:$H$53),0)","v":0.69330219844551766},{"$f":"+SUMIFS(InTran!$R:$R,InTran!$G:$G,C32,InTran!$O:$O,$C$30,InTran!$C:$C,$L$30)","v":54474145.929999992},{"$f":"+SUMIFS(InTran!$S:$S,InTran!$G:$G,C32,InTran!$O:$O,$C$30,InTran!$C:$C,$L$30)","v":113157.41000000003},{"$f":"+SUMIFS(InTran!$M:$M,InTran!$G:$G,C32,InTran!$O:$O,$C$30,InTran!$C:$C,$L$30)","v":1707979.11},{"$f":"+IFERROR(L32/SUM($L$32:$L$53),0)","v":0.27035011021683014},{"$f":"+SUMIFS(InTran!$R:$R,InTran!$G:$G,C32,InTran!$O:$O,$C$30,InTran!$C:$C,$P$30)","v":0},{"$f":"+SUMIFS(InTran!$S:$S,InTran!$G:$G,C32,InTran!$O:$O,$C$30,InTran!$C:$C,$P$30)","v":0},{"$f":"+SUMIFS(InTran!$M:$M,InTran!$G:$G,C32,InTran!$O:$O,$C$30,InTran!$C:$C,$P$30)","v":0},{"$f":"+IFERROR(P32/SUM($P$32:$P$53),0)","v":0},{"$f":"+SUMIFS(InTran!$R:$R,InTran!$G:$G,C32,InTran!$O:$O,$C$30,InTran!$C:$C,$T$30)","v":12684855.210000003},{"$f":"+SUMIFS(InTran!$S:$S,InTran!$G:$G,C32,InTran!$O:$O,$C$30,InTran!$C:$C,$T$30)","v":28579.329999999998},{"$f":"+SUMIFS(InTran!$M:$M,InTran!$G:$G,C32,InTran!$O:$O,$C$30,InTran!$C:$C,$T$30)","v":544236.95999999985},{"$f":"+IFERROR(T32/SUM($T$32:$T$53),0)","v":0.45783690490415235},{"$f":"+SUMIFS(InTran!$R:$R,InTran!$G:$G,C32,InTran!$O:$O,$C$30,InTran!$C:$C,$X$30)","v":98116.54},{"$f":"+SUMIFS(InTran!$S:$S,InTran!$G:$G,C32,InTran!$O:$O,$C$30,InTran!$C:$C,$X$30)","v":219.95},{"$f":"+SUMIFS(InTran!$M:$M,InTran!$G:$G,C32,InTran!$O:$O,$C$30,InTran!$C:$C,$X$30)","v":0},{"$f":"+IFERROR(X32/SUM($X$32:$X$53),0)","v":0.30741650615399863},{"$f":"+SUMIFS(InTran!$R:$R,InTran!$G:$G,C32,InTran!$O:$O,$C$30)","v":76331966.609999985},{"$f":"+SUMIFS(InTran!$S:$S,InTran!$G:$G,C32,InTran!$O:$O,$C$30)","v":170242.68999999997},{"$f":"+SUMIFS(InTran!$M:$M,InTran!$G:$G,C32,InTran!$O:$O,$C$30)","v":2252216.0700000008},{"$f":"+IFERROR(AB32/SUM($AB$32:$AB$53),0)","v":0.23906059931358106},{"$f":"+RANK(AB32,$AB$32:$AB$53)","v":1}]
[null,null,"UBS SECURITIES MALAYSIA SDN BHD",{"$f":"+SUMIFS(InTran!$R:$R,InTran!$G:$G,C33,InTran!$O:$O,$C$30,InTran!$C:$C,$D$30)","v":3656265.77},{"$f":"+SUMIFS(InTran!$S:$S,InTran!$G:$G,C33,InTran!$O:$O,$C$30,InTran!$C:$C,$D$30)","v":7330.59},{"$f":"+SUMIFS(InTran!$M:$M,InTran!$G:$G,C33,InTran!$O:$O,$C$30,InTran!$C:$C,$D$30)","v":66521.81},{"$f":"+IFERROR(D33/SUM($D$32:$D$53),0)","v":4.4796000793395664E-2},{"$f":"+SUMIFS(InTran!$R:$R,InTran!$G:$G,C33,InTran!$O:$O,$C$30,InTran!$C:$C,$H$30)","v":0},{"$f":"+SUMIFS(InTran!$S:$S,InTran!$G:$G,C33,InTran!$O:$O,$C$30,InTran!$C:$C,$H$30)","v":0},{"$f":"+SUMIFS(InTran!$M:$M,InTran!$G:$G,C33,InTran!$O:$O,$C$30,InTran!$C:$C,$H$30)","v":0},{"$f":"+IFERROR(H33/SUM($H$32:$H$53),0)","v":0},{"$f":"+SUMIFS(InTran!$R:$R,InTran!$G:$G,C33,InTran!$O:$O,$C$30,InTran!$C:$C,$L$30)","v":52694274.359999999},{"$f":"+SUMIFS(InTran!$S:$S,InTran!$G:$G,C33,InTran!$O:$O,$C$30,InTran!$C:$C,$L$30)","v":107766.5},{"$f":"+SUMIFS(InTran!$M:$M,InTran!$G:$G,C33,InTran!$O:$O,$C$30,InTran!$C:$C,$L$30)","v":3435603.2899999996},{"$f":"+IFERROR(L33/SUM($L$32:$L$53),0)","v":0.26151677346769353},{"$f":"+SUMIFS(InTran!$R:$R,InTran!$G:$G,C33,InTran!$O:$O,$C$30,InTran!$C:$C,$P$30)","v":0},{"$f":"+SUMIFS(InTran!$S:$S,InTran!$G:$G,C33,InTran!$O:$O,$C$30,InTran!$C:$C,$P$30)","v":0},{"$f":"+SUMIFS(InTran!$M:$M,InTran!$G:$G,C33,InTran!$O:$O,$C$30,InTran!$C:$C,$P$30)","v":0},{"$f":"+IFERROR(P33/SUM($P$32:$P$53),0)","v":0},{"$f":"+SUMIFS(InTran!$R:$R,InTran!$G:$G,C33,InTran!$O:$O,$C$30,InTran!$C:$C,$T$30)","v":5584974.75},{"$f":"+SUMIFS(InTran!$S:$S,InTran!$G:$G,C33,InTran!$O:$O,$C$30,InTran!$C:$C,$T$30)","v":12539.369999999999},{"$f":"+SUMIFS(InTran!$M:$M,InTran!$G:$G,C33,InTran!$O:$O,$C$30,InTran!$C:$C,$T$30)","v":44250.979999999996},{"$f":"+IFERROR(T33/SUM($T$32:$T$53),0)","v":0.20157956170379035},{"$f":"+SUMIFS(InTran!$R:$R,InTran!$G:$G,C33,InTran!$O:$O,$C$30,InTran!$C:$C,$X$30)","v":0},{"$f":"+SUMIFS(InTran!$S:$S,InTran!$G:$G,C33,InTran!$O:$O,$C$30,InTran!$C:$C,$X$30)","v":0},{"$f":"+SUMIFS(InTran!$M:$M,InTran!$G:$G,C33,InTran!$O:$O,$C$30,InTran!$C:$C,$X$30)","v":0},{"$f":"+IFERROR(X33/SUM($X$32:$X$53),0)","v":0},{"$f":"+SUMIFS(InTran!$R:$R,InTran!$G:$G,C33,InTran!$O:$O,$C$30)","v":61935514.879999995},{"$f":"+SUMIFS(InTran!$S:$S,InTran!$G:$G,C33,InTran!$O:$O,$C$30)","v":127636.45999999999},{"$f":"+SUMIFS(InTran!$M:$M,InTran!$G:$G,C33,InTran!$O:$O,$C$30)","v":3546376.0799999996},{"$f":"+IFERROR(AB33/SUM($AB$32:$AB$53),0)","v":0.19397300978314228},{"$f":"+RANK(AB33,$AB$32:$AB$53)","v":2}]
[null,null,"MACQUARIE CAPITAL SECURITIES (MALAYSIA) SDN BHD",{"$f":"+SUMIFS(InTran!$R:$R,InTran!$G:$G,C34,InTran!$O:$O,$C$30,InTran!$C:$C,$D$30)","v":30895596.07},{"$f":"+SUMIFS(InTran!$S:$S,InTran!$G:$G,C34,InTran!$O:$O,$C$30,InTran!$C:$C,$D$30)","v":32413.200000000004},{"$f":"+SUMIFS(InTran!$M:$M,InTran!$G:$G,C34,InTran!$O:$O,$C$30,InTran!$C:$C,$D$30)","v":1040346.4700000001},{"$f":"+IFERROR(D34/SUM($D$32:$D$53),0)","v":0.37852804832186798},{"$f":"+SUMIFS(InTran!$R:$R,InTran!$G:$G,C34,InTran!$O:$O,$C$30,InTran!$C:$C,$H$30)","v":0},{"$f":"+SUMIFS(InTran!$S:$S,InTran!$G:$G,C34,InTran!$O:$O,$C$30,InTran!$C:$C,$H$30)","v":0},{"$f":"+SUMIFS(InTran!$M:$M,InTran!$G:$G,C34,InTran!$O:$O,$C$30,InTran!$C:$C,$H$30)","v":0},{"$f":"+IFERROR(H34/SUM($H$32:$H$53),0)","v":0},{"$f":"+SUMIFS(InTran!$R:$R,InTran!$G:$G,C34,InTran!$O:$O,$C$30,InTran!$C:$C,$L$30)","v":8208044.7999999998},{"$f":"+SUMIFS(InTran!$S:$S,InTran!$G:$G,C34,InTran!$O:$O,$C$30,InTran!$C:$C,$L$30)","v":17535.800000000003},{"$f":"+SUMIFS(InTran!$M:$M,InTran!$G:$G,C34,InTran!$O:$O,$C$30,InTran!$C:$C,$L$30)","v":139529.44},{"$f":"+IFERROR(L34/SUM($L$32:$L$53),0)","v":4.0735761496769184E-2},{"$f":"+SUMIFS(InTran!$R:$R,InTran!$G:$G,C34,InTran!$O:$O,$C$30,InTran!$C:$C,$P$30)","v":0},{"$f":"+SUMIFS(InTran!$S:$S,InTran!$G:$G,C34,InTran!$O:$O,$C$30,InTran!$C:$C,$P$30)","v":0},{"$f":"+SUMIFS(InTran!$M:$M,InTran!$G:$G,C34,InTran!$O:$O,$C$30,InTran!$C:$C,$P$30)","v":0},{"$f":"+IFERROR(P34/SUM($P$32:$P$53),0)","v":0},{"$f":"+SUMIFS(InTran!$R:$R,InTran!$G:$G,C34,InTran!$O:$O,$C$30,InTran!$C:$C,$T$30)","v":417643.78},{"$f":"+SUMIFS(InTran!$S:$S,InTran!$G:$G,C34,InTran!$O:$O,$C$30,InTran!$C:$C,$T$30)","v":942.7},{"$f":"+SUMIFS(InTran!$M:$M,InTran!$G:$G,C34,InTran!$O:$O,$C$30,InTran!$C:$C,$T$30)","v":38666.230000000003},{"$f":"+IFERROR(T34/SUM($T$32:$T$53),0)","v":1.5074096820350755E-2},{"$f":"+SUMIFS(InTran!$R:$R,InTran!$G:$G,C34,InTran!$O:$O,$C$30,InTran!$C:$C,$X$30)","v":0},{"$f":"+SUMIFS(InTran!$S:$S,InTran!$G:$G,C34,InTran!$O:$O,$C$30,InTran!$C:$C,$X$30)","v":0},{"$f":"+SUMIFS(InTran!$M:$M,InTran!$G:$G,C34,InTran!$O:$O,$C$30,InTran!$C:$C,$X$30)","v":0},{"$f":"+IFERROR(X34/SUM($X$32:$X$53),0)","v":0},{"$f":"+SUMIFS(InTran!$R:$R,InTran!$G:$G,C34,InTran!$O:$O,$C$30)","v":39521284.650000006},{"$f":"+SUMIFS(InTran!$S:$S,InTran!$G:$G,C34,InTran!$O:$O,$C$30)","v":50891.700000000004},{"$f":"+SUMIFS(InTran!$M:$M,InTran!$G:$G,C34,InTran!$O:$O,$C$30)","v":1218542.1399999999},{"$f":"+IFERROR(AB34/SUM($AB$32:$AB$53),0)","v":0.1237749060278225},{"$f":"+RANK(AB34,$AB$32:$AB$53)","v":3}]
[null,null,"CLSA LIMITED",{"$f":"+SUMIFS(InTran!$R:$R,InTran!$G:$G,C35,InTran!$O:$O,$C$30,InTran!$C:$C,$D$30)","v":32562112.830000002},{"$f":"+SUMIFS(InTran!$S:$S,InTran!$G:$G,C35,InTran!$O:$O,$C$30,InTran!$C:$C,$D$30)","v":38947.71},{"$f":"+SUMIFS(InTran!$M:$M,InTran!$G:$G,C35,InTran!$O:$O,$C$30,InTran!$C:$C,$D$30)","v":1495526.3},{"$f":"+IFERROR(D35/SUM($D$32:$D$53),0)","v":0.39894595303648267},{"$f":"+SUMIFS(InTran!$R:$R,InTran!$G:$G,C35,InTran!$O:$O,$C$30,InTran!$C:$C,$H$30)","v":0},{"$f":"+SUMIFS(InTran!$S:$S,InTran!$G:$G,C35,InTran!$O:$O,$C$30,InTran!$C:$C,$H$30)","v":0},{"$f":"+SUMIFS(InTran!$M:$M,InTran!$G:$G,C35,InTran!$O:$O,$C$30,InTran!$C:$C,$H$30)","v":0},{"$f":"+IFERROR(H35/SUM($H$32:$H$53),0)","v":0},{"$f":"+SUMIFS(InTran!$R:$R,InTran!$G:$G,C35,InTran!$O:$O,$C$30,InTran!$C:$C,$L$30)","v":101217.38},{"$f":"+SUMIFS(InTran!$S:$S,InTran!$G:$G,C35,InTran!$O:$O,$C$30,InTran!$C:$C,$L$30)","v":228.59},{"$f":"+SUMIFS(InTran!$M:$M,InTran!$G:$G,C35,InTran!$O:$O,$C$30,InTran!$C:$C,$L$30)","v":-4911.17},{"$f":"+IFERROR(L35/SUM($L$32:$L$53),0)","v":5.0233242525770034E-4},{"$f":"+SUMIFS(InTran!$R:$R,InTran!$G:$G,C35,InTran!$O:$O,$C$30,InTran!$C:$C,$P$30)","v":0},{"$f":"+SUMIFS(InTran!$S:$S,InTran!$G:$G,C35,InTran!$O:$O,$C$30,InTran!$C:$C,$P$30)","v":0},{"$f":"+SUMIFS(InTran!$M:$M,InTran!$G:$G,C35,InTran!$O:$O,$C$30,InTran!$C:$C,$P$30)","v":0},{"$f":"+IFERROR(P35/SUM($P$32:$P$53),0)","v":0},{"$f":"+SUMIFS(InTran!$R:$R,InTran!$G:$G,C35,InTran!$O:$O,$C$30,InTran!$C:$C,$T$30)","v":0},{"$f":"+SUMIFS(InTran!$S:$S,InTran!$G:$G,C35,InTran!$O:$O,$C$30,InTran!$C:$C,$T$30)","v":0},{"$f":"+SUMIFS(InTran!$M:$M,InTran!$G:$G,C35,InTran!$O:$O,$C$30,InTran!$C:$C,$T$30)","v":0},{"$f":"+IFERROR(T35/SUM($T$32:$T$53),0)","v":0},{"$f":"+SUMIFS(InTran!$R:$R,InTran!$G:$G,C35,InTran!$O:$O,$C$30,InTran!$C:$C,$X$30)","v":0},{"$f":"+SUMIFS(InTran!$S:$S,InTran!$G:$G,C35,InTran!$O:$O,$C$30,InTran!$C:$C,$X$30)","v":0},{"$f":"+SUMIFS(InTran!$M:$M,InTran!$G:$G,C35,InTran!$O:$O,$C$30,InTran!$C:$C,$X$30)","v":0},{"$f":"+IFERROR(X35/SUM($X$32:$X$53),0)","v":0},{"$f":"+SUMIFS(InTran!$R:$R,InTran!$G:$G,C35,InTran!$O:$O,$C$30)","v":32663330.210000001},{"$f":"+SUMIFS(InTran!$S:$S,InTran!$G:$G,C35,InTran!$O:$O,$C$30)","v":39176.299999999996},{"$f":"+SUMIFS(InTran!$M:$M,InTran!$G:$G,C35,InTran!$O:$O,$C$30)","v":1490615.1300000001},{"$f":"+IFERROR(AB35/SUM($AB$32:$AB$53),0)","v":0.10229679179465856},{"$f":"+RANK(AB35,$AB$32:$AB$53)","v":4}]
[null,null,"NOMURA SECURITIES MALAYSIA SDN BHD",{"$f":"+SUMIFS(InTran!$R:$R,InTran!$G:$G,C36,InTran!$O:$O,$C$30,InTran!$C:$C,$D$30)","v":5361674.1000000006},{"$f":"+SUMIFS(InTran!$S:$S,InTran!$G:$G,C36,InTran!$O:$O,$C$30,InTran!$C:$C,$D$30)","v":10974.17},{"$f":"+SUMIFS(InTran!$M:$M,InTran!$G:$G,C36,InTran!$O:$O,$C$30,InTran!$C:$C,$D$30)","v":130082.83},{"$f":"+IFERROR(D36/SUM($D$32:$D$53),0)","v":6.5690398988016943E-2},{"$f":"+SUMIFS(InTran!$R:$R,InTran!$G:$G,C36,InTran!$O:$O,$C$30,InTran!$C:$C,$H$30)","v":0},{"$f":"+SUMIFS(InTran!$S:$S,InTran!$G:$G,C36,InTran!$O:$O,$C$30,InTran!$C:$C,$H$30)","v":0},{"$f":"+SUMIFS(InTran!$M:$M,InTran!$G:$G,C36,InTran!$O:$O,$C$30,InTran!$C:$C,$H$30)","v":0},{"$f":"+IFERROR(H36/SUM($H$32:$H$53),0)","v":0},{"$f":"+SUMIFS(InTran!$R:$R,InTran!$G:$G,C36,InTran!$O:$O,$C$30,InTran!$C:$C,$L$30)","v":25482484.560000002},{"$f":"+SUMIFS(InTran!$S:$S,InTran!$G:$G,C36,InTran!$O:$O,$C$30,InTran!$C:$C,$L$30)","v":53611.640000000007},{"$f":"+SUMIFS(InTran!$M:$M,InTran!$G:$G,C36,InTran!$O:$O,$C$30,InTran!$C:$C,$L$30)","v":1340091.95},{"$f":"+IFERROR(L36/SUM($L$32:$L$53),0)","v":0.12646719635122647},{"$f":"+SUMIFS(InTran!$R:$R,InTran!$G:$G,C36,InTran!$O:$O,$C$30,InTran!$C:$C,$P$30)","v":0},{"$f":"+SUMIFS(InTran!$S:$S,InTran!$G:$G,C36,InTran!$O:$O,$C$30,InTran!$C:$C,$P$30)","v":0},{"$f":"+SUMIFS(InTran!$M:$M,InTran!$G:$G,C36,InTran!$O:$O,$C$30,InTran!$C:$C,$P$30)","v":0},{"$f":"+IFERROR(P36/SUM($P$32:$P$53),0)","v":0},{"$f":"+SUMIFS(InTran!$R:$R,InTran!$G:$G,C36,InTran!$O:$O,$C$30,InTran!$C:$C,$T$30)","v":911612.85000000009},{"$f":"+SUMIFS(InTran!$S:$S,InTran!$G:$G,C36,InTran!$O:$O,$C$30,InTran!$C:$C,$T$30)","v":2045.7700000000002},{"$f":"+SUMIFS(InTran!$M:$M,InTran!$G:$G,C36,InTran!$O:$O,$C$30,InTran!$C:$C,$T$30)","v":5597.33},{"$f":"+IFERROR(T36/SUM($T$32:$T$53),0)","v":3.290301692886672E-2},{"$f":"+SUMIFS(InTran!$R:$R,InTran!$G:$G,C36,InTran!$O:$O,$C$30,InTran!$C:$C,$X$30)","v":187297.4},{"$f":"+SUMIFS(InTran!$S:$S,InTran!$G:$G,C36,InTran!$O:$O,$C$30,InTran!$C:$C,$X$30)","v":419.86},{"$f":"+SUMIFS(InTran!$M:$M,InTran!$G:$G,C36,InTran!$O:$O,$C$30,InTran!$C:$C,$X$30)","v":0},{"$f":"+IFERROR(X36/SUM($X$32:$X$53),0)","v":0.58683594345793222},{"$f":"+SUMIFS(InTran!$R:$R,InTran!$G:$G,C36,InTran!$O:$O,$C$30)","v":31943068.909999996},{"$f":"+SUMIFS(InTran!$S:$S,InTran!$G:$G,C36,InTran!$O:$O,$C$30)","v":67051.44},{"$f":"+SUMIFS(InTran!$M:$M,InTran!$G:$G,C36,InTran!$O:$O,$C$30)","v":1475772.11},{"$f":"+IFERROR(AB36/SUM($AB$32:$AB$53),0)","v":0.10004103833136678},{"$f":"+RANK(AB36,$AB$32:$AB$53)","v":5}]
[null,null,"CIMB INVESTMENT BANK BHD",{"$f":"+SUMIFS(InTran!$R:$R,InTran!$G:$G,C37,InTran!$O:$O,$C$30,InTran!$C:$C,$D$30)","v":0},{"$f":"+SUMIFS(InTran!$S:$S,InTran!$G:$G,C37,InTran!$O:$O,$C$30,InTran!$C:$C,$D$30)","v":0},{"$f":"+SUMIFS(InTran!$M:$M,InTran!$G:$G,C37,InTran!$O:$O,$C$30,InTran!$C:$C,$D$30)","v":0},{"$f":"+IFERROR(D37/SUM($D$32:$D$53),0)","v":0},{"$f":"+SUMIFS(InTran!$R:$R,InTran!$G:$G,C37,InTran!$O:$O,$C$30,InTran!$C:$C,$H$30)","v":0},{"$f":"+SUMIFS(InTran!$S:$S,InTran!$G:$G,C37,InTran!$O:$O,$C$30,InTran!$C:$C,$H$30)","v":0},{"$f":"+SUMIFS(InTran!$M:$M,InTran!$G:$G,C37,InTran!$O:$O,$C$30,InTran!$C:$C,$H$30)","v":0},{"$f":"+IFERROR(H37/SUM($H$32:$H$53),0)","v":0},{"$f":"+SUMIFS(InTran!$R:$R,InTran!$G:$G,C37,InTran!$O:$O,$C$30,InTran!$C:$C,$L$30)","v":24891252.610000003},{"$f":"+SUMIFS(InTran!$S:$S,InTran!$G:$G,C37,InTran!$O:$O,$C$30,InTran!$C:$C,$L$30)","v":52358.469999999994},{"$f":"+SUMIFS(InTran!$M:$M,InTran!$G:$G,C37,InTran!$O:$O,$C$30,InTran!$C:$C,$L$30)","v":2263103.6099999994},{"$f":"+IFERROR(L37/SUM($L$32:$L$53),0)","v":0.12353296727581137},{"$f":"+SUMIFS(InTran!$R:$R,InTran!$G:$G,C37,InTran!$O:$O,$C$30,InTran!$C:$C,$P$30)","v":0},{"$f":"+SUMIFS(InTran!$S:$S,InTran!$G:$G,C37,InTran!$O:$O,$C$30,InTran!$C:$C,$P$30)","v":0},{"$f":"+SUMIFS(InTran!$M:$M,InTran!$G:$G,C37,InTran!$O:$O,$C$30,InTran!$C:$C,$P$30)","v":0},{"$f":"+IFERROR(P37/SUM($P$32:$P$53),0)","v":0},{"$f":"+SUMIFS(InTran!$R:$R,InTran!$G:$G,C37,InTran!$O:$O,$C$30,InTran!$C:$C,$T$30)","v":410308.12},{"$f":"+SUMIFS(InTran!$S:$S,InTran!$G:$G,C37,InTran!$O:$O,$C$30,InTran!$C:$C,$T$30)","v":925.25},{"$f":"+SUMIFS(InTran!$M:$M,InTran!$G:$G,C37,InTran!$O:$O,$C$30,InTran!$C:$C,$T$30)","v":-29.459999999999127},{"$f":"+IFERROR(T37/SUM($T$32:$T$53),0)","v":1.4809329441123474E-2},{"$f":"+SUMIFS(InTran!$R:$R,InTran!$G:$G,C37,InTran!$O:$O,$C$30,InTran!$C:$C,$X$30)","v":0},{"$f":"+SUMIFS(InTran!$S:$S,InTran!$G:$G,C37,InTran!$O:$O,$C$30,InTran!$C:$C,$X$30)","v":0},{"$f":"+SUMIFS(InTran!$M:$M,InTran!$G:$G,C37,InTran!$O:$O,$C$30,InTran!$C:$C,$X$30)","v":0},{"$f":"+IFERROR(X37/SUM($X$32:$X$53),0)","v":0},{"$f":"+SUMIFS(InTran!$R:$R,InTran!$G:$G,C37,InTran!$O:$O,$C$30)","v":25301560.73},{"$f":"+SUMIFS(InTran!$S:$S,InTran!$G:$G,C37,InTran!$O:$O,$C$30)","v":53283.719999999994},{"$f":"+SUMIFS(InTran!$M:$M,InTran!$G:$G,C37,InTran!$O:$O,$C$30)","v":2263074.15},{"$f":"+IFERROR(AB37/SUM($AB$32:$AB$53),0)","v":7.9240802252438763E-2},{"$f":"+RANK(AB37,$AB$32:$AB$53)","v":6}]
[null,null,"CREDIT SUISSE SECURITIES (M) SDN BHD",{"$f":"+SUMIFS(InTran!$R:$R,InTran!$G:$G,C38,InTran!$O:$O,$C$30,InTran!$C:$C,$D$30)","v":2130636.7999999998},{"$f":"+SUMIFS(InTran!$S:$S,InTran!$G:$G,C38,InTran!$O:$O,$C$30,InTran!$C:$C,$D$30)","v":4496.42},{"$f":"+SUMIFS(InTran!$M:$M,InTran!$G:$G,C38,InTran!$O:$O,$C$30,InTran!$C:$C,$D$30)","v":50891.19},{"$f":"+IFERROR(D38/SUM($D$32:$D$53),0)","v":2.610423141730148E-2},{"$f":"+SUMIFS(InTran!$R:$R,InTran!$G:$G,C38,InTran!$O:$O,$C$30,InTran!$C:$C,$H$30)","v":0},{"$f":"+SUMIFS(InTran!$S:$S,InTran!$G:$G,C38,InTran!$O:$O,$C$30,InTran!$C:$C,$H$30)","v":0},{"$f":"+SUMIFS(InTran!$M:$M,InTran!$G:$G,C38,InTran!$O:$O,$C$30,InTran!$C:$C,$H$30)","v":0},{"$f":"+IFERROR(H38/SUM($H$32:$H$53),0)","v":0},{"$f":"+SUMIFS(InTran!$R:$R,InTran!$G:$G,C38,InTran!$O:$O,$C$30,InTran!$C:$C,$L$30)","v":20960425.189999998},{"$f":"+SUMIFS(InTran!$S:$S,InTran!$G:$G,C38,InTran!$O:$O,$C$30,InTran!$C:$C,$L$30)","v":43342.67},{"$f":"+SUMIFS(InTran!$M:$M,InTran!$G:$G,C38,InTran!$O:$O,$C$30,InTran!$C:$C,$L$30)","v":833998.37},{"$f":"+IFERROR(L38/SUM($L$32:$L$53),0)","v":0.10402463707443614},{"$f":"+SUMIFS(InTran!$R:$R,InTran!$G:$G,C38,InTran!$O:$O,$C$30,InTran!$C:$C,$P$30)","v":0},{"$f":"+SUMIFS(InTran!$S:$S,InTran!$G:$G,C38,InTran!$O:$O,$C$30,InTran!$C:$C,$P$30)","v":0},{"$f":"+SUMIFS(InTran!$M:$M,InTran!$G:$G,C38,InTran!$O:$O,$C$30,InTran!$C:$C,$P$30)","v":0},{"$f":"+IFERROR(P38/SUM($P$32:$P$53),0)","v":0},{"$f":"+SUMIFS(InTran!$R:$R,InTran!$G:$G,C38,InTran!$O:$O,$C$30,InTran!$C:$C,$T$30)","v":747027.97},{"$f":"+SUMIFS(InTran!$S:$S,InTran!$G:$G,C38,InTran!$O:$O,$C$30,InTran!$C:$C,$T$30)","v":1682.81},{"$f":"+SUMIFS(InTran!$M:$M,InTran!$G:$G,C38,InTran!$O:$O,$C$30,InTran!$C:$C,$T$30)","v":9381.7199999999993},{"$f":"+IFERROR(T38/SUM($T$32:$T$53),0)","v":2.6962623380360356E-2},{"$f":"+SUMIFS(InTran!$R:$R,InTran!$G:$G,C38,InTran!$O:$O,$C$30,InTran!$C:$C,$X$30)","v":0},{"$f":"+SUMIFS(InTran!$S:$S,InTran!$G:$G,C38,InTran!$O:$O,$C$30,InTran!$C:$C,$X$30)","v":0},{"$f":"+SUMIFS(InTran!$M:$M,InTran!$G:$G,C38,InTran!$O:$O,$C$30,InTran!$C:$C,$X$30)","v":0},{"$f":"+IFERROR(X38/SUM($X$32:$X$53),0)","v":0},{"$f":"+SUMIFS(InTran!$R:$R,InTran!$G:$G,C38,InTran!$O:$O,$C$30)","v":23838089.959999997},{"$f":"+SUMIFS(InTran!$S:$S,InTran!$G:$G,C38,InTran!$O:$O,$C$30)","v":49521.9},{"$f":"+SUMIFS(InTran!$M:$M,InTran!$G:$G,C38,InTran!$O:$O,$C$30)","v":894271.27999999991},{"$f":"+IFERROR(AB38/SUM($AB$32:$AB$53),0)","v":7.4657425000525079E-2},{"$f":"+RANK(AB38,$AB$32:$AB$53)","v":7}]
[null,null,"TA SECURITIES HOLDINGS BHD",{"$f":"+SUMIFS(InTran!$R:$R,InTran!$G:$G,C39,InTran!$O:$O,$C$30,InTran!$C:$C,$D$30)","v":0},{"$f":"+SUMIFS(InTran!$S:$S,InTran!$G:$G,C39,InTran!$O:$O,$C$30,InTran!$C:$C,$D$30)","v":0},{"$f":"+SUMIFS(InTran!$M:$M,InTran!$G:$G,C39,InTran!$O:$O,$C$30,InTran!$C:$C,$D$30)","v":0},{"$f":"+IFERROR(D39/SUM($D$32:$D$53),0)","v":0},{"$f":"+SUMIFS(InTran!$R:$R,InTran!$G:$G,C39,InTran!$O:$O,$C$30,InTran!$C:$C,$H$30)","v":0},{"$f":"+SUMIFS(InTran!$S:$S,InTran!$G:$G,C39,InTran!$O:$O,$C$30,InTran!$C:$C,$H$30)","v":0},{"$f":"+SUMIFS(InTran!$M:$M,InTran!$G:$G,C39,InTran!$O:$O,$C$30,InTran!$C:$C,$H$30)","v":0},{"$f":"+IFERROR(H39/SUM($H$32:$H$53),0)","v":0},{"$f":"+SUMIFS(InTran!$R:$R,InTran!$G:$G,C39,InTran!$O:$O,$C$30,InTran!$C:$C,$L$30)","v":14656072.25},{"$f":"+SUMIFS(InTran!$S:$S,InTran!$G:$G,C39,InTran!$O:$O,$C$30,InTran!$C:$C,$L$30)","v":31938.79},{"$f":"+SUMIFS(InTran!$M:$M,InTran!$G:$G,C39,InTran!$O:$O,$C$30,InTran!$C:$C,$L$30)","v":271010.47000000003},{"$f":"+IFERROR(L39/SUM($L$32:$L$53),0)","v":7.2736720888197062E-2},{"$f":"+SUMIFS(InTran!$R:$R,InTran!$G:$G,C39,InTran!$O:$O,$C$30,InTran!$C:$C,$P$30)","v":0},{"$f":"+SUMIFS(InTran!$S:$S,InTran!$G:$G,C39,InTran!$O:$O,$C$30,InTran!$C:$C,$P$30)","v":0},{"$f":"+SUMIFS(InTran!$M:$M,InTran!$G:$G,C39,InTran!$O:$O,$C$30,InTran!$C:$C,$P$30)","v":0},{"$f":"+IFERROR(P39/SUM($P$32:$P$53),0)","v":0},{"$f":"+SUMIFS(InTran!$R:$R,InTran!$G:$G,C39,InTran!$O:$O,$C$30,InTran!$C:$C,$T$30)","v":6535397.8200000003},{"$f":"+SUMIFS(InTran!$S:$S,InTran!$G:$G,C39,InTran!$O:$O,$C$30,InTran!$C:$C,$T$30)","v":14744.809999999998},{"$f":"+SUMIFS(InTran!$M:$M,InTran!$G:$G,C39,InTran!$O:$O,$C$30,InTran!$C:$C,$T$30)","v":-350750.83999999997},{"$f":"+IFERROR(T39/SUM($T$32:$T$53),0)","v":0.23588336332505477},{"$f":"+SUMIFS(InTran!$R:$R,InTran!$G:$G,C39,InTran!$O:$O,$C$30,InTran!$C:$C,$X$30)","v":33750.9},{"$f":"+SUMIFS(InTran!$S:$S,InTran!$G:$G,C39,InTran!$O:$O,$C$30,InTran!$C:$C,$X$30)","v":75.66},{"$f":"+SUMIFS(InTran!$M:$M,InTran!$G:$G,C39,InTran!$O:$O,$C$30,InTran!$C:$C,$X$30)","v":0},{"$f":"+IFERROR(X39/SUM($X$32:$X$53),0)","v":0.10574755038806906},{"$f":"+SUMIFS(InTran!$R:$R,InTran!$G:$G,C39,InTran!$O:$O,$C$30)","v":21225220.970000003},{"$f":"+SUMIFS(InTran!$S:$S,InTran!$G:$G,C39,InTran!$O:$O,$C$30)","v":46759.260000000017},{"$f":"+SUMIFS(InTran!$M:$M,InTran!$G:$G,C39,InTran!$O:$O,$C$30)","v":-79740.370000000054},{"$f":"+IFERROR(AB39/SUM($AB$32:$AB$53),0)","v":6.6474299968928702E-2},{"$f":"+RANK(AB39,$AB$32:$AB$53)","v":8}]
[null,null,"MAYBANK INVESTMENT BANK BHD",{"$f":"+SUMIFS(InTran!$R:$R,InTran!$G:$G,C40,InTran!$O:$O,$C$30,InTran!$C:$C,$D$30)","v":942740.82},{"$f":"+SUMIFS(InTran!$S:$S,InTran!$G:$G,C40,InTran!$O:$O,$C$30,InTran!$C:$C,$D$30)","v":2115},{"$f":"+SUMIFS(InTran!$M:$M,InTran!$G:$G,C40,InTran!$O:$O,$C$30,InTran!$C:$C,$D$30)","v":0},{"$f":"+IFERROR(D40/SUM($D$32:$D$53),0)","v":1.1550314221464944E-2},{"$f":"+SUMIFS(InTran!$R:$R,InTran!$G:$G,C40,InTran!$O:$O,$C$30,InTran!$C:$C,$H$30)","v":1430807.98},{"$f":"+SUMIFS(InTran!$S:$S,InTran!$G:$G,C40,InTran!$O:$O,$C$30,InTran!$C:$C,$H$30)","v":3209.74},{"$f":"+SUMIFS(InTran!$M:$M,InTran!$G:$G,C40,InTran!$O:$O,$C$30,InTran!$C:$C,$H$30)","v":0},{"$f":"+IFERROR(H40/SUM($H$32:$H$53),0)","v":0.17536014087797247},{"$f":"+SUMIFS(InTran!$R:$R,InTran!$G:$G,C40,InTran!$O:$O,$C$30,InTran!$C:$C,$L$30)","v":26899.72},{"$f":"+SUMIFS(InTran!$S:$S,InTran!$G:$G,C40,InTran!$O:$O,$C$30,InTran!$C:$C,$L$30)","v":60.75},{"$f":"+SUMIFS(InTran!$M:$M,InTran!$G:$G,C40,InTran!$O:$O,$C$30,InTran!$C:$C,$L$30)","v":710.95},{"$f":"+IFERROR(L40/SUM($L$32:$L$53),0)","v":1.3350080377849205E-4},{"$f":"+SUMIFS(InTran!$R:$R,InTran!$G:$G,C40,InTran!$O:$O,$C$30,InTran!$C:$C,$P$30)","v":0},{"$f":"+SUMIFS(InTran!$S:$S,InTran!$G:$G,C40,InTran!$O:$O,$C$30,InTran!$C:$C,$P$30)","v":0},{"$f":"+SUMIFS(InTran!$M:$M,InTran!$G:$G,C40,InTran!$O:$O,$C$30,InTran!$C:$C,$P$30)","v":0},{"$f":"+IFERROR(P40/SUM($P$32:$P$53),0)","v":0},{"$f":"+SUMIFS(InTran!$R:$R,InTran!$G:$G,C40,InTran!$O:$O,$C$30,InTran!$C:$C,$T$30)","v":414236.12},{"$f":"+SUMIFS(InTran!$S:$S,InTran!$G:$G,C40,InTran!$O:$O,$C$30,InTran!$C:$C,$T$30)","v":929.07},{"$f":"+SUMIFS(InTran!$M:$M,InTran!$G:$G,C40,InTran!$O:$O,$C$30,InTran!$C:$C,$T$30)","v":0},{"$f":"+IFERROR(T40/SUM($T$32:$T$53),0)","v":1.495110349630116E-2},{"$f":"+SUMIFS(InTran!$R:$R,InTran!$G:$G,C40,InTran!$O:$O,$C$30,InTran!$C:$C,$X$30)","v":0},{"$f":"+SUMIFS(InTran!$S:$S,InTran!$G:$G,C40,InTran!$O:$O,$C$30,InTran!$C:$C,$X$30)","v":0},{"$f":"+SUMIFS(InTran!$M:$M,InTran!$G:$G,C40,InTran!$O:$O,$C$30,InTran!$C:$C,$X$30)","v":0},{"$f":"+IFERROR(X40/SUM($X$32:$X$53),0)","v":0},{"$f":"+SUMIFS(InTran!$R:$R,InTran!$G:$G,C40,InTran!$O:$O,$C$30)","v":2814684.64},{"$f":"+SUMIFS(InTran!$S:$S,InTran!$G:$G,C40,InTran!$O:$O,$C$30)","v":6314.5599999999995},{"$f":"+SUMIFS(InTran!$M:$M,InTran!$G:$G,C40,InTran!$O:$O,$C$30)","v":710.95},{"$f":"+IFERROR(AB40/SUM($AB$32:$AB$53),0)","v":8.8151822467126047E-3},{"$f":"+RANK(AB40,$AB$32:$AB$53)","v":9}]
[null,null,"HONG LEONG INVESTMENT BANK BHD",{"$f":"+SUMIFS(InTran!$R:$R,InTran!$G:$G,C41,InTran!$O:$O,$C$30,InTran!$C:$C,$D$30)","v":2653314.92},{"$f":"+SUMIFS(InTran!$S:$S,InTran!$G:$G,C41,InTran!$O:$O,$C$30,InTran!$C:$C,$D$30)","v":5320},{"$f":"+SUMIFS(InTran!$M:$M,InTran!$G:$G,C41,InTran!$O:$O,$C$30,InTran!$C:$C,$D$30)","v":132772.35},{"$f":"+IFERROR(D41/SUM($D$32:$D$53),0)","v":3.2508002628443652E-2},{"$f":"+SUMIFS(InTran!$R:$R,InTran!$G:$G,C41,InTran!$O:$O,$C$30,InTran!$C:$C,$H$30)","v":0},{"$f":"+SUMIFS(InTran!$S:$S,InTran!$G:$G,C41,InTran!$O:$O,$C$30,InTran!$C:$C,$H$30)","v":0},{"$f":"+SUMIFS(InTran!$M:$M,InTran!$G:$G,C41,InTran!$O:$O,$C$30,InTran!$C:$C,$H$30)","v":0},{"$f":"+IFERROR(H41/SUM($H$32:$H$53),0)","v":0},{"$f":"+SUMIFS(InTran!$R:$R,InTran!$G:$G,C41,InTran!$O:$O,$C$30,InTran!$C:$C,$L$30)","v":0},{"$f":"+SUMIFS(InTran!$S:$S,InTran!$G:$G,C41,InTran!$O:$O,$C$30,InTran!$C:$C,$L$30)","v":0},{"$f":"+SUMIFS(InTran!$M:$M,InTran!$G:$G,C41,InTran!$O:$O,$C$30,InTran!$C:$C,$L$30)","v":0},{"$f":"+IFERROR(L41/SUM($L$32:$L$53),0)","v":0},{"$f":"+SUMIFS(InTran!$R:$R,InTran!$G:$G,C41,InTran!$O:$O,$C$30,InTran!$C:$C,$P$30)","v":0},{"$f":"+SUMIFS(InTran!$S:$S,InTran!$G:$G,C41,InTran!$O:$O,$C$30,InTran!$C:$C,$P$30)","v":0},{"$f":"+SUMIFS(InTran!$M:$M,InTran!$G:$G,C41,InTran!$O:$O,$C$30,InTran!$C:$C,$P$30)","v":0},{"$f":"+IFERROR(P41/SUM($P$32:$P$53),0)","v":0},{"$f":"+SUMIFS(InTran!$R:$R,InTran!$G:$G,C41,InTran!$O:$O,$C$30,InTran!$C:$C,$T$30)","v":0},{"$f":"+SUMIFS(InTran!$S:$S,InTran!$G:$G,C41,InTran!$O:$O,$C$30,InTran!$C:$C,$T$30)","v":0},{"$f":"+SUMIFS(InTran!$M:$M,InTran!$G:$G,C41,InTran!$O:$O,$C$30,InTran!$C:$C,$T$30)","v":0},{"$f":"+IFERROR(T41/SUM($T$32:$T$53),0)","v":0},{"$f":"+SUMIFS(InTran!$R:$R,InTran!$G:$G,C41,InTran!$O:$O,$C$30,InTran!$C:$C,$X$30)","v":0},{"$f":"+SUMIFS(InTran!$S:$S,InTran!$G:$G,C41,InTran!$O:$O,$C$30,InTran!$C:$C,$X$30)","v":0},{"$f":"+SUMIFS(InTran!$M:$M,InTran!$G:$G,C41,InTran!$O:$O,$C$30,InTran!$C:$C,$X$30)","v":0},{"$f":"+IFERROR(X41/SUM($X$32:$X$53),0)","v":0},{"$f":"+SUMIFS(InTran!$R:$R,InTran!$G:$G,C41,InTran!$O:$O,$C$30)","v":2653314.92},{"$f":"+SUMIFS(InTran!$S:$S,InTran!$G:$G,C41,InTran!$O:$O,$C$30)","v":5320},{"$f":"+SUMIFS(InTran!$M:$M,InTran!$G:$G,C41,InTran!$O:$O,$C$30)","v":132772.35},{"$f":"+IFERROR(AB41/SUM($AB$32:$AB$53),0)","v":8.30979579215726E-3},{"$f":"+RANK(AB41,$AB$32:$AB$53)","v":10}]
[null,null,"KAF-SEAGROATT & CAMPBELL SECURITIES SDN BHD",{"$f":"+SUMIFS(InTran!$R:$R,InTran!$G:$G,C42,InTran!$O:$O,$C$30,InTran!$C:$C,$D$30)","v":0},{"$f":"+SUMIFS(InTran!$S:$S,InTran!$G:$G,C42,InTran!$O:$O,$C$30,InTran!$C:$C,$D$30)","v":0},{"$f":"+SUMIFS(InTran!$M:$M,InTran!$G:$G,C42,InTran!$O:$O,$C$30,InTran!$C:$C,$D$30)","v":0},{"$f":"+IFERROR(D42/SUM($D$32:$D$53),0)","v":0},{"$f":"+SUMIFS(InTran!$R:$R,InTran!$G:$G,C42,InTran!$O:$O,$C$30,InTran!$C:$C,$H$30)","v":1071617.3700000001},{"$f":"+SUMIFS(InTran!$S:$S,InTran!$G:$G,C42,InTran!$O:$O,$C$30,InTran!$C:$C,$H$30)","v":2137.62},{"$f":"+SUMIFS(InTran!$M:$M,InTran!$G:$G,C42,InTran!$O:$O,$C$30,InTran!$C:$C,$H$30)","v":0},{"$f":"+IFERROR(H42/SUM($H$32:$H$53),0)","v":0.13133766067650979},{"$f":"+SUMIFS(InTran!$R:$R,InTran!$G:$G,C42,InTran!$O:$O,$C$30,InTran!$C:$C,$L$30)","v":0},{"$f":"+SUMIFS(InTran!$S:$S,InTran!$G:$G,C42,InTran!$O:$O,$C$30,InTran!$C:$C,$L$30)","v":0},{"$f":"+SUMIFS(InTran!$M:$M,InTran!$G:$G,C42,InTran!$O:$O,$C$30,InTran!$C:$C,$L$30)","v":0},{"$f":"+IFERROR(L42/SUM($L$32:$L$53),0)","v":0},{"$f":"+SUMIFS(InTran!$R:$R,InTran!$G:$G,C42,InTran!$O:$O,$C$30,InTran!$C:$C,$P$30)","v":0},{"$f":"+SUMIFS(InTran!$S:$S,InTran!$G:$G,C42,InTran!$O:$O,$C$30,InTran!$C:$C,$P$30)","v":0},{"$f":"+SUMIFS(InTran!$M:$M,InTran!$G:$G,C42,InTran!$O:$O,$C$30,InTran!$C:$C,$P$30)","v":0},{"$f":"+IFERROR(P42/SUM($P$32:$P$53),0)","v":0},{"$f":"+SUMIFS(InTran!$R:$R,InTran!$G:$G,C42,InTran!$O:$O,$C$30,InTran!$C:$C,$T$30)","v":0},{"$f":"+SUMIFS(InTran!$S:$S,InTran!$G:$G,C42,InTran!$O:$O,$C$30,InTran!$C:$C,$T$30)","v":0},{"$f":"+SUMIFS(InTran!$M:$M,InTran!$G:$G,C42,InTran!$O:$O,$C$30,InTran!$C:$C,$T$30)","v":0},{"$f":"+IFERROR(T42/SUM($T$32:$T$53),0)","v":0},{"$f":"+SUMIFS(InTran!$R:$R,InTran!$G:$G,C42,InTran!$O:$O,$C$30,InTran!$C:$C,$X$30)","v":0},{"$f":"+SUMIFS(InTran!$S:$S,InTran!$G:$G,C42,InTran!$O:$O,$C$30,InTran!$C:$C,$X$30)","v":0},{"$f":"+SUMIFS(InTran!$M:$M,InTran!$G:$G,C42,InTran!$O:$O,$C$30,InTran!$C:$C,$X$30)","v":0},{"$f":"+IFERROR(X42/SUM($X$32:$X$53),0)","v":0},{"$f":"+SUMIFS(InTran!$R:$R,InTran!$G:$G,C42,InTran!$O:$O,$C$30)","v":1071617.3700000001},{"$f":"+SUMIFS(InTran!$S:$S,InTran!$G:$G,C42,InTran!$O:$O,$C$30)","v":2137.62},{"$f":"+SUMIFS(InTran!$M:$M,InTran!$G:$G,C42,InTran!$O:$O,$C$30)","v":0},{"$f":"+IFERROR(AB42/SUM($AB$32:$AB$53),0)","v":3.3561494886662872E-3},{"$f":"+RANK(AB42,$AB$32:$AB$53)","v":11}]
[null,null,"AFFIN INVESTMENT BANK BERHAD",{"$f":"+SUMIFS(InTran!$R:$R,InTran!$G:$G,C43,InTran!$O:$O,$C$30,InTran!$C:$C,$D$30)","v":0},{"$f":"+SUMIFS(InTran!$S:$S,InTran!$G:$G,C43,InTran!$O:$O,$C$30,InTran!$C:$C,$D$30)","v":0},{"$f":"+SUMIFS(InTran!$M:$M,InTran!$G:$G,C43,InTran!$O:$O,$C$30,InTran!$C:$C,$D$30)","v":0},{"$f":"+IFERROR(D43/SUM($D$32:$D$53),0)","v":0},{"$f":"+SUMIFS(InTran!$R:$R,InTran!$G:$G,C43,InTran!$O:$O,$C$30,InTran!$C:$C,$H$30)","v":0},{"$f":"+SUMIFS(InTran!$S:$S,InTran!$G:$G,C43,InTran!$O:$O,$C$30,InTran!$C:$C,$H$30)","v":0},{"$f":"+SUMIFS(InTran!$M:$M,InTran!$G:$G,C43,InTran!$O:$O,$C$30,InTran!$C:$C,$H$30)","v":0},{"$f":"+IFERROR(H43/SUM($H$32:$H$53),0)","v":0},{"$f":"+SUMIFS(InTran!$R:$R,InTran!$G:$G,C43,InTran!$O:$O,$C$30,InTran!$C:$C,$L$30)","v":0},{"$f":"+SUMIFS(InTran!$S:$S,InTran!$G:$G,C43,InTran!$O:$O,$C$30,InTran!$C:$C,$L$30)","v":0},{"$f":"+SUMIFS(InTran!$M:$M,InTran!$G:$G,C43,InTran!$O:$O,$C$30,InTran!$C:$C,$L$30)","v":0},{"$f":"+IFERROR(L43/SUM($L$32:$L$53),0)","v":0},{"$f":"+SUMIFS(InTran!$R:$R,InTran!$G:$G,C43,InTran!$O:$O,$C$30,InTran!$C:$C,$P$30)","v":0},{"$f":"+SUMIFS(InTran!$S:$S,InTran!$G:$G,C43,InTran!$O:$O,$C$30,InTran!$C:$C,$P$30)","v":0},{"$f":"+SUMIFS(InTran!$M:$M,InTran!$G:$G,C43,InTran!$O:$O,$C$30,InTran!$C:$C,$P$30)","v":0},{"$f":"+IFERROR(P43/SUM($P$32:$P$53),0)","v":0},{"$f":"+SUMIFS(InTran!$R:$R,InTran!$G:$G,C43,InTran!$O:$O,$C$30,InTran!$C:$C,$T$30)","v":0},{"$f":"+SUMIFS(InTran!$S:$S,InTran!$G:$G,C43,InTran!$O:$O,$C$30,InTran!$C:$C,$T$30)","v":0},{"$f":"+SUMIFS(InTran!$M:$M,InTran!$G:$G,C43,InTran!$O:$O,$C$30,InTran!$C:$C,$T$30)","v":0},{"$f":"+IFERROR(T43/SUM($T$32:$T$53),0)","v":0},{"$f":"+SUMIFS(InTran!$R:$R,InTran!$G:$G,C43,InTran!$O:$O,$C$30,InTran!$C:$C,$X$30)","v":0},{"$f":"+SUMIFS(InTran!$S:$S,InTran!$G:$G,C43,InTran!$O:$O,$C$30,InTran!$C:$C,$X$30)","v":0},{"$f":"+SUMIFS(InTran!$M:$M,InTran!$G:$G,C43,InTran!$O:$O,$C$30,InTran!$C:$C,$X$30)","v":0},{"$f":"+IFERROR(X43/SUM($X$32:$X$53),0)","v":0},{"$f":"+SUMIFS(InTran!$R:$R,InTran!$G:$G,C43,InTran!$O:$O,$C$30)","v":0},{"$f":"+SUMIFS(InTran!$S:$S,InTran!$G:$G,C43,InTran!$O:$O,$C$30)","v":0},{"$f":"+SUMIFS(InTran!$M:$M,InTran!$G:$G,C43,InTran!$O:$O,$C$30)","v":0},{"$f":"+IFERROR(AB43/SUM($AB$32:$AB$53),0)","v":0},{"$f":"+RANK(AB43,$AB$32:$AB$53)","v":12}]
[null,null,"ALLIANCE INVESTMENT BANK BERHAD",{"$f":"+SUMIFS(InTran!$R:$R,InTran!$G:$G,C44,InTran!$O:$O,$C$30,InTran!$C:$C,$D$30)","v":0},{"$f":"+SUMIFS(InTran!$S:$S,InTran!$G:$G,C44,InTran!$O:$O,$C$30,InTran!$C:$C,$D$30)","v":0},{"$f":"+SUMIFS(InTran!$M:$M,InTran!$G:$G,C44,InTran!$O:$O,$C$30,InTran!$C:$C,$D$30)","v":0},{"$f":"+IFERROR(D44/SUM($D$32:$D$53),0)","v":0},{"$f":"+SUMIFS(InTran!$R:$R,InTran!$G:$G,C44,InTran!$O:$O,$C$30,InTran!$C:$C,$H$30)","v":0},{"$f":"+SUMIFS(InTran!$S:$S,InTran!$G:$G,C44,InTran!$O:$O,$C$30,InTran!$C:$C,$H$30)","v":0},{"$f":"+SUMIFS(InTran!$M:$M,InTran!$G:$G,C44,InTran!$O:$O,$C$30,InTran!$C:$C,$H$30)","v":0},{"$f":"+IFERROR(H44/SUM($H$32:$H$53),0)","v":0},{"$f":"+SUMIFS(InTran!$R:$R,InTran!$G:$G,C44,InTran!$O:$O,$C$30,InTran!$C:$C,$L$30)","v":0},{"$f":"+SUMIFS(InTran!$S:$S,InTran!$G:$G,C44,InTran!$O:$O,$C$30,InTran!$C:$C,$L$30)","v":0},{"$f":"+SUMIFS(InTran!$M:$M,InTran!$G:$G,C44,InTran!$O:$O,$C$30,InTran!$C:$C,$L$30)","v":0},{"$f":"+IFERROR(L44/SUM($L$32:$L$53),0)","v":0},{"$f":"+SUMIFS(InTran!$R:$R,InTran!$G:$G,C44,InTran!$O:$O,$C$30,InTran!$C:$C,$P$30)","v":0},{"$f":"+SUMIFS(InTran!$S:$S,InTran!$G:$G,C44,InTran!$O:$O,$C$30,InTran!$C:$C,$P$30)","v":0},{"$f":"+SUMIFS(InTran!$M:$M,InTran!$G:$G,C44,InTran!$O:$O,$C$30,InTran!$C:$C,$P$30)","v":0},{"$f":"+IFERROR(P44/SUM($P$32:$P$53),0)","v":0},{"$f":"+SUMIFS(InTran!$R:$R,InTran!$G:$G,C44,InTran!$O:$O,$C$30,InTran!$C:$C,$T$30)","v":0},{"$f":"+SUMIFS(InTran!$S:$S,InTran!$G:$G,C44,InTran!$O:$O,$C$30,InTran!$C:$C,$T$30)","v":0},{"$f":"+SUMIFS(InTran!$M:$M,InTran!$G:$G,C44,InTran!$O:$O,$C$30,InTran!$C:$C,$T$30)","v":0},{"$f":"+IFERROR(T44/SUM($T$32:$T$53),0)","v":0},{"$f":"+SUMIFS(InTran!$R:$R,InTran!$G:$G,C44,InTran!$O:$O,$C$30,InTran!$C:$C,$X$30)","v":0},{"$f":"+SUMIFS(InTran!$S:$S,InTran!$G:$G,C44,InTran!$O:$O,$C$30,InTran!$C:$C,$X$30)","v":0},{"$f":"+SUMIFS(InTran!$M:$M,InTran!$G:$G,C44,InTran!$O:$O,$C$30,InTran!$C:$C,$X$30)","v":0},{"$f":"+IFERROR(X44/SUM($X$32:$X$53),0)","v":0},{"$f":"+SUMIFS(InTran!$R:$R,InTran!$G:$G,C44,InTran!$O:$O,$C$30)","v":0},{"$f":"+SUMIFS(InTran!$S:$S,InTran!$G:$G,C44,InTran!$O:$O,$C$30)","v":0},{"$f":"+SUMIFS(InTran!$M:$M,InTran!$G:$G,C44,InTran!$O:$O,$C$30)","v":0},{"$f":"+IFERROR(AB44/SUM($AB$32:$AB$53),0)","v":0},{"$f":"+RANK(AB44,$AB$32:$AB$53)","v":12}]
[null,null,"AMINVESTMENT BANK BHD",{"$f":"+SUMIFS(InTran!$R:$R,InTran!$G:$G,C45,InTran!$O:$O,$C$30,InTran!$C:$C,$D$30)","v":0},{"$f":"+SUMIFS(InTran!$S:$S,InTran!$G:$G,C45,InTran!$O:$O,$C$30,InTran!$C:$C,$D$30)","v":0},{"$f":"+SUMIFS(InTran!$M:$M,InTran!$G:$G,C45,InTran!$O:$O,$C$30,InTran!$C:$C,$D$30)","v":0},{"$f":"+IFERROR(D45/SUM($D$32:$D$53),0)","v":0},{"$f":"+SUMIFS(InTran!$R:$R,InTran!$G:$G,C45,InTran!$O:$O,$C$30,InTran!$C:$C,$H$30)","v":0},{"$f":"+SUMIFS(InTran!$S:$S,InTran!$G:$G,C45,InTran!$O:$O,$C$30,InTran!$C:$C,$H$30)","v":0},{"$f":"+SUMIFS(InTran!$M:$M,InTran!$G:$G,C45,InTran!$O:$O,$C$30,InTran!$C:$C,$H$30)","v":0},{"$f":"+IFERROR(H45/SUM($H$32:$H$53),0)","v":0},{"$f":"+SUMIFS(InTran!$R:$R,InTran!$G:$G,C45,InTran!$O:$O,$C$30,InTran!$C:$C,$L$30)","v":0},{"$f":"+SUMIFS(InTran!$S:$S,InTran!$G:$G,C45,InTran!$O:$O,$C$30,InTran!$C:$C,$L$30)","v":0},{"$f":"+SUMIFS(InTran!$M:$M,InTran!$G:$G,C45,InTran!$O:$O,$C$30,InTran!$C:$C,$L$30)","v":0},{"$f":"+IFERROR(L45/SUM($L$32:$L$53),0)","v":0},{"$f":"+SUMIFS(InTran!$R:$R,InTran!$G:$G,C45,InTran!$O:$O,$C$30,InTran!$C:$C,$P$30)","v":0},{"$f":"+SUMIFS(InTran!$S:$S,InTran!$G:$G,C45,InTran!$O:$O,$C$30,InTran!$C:$C,$P$30)","v":0},{"$f":"+SUMIFS(InTran!$M:$M,InTran!$G:$G,C45,InTran!$O:$O,$C$30,InTran!$C:$C,$P$30)","v":0},{"$f":"+IFERROR(P45/SUM($P$32:$P$53),0)","v":0},{"$f":"+SUMIFS(InTran!$R:$R,InTran!$G:$G,C45,InTran!$O:$O,$C$30,InTran!$C:$C,$T$30)","v":0},{"$f":"+SUMIFS(InTran!$S:$S,InTran!$G:$G,C45,InTran!$O:$O,$C$30,InTran!$C:$C,$T$30)","v":0},{"$f":"+SUMIFS(InTran!$M:$M,InTran!$G:$G,C45,InTran!$O:$O,$C$30,InTran!$C:$C,$T$30)","v":0},{"$f":"+IFERROR(T45/SUM($T$32:$T$53),0)","v":0},{"$f":"+SUMIFS(InTran!$R:$R,InTran!$G:$G,C45,InTran!$O:$O,$C$30,InTran!$C:$C,$X$30)","v":0},{"$f":"+SUMIFS(InTran!$S:$S,InTran!$G:$G,C45,InTran!$O:$O,$C$30,InTran!$C:$C,$X$30)","v":0},{"$f":"+SUMIFS(InTran!$M:$M,InTran!$G:$G,C45,InTran!$O:$O,$C$30,InTran!$C:$C,$X$30)","v":0},{"$f":"+IFERROR(X45/SUM($X$32:$X$53),0)","v":0},{"$f":"+SUMIFS(InTran!$R:$R,InTran!$G:$G,C45,InTran!$O:$O,$C$30)","v":0},{"$f":"+SUMIFS(InTran!$S:$S,InTran!$G:$G,C45,InTran!$O:$O,$C$30)","v":0},{"$f":"+SUMIFS(InTran!$M:$M,InTran!$G:$G,C45,InTran!$O:$O,$C$30)","v":0},{"$f":"+IFERROR(AB45/SUM($AB$32:$AB$53),0)","v":0},{"$f":"+RANK(AB45,$AB$32:$AB$53)","v":12}]
[null,null,"BIMB SECURITIES SDN BHD",{"$f":"+SUMIFS(InTran!$R:$R,InTran!$G:$G,C46,InTran!$O:$O,$C$30,InTran!$C:$C,$D$30)","v":0},{"$f":"+SUMIFS(InTran!$S:$S,InTran!$G:$G,C46,InTran!$O:$O,$C$30,InTran!$C:$C,$D$30)","v":0},{"$f":"+SUMIFS(InTran!$M:$M,InTran!$G:$G,C46,InTran!$O:$O,$C$30,InTran!$C:$C,$D$30)","v":0},{"$f":"+IFERROR(D46/SUM($D$32:$D$53),0)","v":0},{"$f":"+SUMIFS(InTran!$R:$R,InTran!$G:$G,C46,InTran!$O:$O,$C$30,InTran!$C:$C,$H$30)","v":0},{"$f":"+SUMIFS(InTran!$S:$S,InTran!$G:$G,C46,InTran!$O:$O,$C$30,InTran!$C:$C,$H$30)","v":0},{"$f":"+SUMIFS(InTran!$M:$M,InTran!$G:$G,C46,InTran!$O:$O,$C$30,InTran!$C:$C,$H$30)","v":0},{"$f":"+IFERROR(H46/SUM($H$32:$H$53),0)","v":0},{"$f":"+SUMIFS(InTran!$R:$R,InTran!$G:$G,C46,InTran!$O:$O,$C$30,InTran!$C:$C,$L$30)","v":0},{"$f":"+SUMIFS(InTran!$S:$S,InTran!$G:$G,C46,InTran!$O:$O,$C$30,InTran!$C:$C,$L$30)","v":0},{"$f":"+SUMIFS(InTran!$M:$M,InTran!$G:$G,C46,InTran!$O:$O,$C$30,InTran!$C:$C,$L$30)","v":0},{"$f":"+IFERROR(L46/SUM($L$32:$L$53),0)","v":0},{"$f":"+SUMIFS(InTran!$R:$R,InTran!$G:$G,C46,InTran!$O:$O,$C$30,InTran!$C:$C,$P$30)","v":0},{"$f":"+SUMIFS(InTran!$S:$S,InTran!$G:$G,C46,InTran!$O:$O,$C$30,InTran!$C:$C,$P$30)","v":0},{"$f":"+SUMIFS(InTran!$M:$M,InTran!$G:$G,C46,InTran!$O:$O,$C$30,InTran!$C:$C,$P$30)","v":0},{"$f":"+IFERROR(P46/SUM($P$32:$P$53),0)","v":0},{"$f":"+SUMIFS(InTran!$R:$R,InTran!$G:$G,C46,InTran!$O:$O,$C$30,InTran!$C:$C,$T$30)","v":0},{"$f":"+SUMIFS(InTran!$S:$S,InTran!$G:$G,C46,InTran!$O:$O,$C$30,InTran!$C:$C,$T$30)","v":0},{"$f":"+SUMIFS(InTran!$M:$M,InTran!$G:$G,C46,InTran!$O:$O,$C$30,InTran!$C:$C,$T$30)","v":0},{"$f":"+IFERROR(T46/SUM($T$32:$T$53),0)","v":0},{"$f":"+SUMIFS(InTran!$R:$R,InTran!$G:$G,C46,InTran!$O:$O,$C$30,InTran!$C:$C,$X$30)","v":0},{"$f":"+SUMIFS(InTran!$S:$S,InTran!$G:$G,C46,InTran!$O:$O,$C$30,InTran!$C:$C,$X$30)","v":0},{"$f":"+SUMIFS(InTran!$M:$M,InTran!$G:$G,C46,InTran!$O:$O,$C$30,InTran!$C:$C,$X$30)","v":0},{"$f":"+IFERROR(X46/SUM($X$32:$X$53),0)","v":0},{"$f":"+SUMIFS(InTran!$R:$R,InTran!$G:$G,C46,InTran!$O:$O,$C$30)","v":0},{"$f":"+SUMIFS(InTran!$S:$S,InTran!$G:$G,C46,InTran!$O:$O,$C$30)","v":0},{"$f":"+SUMIFS(InTran!$M:$M,InTran!$G:$G,C46,InTran!$O:$O,$C$30)","v":0},{"$f":"+IFERROR(AB46/SUM($AB$32:$AB$53),0)","v":0},{"$f":"+RANK(AB46,$AB$32:$AB$53)","v":12}]
[null,null,"CIMB INVESTMENT BANK BHD (FOREIGN)",{"$f":"+SUMIFS(InTran!$R:$R,InTran!$G:$G,C47,InTran!$O:$O,$C$30,InTran!$C:$C,$D$30)","v":0},{"$f":"+SUMIFS(InTran!$S:$S,InTran!$G:$G,C47,InTran!$O:$O,$C$30,InTran!$C:$C,$D$30)","v":0},{"$f":"+SUMIFS(InTran!$M:$M,InTran!$G:$G,C47,InTran!$O:$O,$C$30,InTran!$C:$C,$D$30)","v":0},{"$f":"+IFERROR(D47/SUM($D$32:$D$53),0)","v":0},{"$f":"+SUMIFS(InTran!$R:$R,InTran!$G:$G,C47,InTran!$O:$O,$C$30,InTran!$C:$C,$H$30)","v":0},{"$f":"+SUMIFS(InTran!$S:$S,InTran!$G:$G,C47,InTran!$O:$O,$C$30,InTran!$C:$C,$H$30)","v":0},{"$f":"+SUMIFS(InTran!$M:$M,InTran!$G:$G,C47,InTran!$O:$O,$C$30,InTran!$C:$C,$H$30)","v":0},{"$f":"+IFERROR(H47/SUM($H$32:$H$53),0)","v":0},{"$f":"+SUMIFS(InTran!$R:$R,InTran!$G:$G,C47,InTran!$O:$O,$C$30,InTran!$C:$C,$L$30)","v":0},{"$f":"+SUMIFS(InTran!$S:$S,InTran!$G:$G,C47,InTran!$O:$O,$C$30,InTran!$C:$C,$L$30)","v":0},{"$f":"+SUMIFS(InTran!$M:$M,InTran!$G:$G,C47,InTran!$O:$O,$C$30,InTran!$C:$C,$L$30)","v":0},{"$f":"+IFERROR(L47/SUM($L$32:$L$53),0)","v":0},{"$f":"+SUMIFS(InTran!$R:$R,InTran!$G:$G,C47,InTran!$O:$O,$C$30,InTran!$C:$C,$P$30)","v":0},{"$f":"+SUMIFS(InTran!$S:$S,InTran!$G:$G,C47,InTran!$O:$O,$C$30,InTran!$C:$C,$P$30)","v":0},{"$f":"+SUMIFS(InTran!$M:$M,InTran!$G:$G,C47,InTran!$O:$O,$C$30,InTran!$C:$C,$P$30)","v":0},{"$f":"+IFERROR(P47/SUM($P$32:$P$53),0)","v":0},{"$f":"+SUMIFS(InTran!$R:$R,InTran!$G:$G,C47,InTran!$O:$O,$C$30,InTran!$C:$C,$T$30)","v":0},{"$f":"+SUMIFS(InTran!$S:$S,InTran!$G:$G,C47,InTran!$O:$O,$C$30,InTran!$C:$C,$T$30)","v":0},{"$f":"+SUMIFS(InTran!$M:$M,InTran!$G:$G,C47,InTran!$O:$O,$C$30,InTran!$C:$C,$T$30)","v":0},{"$f":"+IFERROR(T47/SUM($T$32:$T$53),0)","v":0},{"$f":"+SUMIFS(InTran!$R:$R,InTran!$G:$G,C47,InTran!$O:$O,$C$30,InTran!$C:$C,$X$30)","v":0},{"$f":"+SUMIFS(InTran!$S:$S,InTran!$G:$G,C47,InTran!$O:$O,$C$30,InTran!$C:$C,$X$30)","v":0},{"$f":"+SUMIFS(InTran!$M:$M,InTran!$G:$G,C47,InTran!$O:$O,$C$30,InTran!$C:$C,$X$30)","v":0},{"$f":"+IFERROR(X47/SUM($X$32:$X$53),0)","v":0},{"$f":"+SUMIFS(InTran!$R:$R,InTran!$G:$G,C47,InTran!$O:$O,$C$30)","v":0},{"$f":"+SUMIFS(InTran!$S:$S,InTran!$G:$G,C47,InTran!$O:$O,$C$30)","v":0},{"$f":"+SUMIFS(InTran!$M:$M,InTran!$G:$G,C47,InTran!$O:$O,$C$30)","v":0},{"$f":"+IFERROR(AB47/SUM($AB$32:$AB$53),0)","v":0},{"$f":"+RANK(AB47,$AB$32:$AB$53)","v":12}]
[null,null,"CLSA LIMITED FOREIGN",{"$f":"+SUMIFS(InTran!$R:$R,InTran!$G:$G,C48,InTran!$O:$O,$C$30,InTran!$C:$C,$D$30)","v":0},{"$f":"+SUMIFS(InTran!$S:$S,InTran!$G:$G,C48,InTran!$O:$O,$C$30,InTran!$C:$C,$D$30)","v":0},{"$f":"+SUMIFS(InTran!$M:$M,InTran!$G:$G,C48,InTran!$O:$O,$C$30,InTran!$C:$C,$D$30)","v":0},{"$f":"+IFERROR(D48/SUM($D$32:$D$53),0)","v":0},{"$f":"+SUMIFS(InTran!$R:$R,InTran!$G:$G,C48,InTran!$O:$O,$C$30,InTran!$C:$C,$H$30)","v":0},{"$f":"+SUMIFS(InTran!$S:$S,InTran!$G:$G,C48,InTran!$O:$O,$C$30,InTran!$C:$C,$H$30)","v":0},{"$f":"+SUMIFS(InTran!$M:$M,InTran!$G:$G,C48,InTran!$O:$O,$C$30,InTran!$C:$C,$H$30)","v":0},{"$f":"+IFERROR(H48/SUM($H$32:$H$53),0)","v":0},{"$f":"+SUMIFS(InTran!$R:$R,InTran!$G:$G,C48,InTran!$O:$O,$C$30,InTran!$C:$C,$L$30)","v":0},{"$f":"+SUMIFS(InTran!$S:$S,InTran!$G:$G,C48,InTran!$O:$O,$C$30,InTran!$C:$C,$L$30)","v":0},{"$f":"+SUMIFS(InTran!$M:$M,InTran!$G:$G,C48,InTran!$O:$O,$C$30,InTran!$C:$C,$L$30)","v":0},{"$f":"+IFERROR(L48/SUM($L$32:$L$53),0)","v":0},{"$f":"+SUMIFS(InTran!$R:$R,InTran!$G:$G,C48,InTran!$O:$O,$C$30,InTran!$C:$C,$P$30)","v":0},{"$f":"+SUMIFS(InTran!$S:$S,InTran!$G:$G,C48,InTran!$O:$O,$C$30,InTran!$C:$C,$P$30)","v":0},{"$f":"+SUMIFS(InTran!$M:$M,InTran!$G:$G,C48,InTran!$O:$O,$C$30,InTran!$C:$C,$P$30)","v":0},{"$f":"+IFERROR(P48/SUM($P$32:$P$53),0)","v":0},{"$f":"+SUMIFS(InTran!$R:$R,InTran!$G:$G,C48,InTran!$O:$O,$C$30,InTran!$C:$C,$T$30)","v":0},{"$f":"+SUMIFS(InTran!$S:$S,InTran!$G:$G,C48,InTran!$O:$O,$C$30,InTran!$C:$C,$T$30)","v":0},{"$f":"+SUMIFS(InTran!$M:$M,InTran!$G:$G,C48,InTran!$O:$O,$C$30,InTran!$C:$C,$T$30)","v":0},{"$f":"+IFERROR(T48/SUM($T$32:$T$53),0)","v":0},{"$f":"+SUMIFS(InTran!$R:$R,InTran!$G:$G,C48,InTran!$O:$O,$C$30,InTran!$C:$C,$X$30)","v":0},{"$f":"+SUMIFS(InTran!$S:$S,InTran!$G:$G,C48,InTran!$O:$O,$C$30,InTran!$C:$C,$X$30)","v":0},{"$f":"+SUMIFS(InTran!$M:$M,InTran!$G:$G,C48,InTran!$O:$O,$C$30,InTran!$C:$C,$X$30)","v":0},{"$f":"+IFERROR(X48/SUM($X$32:$X$53),0)","v":0},{"$f":"+SUMIFS(InTran!$R:$R,InTran!$G:$G,C48,InTran!$O:$O,$C$30)","v":0},{"$f":"+SUMIFS(InTran!$S:$S,InTran!$G:$G,C48,InTran!$O:$O,$C$30)","v":0},{"$f":"+SUMIFS(InTran!$M:$M,InTran!$G:$G,C48,InTran!$O:$O,$C$30)","v":0},{"$f":"+IFERROR(AB48/SUM($AB$32:$AB$53),0)","v":0},{"$f":"+RANK(AB48,$AB$32:$AB$53)","v":12}]
[null,null,"MACQUARIE CAPITAL SECURITIES (MALAYSIA) SDN BHD (FOREIGN)",{"$f":"+SUMIFS(InTran!$R:$R,InTran!$G:$G,C49,InTran!$O:$O,$C$30,InTran!$C:$C,$D$30)","v":0},{"$f":"+SUMIFS(InTran!$S:$S,InTran!$G:$G,C49,InTran!$O:$O,$C$30,InTran!$C:$C,$D$30)","v":0},{"$f":"+SUMIFS(InTran!$M:$M,InTran!$G:$G,C49,InTran!$O:$O,$C$30,InTran!$C:$C,$D$30)","v":0},{"$f":"+IFERROR(D49/SUM($D$32:$D$53),0)","v":0},{"$f":"+SUMIFS(InTran!$R:$R,InTran!$G:$G,C49,InTran!$O:$O,$C$30,InTran!$C:$C,$H$30)","v":0},{"$f":"+SUMIFS(InTran!$S:$S,InTran!$G:$G,C49,InTran!$O:$O,$C$30,InTran!$C:$C,$H$30)","v":0},{"$f":"+SUMIFS(InTran!$M:$M,InTran!$G:$G,C49,InTran!$O:$O,$C$30,InTran!$C:$C,$H$30)","v":0},{"$f":"+IFERROR(H49/SUM($H$32:$H$53),0)","v":0},{"$f":"+SUMIFS(InTran!$R:$R,InTran!$G:$G,C49,InTran!$O:$O,$C$30,InTran!$C:$C,$L$30)","v":0},{"$f":"+SUMIFS(InTran!$S:$S,InTran!$G:$G,C49,InTran!$O:$O,$C$30,InTran!$C:$C,$L$30)","v":0},{"$f":"+SUMIFS(InTran!$M:$M,InTran!$G:$G,C49,InTran!$O:$O,$C$30,InTran!$C:$C,$L$30)","v":0},{"$f":"+IFERROR(L49/SUM($L$32:$L$53),0)","v":0},{"$f":"+SUMIFS(InTran!$R:$R,InTran!$G:$G,C49,InTran!$O:$O,$C$30,InTran!$C:$C,$P$30)","v":0},{"$f":"+SUMIFS(InTran!$S:$S,InTran!$G:$G,C49,InTran!$O:$O,$C$30,InTran!$C:$C,$P$30)","v":0},{"$f":"+SUMIFS(InTran!$M:$M,InTran!$G:$G,C49,InTran!$O:$O,$C$30,InTran!$C:$C,$P$30)","v":0},{"$f":"+IFERROR(P49/SUM($P$32:$P$53),0)","v":0},{"$f":"+SUMIFS(InTran!$R:$R,InTran!$G:$G,C49,InTran!$O:$O,$C$30,InTran!$C:$C,$T$30)","v":0},{"$f":"+SUMIFS(InTran!$S:$S,InTran!$G:$G,C49,InTran!$O:$O,$C$30,InTran!$C:$C,$T$30)","v":0},{"$f":"+SUMIFS(InTran!$M:$M,InTran!$G:$G,C49,InTran!$O:$O,$C$30,InTran!$C:$C,$T$30)","v":0},{"$f":"+IFERROR(T49/SUM($T$32:$T$53),0)","v":0},{"$f":"+SUMIFS(InTran!$R:$R,InTran!$G:$G,C49,InTran!$O:$O,$C$30,InTran!$C:$C,$X$30)","v":0},{"$f":"+SUMIFS(InTran!$S:$S,InTran!$G:$G,C49,InTran!$O:$O,$C$30,InTran!$C:$C,$X$30)","v":0},{"$f":"+SUMIFS(InTran!$M:$M,InTran!$G:$G,C49,InTran!$O:$O,$C$30,InTran!$C:$C,$X$30)","v":0},{"$f":"+IFERROR(X49/SUM($X$32:$X$53),0)","v":0},{"$f":"+SUMIFS(InTran!$R:$R,InTran!$G:$G,C49,InTran!$O:$O,$C$30)","v":0},{"$f":"+SUMIFS(InTran!$S:$S,InTran!$G:$G,C49,InTran!$O:$O,$C$30)","v":0},{"$f":"+SUMIFS(InTran!$M:$M,InTran!$G:$G,C49,InTran!$O:$O,$C$30)","v":0},{"$f":"+IFERROR(AB49/SUM($AB$32:$AB$53),0)","v":0},{"$f":"+RANK(AB49,$AB$32:$AB$53)","v":12}]
[null,null,"MAYBANK INVESTMENT BANK BHD (FOREIGN)",{"$f":"+SUMIFS(InTran!$R:$R,InTran!$G:$G,C50,InTran!$O:$O,$C$30,InTran!$C:$C,$D$30)","v":0},{"$f":"+SUMIFS(InTran!$S:$S,InTran!$G:$G,C50,InTran!$O:$O,$C$30,InTran!$C:$C,$D$30)","v":0},{"$f":"+SUMIFS(InTran!$M:$M,InTran!$G:$G,C50,InTran!$O:$O,$C$30,InTran!$C:$C,$D$30)","v":0},{"$f":"+IFERROR(D50/SUM($D$32:$D$53),0)","v":0},{"$f":"+SUMIFS(InTran!$R:$R,InTran!$G:$G,C50,InTran!$O:$O,$C$30,InTran!$C:$C,$H$30)","v":0},{"$f":"+SUMIFS(InTran!$S:$S,InTran!$G:$G,C50,InTran!$O:$O,$C$30,InTran!$C:$C,$H$30)","v":0},{"$f":"+SUMIFS(InTran!$M:$M,InTran!$G:$G,C50,InTran!$O:$O,$C$30,InTran!$C:$C,$H$30)","v":0},{"$f":"+IFERROR(H50/SUM($H$32:$H$53),0)","v":0},{"$f":"+SUMIFS(InTran!$R:$R,InTran!$G:$G,C50,InTran!$O:$O,$C$30,InTran!$C:$C,$L$30)","v":0},{"$f":"+SUMIFS(InTran!$S:$S,InTran!$G:$G,C50,InTran!$O:$O,$C$30,InTran!$C:$C,$L$30)","v":0},{"$f":"+SUMIFS(InTran!$M:$M,InTran!$G:$G,C50,InTran!$O:$O,$C$30,InTran!$C:$C,$L$30)","v":0},{"$f":"+IFERROR(L50/SUM($L$32:$L$53),0)","v":0},{"$f":"+SUMIFS(InTran!$R:$R,InTran!$G:$G,C50,InTran!$O:$O,$C$30,InTran!$C:$C,$P$30)","v":0},{"$f":"+SUMIFS(InTran!$S:$S,InTran!$G:$G,C50,InTran!$O:$O,$C$30,InTran!$C:$C,$P$30)","v":0},{"$f":"+SUMIFS(InTran!$M:$M,InTran!$G:$G,C50,InTran!$O:$O,$C$30,InTran!$C:$C,$P$30)","v":0},{"$f":"+IFERROR(P50/SUM($P$32:$P$53),0)","v":0},{"$f":"+SUMIFS(InTran!$R:$R,InTran!$G:$G,C50,InTran!$O:$O,$C$30,InTran!$C:$C,$T$30)","v":0},{"$f":"+SUMIFS(InTran!$S:$S,InTran!$G:$G,C50,InTran!$O:$O,$C$30,InTran!$C:$C,$T$30)","v":0},{"$f":"+SUMIFS(InTran!$M:$M,InTran!$G:$G,C50,InTran!$O:$O,$C$30,InTran!$C:$C,$T$30)","v":0},{"$f":"+IFERROR(T50/SUM($T$32:$T$53),0)","v":0},{"$f":"+SUMIFS(InTran!$R:$R,InTran!$G:$G,C50,InTran!$O:$O,$C$30,InTran!$C:$C,$X$30)","v":0},{"$f":"+SUMIFS(InTran!$S:$S,InTran!$G:$G,C50,InTran!$O:$O,$C$30,InTran!$C:$C,$X$30)","v":0},{"$f":"+SUMIFS(InTran!$M:$M,InTran!$G:$G,C50,InTran!$O:$O,$C$30,InTran!$C:$C,$X$30)","v":0},{"$f":"+IFERROR(X50/SUM($X$32:$X$53),0)","v":0},{"$f":"+SUMIFS(InTran!$R:$R,InTran!$G:$G,C50,InTran!$O:$O,$C$30)","v":0},{"$f":"+SUMIFS(InTran!$S:$S,InTran!$G:$G,C50,InTran!$O:$O,$C$30)","v":0},{"$f":"+SUMIFS(InTran!$M:$M,InTran!$G:$G,C50,InTran!$O:$O,$C$30)","v":0},{"$f":"+IFERROR(AB50/SUM($AB$32:$AB$53),0)","v":0},{"$f":"+RANK(AB50,$AB$32:$AB$53)","v":12}]
[null,null,"MIDF AMANAH INVESTMENT BANK BHD",{"$f":"+SUMIFS(InTran!$R:$R,InTran!$G:$G,C51,InTran!$O:$O,$C$30,InTran!$C:$C,$D$30)","v":0},{"$f":"+SUMIFS(InTran!$S:$S,InTran!$G:$G,C51,InTran!$O:$O,$C$30,InTran!$C:$C,$D$30)","v":0},{"$f":"+SUMIFS(InTran!$M:$M,InTran!$G:$G,C51,InTran!$O:$O,$C$30,InTran!$C:$C,$D$30)","v":0},{"$f":"+IFERROR(D51/SUM($D$32:$D$53),0)","v":0},{"$f":"+SUMIFS(InTran!$R:$R,InTran!$G:$G,C51,InTran!$O:$O,$C$30,InTran!$C:$C,$H$30)","v":0},{"$f":"+SUMIFS(InTran!$S:$S,InTran!$G:$G,C51,InTran!$O:$O,$C$30,InTran!$C:$C,$H$30)","v":0},{"$f":"+SUMIFS(InTran!$M:$M,InTran!$G:$G,C51,InTran!$O:$O,$C$30,InTran!$C:$C,$H$30)","v":0},{"$f":"+IFERROR(H51/SUM($H$32:$H$53),0)","v":0},{"$f":"+SUMIFS(InTran!$R:$R,InTran!$G:$G,C51,InTran!$O:$O,$C$30,InTran!$C:$C,$L$30)","v":0},{"$f":"+SUMIFS(InTran!$S:$S,InTran!$G:$G,C51,InTran!$O:$O,$C$30,InTran!$C:$C,$L$30)","v":0},{"$f":"+SUMIFS(InTran!$M:$M,InTran!$G:$G,C51,InTran!$O:$O,$C$30,InTran!$C:$C,$L$30)","v":0},{"$f":"+IFERROR(L51/SUM($L$32:$L$53),0)","v":0},{"$f":"+SUMIFS(InTran!$R:$R,InTran!$G:$G,C51,InTran!$O:$O,$C$30,InTran!$C:$C,$P$30)","v":0},{"$f":"+SUMIFS(InTran!$S:$S,InTran!$G:$G,C51,InTran!$O:$O,$C$30,InTran!$C:$C,$P$30)","v":0},{"$f":"+SUMIFS(InTran!$M:$M,InTran!$G:$G,C51,InTran!$O:$O,$C$30,InTran!$C:$C,$P$30)","v":0},{"$f":"+IFERROR(P51/SUM($P$32:$P$53),0)","v":0},{"$f":"+SUMIFS(InTran!$R:$R,InTran!$G:$G,C51,InTran!$O:$O,$C$30,InTran!$C:$C,$T$30)","v":0},{"$f":"+SUMIFS(InTran!$S:$S,InTran!$G:$G,C51,InTran!$O:$O,$C$30,InTran!$C:$C,$T$30)","v":0},{"$f":"+SUMIFS(InTran!$M:$M,InTran!$G:$G,C51,InTran!$O:$O,$C$30,InTran!$C:$C,$T$30)","v":0},{"$f":"+IFERROR(T51/SUM($T$32:$T$53),0)","v":0},{"$f":"+SUMIFS(InTran!$R:$R,InTran!$G:$G,C51,InTran!$O:$O,$C$30,InTran!$C:$C,$X$30)","v":0},{"$f":"+SUMIFS(InTran!$S:$S,InTran!$G:$G,C51,InTran!$O:$O,$C$30,InTran!$C:$C,$X$30)","v":0},{"$f":"+SUMIFS(InTran!$M:$M,InTran!$G:$G,C51,InTran!$O:$O,$C$30,InTran!$C:$C,$X$30)","v":0},{"$f":"+IFERROR(X51/SUM($X$32:$X$53),0)","v":0},{"$f":"+SUMIFS(InTran!$R:$R,InTran!$G:$G,C51,InTran!$O:$O,$C$30)","v":0},{"$f":"+SUMIFS(InTran!$S:$S,InTran!$G:$G,C51,InTran!$O:$O,$C$30)","v":0},{"$f":"+SUMIFS(InTran!$M:$M,InTran!$G:$G,C51,InTran!$O:$O,$C$30)","v":0},{"$f":"+IFERROR(AB51/SUM($AB$32:$AB$53),0)","v":0},{"$f":"+RANK(AB51,$AB$32:$AB$53)","v":12}]
[null,null,"NOT APPLICABLE",{"$f":"+SUMIFS(InTran!$R:$R,InTran!$G:$G,C52,InTran!$O:$O,$C$30,InTran!$C:$C,$D$30)","v":0},{"$f":"+SUMIFS(InTran!$S:$S,InTran!$G:$G,C52,InTran!$O:$O,$C$30,InTran!$C:$C,$D$30)","v":0},{"$f":"+SUMIFS(InTran!$M:$M,InTran!$G:$G,C52,InTran!$O:$O,$C$30,InTran!$C:$C,$D$30)","v":0},{"$f":"+IFERROR(D52/SUM($D$32:$D$53),0)","v":0},{"$f":"+SUMIFS(InTran!$R:$R,InTran!$G:$G,C52,InTran!$O:$O,$C$30,InTran!$C:$C,$H$30)","v":0},{"$f":"+SUMIFS(InTran!$S:$S,InTran!$G:$G,C52,InTran!$O:$O,$C$30,InTran!$C:$C,$H$30)","v":0},{"$f":"+SUMIFS(InTran!$M:$M,InTran!$G:$G,C52,InTran!$O:$O,$C$30,InTran!$C:$C,$H$30)","v":0},{"$f":"+IFERROR(H52/SUM($H$32:$H$53),0)","v":0},{"$f":"+SUMIFS(InTran!$R:$R,InTran!$G:$G,C52,InTran!$O:$O,$C$30,InTran!$C:$C,$L$30)","v":0},{"$f":"+SUMIFS(InTran!$S:$S,InTran!$G:$G,C52,InTran!$O:$O,$C$30,InTran!$C:$C,$L$30)","v":0},{"$f":"+SUMIFS(InTran!$M:$M,InTran!$G:$G,C52,InTran!$O:$O,$C$30,InTran!$C:$C,$L$30)","v":0},{"$f":"+IFERROR(L52/SUM($L$32:$L$53),0)","v":0},{"$f":"+SUMIFS(InTran!$R:$R,InTran!$G:$G,C52,InTran!$O:$O,$C$30,InTran!$C:$C,$P$30)","v":0},{"$f":"+SUMIFS(InTran!$S:$S,InTran!$G:$G,C52,InTran!$O:$O,$C$30,InTran!$C:$C,$P$30)","v":0},{"$f":"+SUMIFS(InTran!$M:$M,InTran!$G:$G,C52,InTran!$O:$O,$C$30,InTran!$C:$C,$P$30)","v":0},{"$f":"+IFERROR(P52/SUM($P$32:$P$53),0)","v":0},{"$f":"+SUMIFS(InTran!$R:$R,InTran!$G:$G,C52,InTran!$O:$O,$C$30,InTran!$C:$C,$T$30)","v":0},{"$f":"+SUMIFS(InTran!$S:$S,InTran!$G:$G,C52,InTran!$O:$O,$C$30,InTran!$C:$C,$T$30)","v":0},{"$f":"+SUMIFS(InTran!$M:$M,InTran!$G:$G,C52,InTran!$O:$O,$C$30,InTran!$C:$C,$T$30)","v":0},{"$f":"+IFERROR(T52/SUM($T$32:$T$53),0)","v":0},{"$f":"+SUMIFS(InTran!$R:$R,InTran!$G:$G,C52,InTran!$O:$O,$C$30,InTran!$C:$C,$X$30)","v":0},{"$f":"+SUMIFS(InTran!$S:$S,InTran!$G:$G,C52,InTran!$O:$O,$C$30,InTran!$C:$C,$X$30)","v":0},{"$f":"+SUMIFS(InTran!$M:$M,InTran!$G:$G,C52,InTran!$O:$O,$C$30,InTran!$C:$C,$X$30)","v":0},{"$f":"+IFERROR(X52/SUM($X$32:$X$53),0)","v":0},{"$f":"+SUMIFS(InTran!$R:$R,InTran!$G:$G,C52,InTran!$O:$O,$C$30)","v":0},{"$f":"+SUMIFS(InTran!$S:$S,InTran!$G:$G,C52,InTran!$O:$O,$C$30)","v":0},{"$f":"+SUMIFS(InTran!$M:$M,InTran!$G:$G,C52,InTran!$O:$O,$C$30)","v":0},{"$f":"+IFERROR(AB52/SUM($AB$32:$AB$53),0)","v":0},{"$f":"+RANK(AB52,$AB$32:$AB$53)","v":12}]
[null,null,"RHB INVESTMENT BANK BERHAD",{"$f":"+SUMIFS(InTran!$R:$R,InTran!$G:$G,C53,InTran!$O:$O,$C$30,InTran!$C:$C,$D$30)","v":0},{"$f":"+SUMIFS(InTran!$S:$S,InTran!$G:$G,C53,InTran!$O:$O,$C$30,InTran!$C:$C,$D$30)","v":0},{"$f":"+SUMIFS(InTran!$M:$M,InTran!$G:$G,C53,InTran!$O:$O,$C$30,InTran!$C:$C,$D$30)","v":0},{"$f":"+IFERROR(D53/SUM($D$32:$D$53),0)","v":0},{"$f":"+SUMIFS(InTran!$R:$R,InTran!$G:$G,C53,InTran!$O:$O,$C$30,InTran!$C:$C,$H$30)","v":0},{"$f":"+SUMIFS(InTran!$S:$S,InTran!$G:$G,C53,InTran!$O:$O,$C$30,InTran!$C:$C,$H$30)","v":0},{"$f":"+SUMIFS(InTran!$M:$M,InTran!$G:$G,C53,InTran!$O:$O,$C$30,InTran!$C:$C,$H$30)","v":0},{"$f":"+IFERROR(H53/SUM($H$32:$H$53),0)","v":0},{"$f":"+SUMIFS(InTran!$R:$R,InTran!$G:$G,C53,InTran!$O:$O,$C$30,InTran!$C:$C,$L$30)","v":0},{"$f":"+SUMIFS(InTran!$S:$S,InTran!$G:$G,C53,InTran!$O:$O,$C$30,InTran!$C:$C,$L$30)","v":0},{"$f":"+SUMIFS(InTran!$M:$M,InTran!$G:$G,C53,InTran!$O:$O,$C$30,InTran!$C:$C,$L$30)","v":0},{"$f":"+IFERROR(L53/SUM($L$32:$L$53),0)","v":0},{"$f":"+SUMIFS(InTran!$R:$R,InTran!$G:$G,C53,InTran!$O:$O,$C$30,InTran!$C:$C,$P$30)","v":0},{"$f":"+SUMIFS(InTran!$S:$S,InTran!$G:$G,C53,InTran!$O:$O,$C$30,InTran!$C:$C,$P$30)","v":0},{"$f":"+SUMIFS(InTran!$M:$M,InTran!$G:$G,C53,InTran!$O:$O,$C$30,InTran!$C:$C,$P$30)","v":0},{"$f":"+IFERROR(P53/SUM($P$32:$P$53),0)","v":0},{"$f":"+SUMIFS(InTran!$R:$R,InTran!$G:$G,C53,InTran!$O:$O,$C$30,InTran!$C:$C,$T$30)","v":0},{"$f":"+SUMIFS(InTran!$S:$S,InTran!$G:$G,C53,InTran!$O:$O,$C$30,InTran!$C:$C,$T$30)","v":0},{"$f":"+SUMIFS(InTran!$M:$M,InTran!$G:$G,C53,InTran!$O:$O,$C$30,InTran!$C:$C,$T$30)","v":0},{"$f":"+IFERROR(T53/SUM($T$32:$T$53),0)","v":0},{"$f":"+SUMIFS(InTran!$R:$R,InTran!$G:$G,C53,InTran!$O:$O,$C$30,InTran!$C:$C,$X$30)","v":0},{"$f":"+SUMIFS(InTran!$S:$S,InTran!$G:$G,C53,InTran!$O:$O,$C$30,InTran!$C:$C,$X$30)","v":0},{"$f":"+SUMIFS(InTran!$M:$M,InTran!$G:$G,C53,InTran!$O:$O,$C$30,InTran!$C:$C,$X$30)","v":0},{"$f":"+IFERROR(X53/SUM($X$32:$X$53),0)","v":0},{"$f":"+SUMIFS(InTran!$R:$R,InTran!$G:$G,C53,InTran!$O:$O,$C$30)","v":0},{"$f":"+SUMIFS(InTran!$S:$S,InTran!$G:$G,C53,InTran!$O:$O,$C$30)","v":0},{"$f":"+SUMIFS(InTran!$M:$M,InTran!$G:$G,C53,InTran!$O:$O,$C$30)","v":0},{"$f":"+IFERROR(AB53/SUM($AB$32:$AB$53),0)","v":0},{"$f":"+RANK(AB53,$AB$32:$AB$53)","v":12}]
[null,null,"Total",{"$f":"SUM(D32:D53)","v":81620361.309999987},{"$f":"SUM(E32:E53)","v":118597.09},{"$f":"SUM(F32:F53)","v":2916140.95},{"$f":"SUM(G32:G53)","v":1.0000000000000002},{"$f":"SUM(H32:H53)","v":8159254.2800000003},{"$f":"SUM(I32:I53)","v":16633.36},{"$f":"SUM(J32:J53)","v":0},{"$f":"SUM(K32:K53)","v":0.99999999999999989},{"$f":"SUM(L32:L53)","v":201494816.79999998},{"$f":"SUM(M32:M53)","v":420000.61999999994},{"$f":"SUM(N32:N53)","v":9987116.0199999996},{"$f":"SUM(O32:O53)","v":1},{"$f":"SUM(P32:P53)","v":0},{"$f":"SUM(Q32:Q53)","v":0},{"$f":"SUM(R32:R53)","v":0},{"$f":"SUM(S32:S53)","v":0},{"$f":"SUM(T32:T53)","v":27706056.620000005},{"$f":"SUM(U32:U53)","v":62389.109999999986},{"$f":"SUM(V32:V53)","v":291352.91999999981},{"$f":"SUM(W32:W53)","v":1},{"$f":"SUM(X32:X53)","v":319164.84000000003},{"$f":"SUM(Y32:Y53)","v":715.46999999999991},{"$f":"SUM(Z32:Z53)","v":0},{"$f":"SUM(AA32:AA53)","v":0.99999999999999989},{"$f":"SUM(AB32:AB53)","v":319299653.85000002},{"$f":"SUM(AC32:AC53)","v":618335.65},{"$f":"SUM(AD32:AD53)","v":13194609.889999999},{"$f":"SUM(AE32:AE53)","v":1}]
[]
[null,null,"ANOUK","YH-AUR-VCAM",null,null,null,"KWAP",null,null,null,"MEQESG",null,null,null,"YAMIR-VCAM",null,null,null,"VCAM-TABA",null,null,null,"ASEAN5ESG",null,null,null,"Total"]
[null,null,"Brokers","Trade Value (RM)","Brokerage Fees (RM)","Capital Gains (RM)","%","Trade Value (RM)","Brokerage Fees (RM)","Capital Gains (RM)","%","Trade Value (RM)","Brokerage Fees (RM)","Capital Gains (RM)","%","Trade Value (RM)","Brokerage Fees (RM)","Capital Gains (RM)","%","Trade Value (RM)","Brokerage Fees (RM)","Capital Gains (RM)","%","Trade Value (RM)","Brokerage Fees (RM)","Capital Gains (RM)","%","Trade Value (RM)","Brokerage Fees (RM)","Capital Gains (RM)","%","Trade Value Ranking"]
[null,null,"RHB INVESTMENT BANK BERHAD",{"$f":"+SUMIFS(InTran!$R:$R,InTran!$G:$G,C58,InTran!$O:$O,$C$56,InTran!$C:$C,$D$56)","v":75369290.939999998},{"$f":"+SUMIFS(InTran!$S:$S,InTran!$G:$G,C58,InTran!$O:$O,$C$56,InTran!$C:$C,$D$56)","v":75455.58},{"$f":"+SUMIFS(InTran!$M:$M,InTran!$G:$G,C58,InTran!$O:$O,$C$56,InTran!$C:$C,$D$56)","v":4797560.74},{"$f":"+IFERROR(D58/SUM($D$58:$D$79),0)","v":0.40375595844068479},{"$f":"+SUMIFS(InTran!$R:$R,InTran!$G:$G,C58,InTran!$O:$O,$C$56,InTran!$C:$C,$H$56)","v":15529651.17},{"$f":"+SUMIFS(InTran!$S:$S,InTran!$G:$G,C58,InTran!$O:$O,$C$56,InTran!$C:$C,$H$56)","v":32148.560000000001},{"$f":"+SUMIFS(InTran!$M:$M,InTran!$G:$G,C58,InTran!$O:$O,$C$56,InTran!$C:$C,$H$56)","v":132495.4},{"$f":"+IFERROR(H58/SUM($H$58:$H$79),0)","v":7.9685239728299218E-2},{"$f":"+SUMIFS(InTran!$R:$R,InTran!$G:$G,C58,InTran!$O:$O,$C$56,InTran!$C:$C,$L$56)","v":0},{"$f":"+SUMIFS(InTran!$S:$S,InTran!$G:$G,C58,InTran!$O:$O,$C$56,InTran!$C:$C,$L$56)","v":0},{"$f":"+SUMIFS(InTran!$M:$M,InTran!$G:$G,C58,InTran!$O:$O,$C$56,InTran!$C:$C,$L$56)","v":0},{"$f":"+IFERROR(L58/SUM($L$58:$L$79),0)","v":0},{"$f":"+SUMIFS(InTran!$R:$R,InTran!$G:$G,C58,InTran!$O:$O,$C$56,InTran!$C:$C,$P$56)","v":0},{"$f":"+SUMIFS(InTran!$S:$S,InTran!$G:$G,C58,InTran!$O:$O,$C$56,InTran!$C:$C,$P$56)","v":0},{"$f":"+SUMIFS(InTran!$M:$M,InTran!$G:$G,C58,InTran!$O:$O,$C$56,InTran!$C:$C,$P$56)","v":0},{"$f":"+IFERROR(P58/SUM($P$58:$P$79),0)","v":0},{"$f":"+SUMIFS(InTran!$R:$R,InTran!$G:$G,C58,InTran!$O:$O,$C$56,InTran!$C:$C,$T$56)","v":0},{"$f":"+SUMIFS(InTran!$S:$S,InTran!$G:$G,C58,InTran!$O:$O,$C$56,InTran!$C:$C,$T$56)","v":0},{"$f":"+SUMIFS(InTran!$M:$M,InTran!$G:$G,C58,InTran!$O:$O,$C$56,InTran!$C:$C,$T$56)","v":0},{"$f":"+IFERROR(T58/SUM($T$58:$T$79),0)","v":0},{"$f":"+SUMIFS(InTran!$R:$R,InTran!$G:$G,C58,InTran!$O:$O,$C$56,InTran!$C:$C,$X$56)","v":0},{"$f":"+SUMIFS(InTran!$S:$S,InTran!$G:$G,C58,InTran!$O:$O,$C$56,InTran!$C:$C,$X$56)","v":0},{"$f":"+SUMIFS(InTran!$M:$M,InTran!$G:$G,C58,InTran!$O:$O,$C$56,InTran!$C:$C,$X$56)","v":0},{"$f":"+IFERROR(X58/SUM($X$58:$X$79),0)","v":0},{"$f":"+SUMIFS(InTran!$R:$R,InTran!$G:$G,C58,InTran!$O:$O,$C$56)","v":90898942.109999999},{"$f":"+SUMIFS(InTran!$S:$S,InTran!$G:$G,C58,InTran!$O:$O,$C$56)","v":107604.14},{"$f":"+SUMIFS(InTran!$M:$M,InTran!$G:$G,C58,InTran!$O:$O,$C$56)","v":4930056.1400000006},{"$f":"+IFERROR(AB58/SUM($AB$58:$AB$79),0)","v":0.23823109743493334},{"$f":"+RANK(AB58,$AB$58:$AB$79)","v":1}]
[null,null,"MAYBANK INVESTMENT BANK BHD",{"$f":"+SUMIFS(InTran!$R:$R,InTran!$G:$G,C59,InTran!$O:$O,$C$56,InTran!$C:$C,$D$56)","v":28166875.669999998},{"$f":"+SUMIFS(InTran!$S:$S,InTran!$G:$G,C59,InTran!$O:$O,$C$56,InTran!$C:$C,$D$56)","v":29471.11},{"$f":"+SUMIFS(InTran!$M:$M,InTran!$G:$G,C59,InTran!$O:$O,$C$56,InTran!$C:$C,$D$56)","v":1144470.26},{"$f":"+IFERROR(D59/SUM($D$58:$D$79),0)","v":0.15089094962395111},{"$f":"+SUMIFS(InTran!$R:$R,InTran!$G:$G,C59,InTran!$O:$O,$C$56,InTran!$C:$C,$H$56)","v":42418455.149999999},{"$f":"+SUMIFS(InTran!$S:$S,InTran!$G:$G,C59,InTran!$O:$O,$C$56,InTran!$C:$C,$H$56)","v":57801.229999999989},{"$f":"+SUMIFS(InTran!$M:$M,InTran!$G:$G,C59,InTran!$O:$O,$C$56,InTran!$C:$C,$H$56)","v":1879638.0099999998},{"$f":"+IFERROR(H59/SUM($H$58:$H$79),0)","v":0.21765619398209951},{"$f":"+SUMIFS(InTran!$R:$R,InTran!$G:$G,C59,InTran!$O:$O,$C$56,InTran!$C:$C,$L$56)","v":0},{"$f":"+SUMIFS(InTran!$S:$S,InTran!$G:$G,C59,InTran!$O:$O,$C$56,InTran!$C:$C,$L$56)","v":0},{"$f":"+SUMIFS(InTran!$M:$M,InTran!$G:$G,C59,InTran!$O:$O,$C$56,InTran!$C:$C,$L$56)","v":0},{"$f":"+IFERROR(L59/SUM($L$58:$L$79),0)","v":0},{"$f":"+SUMIFS(InTran!$R:$R,InTran!$G:$G,C59,InTran!$O:$O,$C$56,InTran!$C:$C,$P$56)","v":0},{"$f":"+SUMIFS(InTran!$S:$S,InTran!$G:$G,C59,InTran!$O:$O,$C$56,InTran!$C:$C,$P$56)","v":0},{"$f":"+SUMIFS(InTran!$M:$M,InTran!$G:$G,C59,InTran!$O:$O,$C$56,InTran!$C:$C,$P$56)","v":0},{"$f":"+IFERROR(P59/SUM($P$58:$P$79),0)","v":0},{"$f":"+SUMIFS(InTran!$R:$R,InTran!$G:$G,C59,InTran!$O:$O,$C$56,InTran!$C:$C,$T$56)","v":0},{"$f":"+SUMIFS(InTran!$S:$S,InTran!$G:$G,C59,InTran!$O:$O,$C$56,InTran!$C:$C,$T$56)","v":0},{"$f":"+SUMIFS(InTran!$M:$M,InTran!$G:$G,C59,InTran!$O:$O,$C$56,InTran!$C:$C,$T$56)","v":0},{"$f":"+IFERROR(T59/SUM($T$58:$T$79),0)","v":0},{"$f":"+SUMIFS(InTran!$R:$R,InTran!$G:$G,C59,InTran!$O:$O,$C$56,InTran!$C:$C,$X$56)","v":0},{"$f":"+SUMIFS(InTran!$S:$S,InTran!$G:$G,C59,InTran!$O:$O,$C$56,InTran!$C:$C,$X$56)","v":0},{"$f":"+SUMIFS(InTran!$M:$M,InTran!$G:$G,C59,InTran!$O:$O,$C$56,InTran!$C:$C,$X$56)","v":0},{"$f":"+IFERROR(X59/SUM($X$58:$X$79),0)","v":0},{"$f":"+SUMIFS(InTran!$R:$R,InTran!$G:$G,C59,InTran!$O:$O,$C$56)","v":70585330.820000008},{"$f":"+SUMIFS(InTran!$S:$S,InTran!$G:$G,C59,InTran!$O:$O,$C$56)","v":87272.340000000011},{"$f":"+SUMIFS(InTran!$M:$M,InTran!$G:$G,C59,InTran!$O:$O,$C$56)","v":3024108.27},{"$f":"+IFERROR(AB59/SUM($AB$58:$AB$79),0)","v":0.18499248103137717},{"$f":"+RANK(AB59,$AB$58:$AB$79)","v":2}]
[null,null,"AFFIN INVESTMENT BANK BERHAD",{"$f":"+SUMIFS(InTran!$R:$R,InTran!$G:$G,C60,InTran!$O:$O,$C$56,InTran!$C:$C,$D$56)","v":9351215.8599999994},{"$f":"+SUMIFS(InTran!$S:$S,InTran!$G:$G,C60,InTran!$O:$O,$C$56,InTran!$C:$C,$D$56)","v":9362.4},{"$f":"+SUMIFS(InTran!$M:$M,InTran!$G:$G,C60,InTran!$O:$O,$C$56,InTran!$C:$C,$D$56)","v":520969.93},{"$f":"+IFERROR(D60/SUM($D$58:$D$79),0)","v":5.0094794246448728E-2},{"$f":"+SUMIFS(InTran!$R:$R,InTran!$G:$G,C60,InTran!$O:$O,$C$56,InTran!$C:$C,$H$56)","v":49820186.989999995},{"$f":"+SUMIFS(InTran!$S:$S,InTran!$G:$G,C60,InTran!$O:$O,$C$56,InTran!$C:$C,$H$56)","v":69728.850000000006},{"$f":"+SUMIFS(InTran!$M:$M,InTran!$G:$G,C60,InTran!$O:$O,$C$56,InTran!$C:$C,$H$56)","v":3306918.53},{"$f":"+IFERROR(H60/SUM($H$58:$H$79),0)","v":0.25563571906083216},{"$f":"+SUMIFS(InTran!$R:$R,InTran!$G:$G,C60,InTran!$O:$O,$C$56,InTran!$C:$C,$L$56)","v":0},{"$f":"+SUMIFS(InTran!$S:$S,InTran!$G:$G,C60,InTran!$O:$O,$C$56,InTran!$C:$C,$L$56)","v":0},{"$f":"+SUMIFS(InTran!$M:$M,InTran!$G:$G,C60,InTran!$O:$O,$C$56,InTran!$C:$C,$L$56)","v":0},{"$f":"+IFERROR(L60/SUM($L$58:$L$79),0)","v":0},{"$f":"+SUMIFS(InTran!$R:$R,InTran!$G:$G,C60,InTran!$O:$O,$C$56,InTran!$C:$C,$P$56)","v":0},{"$f":"+SUMIFS(InTran!$S:$S,InTran!$G:$G,C60,InTran!$O:$O,$C$56,InTran!$C:$C,$P$56)","v":0},{"$f":"+SUMIFS(InTran!$M:$M,InTran!$G:$G,C60,InTran!$O:$O,$C$56,InTran!$C:$C,$P$56)","v":0},{"$f":"+IFERROR(P60/SUM($P$58:$P$79),0)","v":0},{"$f":"+SUMIFS(InTran!$R:$R,InTran!$G:$G,C60,InTran!$O:$O,$C$56,InTran!$C:$C,$T$56)","v":0},{"$f":"+SUMIFS(InTran!$S:$S,InTran!$G:$G,C60,InTran!$O:$O,$C$56,InTran!$C:$C,$T$56)","v":0},{"$f":"+SUMIFS(InTran!$M:$M,InTran!$G:$G,C60,InTran!$O:$O,$C$56,InTran!$C:$C,$T$56)","v":0},{"$f":"+IFERROR(T60/SUM($T$58:$T$79),0)","v":0},{"$f":"+SUMIFS(InTran!$R:$R,InTran!$G:$G,C60,InTran!$O:$O,$C$56,InTran!$C:$C,$X$56)","v":0},{"$f":"+SUMIFS(InTran!$S:$S,InTran!$G:$G,C60,InTran!$O:$O,$C$56,InTran!$C:$C,$X$56)","v":0},{"$f":"+SUMIFS(InTran!$M:$M,InTran!$G:$G,C60,InTran!$O:$O,$C$56,InTran!$C:$C,$X$56)","v":0},{"$f":"+IFERROR(X60/SUM($X$58:$X$79),0)","v":0},{"$f":"+SUMIFS(InTran!$R:$R,InTran!$G:$G,C60,InTran!$O:$O,$C$56)","v":59171402.849999994},{"$f":"+SUMIFS(InTran!$S:$S,InTran!$G:$G,C60,InTran!$O:$O,$C$56)","v":79091.25},{"$f":"+SUMIFS(InTran!$M:$M,InTran!$G:$G,C60,InTran!$O:$O,$C$56)","v":3827888.46},{"$f":"+IFERROR(AB60/SUM($AB$58:$AB$79),0)","v":0.15507846307673648},{"$f":"+RANK(AB60,$AB$58:$AB$79)","v":3}]
[null,null,"KAF-SEAGROATT & CAMPBELL SECURITIES SDN BHD",{"$f":"+SUMIFS(InTran!$R:$R,InTran!$G:$G,C61,InTran!$O:$O,$C$56,InTran!$C:$C,$D$56)","v":19037276.399999999},{"$f":"+SUMIFS(InTran!$S:$S,InTran!$G:$G,C61,InTran!$O:$O,$C$56,InTran!$C:$C,$D$56)","v":19060},{"$f":"+SUMIFS(InTran!$M:$M,InTran!$G:$G,C61,InTran!$O:$O,$C$56,InTran!$C:$C,$D$56)","v":732460.24},{"$f":"+IFERROR(D61/SUM($D$58:$D$79),0)","v":0.10198336329183766},{"$f":"+SUMIFS(InTran!$R:$R,InTran!$G:$G,C61,InTran!$O:$O,$C$56,InTran!$C:$C,$H$56)","v":28123796.489999998},{"$f":"+SUMIFS(InTran!$S:$S,InTran!$G:$G,C61,InTran!$O:$O,$C$56,InTran!$C:$C,$H$56)","v":31330.02},{"$f":"+SUMIFS(InTran!$M:$M,InTran!$G:$G,C61,InTran!$O:$O,$C$56,InTran!$C:$C,$H$56)","v":1491049.08},{"$f":"+IFERROR(H61/SUM($H$58:$H$79),0)","v":0.14430790755331241},{"$f":"+SUMIFS(InTran!$R:$R,InTran!$G:$G,C61,InTran!$O:$O,$C$56,InTran!$C:$C,$L$56)","v":0},{"$f":"+SUMIFS(InTran!$S:$S,InTran!$G:$G,C61,InTran!$O:$O,$C$56,InTran!$C:$C,$L$56)","v":0},{"$f":"+SUMIFS(InTran!$M:$M,InTran!$G:$G,C61,InTran!$O:$O,$C$56,InTran!$C:$C,$L$56)","v":0},{"$f":"+IFERROR(L61/SUM($L$58:$L$79),0)","v":0},{"$f":"+SUMIFS(InTran!$R:$R,InTran!$G:$G,C61,InTran!$O:$O,$C$56,InTran!$C:$C,$P$56)","v":0},{"$f":"+SUMIFS(InTran!$S:$S,InTran!$G:$G,C61,InTran!$O:$O,$C$56,InTran!$C:$C,$P$56)","v":0},{"$f":"+SUMIFS(InTran!$M:$M,InTran!$G:$G,C61,InTran!$O:$O,$C$56,InTran!$C:$C,$P$56)","v":0},{"$f":"+IFERROR(P61/SUM($P$58:$P$79),0)","v":0},{"$f":"+SUMIFS(InTran!$R:$R,InTran!$G:$G,C61,InTran!$O:$O,$C$56,InTran!$C:$C,$T$56)","v":0},{"$f":"+SUMIFS(InTran!$S:$S,InTran!$G:$G,C61,InTran!$O:$O,$C$56,InTran!$C:$C,$T$56)","v":0},{"$f":"+SUMIFS(InTran!$M:$M,InTran!$G:$G,C61,InTran!$O:$O,$C$56,InTran!$C:$C,$T$56)","v":0},{"$f":"+IFERROR(T61/SUM($T$58:$T$79),0)","v":0},{"$f":"+SUMIFS(InTran!$R:$R,InTran!$G:$G,C61,InTran!$O:$O,$C$56,InTran!$C:$C,$X$56)","v":0},{"$f":"+SUMIFS(InTran!$S:$S,InTran!$G:$G,C61,InTran!$O:$O,$C$56,InTran!$C:$C,$X$56)","v":0},{"$f":"+SUMIFS(InTran!$M:$M,InTran!$G:$G,C61,InTran!$O:$O,$C$56,InTran!$C:$C,$X$56)","v":0},{"$f":"+IFERROR(X61/SUM($X$58:$X$79),0)","v":0},{"$f":"+SUMIFS(InTran!$R:$R,InTran!$G:$G,C61,InTran!$O:$O,$C$56)","v":47161072.890000001},{"$f":"+SUMIFS(InTran!$S:$S,InTran!$G:$G,C61,InTran!$O:$O,$C$56)","v":50390.020000000004},{"$f":"+SUMIFS(InTran!$M:$M,InTran!$G:$G,C61,InTran!$O:$O,$C$56)","v":2223509.3200000003},{"$f":"+IFERROR(AB61/SUM($AB$58:$AB$79),0)","v":0.12360137411937569},{"$f":"+RANK(AB61,$AB$58:$AB$79)","v":4}]
[null,null,"CIMB INVESTMENT BANK BHD",{"$f":"+SUMIFS(InTran!$R:$R,InTran!$G:$G,C62,InTran!$O:$O,$C$56,InTran!$C:$C,$D$56)","v":0},{"$f":"+SUMIFS(InTran!$S:$S,InTran!$G:$G,C62,InTran!$O:$O,$C$56,InTran!$C:$C,$D$56)","v":0},{"$f":"+SUMIFS(InTran!$M:$M,InTran!$G:$G,C62,InTran!$O:$O,$C$56,InTran!$C:$C,$D$56)","v":0},{"$f":"+IFERROR(D62/SUM($D$58:$D$79),0)","v":0},{"$f":"+SUMIFS(InTran!$R:$R,InTran!$G:$G,C62,InTran!$O:$O,$C$56,InTran!$C:$C,$H$56)","v":36676650.009999998},{"$f":"+SUMIFS(InTran!$S:$S,InTran!$G:$G,C62,InTran!$O:$O,$C$56,InTran!$C:$C,$H$56)","v":47683.62},{"$f":"+SUMIFS(InTran!$M:$M,InTran!$G:$G,C62,InTran!$O:$O,$C$56,InTran!$C:$C,$H$56)","v":449197.53},{"$f":"+IFERROR(H62/SUM($H$58:$H$79),0)","v":0.18819403066332865},{"$f":"+SUMIFS(InTran!$R:$R,InTran!$G:$G,C62,InTran!$O:$O,$C$56,InTran!$C:$C,$L$56)","v":0},{"$f":"+SUMIFS(InTran!$S:$S,InTran!$G:$G,C62,InTran!$O:$O,$C$56,InTran!$C:$C,$L$56)","v":0},{"$f":"+SUMIFS(InTran!$M:$M,InTran!$G:$G,C62,InTran!$O:$O,$C$56,InTran!$C:$C,$L$56)","v":0},{"$f":"+IFERROR(L62/SUM($L$58:$L$79),0)","v":0},{"$f":"+SUMIFS(InTran!$R:$R,InTran!$G:$G,C62,InTran!$O:$O,$C$56,InTran!$C:$C,$P$56)","v":0},{"$f":"+SUMIFS(InTran!$S:$S,InTran!$G:$G,C62,InTran!$O:$O,$C$56,InTran!$C:$C,$P$56)","v":0},{"$f":"+SUMIFS(InTran!$M:$M,InTran!$G:$G,C62,InTran!$O:$O,$C$56,InTran!$C:$C,$P$56)","v":0},{"$f":"+IFERROR(P62/SUM($P$58:$P$79),0)","v":0},{"$f":"+SUMIFS(InTran!$R:$R,InTran!$G:$G,C62,InTran!$O:$O,$C$56,InTran!$C:$C,$T$56)","v":0},{"$f":"+SUMIFS(InTran!$S:$S,InTran!$G:$G,C62,InTran!$O:$O,$C$56,InTran!$C:$C,$T$56)","v":0},{"$f":"+SUMIFS(InTran!$M:$M,InTran!$G:$G,C62,InTran!$O:$O,$C$56,InTran!$C:$C,$T$56)","v":0},{"$f":"+IFERROR(T62/SUM($T$58:$T$79),0)","v":0},{"$f":"+SUMIFS(InTran!$R:$R,InTran!$G:$G,C62,InTran!$O:$O,$C$56,InTran!$C:$C,$X$56)","v":0},{"$f":"+SUMIFS(InTran!$S:$S,InTran!$G:$G,C62,InTran!$O:$O,$C$56,InTran!$C:$C,$X$56)","v":0},{"$f":"+SUMIFS(InTran!$M:$M,InTran!$G:$G,C62,InTran!$O:$O,$C$56,InTran!$C:$C,$X$56)","v":0},{"$f":"+IFERROR(X62/SUM($X$58:$X$79),0)","v":0},{"$f":"+SUMIFS(InTran!$R:$R,InTran!$G:$G,C62,InTran!$O:$O,$C$56)","v":36676650.009999998},{"$f":"+SUMIFS(InTran!$S:$S,InTran!$G:$G,C62,InTran!$O:$O,$C$56)","v":47683.62},{"$f":"+SUMIFS(InTran!$M:$M,InTran!$G:$G,C62,InTran!$O:$O,$C$56)","v":449197.53},{"$f":"+IFERROR(AB62/SUM($AB$58:$AB$79),0)","v":9.6123435315074196E-2},{"$f":"+RANK(AB62,$AB$58:$AB$79)","v":5}]
[null,null,"HONG LEONG INVESTMENT BANK BHD",{"$f":"+SUMIFS(InTran!$R:$R,InTran!$G:$G,C63,InTran!$O:$O,$C$56,InTran!$C:$C,$D$56)","v":17674115.579999998},{"$f":"+SUMIFS(InTran!$S:$S,InTran!$G:$G,C63,InTran!$O:$O,$C$56,InTran!$C:$C,$D$56)","v":21506.43},{"$f":"+SUMIFS(InTran!$M:$M,InTran!$G:$G,C63,InTran!$O:$O,$C$56,InTran!$C:$C,$D$56)","v":1397559.0599999998},{"$f":"+IFERROR(D63/SUM($D$58:$D$79),0)","v":9.4680862544868447E-2},{"$f":"+SUMIFS(InTran!$R:$R,InTran!$G:$G,C63,InTran!$O:$O,$C$56,InTran!$C:$C,$H$56)","v":1711167.4300000002},{"$f":"+SUMIFS(InTran!$S:$S,InTran!$G:$G,C63,InTran!$O:$O,$C$56,InTran!$C:$C,$H$56)","v":3564.44},{"$f":"+SUMIFS(InTran!$M:$M,InTran!$G:$G,C63,InTran!$O:$O,$C$56,InTran!$C:$C,$H$56)","v":89982.76},{"$f":"+IFERROR(H63/SUM($H$58:$H$79),0)","v":8.7802865229977788E-3},{"$f":"+SUMIFS(InTran!$R:$R,InTran!$G:$G,C63,InTran!$O:$O,$C$56,InTran!$C:$C,$L$56)","v":0},{"$f":"+SUMIFS(InTran!$S:$S,InTran!$G:$G,C63,InTran!$O:$O,$C$56,InTran!$C:$C,$L$56)","v":0},{"$f":"+SUMIFS(InTran!$M:$M,InTran!$G:$G,C63,InTran!$O:$O,$C$56,InTran!$C:$C,$L$56)","v":0},{"$f":"+IFERROR(L63/SUM($L$58:$L$79),0)","v":0},{"$f":"+SUMIFS(InTran!$R:$R,InTran!$G:$G,C63,InTran!$O:$O,$C$56,InTran!$C:$C,$P$56)","v":0},{"$f":"+SUMIFS(InTran!$S:$S,InTran!$G:$G,C63,InTran!$O:$O,$C$56,InTran!$C:$C,$P$56)","v":0},{"$f":"+SUMIFS(InTran!$M:$M,InTran!$G:$G,C63,InTran!$O:$O,$C$56,InTran!$C:$C,$P$56)","v":0},{"$f":"+IFERROR(P63/SUM($P$58:$P$79),0)","v":0},{"$f":"+SUMIFS(InTran!$R:$R,InTran!$G:$G,C63,InTran!$O:$O,$C$56,InTran!$C:$C,$T$56)","v":0},{"$f":"+SUMIFS(InTran!$S:$S,InTran!$G:$G,C63,InTran!$O:$O,$C$56,InTran!$C:$C,$T$56)","v":0},{"$f":"+SUMIFS(InTran!$M:$M,InTran!$G:$G,C63,InTran!$O:$O,$C$56,InTran!$C:$C,$T$56)","v":0},{"$f":"+IFERROR(T63/SUM($T$58:$T$79),0)","v":0},{"$f":"+SUMIFS(InTran!$R:$R,InTran!$G:$G,C63,InTran!$O:$O,$C$56,InTran!$C:$C,$X$56)","v":0},{"$f":"+SUMIFS(InTran!$S:$S,InTran!$G:$G,C63,InTran!$O:$O,$C$56,InTran!$C:$C,$X$56)","v":0},{"$f":"+SUMIFS(InTran!$M:$M,InTran!$G:$G,C63,InTran!$O:$O,$C$56,InTran!$C:$C,$X$56)","v":0},{"$f":"+IFERROR(X63/SUM($X$58:$X$79),0)","v":0},{"$f":"+SUMIFS(InTran!$R:$R,InTran!$G:$G,C63,InTran!$O:$O,$C$56)","v":19385283.010000002},{"$f":"+SUMIFS(InTran!$S:$S,InTran!$G:$G,C63,InTran!$O:$O,$C$56)","v":25070.87},{"$f":"+SUMIFS(InTran!$M:$M,InTran!$G:$G,C63,InTran!$O:$O,$C$56)","v":1487541.8199999998},{"$f":"+IFERROR(AB63/SUM($AB$58:$AB$79),0)","v":5.0805621477645474E-2},{"$f":"+RANK(AB63,$AB$58:$AB$79)","v":6}]
[null,null,"KENANGA INVESTMENT BANK BHD",{"$f":"+SUMIFS(InTran!$R:$R,InTran!$G:$G,C64,InTran!$O:$O,$C$56,InTran!$C:$C,$D$56)","v":9594457.75},{"$f":"+SUMIFS(InTran!$S:$S,InTran!$G:$G,C64,InTran!$O:$O,$C$56,InTran!$C:$C,$D$56)","v":9605.9},{"$f":"+SUMIFS(InTran!$M:$M,InTran!$G:$G,C64,InTran!$O:$O,$C$56,InTran!$C:$C,$D$56)","v":800426.34},{"$f":"+IFERROR(D64/SUM($D$58:$D$79),0)","v":5.1397849658075957E-2},{"$f":"+SUMIFS(InTran!$R:$R,InTran!$G:$G,C64,InTran!$O:$O,$C$56,InTran!$C:$C,$H$56)","v":9164280.1400000006},{"$f":"+SUMIFS(InTran!$S:$S,InTran!$G:$G,C64,InTran!$O:$O,$C$56,InTran!$C:$C,$H$56)","v":25993.06},{"$f":"+SUMIFS(InTran!$M:$M,InTran!$G:$G,C64,InTran!$O:$O,$C$56,InTran!$C:$C,$H$56)","v":103357.57},{"$f":"+IFERROR(H64/SUM($H$58:$H$79),0)","v":4.7023455446565034E-2},{"$f":"+SUMIFS(InTran!$R:$R,InTran!$G:$G,C64,InTran!$O:$O,$C$56,InTran!$C:$C,$L$56)","v":0},{"$f":"+SUMIFS(InTran!$S:$S,InTran!$G:$G,C64,InTran!$O:$O,$C$56,InTran!$C:$C,$L$56)","v":0},{"$f":"+SUMIFS(InTran!$M:$M,InTran!$G:$G,C64,InTran!$O:$O,$C$56,InTran!$C:$C,$L$56)","v":0},{"$f":"+IFERROR(L64/SUM($L$58:$L$79),0)","v":0},{"$f":"+SUMIFS(InTran!$R:$R,InTran!$G:$G,C64,InTran!$O:$O,$C$56,InTran!$C:$C,$P$56)","v":0},{"$f":"+SUMIFS(InTran!$S:$S,InTran!$G:$G,C64,InTran!$O:$O,$C$56,InTran!$C:$C,$P$56)","v":0},{"$f":"+SUMIFS(InTran!$M:$M,InTran!$G:$G,C64,InTran!$O:$O,$C$56,InTran!$C:$C,$P$56)","v":0},{"$f":"+IFERROR(P64/SUM($P$58:$P$79),0)","v":0},{"$f":"+SUMIFS(InTran!$R:$R,InTran!$G:$G,C64,InTran!$O:$O,$C$56,InTran!$C:$C,$T$56)","v":0},{"$f":"+SUMIFS(InTran!$S:$S,InTran!$G:$G,C64,InTran!$O:$O,$C$56,InTran!$C:$C,$T$56)","v":0},{"$f":"+SUMIFS(InTran!$M:$M,InTran!$G:$G,C64,InTran!$O:$O,$C$56,InTran!$C:$C,$T$56)","v":0},{"$f":"+IFERROR(T64/SUM($T$58:$T$79),0)","v":0},{"$f":"+SUMIFS(InTran!$R:$R,InTran!$G:$G,C64,InTran!$O:$O,$C$56,InTran!$C:$C,$X$56)","v":0},{"$f":"+SUMIFS(InTran!$S:$S,InTran!$G:$G,C64,InTran!$O:$O,$C$56,InTran!$C:$C,$X$56)","v":0},{"$f":"+SUMIFS(InTran!$M:$M,InTran!$G:$G,C64,InTran!$O:$O,$C$56,InTran!$C:$C,$X$56)","v":0},{"$f":"+IFERROR(X64/SUM($X$58:$X$79),0)","v":0},{"$f":"+SUMIFS(InTran!$R:$R,InTran!$G:$G,C64,InTran!$O:$O,$C$56)","v":18758737.890000001},{"$f":"+SUMIFS(InTran!$S:$S,InTran!$G:$G,C64,InTran!$O:$O,$C$56)","v":35598.959999999999},{"$f":"+SUMIFS(InTran!$M:$M,InTran!$G:$G,C64,InTran!$O:$O,$C$56)","v":903783.90999999992},{"$f":"+IFERROR(AB64/SUM($AB$58:$AB$79),0)","v":4.9163550315260825E-2},{"$f":"+RANK(AB64,$AB$58:$AB$79)","v":7}]
[null,null,"NOMURA SECURITIES MALAYSIA SDN BHD",{"$f":"+SUMIFS(InTran!$R:$R,InTran!$G:$G,C65,InTran!$O:$O,$C$56,InTran!$C:$C,$D$56)","v":13832316.359999999},{"$f":"+SUMIFS(InTran!$S:$S,InTran!$G:$G,C65,InTran!$O:$O,$C$56,InTran!$C:$C,$D$56)","v":13833.470000000001},{"$f":"+SUMIFS(InTran!$M:$M,InTran!$G:$G,C65,InTran!$O:$O,$C$56,InTran!$C:$C,$D$56)","v":385676.68},{"$f":"+IFERROR(D65/SUM($D$58:$D$79),0)","v":7.4100208184691249E-2},{"$f":"+SUMIFS(InTran!$R:$R,InTran!$G:$G,C65,InTran!$O:$O,$C$56,InTran!$C:$C,$H$56)","v":2593298.9400000004},{"$f":"+SUMIFS(InTran!$S:$S,InTran!$G:$G,C65,InTran!$O:$O,$C$56,InTran!$C:$C,$H$56)","v":5241.28},{"$f":"+SUMIFS(InTran!$M:$M,InTran!$G:$G,C65,InTran!$O:$O,$C$56,InTran!$C:$C,$H$56)","v":138347.79999999999},{"$f":"+IFERROR(H65/SUM($H$58:$H$79),0)","v":1.3306650964591131E-2},{"$f":"+SUMIFS(InTran!$R:$R,InTran!$G:$G,C65,InTran!$O:$O,$C$56,InTran!$C:$C,$L$56)","v":0},{"$f":"+SUMIFS(InTran!$S:$S,InTran!$G:$G,C65,InTran!$O:$O,$C$56,InTran!$C:$C,$L$56)","v":0},{"$f":"+SUMIFS(InTran!$M:$M,InTran!$G:$G,C65,InTran!$O:$O,$C$56,InTran!$C:$C,$L$56)","v":0},{"$f":"+IFERROR(L65/SUM($L$58:$L$79),0)","v":0},{"$f":"+SUMIFS(InTran!$R:$R,InTran!$G:$G,C65,InTran!$O:$O,$C$56,InTran!$C:$C,$P$56)","v":0},{"$f":"+SUMIFS(InTran!$S:$S,InTran!$G:$G,C65,InTran!$O:$O,$C$56,InTran!$C:$C,$P$56)","v":0},{"$f":"+SUMIFS(InTran!$M:$M,InTran!$G:$G,C65,InTran!$O:$O,$C$56,InTran!$C:$C,$P$56)","v":0},{"$f":"+IFERROR(P65/SUM($P$58:$P$79),0)","v":0},{"$f":"+SUMIFS(InTran!$R:$R,InTran!$G:$G,C65,InTran!$O:$O,$C$56,InTran!$C:$C,$T$56)","v":0},{"$f":"+SUMIFS(InTran!$S:$S,InTran!$G:$G,C65,InTran!$O:$O,$C$56,InTran!$C:$C,$T$56)","v":0},{"$f":"+SUMIFS(InTran!$M:$M,InTran!$G:$G,C65,InTran!$O:$O,$C$56,InTran!$C:$C,$T$56)","v":0},{"$f":"+IFERROR(T65/SUM($T$58:$T$79),0)","v":0},{"$f":"+SUMIFS(InTran!$R:$R,InTran!$G:$G,C65,InTran!$O:$O,$C$56,InTran!$C:$C,$X$56)","v":0},{"$f":"+SUMIFS(InTran!$S:$S,InTran!$G:$G,C65,InTran!$O:$O,$C$56,InTran!$C:$C,$X$56)","v":0},{"$f":"+SUMIFS(InTran!$M:$M,InTran!$G:$G,C65,InTran!$O:$O,$C$56,InTran!$C:$C,$X$56)","v":0},{"$f":"+IFERROR(X65/SUM($X$58:$X$79),0)","v":0},{"$f":"+SUMIFS(InTran!$R:$R,InTran!$G:$G,C65,InTran!$O:$O,$C$56)","v":16425615.300000001},{"$f":"+SUMIFS(InTran!$S:$S,InTran!$G:$G,C65,InTran!$O:$O,$C$56)","v":19074.75},{"$f":"+SUMIFS(InTran!$M:$M,InTran!$G:$G,C65,InTran!$O:$O,$C$56)","v":524024.48},{"$f":"+IFERROR(AB65/SUM($AB$58:$AB$79),0)","v":4.3048821780870251E-2},{"$f":"+RANK(AB65,$AB$58:$AB$79)","v":8}]
[null,null,"CREDIT SUISSE SECURITIES (M) SDN BHD",{"$f":"+SUMIFS(InTran!$R:$R,InTran!$G:$G,C66,InTran!$O:$O,$C$56,InTran!$C:$C,$D$56)","v":7864493.4500000002},{"$f":"+SUMIFS(InTran!$S:$S,InTran!$G:$G,C66,InTran!$O:$O,$C$56,InTran!$C:$C,$D$56)","v":7874.1},{"$f":"+SUMIFS(InTran!$M:$M,InTran!$G:$G,C66,InTran!$O:$O,$C$56,InTran!$C:$C,$D$56)","v":796483.46},{"$f":"+IFERROR(D66/SUM($D$58:$D$79),0)","v":4.2130369689732917E-2},{"$f":"+SUMIFS(InTran!$R:$R,InTran!$G:$G,C66,InTran!$O:$O,$C$56,InTran!$C:$C,$H$56)","v":4939243.88},{"$f":"+SUMIFS(InTran!$S:$S,InTran!$G:$G,C66,InTran!$O:$O,$C$56,InTran!$C:$C,$H$56)","v":9902},{"$f":"+SUMIFS(InTran!$M:$M,InTran!$G:$G,C66,InTran!$O:$O,$C$56,InTran!$C:$C,$H$56)","v":263180.34000000003},{"$f":"+IFERROR(H66/SUM($H$58:$H$79),0)","v":2.5344087149533494E-2},{"$f":"+SUMIFS(InTran!$R:$R,InTran!$G:$G,C66,InTran!$O:$O,$C$56,InTran!$C:$C,$L$56)","v":0},{"$f":"+SUMIFS(InTran!$S:$S,InTran!$G:$G,C66,InTran!$O:$O,$C$56,InTran!$C:$C,$L$56)","v":0},{"$f":"+SUMIFS(InTran!$M:$M,InTran!$G:$G,C66,InTran!$O:$O,$C$56,InTran!$C:$C,$L$56)","v":0},{"$f":"+IFERROR(L66/SUM($L$58:$L$79),0)","v":0},{"$f":"+SUMIFS(InTran!$R:$R,InTran!$G:$G,C66,InTran!$O:$O,$C$56,InTran!$C:$C,$P$56)","v":0},{"$f":"+SUMIFS(InTran!$S:$S,InTran!$G:$G,C66,InTran!$O:$O,$C$56,InTran!$C:$C,$P$56)","v":0},{"$f":"+SUMIFS(InTran!$M:$M,InTran!$G:$G,C66,InTran!$O:$O,$C$56,InTran!$C:$C,$P$56)","v":0},{"$f":"+IFERROR(P66/SUM($P$58:$P$79),0)","v":0},{"$f":"+SUMIFS(InTran!$R:$R,InTran!$G:$G,C66,InTran!$O:$O,$C$56,InTran!$C:$C,$T$56)","v":0},{"$f":"+SUMIFS(InTran!$S:$S,InTran!$G:$G,C66,InTran!$O:$O,$C$56,InTran!$C:$C,$T$56)","v":0},{"$f":"+SUMIFS(InTran!$M:$M,InTran!$G:$G,C66,InTran!$O:$O,$C$56,InTran!$C:$C,$T$56)","v":0},{"$f":"+IFERROR(T66/SUM($T$58:$T$79),0)","v":0},{"$f":"+SUMIFS(InTran!$R:$R,InTran!$G:$G,C66,InTran!$O:$O,$C$56,InTran!$C:$C,$X$56)","v":0},{"$f":"+SUMIFS(InTran!$S:$S,InTran!$G:$G,C66,InTran!$O:$O,$C$56,InTran!$C:$C,$X$56)","v":0},{"$f":"+SUMIFS(InTran!$M:$M,InTran!$G:$G,C66,InTran!$O:$O,$C$56,InTran!$C:$C,$X$56)","v":0},{"$f":"+IFERROR(X66/SUM($X$58:$X$79),0)","v":0},{"$f":"+SUMIFS(InTran!$R:$R,InTran!$G:$G,C66,InTran!$O:$O,$C$56)","v":12803737.33},{"$f":"+SUMIFS(InTran!$S:$S,InTran!$G:$G,C66,InTran!$O:$O,$C$56)","v":17776.099999999999},{"$f":"+SUMIFS(InTran!$M:$M,InTran!$G:$G,C66,InTran!$O:$O,$C$56)","v":1059663.8},{"$f":"+IFERROR(AB66/SUM($AB$58:$AB$79),0)","v":3.3556478486881737E-2},{"$f":"+RANK(AB66,$AB$58:$AB$79)","v":9}]
[null,null,"CLSA LIMITED",{"$f":"+SUMIFS(InTran!$R:$R,InTran!$G:$G,C67,InTran!$O:$O,$C$56,InTran!$C:$C,$D$56)","v":5742537.2200000007},{"$f":"+SUMIFS(InTran!$S:$S,InTran!$G:$G,C67,InTran!$O:$O,$C$56,InTran!$C:$C,$D$56)","v":11497.390000000001},{"$f":"+SUMIFS(InTran!$M:$M,InTran!$G:$G,C67,InTran!$O:$O,$C$56,InTran!$C:$C,$D$56)","v":134959.45000000001},{"$f":"+IFERROR(D67/SUM($D$58:$D$79),0)","v":3.0762975082095231E-2},{"$f":"+SUMIFS(InTran!$R:$R,InTran!$G:$G,C67,InTran!$O:$O,$C$56,InTran!$C:$C,$H$56)","v":0},{"$f":"+SUMIFS(InTran!$S:$S,InTran!$G:$G,C67,InTran!$O:$O,$C$56,InTran!$C:$C,$H$56)","v":0},{"$f":"+SUMIFS(InTran!$M:$M,InTran!$G:$G,C67,InTran!$O:$O,$C$56,InTran!$C:$C,$H$56)","v":0},{"$f":"+IFERROR(H67/SUM($H$58:$H$79),0)","v":0},{"$f":"+SUMIFS(InTran!$R:$R,InTran!$G:$G,C67,InTran!$O:$O,$C$56,InTran!$C:$C,$L$56)","v":0},{"$f":"+SUMIFS(InTran!$S:$S,InTran!$G:$G,C67,InTran!$O:$O,$C$56,InTran!$C:$C,$L$56)","v":0},{"$f":"+SUMIFS(InTran!$M:$M,InTran!$G:$G,C67,InTran!$O:$O,$C$56,InTran!$C:$C,$L$56)","v":0},{"$f":"+IFERROR(L67/SUM($L$58:$L$79),0)","v":0},{"$f":"+SUMIFS(InTran!$R:$R,InTran!$G:$G,C67,InTran!$O:$O,$C$56,InTran!$C:$C,$P$56)","v":0},{"$f":"+SUMIFS(InTran!$S:$S,InTran!$G:$G,C67,InTran!$O:$O,$C$56,InTran!$C:$C,$P$56)","v":0},{"$f":"+SUMIFS(InTran!$M:$M,InTran!$G:$G,C67,InTran!$O:$O,$C$56,InTran!$C:$C,$P$56)","v":0},{"$f":"+IFERROR(P67/SUM($P$58:$P$79),0)","v":0},{"$f":"+SUMIFS(InTran!$R:$R,InTran!$G:$G,C67,InTran!$O:$O,$C$56,InTran!$C:$C,$T$56)","v":0},{"$f":"+SUMIFS(InTran!$S:$S,InTran!$G:$G,C67,InTran!$O:$O,$C$56,InTran!$C:$C,$T$56)","v":0},{"$f":"+SUMIFS(InTran!$M:$M,InTran!$G:$G,C67,InTran!$O:$O,$C$56,InTran!$C:$C,$T$56)","v":0},{"$f":"+IFERROR(T67/SUM($T$58:$T$79),0)","v":0},{"$f":"+SUMIFS(InTran!$R:$R,InTran!$G:$G,C67,InTran!$O:$O,$C$56,InTran!$C:$C,$X$56)","v":0},{"$f":"+SUMIFS(InTran!$S:$S,InTran!$G:$G,C67,InTran!$O:$O,$C$56,InTran!$C:$C,$X$56)","v":0},{"$f":"+SUMIFS(InTran!$M:$M,InTran!$G:$G,C67,InTran!$O:$O,$C$56,InTran!$C:$C,$X$56)","v":0},{"$f":"+IFERROR(X67/SUM($X$58:$X$79),0)","v":0},{"$f":"+SUMIFS(InTran!$R:$R,InTran!$G:$G,C67,InTran!$O:$O,$C$56)","v":5742537.2200000007},{"$f":"+SUMIFS(InTran!$S:$S,InTran!$G:$G,C67,InTran!$O:$O,$C$56)","v":11497.390000000001},{"$f":"+SUMIFS(InTran!$M:$M,InTran!$G:$G,C67,InTran!$O:$O,$C$56)","v":134959.45000000001},{"$f":"+IFERROR(AB67/SUM($AB$58:$AB$79),0)","v":1.5050240544340164E-2},{"$f":"+RANK(AB67,$AB$58:$AB$79)","v":10}]
[null,null,"MACQUARIE CAPITAL SECURITIES (MALAYSIA) SDN BHD",{"$f":"+SUMIFS(InTran!$R:$R,InTran!$G:$G,C68,InTran!$O:$O,$C$56,InTran!$C:$C,$D$56)","v":37832.35},{"$f":"+SUMIFS(InTran!$S:$S,InTran!$G:$G,C68,InTran!$O:$O,$C$56,InTran!$C:$C,$D$56)","v":85.44},{"$f":"+SUMIFS(InTran!$M:$M,InTran!$G:$G,C68,InTran!$O:$O,$C$56,InTran!$C:$C,$D$56)","v":5254.75},{"$f":"+IFERROR(D68/SUM($D$58:$D$79),0)","v":2.0266923761394539E-4},{"$f":"+SUMIFS(InTran!$R:$R,InTran!$G:$G,C68,InTran!$O:$O,$C$56,InTran!$C:$C,$H$56)","v":3910694.66},{"$f":"+SUMIFS(InTran!$S:$S,InTran!$G:$G,C68,InTran!$O:$O,$C$56,InTran!$C:$C,$H$56)","v":8181.08},{"$f":"+SUMIFS(InTran!$M:$M,InTran!$G:$G,C68,InTran!$O:$O,$C$56,InTran!$C:$C,$H$56)","v":0},{"$f":"+IFERROR(H68/SUM($H$58:$H$79),0)","v":2.0066428928440613E-2},{"$f":"+SUMIFS(InTran!$R:$R,InTran!$G:$G,C68,InTran!$O:$O,$C$56,InTran!$C:$C,$L$56)","v":0},{"$f":"+SUMIFS(InTran!$S:$S,InTran!$G:$G,C68,InTran!$O:$O,$C$56,InTran!$C:$C,$L$56)","v":0},{"$f":"+SUMIFS(InTran!$M:$M,InTran!$G:$G,C68,InTran!$O:$O,$C$56,InTran!$C:$C,$L$56)","v":0},{"$f":"+IFERROR(L68/SUM($L$58:$L$79),0)","v":0},{"$f":"+SUMIFS(InTran!$R:$R,InTran!$G:$G,C68,InTran!$O:$O,$C$56,InTran!$C:$C,$P$56)","v":0},{"$f":"+SUMIFS(InTran!$S:$S,InTran!$G:$G,C68,InTran!$O:$O,$C$56,InTran!$C:$C,$P$56)","v":0},{"$f":"+SUMIFS(InTran!$M:$M,InTran!$G:$G,C68,InTran!$O:$O,$C$56,InTran!$C:$C,$P$56)","v":0},{"$f":"+IFERROR(P68/SUM($P$58:$P$79),0)","v":0},{"$f":"+SUMIFS(InTran!$R:$R,InTran!$G:$G,C68,InTran!$O:$O,$C$56,InTran!$C:$C,$T$56)","v":0},{"$f":"+SUMIFS(InTran!$S:$S,InTran!$G:$G,C68,InTran!$O:$O,$C$56,InTran!$C:$C,$T$56)","v":0},{"$f":"+SUMIFS(InTran!$M:$M,InTran!$G:$G,C68,InTran!$O:$O,$C$56,InTran!$C:$C,$T$56)","v":0},{"$f":"+IFERROR(T68/SUM($T$58:$T$79),0)","v":0},{"$f":"+SUMIFS(InTran!$R:$R,InTran!$G:$G,C68,InTran!$O:$O,$C$56,InTran!$C:$C,$X$56)","v":0},{"$f":"+SUMIFS(InTran!$S:$S,InTran!$G:$G,C68,InTran!$O:$O,$C$56,InTran!$C:$C,$X$56)","v":0},{"$f":"+SUMIFS(InTran!$M:$M,InTran!$G:$G,C68,InTran!$O:$O,$C$56,InTran!$C:$C,$X$56)","v":0},{"$f":"+IFERROR(X68/SUM($X$58:$X$79),0)","v":0},{"$f":"+SUMIFS(InTran!$R:$R,InTran!$G:$G,C68,InTran!$O:$O,$C$56)","v":3948527.0100000002},{"$f":"+SUMIFS(InTran!$S:$S,InTran!$G:$G,C68,InTran!$O:$O,$C$56)","v":8266.52},{"$f":"+SUMIFS(InTran!$M:$M,InTran!$G:$G,C68,InTran!$O:$O,$C$56)","v":5254.75},{"$f":"+IFERROR(AB68/SUM($AB$58:$AB$79),0)","v":1.0348436417504707E-2},{"$f":"+RANK(AB68,$AB$58:$AB$79)","v":11}]
[null,null,"ALLIANCE INVESTMENT BANK BERHAD",{"$f":"+SUMIFS(InTran!$R:$R,InTran!$G:$G,C69,InTran!$O:$O,$C$56,InTran!$C:$C,$D$56)","v":0},{"$f":"+SUMIFS(InTran!$S:$S,InTran!$G:$G,C69,InTran!$O:$O,$C$56,InTran!$C:$C,$D$56)","v":0},{"$f":"+SUMIFS(InTran!$M:$M,InTran!$G:$G,C69,InTran!$O:$O,$C$56,InTran!$C:$C,$D$56)","v":0},{"$f":"+IFERROR(D69/SUM($D$58:$D$79),0)","v":0},{"$f":"+SUMIFS(InTran!$R:$R,InTran!$G:$G,C69,InTran!$O:$O,$C$56,InTran!$C:$C,$H$56)","v":0},{"$f":"+SUMIFS(InTran!$S:$S,InTran!$G:$G,C69,InTran!$O:$O,$C$56,InTran!$C:$C,$H$56)","v":0},{"$f":"+SUMIFS(InTran!$M:$M,InTran!$G:$G,C69,InTran!$O:$O,$C$56,InTran!$C:$C,$H$56)","v":0},{"$f":"+IFERROR(H69/SUM($H$58:$H$79),0)","v":0},{"$f":"+SUMIFS(InTran!$R:$R,InTran!$G:$G,C69,InTran!$O:$O,$C$56,InTran!$C:$C,$L$56)","v":0},{"$f":"+SUMIFS(InTran!$S:$S,InTran!$G:$G,C69,InTran!$O:$O,$C$56,InTran!$C:$C,$L$56)","v":0},{"$f":"+SUMIFS(InTran!$M:$M,InTran!$G:$G,C69,InTran!$O:$O,$C$56,InTran!$C:$C,$L$56)","v":0},{"$f":"+IFERROR(L69/SUM($L$58:$L$79),0)","v":0},{"$f":"+SUMIFS(InTran!$R:$R,InTran!$G:$G,C69,InTran!$O:$O,$C$56,InTran!$C:$C,$P$56)","v":0},{"$f":"+SUMIFS(InTran!$S:$S,InTran!$G:$G,C69,InTran!$O:$O,$C$56,InTran!$C:$C,$P$56)","v":0},{"$f":"+SUMIFS(InTran!$M:$M,InTran!$G:$G,C69,InTran!$O:$O,$C$56,InTran!$C:$C,$P$56)","v":0},{"$f":"+IFERROR(P69/SUM($P$58:$P$79),0)","v":0},{"$f":"+SUMIFS(InTran!$R:$R,InTran!$G:$G,C69,InTran!$O:$O,$C$56,InTran!$C:$C,$T$56)","v":0},{"$f":"+SUMIFS(InTran!$S:$S,InTran!$G:$G,C69,InTran!$O:$O,$C$56,InTran!$C:$C,$T$56)","v":0},{"$f":"+SUMIFS(InTran!$M:$M,InTran!$G:$G,C69,InTran!$O:$O,$C$56,InTran!$C:$C,$T$56)","v":0},{"$f":"+IFERROR(T69/SUM($T$58:$T$79),0)","v":0},{"$f":"+SUMIFS(InTran!$R:$R,InTran!$G:$G,C69,InTran!$O:$O,$C$56,InTran!$C:$C,$X$56)","v":0},{"$f":"+SUMIFS(InTran!$S:$S,InTran!$G:$G,C69,InTran!$O:$O,$C$56,InTran!$C:$C,$X$56)","v":0},{"$f":"+SUMIFS(InTran!$M:$M,InTran!$G:$G,C69,InTran!$O:$O,$C$56,InTran!$C:$C,$X$56)","v":0},{"$f":"+IFERROR(X69/SUM($X$58:$X$79),0)","v":0},{"$f":"+SUMIFS(InTran!$R:$R,InTran!$G:$G,C69,InTran!$O:$O,$C$56)","v":0},{"$f":"+SUMIFS(InTran!$S:$S,InTran!$G:$G,C69,InTran!$O:$O,$C$56)","v":0},{"$f":"+SUMIFS(InTran!$M:$M,InTran!$G:$G,C69,InTran!$O:$O,$C$56)","v":0},{"$f":"+IFERROR(AB69/SUM($AB$58:$AB$79),0)","v":0},{"$f":"+RANK(AB69,$AB$58:$AB$79)","v":12}]
[null,null,"AMINVESTMENT BANK BHD",{"$f":"+SUMIFS(InTran!$R:$R,InTran!$G:$G,C70,InTran!$O:$O,$C$56,InTran!$C:$C,$D$56)","v":0},{"$f":"+SUMIFS(InTran!$S:$S,InTran!$G:$G,C70,InTran!$O:$O,$C$56,InTran!$C:$C,$D$56)","v":0},{"$f":"+SUMIFS(InTran!$M:$M,InTran!$G:$G,C70,InTran!$O:$O,$C$56,InTran!$C:$C,$D$56)","v":0},{"$f":"+IFERROR(D70/SUM($D$58:$D$79),0)","v":0},{"$f":"+SUMIFS(InTran!$R:$R,InTran!$G:$G,C70,InTran!$O:$O,$C$56,InTran!$C:$C,$H$56)","v":0},{"$f":"+SUMIFS(InTran!$S:$S,InTran!$G:$G,C70,InTran!$O:$O,$C$56,InTran!$C:$C,$H$56)","v":0},{"$f":"+SUMIFS(InTran!$M:$M,InTran!$G:$G,C70,InTran!$O:$O,$C$56,InTran!$C:$C,$H$56)","v":0},{"$f":"+IFERROR(H70/SUM($H$58:$H$79),0)","v":0},{"$f":"+SUMIFS(InTran!$R:$R,InTran!$G:$G,C70,InTran!$O:$O,$C$56,InTran!$C:$C,$L$56)","v":0},{"$f":"+SUMIFS(InTran!$S:$S,InTran!$G:$G,C70,InTran!$O:$O,$C$56,InTran!$C:$C,$L$56)","v":0},{"$f":"+SUMIFS(InTran!$M:$M,InTran!$G:$G,C70,InTran!$O:$O,$C$56,InTran!$C:$C,$L$56)","v":0},{"$f":"+IFERROR(L70/SUM($L$58:$L$79),0)","v":0},{"$f":"+SUMIFS(InTran!$R:$R,InTran!$G:$G,C70,InTran!$O:$O,$C$56,InTran!$C:$C,$P$56)","v":0},{"$f":"+SUMIFS(InTran!$S:$S,InTran!$G:$G,C70,InTran!$O:$O,$C$56,InTran!$C:$C,$P$56)","v":0},{"$f":"+SUMIFS(InTran!$M:$M,InTran!$G:$G,C70,InTran!$O:$O,$C$56,InTran!$C:$C,$P$56)","v":0},{"$f":"+IFERROR(P70/SUM($P$58:$P$79),0)","v":0},{"$f":"+SUMIFS(InTran!$R:$R,InTran!$G:$G,C70,InTran!$O:$O,$C$56,InTran!$C:$C,$T$56)","v":0},{"$f":"+SUMIFS(InTran!$S:$S,InTran!$G:$G,C70,InTran!$O:$O,$C$56,InTran!$C:$C,$T$56)","v":0},{"$f":"+SUMIFS(InTran!$M:$M,InTran!$G:$G,C70,InTran!$O:$O,$C$56,InTran!$C:$C,$T$56)","v":0},{"$f":"+IFERROR(T70/SUM($T$58:$T$79),0)","v":0},{"$f":"+SUMIFS(InTran!$R:$R,InTran!$G:$G,C70,InTran!$O:$O,$C$56,InTran!$C:$C,$X$56)","v":0},{"$f":"+SUMIFS(InTran!$S:$S,InTran!$G:$G,C70,InTran!$O:$O,$C$56,InTran!$C:$C,$X$56)","v":0},{"$f":"+SUMIFS(InTran!$M:$M,InTran!$G:$G,C70,InTran!$O:$O,$C$56,InTran!$C:$C,$X$56)","v":0},{"$f":"+IFERROR(X70/SUM($X$58:$X$79),0)","v":0},{"$f":"+SUMIFS(InTran!$R:$R,InTran!$G:$G,C70,InTran!$O:$O,$C$56)","v":0},{"$f":"+SUMIFS(InTran!$S:$S,InTran!$G:$G,C70,InTran!$O:$O,$C$56)","v":0},{"$f":"+SUMIFS(InTran!$M:$M,InTran!$G:$G,C70,InTran!$O:$O,$C$56)","v":0},{"$f":"+IFERROR(AB70/SUM($AB$58:$AB$79),0)","v":0},{"$f":"+RANK(AB70,$AB$58:$AB$79)","v":12}]
[null,null,"BIMB SECURITIES SDN BHD",{"$f":"+SUMIFS(InTran!$R:$R,InTran!$G:$G,C71,InTran!$O:$O,$C$56,InTran!$C:$C,$D$56)","v":0},{"$f":"+SUMIFS(InTran!$S:$S,InTran!$G:$G,C71,InTran!$O:$O,$C$56,InTran!$C:$C,$D$56)","v":0},{"$f":"+SUMIFS(InTran!$M:$M,InTran!$G:$G,C71,InTran!$O:$O,$C$56,InTran!$C:$C,$D$56)","v":0},{"$f":"+IFERROR(D71/SUM($D$58:$D$79),0)","v":0},{"$f":"+SUMIFS(InTran!$R:$R,InTran!$G:$G,C71,InTran!$O:$O,$C$56,InTran!$C:$C,$H$56)","v":0},{"$f":"+SUMIFS(InTran!$S:$S,InTran!$G:$G,C71,InTran!$O:$O,$C$56,InTran!$C:$C,$H$56)","v":0},{"$f":"+SUMIFS(InTran!$M:$M,InTran!$G:$G,C71,InTran!$O:$O,$C$56,InTran!$C:$C,$H$56)","v":0},{"$f":"+IFERROR(H71/SUM($H$58:$H$79),0)","v":0},{"$f":"+SUMIFS(InTran!$R:$R,InTran!$G:$G,C71,InTran!$O:$O,$C$56,InTran!$C:$C,$L$56)","v":0},{"$f":"+SUMIFS(InTran!$S:$S,InTran!$G:$G,C71,InTran!$O:$O,$C$56,InTran!$C:$C,$L$56)","v":0},{"$f":"+SUMIFS(InTran!$M:$M,InTran!$G:$G,C71,InTran!$O:$O,$C$56,InTran!$C:$C,$L$56)","v":0},{"$f":"+IFERROR(L71/SUM($L$58:$L$79),0)","v":0},{"$f":"+SUMIFS(InTran!$R:$R,InTran!$G:$G,C71,InTran!$O:$O,$C$56,InTran!$C:$C,$P$56)","v":0},{"$f":"+SUMIFS(InTran!$S:$S,InTran!$G:$G,C71,InTran!$O:$O,$C$56,InTran!$C:$C,$P$56)","v":0},{"$f":"+SUMIFS(InTran!$M:$M,InTran!$G:$G,C71,InTran!$O:$O,$C$56,InTran!$C:$C,$P$56)","v":0},{"$f":"+IFERROR(P71/SUM($P$58:$P$79),0)","v":0},{"$f":"+SUMIFS(InTran!$R:$R,InTran!$G:$G,C71,InTran!$O:$O,$C$56,InTran!$C:$C,$T$56)","v":0},{"$f":"+SUMIFS(InTran!$S:$S,InTran!$G:$G,C71,InTran!$O:$O,$C$56,InTran!$C:$C,$T$56)","v":0},{"$f":"+SUMIFS(InTran!$M:$M,InTran!$G:$G,C71,InTran!$O:$O,$C$56,InTran!$C:$C,$T$56)","v":0},{"$f":"+IFERROR(T71/SUM($T$58:$T$79),0)","v":0},{"$f":"+SUMIFS(InTran!$R:$R,InTran!$G:$G,C71,InTran!$O:$O,$C$56,InTran!$C:$C,$X$56)","v":0},{"$f":"+SUMIFS(InTran!$S:$S,InTran!$G:$G,C71,InTran!$O:$O,$C$56,InTran!$C:$C,$X$56)","v":0},{"$f":"+SUMIFS(InTran!$M:$M,InTran!$G:$G,C71,InTran!$O:$O,$C$56,InTran!$C:$C,$X$56)","v":0},{"$f":"+IFERROR(X71/SUM($X$58:$X$79),0)","v":0},{"$f":"+SUMIFS(InTran!$R:$R,InTran!$G:$G,C71,InTran!$O:$O,$C$56)","v":0},{"$f":"+SUMIFS(InTran!$S:$S,InTran!$G:$G,C71,InTran!$O:$O,$C$56)","v":0},{"$f":"+SUMIFS(InTran!$M:$M,InTran!$G:$G,C71,InTran!$O:$O,$C$56)","v":0},{"$f":"+IFERROR(AB71/SUM($AB$58:$AB$79),0)","v":0},{"$f":"+RANK(AB71,$AB$58:$AB$79)","v":12}]
[null,null,"CIMB INVESTMENT BANK BHD (FOREIGN)",{"$f":"+SUMIFS(InTran!$R:$R,InTran!$G:$G,C72,InTran!$O:$O,$C$56,InTran!$C:$C,$D$56)","v":0},{"$f":"+SUMIFS(InTran!$S:$S,InTran!$G:$G,C72,InTran!$O:$O,$C$56,InTran!$C:$C,$D$56)","v":0},{"$f":"+SUMIFS(InTran!$M:$M,InTran!$G:$G,C72,InTran!$O:$O,$C$56,InTran!$C:$C,$D$56)","v":0},{"$f":"+IFERROR(D72/SUM($D$58:$D$79),0)","v":0},{"$f":"+SUMIFS(InTran!$R:$R,InTran!$G:$G,C72,InTran!$O:$O,$C$56,InTran!$C:$C,$H$56)","v":0},{"$f":"+SUMIFS(InTran!$S:$S,InTran!$G:$G,C72,InTran!$O:$O,$C$56,InTran!$C:$C,$H$56)","v":0},{"$f":"+SUMIFS(InTran!$M:$M,InTran!$G:$G,C72,InTran!$O:$O,$C$56,InTran!$C:$C,$H$56)","v":0},{"$f":"+IFERROR(H72/SUM($H$58:$H$79),0)","v":0},{"$f":"+SUMIFS(InTran!$R:$R,InTran!$G:$G,C72,InTran!$O:$O,$C$56,InTran!$C:$C,$L$56)","v":0},{"$f":"+SUMIFS(InTran!$S:$S,InTran!$G:$G,C72,InTran!$O:$O,$C$56,InTran!$C:$C,$L$56)","v":0},{"$f":"+SUMIFS(InTran!$M:$M,InTran!$G:$G,C72,InTran!$O:$O,$C$56,InTran!$C:$C,$L$56)","v":0},{"$f":"+IFERROR(L72/SUM($L$58:$L$79),0)","v":0},{"$f":"+SUMIFS(InTran!$R:$R,InTran!$G:$G,C72,InTran!$O:$O,$C$56,InTran!$C:$C,$P$56)","v":0},{"$f":"+SUMIFS(InTran!$S:$S,InTran!$G:$G,C72,InTran!$O:$O,$C$56,InTran!$C:$C,$P$56)","v":0},{"$f":"+SUMIFS(InTran!$M:$M,InTran!$G:$G,C72,InTran!$O:$O,$C$56,InTran!$C:$C,$P$56)","v":0},{"$f":"+IFERROR(P72/SUM($P$58:$P$79),0)","v":0},{"$f":"+SUMIFS(InTran!$R:$R,InTran!$G:$G,C72,InTran!$O:$O,$C$56,InTran!$C:$C,$T$56)","v":0},{"$f":"+SUMIFS(InTran!$S:$S,InTran!$G:$G,C72,InTran!$O:$O,$C$56,InTran!$C:$C,$T$56)","v":0},{"$f":"+SUMIFS(InTran!$M:$M,InTran!$G:$G,C72,InTran!$O:$O,$C$56,InTran!$C:$C,$T$56)","v":0},{"$f":"+IFERROR(T72/SUM($T$58:$T$79),0)","v":0},{"$f":"+SUMIFS(InTran!$R:$R,InTran!$G:$G,C72,InTran!$O:$O,$C$56,InTran!$C:$C,$X$56)","v":0},{"$f":"+SUMIFS(InTran!$S:$S,InTran!$G:$G,C72,InTran!$O:$O,$C$56,InTran!$C:$C,$X$56)","v":0},{"$f":"+SUMIFS(InTran!$M:$M,InTran!$G:$G,C72,InTran!$O:$O,$C$56,InTran!$C:$C,$X$56)","v":0},{"$f":"+IFERROR(X72/SUM($X$58:$X$79),0)","v":0},{"$f":"+SUMIFS(InTran!$R:$R,InTran!$G:$G,C72,InTran!$O:$O,$C$56)","v":0},{"$f":"+SUMIFS(InTran!$S:$S,InTran!$G:$G,C72,InTran!$O:$O,$C$56)","v":0},{"$f":"+SUMIFS(InTran!$M:$M,InTran!$G:$G,C72,InTran!$O:$O,$C$56)","v":0},{"$f":"+IFERROR(AB72/SUM($AB$58:$AB$79),0)","v":0},{"$f":"+RANK(AB72,$AB$58:$AB$79)","v":12}]
[null,null,"CLSA LIMITED FOREIGN",{"$f":"+SUMIFS(InTran!$R:$R,InTran!$G:$G,C73,InTran!$O:$O,$C$56,InTran!$C:$C,$D$56)","v":0},{"$f":"+SUMIFS(InTran!$S:$S,InTran!$G:$G,C73,InTran!$O:$O,$C$56,InTran!$C:$C,$D$56)","v":0},{"$f":"+SUMIFS(InTran!$M:$M,InTran!$G:$G,C73,InTran!$O:$O,$C$56,InTran!$C:$C,$D$56)","v":0},{"$f":"+IFERROR(D73/SUM($D$58:$D$79),0)","v":0},{"$f":"+SUMIFS(InTran!$R:$R,InTran!$G:$G,C73,InTran!$O:$O,$C$56,InTran!$C:$C,$H$56)","v":0},{"$f":"+SUMIFS(InTran!$S:$S,InTran!$G:$G,C73,InTran!$O:$O,$C$56,InTran!$C:$C,$H$56)","v":0},{"$f":"+SUMIFS(InTran!$M:$M,InTran!$G:$G,C73,InTran!$O:$O,$C$56,InTran!$C:$C,$H$56)","v":0},{"$f":"+IFERROR(H73/SUM($H$58:$H$79),0)","v":0},{"$f":"+SUMIFS(InTran!$R:$R,InTran!$G:$G,C73,InTran!$O:$O,$C$56,InTran!$C:$C,$L$56)","v":0},{"$f":"+SUMIFS(InTran!$S:$S,InTran!$G:$G,C73,InTran!$O:$O,$C$56,InTran!$C:$C,$L$56)","v":0},{"$f":"+SUMIFS(InTran!$M:$M,InTran!$G:$G,C73,InTran!$O:$O,$C$56,InTran!$C:$C,$L$56)","v":0},{"$f":"+IFERROR(L73/SUM($L$58:$L$79),0)","v":0},{"$f":"+SUMIFS(InTran!$R:$R,InTran!$G:$G,C73,InTran!$O:$O,$C$56,InTran!$C:$C,$P$56)","v":0},{"$f":"+SUMIFS(InTran!$S:$S,InTran!$G:$G,C73,InTran!$O:$O,$C$56,InTran!$C:$C,$P$56)","v":0},{"$f":"+SUMIFS(InTran!$M:$M,InTran!$G:$G,C73,InTran!$O:$O,$C$56,InTran!$C:$C,$P$56)","v":0},{"$f":"+IFERROR(P73/SUM($P$58:$P$79),0)","v":0},{"$f":"+SUMIFS(InTran!$R:$R,InTran!$G:$G,C73,InTran!$O:$O,$C$56,InTran!$C:$C,$T$56)","v":0},{"$f":"+SUMIFS(InTran!$S:$S,InTran!$G:$G,C73,InTran!$O:$O,$C$56,InTran!$C:$C,$T$56)","v":0},{"$f":"+SUMIFS(InTran!$M:$M,InTran!$G:$G,C73,InTran!$O:$O,$C$56,InTran!$C:$C,$T$56)","v":0},{"$f":"+IFERROR(T73/SUM($T$58:$T$79),0)","v":0},{"$f":"+SUMIFS(InTran!$R:$R,InTran!$G:$G,C73,InTran!$O:$O,$C$56,InTran!$C:$C,$X$56)","v":0},{"$f":"+SUMIFS(InTran!$S:$S,InTran!$G:$G,C73,InTran!$O:$O,$C$56,InTran!$C:$C,$X$56)","v":0},{"$f":"+SUMIFS(InTran!$M:$M,InTran!$G:$G,C73,InTran!$O:$O,$C$56,InTran!$C:$C,$X$56)","v":0},{"$f":"+IFERROR(X73/SUM($X$58:$X$79),0)","v":0},{"$f":"+SUMIFS(InTran!$R:$R,InTran!$G:$G,C73,InTran!$O:$O,$C$56)","v":0},{"$f":"+SUMIFS(InTran!$S:$S,InTran!$G:$G,C73,InTran!$O:$O,$C$56)","v":0},{"$f":"+SUMIFS(InTran!$M:$M,InTran!$G:$G,C73,InTran!$O:$O,$C$56)","v":0},{"$f":"+IFERROR(AB73/SUM($AB$58:$AB$79),0)","v":0},{"$f":"+RANK(AB73,$AB$58:$AB$79)","v":12}]
[null,null,"MACQUARIE CAPITAL SECURITIES (MALAYSIA) SDN BHD (FOREIGN)",{"$f":"+SUMIFS(InTran!$R:$R,InTran!$G:$G,C74,InTran!$O:$O,$C$56,InTran!$C:$C,$D$56)","v":0},{"$f":"+SUMIFS(InTran!$S:$S,InTran!$G:$G,C74,InTran!$O:$O,$C$56,InTran!$C:$C,$D$56)","v":0},{"$f":"+SUMIFS(InTran!$M:$M,InTran!$G:$G,C74,InTran!$O:$O,$C$56,InTran!$C:$C,$D$56)","v":0},{"$f":"+IFERROR(D74/SUM($D$58:$D$79),0)","v":0},{"$f":"+SUMIFS(InTran!$R:$R,InTran!$G:$G,C74,InTran!$O:$O,$C$56,InTran!$C:$C,$H$56)","v":0},{"$f":"+SUMIFS(InTran!$S:$S,InTran!$G:$G,C74,InTran!$O:$O,$C$56,InTran!$C:$C,$H$56)","v":0},{"$f":"+SUMIFS(InTran!$M:$M,InTran!$G:$G,C74,InTran!$O:$O,$C$56,InTran!$C:$C,$H$56)","v":0},{"$f":"+IFERROR(H74/SUM($H$58:$H$79),0)","v":0},{"$f":"+SUMIFS(InTran!$R:$R,InTran!$G:$G,C74,InTran!$O:$O,$C$56,InTran!$C:$C,$L$56)","v":0},{"$f":"+SUMIFS(InTran!$S:$S,InTran!$G:$G,C74,InTran!$O:$O,$C$56,InTran!$C:$C,$L$56)","v":0},{"$f":"+SUMIFS(InTran!$M:$M,InTran!$G:$G,C74,InTran!$O:$O,$C$56,InTran!$C:$C,$L$56)","v":0},{"$f":"+IFERROR(L74/SUM($L$58:$L$79),0)","v":0},{"$f":"+SUMIFS(InTran!$R:$R,InTran!$G:$G,C74,InTran!$O:$O,$C$56,InTran!$C:$C,$P$56)","v":0},{"$f":"+SUMIFS(InTran!$S:$S,InTran!$G:$G,C74,InTran!$O:$O,$C$56,InTran!$C:$C,$P$56)","v":0},{"$f":"+SUMIFS(InTran!$M:$M,InTran!$G:$G,C74,InTran!$O:$O,$C$56,InTran!$C:$C,$P$56)","v":0},{"$f":"+IFERROR(P74/SUM($P$58:$P$79),0)","v":0},{"$f":"+SUMIFS(InTran!$R:$R,InTran!$G:$G,C74,InTran!$O:$O,$C$56,InTran!$C:$C,$T$56)","v":0},{"$f":"+SUMIFS(InTran!$S:$S,InTran!$G:$G,C74,InTran!$O:$O,$C$56,InTran!$C:$C,$T$56)","v":0},{"$f":"+SUMIFS(InTran!$M:$M,InTran!$G:$G,C74,InTran!$O:$O,$C$56,InTran!$C:$C,$T$56)","v":0},{"$f":"+IFERROR(T74/SUM($T$58:$T$79),0)","v":0},{"$f":"+SUMIFS(InTran!$R:$R,InTran!$G:$G,C74,InTran!$O:$O,$C$56,InTran!$C:$C,$X$56)","v":0},{"$f":"+SUMIFS(InTran!$S:$S,InTran!$G:$G,C74,InTran!$O:$O,$C$56,InTran!$C:$C,$X$56)","v":0},{"$f":"+SUMIFS(InTran!$M:$M,InTran!$G:$G,C74,InTran!$O:$O,$C$56,InTran!$C:$C,$X$56)","v":0},{"$f":"+IFERROR(X74/SUM($X$58:$X$79),0)","v":0},{"$f":"+SUMIFS(InTran!$R:$R,InTran!$G:$G,C74,InTran!$O:$O,$C$56)","v":0},{"$f":"+SUMIFS(InTran!$S:$S,InTran!$G:$G,C74,InTran!$O:$O,$C$56)","v":0},{"$f":"+SUMIFS(InTran!$M:$M,InTran!$G:$G,C74,InTran!$O:$O,$C$56)","v":0},{"$f":"+IFERROR(AB74/SUM($AB$58:$AB$79),0)","v":0},{"$f":"+RANK(AB74,$AB$58:$AB$79)","v":12}]
[null,null,"MAYBANK INVESTMENT BANK BHD (FOREIGN)",{"$f":"+SUMIFS(InTran!$R:$R,InTran!$G:$G,C75,InTran!$O:$O,$C$56,InTran!$C:$C,$D$56)","v":0},{"$f":"+SUMIFS(InTran!$S:$S,InTran!$G:$G,C75,InTran!$O:$O,$C$56,InTran!$C:$C,$D$56)","v":0},{"$f":"+SUMIFS(InTran!$M:$M,InTran!$G:$G,C75,InTran!$O:$O,$C$56,InTran!$C:$C,$D$56)","v":0},{"$f":"+IFERROR(D75/SUM($D$58:$D$79),0)","v":0},{"$f":"+SUMIFS(InTran!$R:$R,InTran!$G:$G,C75,InTran!$O:$O,$C$56,InTran!$C:$C,$H$56)","v":0},{"$f":"+SUMIFS(InTran!$S:$S,InTran!$G:$G,C75,InTran!$O:$O,$C$56,InTran!$C:$C,$H$56)","v":0},{"$f":"+SUMIFS(InTran!$M:$M,InTran!$G:$G,C75,InTran!$O:$O,$C$56,InTran!$C:$C,$H$56)","v":0},{"$f":"+IFERROR(H75/SUM($H$58:$H$79),0)","v":0},{"$f":"+SUMIFS(InTran!$R:$R,InTran!$G:$G,C75,InTran!$O:$O,$C$56,InTran!$C:$C,$L$56)","v":0},{"$f":"+SUMIFS(InTran!$S:$S,InTran!$G:$G,C75,InTran!$O:$O,$C$56,InTran!$C:$C,$L$56)","v":0},{"$f":"+SUMIFS(InTran!$M:$M,InTran!$G:$G,C75,InTran!$O:$O,$C$56,InTran!$C:$C,$L$56)","v":0},{"$f":"+IFERROR(L75/SUM($L$58:$L$79),0)","v":0},{"$f":"+SUMIFS(InTran!$R:$R,InTran!$G:$G,C75,InTran!$O:$O,$C$56,InTran!$C:$C,$P$56)","v":0},{"$f":"+SUMIFS(InTran!$S:$S,InTran!$G:$G,C75,InTran!$O:$O,$C$56,InTran!$C:$C,$P$56)","v":0},{"$f":"+SUMIFS(InTran!$M:$M,InTran!$G:$G,C75,InTran!$O:$O,$C$56,InTran!$C:$C,$P$56)","v":0},{"$f":"+IFERROR(P75/SUM($P$58:$P$79),0)","v":0},{"$f":"+SUMIFS(InTran!$R:$R,InTran!$G:$G,C75,InTran!$O:$O,$C$56,InTran!$C:$C,$T$56)","v":0},{"$f":"+SUMIFS(InTran!$S:$S,InTran!$G:$G,C75,InTran!$O:$O,$C$56,InTran!$C:$C,$T$56)","v":0},{"$f":"+SUMIFS(InTran!$M:$M,InTran!$G:$G,C75,InTran!$O:$O,$C$56,InTran!$C:$C,$T$56)","v":0},{"$f":"+IFERROR(T75/SUM($T$58:$T$79),0)","v":0},{"$f":"+SUMIFS(InTran!$R:$R,InTran!$G:$G,C75,InTran!$O:$O,$C$56,InTran!$C:$C,$X$56)","v":0},{"$f":"+SUMIFS(InTran!$S:$S,InTran!$G:$G,C75,InTran!$O:$O,$C$56,InTran!$C:$C,$X$56)","v":0},{"$f":"+SUMIFS(InTran!$M:$M,InTran!$G:$G,C75,InTran!$O:$O,$C$56,InTran!$C:$C,$X$56)","v":0},{"$f":"+IFERROR(X75/SUM($X$58:$X$79),0)","v":0},{"$f":"+SUMIFS(InTran!$R:$R,InTran!$G:$G,C75,InTran!$O:$O,$C$56)","v":0},{"$f":"+SUMIFS(InTran!$S:$S,InTran!$G:$G,C75,InTran!$O:$O,$C$56)","v":0},{"$f":"+SUMIFS(InTran!$M:$M,InTran!$G:$G,C75,InTran!$O:$O,$C$56)","v":0},{"$f":"+IFERROR(AB75/SUM($AB$58:$AB$79),0)","v":0},{"$f":"+RANK(AB75,$AB$58:$AB$79)","v":12}]
[null,null,"MIDF AMANAH INVESTMENT BANK BHD",{"$f":"+SUMIFS(InTran!$R:$R,InTran!$G:$G,C76,InTran!$O:$O,$C$56,InTran!$C:$C,$D$56)","v":0},{"$f":"+SUMIFS(InTran!$S:$S,InTran!$G:$G,C76,InTran!$O:$O,$C$56,InTran!$C:$C,$D$56)","v":0},{"$f":"+SUMIFS(InTran!$M:$M,InTran!$G:$G,C76,InTran!$O:$O,$C$56,InTran!$C:$C,$D$56)","v":0},{"$f":"+IFERROR(D76/SUM($D$58:$D$79),0)","v":0},{"$f":"+SUMIFS(InTran!$R:$R,InTran!$G:$G,C76,InTran!$O:$O,$C$56,InTran!$C:$C,$H$56)","v":0},{"$f":"+SUMIFS(InTran!$S:$S,InTran!$G:$G,C76,InTran!$O:$O,$C$56,InTran!$C:$C,$H$56)","v":0},{"$f":"+SUMIFS(InTran!$M:$M,InTran!$G:$G,C76,InTran!$O:$O,$C$56,InTran!$C:$C,$H$56)","v":0},{"$f":"+IFERROR(H76/SUM($H$58:$H$79),0)","v":0},{"$f":"+SUMIFS(InTran!$R:$R,InTran!$G:$G,C76,InTran!$O:$O,$C$56,InTran!$C:$C,$L$56)","v":0},{"$f":"+SUMIFS(InTran!$S:$S,InTran!$G:$G,C76,InTran!$O:$O,$C$56,InTran!$C:$C,$L$56)","v":0},{"$f":"+SUMIFS(InTran!$M:$M,InTran!$G:$G,C76,InTran!$O:$O,$C$56,InTran!$C:$C,$L$56)","v":0},{"$f":"+IFERROR(L76/SUM($L$58:$L$79),0)","v":0},{"$f":"+SUMIFS(InTran!$R:$R,InTran!$G:$G,C76,InTran!$O:$O,$C$56,InTran!$C:$C,$P$56)","v":0},{"$f":"+SUMIFS(InTran!$S:$S,InTran!$G:$G,C76,InTran!$O:$O,$C$56,InTran!$C:$C,$P$56)","v":0},{"$f":"+SUMIFS(InTran!$M:$M,InTran!$G:$G,C76,InTran!$O:$O,$C$56,InTran!$C:$C,$P$56)","v":0},{"$f":"+IFERROR(P76/SUM($P$58:$P$79),0)","v":0},{"$f":"+SUMIFS(InTran!$R:$R,InTran!$G:$G,C76,InTran!$O:$O,$C$56,InTran!$C:$C,$T$56)","v":0},{"$f":"+SUMIFS(InTran!$S:$S,InTran!$G:$G,C76,InTran!$O:$O,$C$56,InTran!$C:$C,$T$56)","v":0},{"$f":"+SUMIFS(InTran!$M:$M,InTran!$G:$G,C76,InTran!$O:$O,$C$56,InTran!$C:$C,$T$56)","v":0},{"$f":"+IFERROR(T76/SUM($T$58:$T$79),0)","v":0},{"$f":"+SUMIFS(InTran!$R:$R,InTran!$G:$G,C76,InTran!$O:$O,$C$56,InTran!$C:$C,$X$56)","v":0},{"$f":"+SUMIFS(InTran!$S:$S,InTran!$G:$G,C76,InTran!$O:$O,$C$56,InTran!$C:$C,$X$56)","v":0},{"$f":"+SUMIFS(InTran!$M:$M,InTran!$G:$G,C76,InTran!$O:$O,$C$56,InTran!$C:$C,$X$56)","v":0},{"$f":"+IFERROR(X76/SUM($X$58:$X$79),0)","v":0},{"$f":"+SUMIFS(InTran!$R:$R,InTran!$G:$G,C76,InTran!$O:$O,$C$56)","v":0},{"$f":"+SUMIFS(InTran!$S:$S,InTran!$G:$G,C76,InTran!$O:$O,$C$56)","v":0},{"$f":"+SUMIFS(InTran!$M:$M,InTran!$G:$G,C76,InTran!$O:$O,$C$56)","v":0},{"$f":"+IFERROR(AB76/SUM($AB$58:$AB$79),0)","v":0},{"$f":"+RANK(AB76,$AB$58:$AB$79)","v":12}]
[null,null,"NOT APPLICABLE",{"$f":"+SUMIFS(InTran!$R:$R,InTran!$G:$G,C77,InTran!$O:$O,$C$56,InTran!$C:$C,$D$56)","v":0},{"$f":"+SUMIFS(InTran!$S:$S,InTran!$G:$G,C77,InTran!$O:$O,$C$56,InTran!$C:$C,$D$56)","v":0},{"$f":"+SUMIFS(InTran!$M:$M,InTran!$G:$G,C77,InTran!$O:$O,$C$56,InTran!$C:$C,$D$56)","v":0},{"$f":"+IFERROR(D77/SUM($D$58:$D$79),0)","v":0},{"$f":"+SUMIFS(InTran!$R:$R,InTran!$G:$G,C77,InTran!$O:$O,$C$56,InTran!$C:$C,$H$56)","v":0},{"$f":"+SUMIFS(InTran!$S:$S,InTran!$G:$G,C77,InTran!$O:$O,$C$56,InTran!$C:$C,$H$56)","v":0},{"$f":"+SUMIFS(InTran!$M:$M,InTran!$G:$G,C77,InTran!$O:$O,$C$56,InTran!$C:$C,$H$56)","v":0},{"$f":"+IFERROR(H77/SUM($H$58:$H$79),0)","v":0},{"$f":"+SUMIFS(InTran!$R:$R,InTran!$G:$G,C77,InTran!$O:$O,$C$56,InTran!$C:$C,$L$56)","v":0},{"$f":"+SUMIFS(InTran!$S:$S,InTran!$G:$G,C77,InTran!$O:$O,$C$56,InTran!$C:$C,$L$56)","v":0},{"$f":"+SUMIFS(InTran!$M:$M,InTran!$G:$G,C77,InTran!$O:$O,$C$56,InTran!$C:$C,$L$56)","v":0},{"$f":"+IFERROR(L77/SUM($L$58:$L$79),0)","v":0},{"$f":"+SUMIFS(InTran!$R:$R,InTran!$G:$G,C77,InTran!$O:$O,$C$56,InTran!$C:$C,$P$56)","v":0},{"$f":"+SUMIFS(InTran!$S:$S,InTran!$G:$G,C77,InTran!$O:$O,$C$56,InTran!$C:$C,$P$56)","v":0},{"$f":"+SUMIFS(InTran!$M:$M,InTran!$G:$G,C77,InTran!$O:$O,$C$56,InTran!$C:$C,$P$56)","v":0},{"$f":"+IFERROR(P77/SUM($P$58:$P$79),0)","v":0},{"$f":"+SUMIFS(InTran!$R:$R,InTran!$G:$G,C77,InTran!$O:$O,$C$56,InTran!$C:$C,$T$56)","v":0},{"$f":"+SUMIFS(InTran!$S:$S,InTran!$G:$G,C77,InTran!$O:$O,$C$56,InTran!$C:$C,$T$56)","v":0},{"$f":"+SUMIFS(InTran!$M:$M,InTran!$G:$G,C77,InTran!$O:$O,$C$56,InTran!$C:$C,$T$56)","v":0},{"$f":"+IFERROR(T77/SUM($T$58:$T$79),0)","v":0},{"$f":"+SUMIFS(InTran!$R:$R,InTran!$G:$G,C77,InTran!$O:$O,$C$56,InTran!$C:$C,$X$56)","v":0},{"$f":"+SUMIFS(InTran!$S:$S,InTran!$G:$G,C77,InTran!$O:$O,$C$56,InTran!$C:$C,$X$56)","v":0},{"$f":"+SUMIFS(InTran!$M:$M,InTran!$G:$G,C77,InTran!$O:$O,$C$56,InTran!$C:$C,$X$56)","v":0},{"$f":"+IFERROR(X77/SUM($X$58:$X$79),0)","v":0},{"$f":"+SUMIFS(InTran!$R:$R,InTran!$G:$G,C77,InTran!$O:$O,$C$56)","v":0},{"$f":"+SUMIFS(InTran!$S:$S,InTran!$G:$G,C77,InTran!$O:$O,$C$56)","v":0},{"$f":"+SUMIFS(InTran!$M:$M,InTran!$G:$G,C77,InTran!$O:$O,$C$56)","v":0},{"$f":"+IFERROR(AB77/SUM($AB$58:$AB$79),0)","v":0},{"$f":"+RANK(AB77,$AB$58:$AB$79)","v":12}]
[null,null,"TA SECURITIES HOLDINGS BHD",{"$f":"+SUMIFS(InTran!$R:$R,InTran!$G:$G,C78,InTran!$O:$O,$C$56,InTran!$C:$C,$D$56)","v":0},{"$f":"+SUMIFS(InTran!$S:$S,InTran!$G:$G,C78,InTran!$O:$O,$C$56,InTran!$C:$C,$D$56)","v":0},{"$f":"+SUMIFS(InTran!$M:$M,InTran!$G:$G,C78,InTran!$O:$O,$C$56,InTran!$C:$C,$D$56)","v":0},{"$f":"+IFERROR(D78/SUM($D$58:$D$79),0)","v":0},{"$f":"+SUMIFS(InTran!$R:$R,InTran!$G:$G,C78,InTran!$O:$O,$C$56,InTran!$C:$C,$H$56)","v":0},{"$f":"+SUMIFS(InTran!$S:$S,InTran!$G:$G,C78,InTran!$O:$O,$C$56,InTran!$C:$C,$H$56)","v":0},{"$f":"+SUMIFS(InTran!$M:$M,InTran!$G:$G,C78,InTran!$O:$O,$C$56,InTran!$C:$C,$H$56)","v":0},{"$f":"+IFERROR(H78/SUM($H$58:$H$79),0)","v":0},{"$f":"+SUMIFS(InTran!$R:$R,InTran!$G:$G,C78,InTran!$O:$O,$C$56,InTran!$C:$C,$L$56)","v":0},{"$f":"+SUMIFS(InTran!$S:$S,InTran!$G:$G,C78,InTran!$O:$O,$C$56,InTran!$C:$C,$L$56)","v":0},{"$f":"+SUMIFS(InTran!$M:$M,InTran!$G:$G,C78,InTran!$O:$O,$C$56,InTran!$C:$C,$L$56)","v":0},{"$f":"+IFERROR(L78/SUM($L$58:$L$79),0)","v":0},{"$f":"+SUMIFS(InTran!$R:$R,InTran!$G:$G,C78,InTran!$O:$O,$C$56,InTran!$C:$C,$P$56)","v":0},{"$f":"+SUMIFS(InTran!$S:$S,InTran!$G:$G,C78,InTran!$O:$O,$C$56,InTran!$C:$C,$P$56)","v":0},{"$f":"+SUMIFS(InTran!$M:$M,InTran!$G:$G,C78,InTran!$O:$O,$C$56,InTran!$C:$C,$P$56)","v":0},{"$f":"+IFERROR(P78/SUM($P$58:$P$79),0)","v":0},{"$f":"+SUMIFS(InTran!$R:$R,InTran!$G:$G,C78,InTran!$O:$O,$C$56,InTran!$C:$C,$T$56)","v":0},{"$f":"+SUMIFS(InTran!$S:$S,InTran!$G:$G,C78,InTran!$O:$O,$C$56,InTran!$C:$C,$T$56)","v":0},{"$f":"+SUMIFS(InTran!$M:$M,InTran!$G:$G,C78,InTran!$O:$O,$C$56,InTran!$C:$C,$T$56)","v":0},{"$f":"+IFERROR(T78/SUM($T$58:$T$79),0)","v":0},{"$f":"+SUMIFS(InTran!$R:$R,InTran!$G:$G,C78,InTran!$O:$O,$C$56,InTran!$C:$C,$X$56)","v":0},{"$f":"+SUMIFS(InTran!$S:$S,InTran!$G:$G,C78,InTran!$O:$O,$C$56,InTran!$C:$C,$X$56)","v":0},{"$f":"+SUMIFS(InTran!$M:$M,InTran!$G:$G,C78,InTran!$O:$O,$C$56,InTran!$C:$C,$X$56)","v":0},{"$f":"+IFERROR(X78/SUM($X$58:$X$79),0)","v":0},{"$f":"+SUMIFS(InTran!$R:$R,InTran!$G:$G,C78,InTran!$O:$O,$C$56)","v":0},{"$f":"+SUMIFS(InTran!$S:$S,InTran!$G:$G,C78,InTran!$O:$O,$C$56)","v":0},{"$f":"+SUMIFS(InTran!$M:$M,InTran!$G:$G,C78,InTran!$O:$O,$C$56)","v":0},{"$f":"+IFERROR(AB78/SUM($AB$58:$AB$79),0)","v":0},{"$f":"+RANK(AB78,$AB$58:$AB$79)","v":12}]
[null,null,"UBS SECURITIES MALAYSIA SDN BHD",{"$f":"+SUMIFS(InTran!$R:$R,InTran!$G:$G,C79,InTran!$O:$O,$C$56,InTran!$C:$C,$D$56)","v":0},{"$f":"+SUMIFS(InTran!$S:$S,InTran!$G:$G,C79,InTran!$O:$O,$C$56,InTran!$C:$C,$D$56)","v":0},{"$f":"+SUMIFS(InTran!$M:$M,InTran!$G:$G,C79,InTran!$O:$O,$C$56,InTran!$C:$C,$D$56)","v":0},{"$f":"+IFERROR(D79/SUM($D$58:$D$79),0)","v":0},{"$f":"+SUMIFS(InTran!$R:$R,InTran!$G:$G,C79,InTran!$O:$O,$C$56,InTran!$C:$C,$H$56)","v":0},{"$f":"+SUMIFS(InTran!$S:$S,InTran!$G:$G,C79,InTran!$O:$O,$C$56,InTran!$C:$C,$H$56)","v":0},{"$f":"+SUMIFS(InTran!$M:$M,InTran!$G:$G,C79,InTran!$O:$O,$C$56,InTran!$C:$C,$H$56)","v":0},{"$f":"+IFERROR(H79/SUM($H$58:$H$79),0)","v":0},{"$f":"+SUMIFS(InTran!$R:$R,InTran!$G:$G,C79,InTran!$O:$O,$C$56,InTran!$C:$C,$L$56)","v":0},{"$f":"+SUMIFS(InTran!$S:$S,InTran!$G:$G,C79,InTran!$O:$O,$C$56,InTran!$C:$C,$L$56)","v":0},{"$f":"+SUMIFS(InTran!$M:$M,InTran!$G:$G,C79,InTran!$O:$O,$C$56,InTran!$C:$C,$L$56)","v":0},{"$f":"+IFERROR(L79/SUM($L$58:$L$79),0)","v":0},{"$f":"+SUMIFS(InTran!$R:$R,InTran!$G:$G,C79,InTran!$O:$O,$C$56,InTran!$C:$C,$P$56)","v":0},{"$f":"+SUMIFS(InTran!$S:$S,InTran!$G:$G,C79,InTran!$O:$O,$C$56,InTran!$C:$C,$P$56)","v":0},{"$f":"+SUMIFS(InTran!$M:$M,InTran!$G:$G,C79,InTran!$O:$O,$C$56,InTran!$C:$C,$P$56)","v":0},{"$f":"+IFERROR(P79/SUM($P$58:$P$79),0)","v":0},{"$f":"+SUMIFS(InTran!$R:$R,InTran!$G:$G,C79,InTran!$O:$O,$C$56,InTran!$C:$C,$T$56)","v":0},{"$f":"+SUMIFS(InTran!$S:$S,InTran!$G:$G,C79,InTran!$O:$O,$C$56,InTran!$C:$C,$T$56)","v":0},{"$f":"+SUMIFS(InTran!$M:$M,InTran!$G:$G,C79,InTran!$O:$O,$C$56,InTran!$C:$C,$T$56)","v":0},{"$f":"+IFERROR(T79/SUM($T$58:$T$79),0)","v":0},{"$f":"+SUMIFS(InTran!$R:$R,InTran!$G:$G,C79,InTran!$O:$O,$C$56,InTran!$C:$C,$X$56)","v":0},{"$f":"+SUMIFS(InTran!$S:$S,InTran!$G:$G,C79,InTran!$O:$O,$C$56,InTran!$C:$C,$X$56)","v":0},{"$f":"+SUMIFS(InTran!$M:$M,InTran!$G:$G,C79,InTran!$O:$O,$C$56,InTran!$C:$C,$X$56)","v":0},{"$f":"+IFERROR(X79/SUM($X$58:$X$79),0)","v":0},{"$f":"+SUMIFS(InTran!$R:$R,InTran!$G:$G,C79,InTran!$O:$O,$C$56)","v":0},{"$f":"+SUMIFS(InTran!$S:$S,InTran!$G:$G,C79,InTran!$O:$O,$C$56)","v":0},{"$f":"+SUMIFS(InTran!$M:$M,InTran!$G:$G,C79,InTran!$O:$O,$C$56)","v":0},{"$f":"+IFERROR(AB79/SUM($AB$58:$AB$79),0)","v":0},{"$f":"+RANK(AB79,$AB$58:$AB$79)","v":12}]
[null,null,"Total",{"$f":"SUM(D58:D79)","v":186670411.57999998},{"$f":"SUM(E58:E79)","v":197751.82},{"$f":"SUM(F58:F79)","v":10715820.91},{"$f":"SUM(G58:G79)","v":0.99999999999999989},{"$f":"SUM(H58:H79)","v":194887424.85999998},{"$f":"SUM(I58:I79)","v":291574.14000000007},{"$f":"SUM(J58:J79)","v":7854167.0199999996},{"$f":"SUM(K58:K79)","v":1},{"$f":"SUM(L58:L79)","v":0},{"$f":"SUM(M58:M79)","v":0},{"$f":"SUM(N58:N79)","v":0},{"$f":"SUM(O58:O79)","v":0},{"$f":"SUM(P58:P79)","v":0},{"$f":"SUM(Q58:Q79)","v":0},{"$f":"SUM(R58:R79)","v":0},{"$f":"SUM(S58:S79)","v":0},{"$f":"SUM(T58:T79)","v":0},{"$f":"SUM(U58:U79)","v":0},{"$f":"SUM(V58:V79)","v":0},{"$f":"SUM(W58:W79)","v":0},{"$f":"SUM(X58:X79)","v":0},{"$f":"SUM(Y58:Y79)","v":0},{"$f":"SUM(Z58:Z79)","v":0},{"$f":"SUM(AA58:AA79)","v":0},{"$f":"SUM(AB58:AB79)","v":381557836.44},{"$f":"SUM(AC58:AC79)","v":489325.96},{"$f":"SUM(AD58:AD79)","v":18569987.93},{"$f":"SUM(AE58:AE79)","v":0.99999999999999989}]
[]
[null,null,"KHAIRUL.ANWAR","YH-AUR-VCAM",null,null,null,"KWAP",null,null,null,"MEQESG",null,null,null,"YAMIR-VCAM",null,null,null,"VCAM-TABA",null,null,null,"ASEAN5ESG",null,null,null,"Total"]
[null,null,"Brokers","Trade Value (RM)","Brokerage Fees (RM)","Capital Gains (RM)","%","Trade Value (RM)","Brokerage Fees (RM)","Capital Gains (RM)","%","Trade Value (RM)","Brokerage Fees (RM)","Capital Gains (RM)","%","Trade Value (RM)","Brokerage Fees (RM)","Capital Gains (RM)","%","Trade Value (RM)","Brokerage Fees (RM)","Capital Gains (RM)","%","Trade Value (RM)","Brokerage Fees (RM)","Capital Gains (RM)","%","Trade Value (RM)","Brokerage Fees (RM)","Capital Gains (RM)","%","Trade Value Ranking"]
[null,null,"MACQUARIE CAPITAL SECURITIES (MALAYSIA) SDN BHD",{"$f":"+SUMIFS(InTran!$R:$R,InTran!$G:$G,C84,InTran!$O:$O,$C$82,InTran!$C:$C,$D$82)","v":0},{"$f":"+SUMIFS(InTran!$S:$S,InTran!$G:$G,C84,InTran!$O:$O,$C$82,InTran!$C:$C,$D$82)","v":0},{"$f":"+SUMIFS(InTran!$M:$M,InTran!$G:$G,C84,InTran!$O:$O,$C$82,InTran!$C:$C,$D$82)","v":0},{"$f":"+IFERROR(D84/SUM($D$84:$D$105),0)","v":0},{"$f":"+SUMIFS(InTran!$R:$R,InTran!$G:$G,C84,InTran!$O:$O,$C$82,InTran!$C:$C,$H$82)","v":46533197.080000006},{"$f":"+SUMIFS(InTran!$S:$S,InTran!$G:$G,C84,InTran!$O:$O,$C$82,InTran!$C:$C,$H$82)","v":84490.63},{"$f":"+SUMIFS(InTran!$M:$M,InTran!$G:$G,C84,InTran!$O:$O,$C$82,InTran!$C:$C,$H$82)","v":885161.02999999991},{"$f":"+IFERROR(H84/SUM($H$84:$H$105),0)","v":0.19587434221292105},{"$f":"+SUMIFS(InTran!$R:$R,InTran!$G:$G,C84,InTran!$O:$O,$C$82,InTran!$C:$C,$L$82)","v":0},{"$f":"+SUMIFS(InTran!$S:$S,InTran!$G:$G,C84,InTran!$O:$O,$C$82,InTran!$C:$C,$L$82)","v":0},{"$f":"+SUMIFS(InTran!$M:$M,InTran!$G:$G,C84,InTran!$O:$O,$C$82,InTran!$C:$C,$L$82)","v":0},{"$f":"+IFERROR(L84/SUM($L$84:$L$105),0)","v":0},{"$f":"+SUMIFS(InTran!$R:$R,InTran!$G:$G,C84,InTran!$O:$O,$C$82,InTran!$C:$C,$P$82)","v":0},{"$f":"+SUMIFS(InTran!$S:$S,InTran!$G:$G,C84,InTran!$O:$O,$C$82,InTran!$C:$C,$P$82)","v":0},{"$f":"+SUMIFS(InTran!$M:$M,InTran!$G:$G,C84,InTran!$O:$O,$C$82,InTran!$C:$C,$P$82)","v":0},{"$f":"+IFERROR(P84/SUM($P$84:$P$105),0)","v":0},{"$f":"+SUMIFS(InTran!$R:$R,InTran!$G:$G,C84,InTran!$O:$O,$C$82,InTran!$C:$C,$T$82)","v":0},{"$f":"+SUMIFS(InTran!$S:$S,InTran!$G:$G,C84,InTran!$O:$O,$C$82,InTran!$C:$C,$T$82)","v":0},{"$f":"+SUMIFS(InTran!$M:$M,InTran!$G:$G,C84,InTran!$O:$O,$C$82,InTran!$C:$C,$T$82)","v":0},{"$f":"+IFERROR(T84/SUM($T$84:$T$105),0)","v":0},{"$f":"+SUMIFS(InTran!$R:$R,InTran!$G:$G,C84,InTran!$O:$O,$C$82,InTran!$C:$C,$X$82)","v":0},{"$f":"+SUMIFS(InTran!$S:$S,InTran!$G:$G,C84,InTran!$O:$O,$C$82,InTran!$C:$C,$X$82)","v":0},{"$f":"+SUMIFS(InTran!$M:$M,InTran!$G:$G,C84,InTran!$O:$O,$C$82,InTran!$C:$C,$X$82)","v":0},{"$f":"+IFERROR(X84/SUM($X$84:$X$105),0)","v":0},{"$f":"+SUMIFS(InTran!$R:$R,InTran!$G:$G,C84,InTran!$O:$O,$C$82)","v":46533197.080000006},{"$f":"+SUMIFS(InTran!$S:$S,InTran!$G:$G,C84,InTran!$O:$O,$C$82)","v":84490.63},{"$f":"+SUMIFS(InTran!$M:$M,InTran!$G:$G,C84,InTran!$O:$O,$C$82)","v":885161.02999999991},{"$f":"+IFERROR(AB84/SUM($AB$84:$AB$105),0)","v":0.1764158550255312},{"$f":"+RANK(AB84,$AB$84:$AB$105)","v":1}]
[null,null,"KAF-SEAGROATT & CAMPBELL SECURITIES SDN BHD",{"$f":"+SUMIFS(InTran!$R:$R,InTran!$G:$G,C85,InTran!$O:$O,$C$82,InTran!$C:$C,$D$82)","v":1897474.16},{"$f":"+SUMIFS(InTran!$S:$S,InTran!$G:$G,C85,InTran!$O:$O,$C$82,InTran!$C:$C,$D$82)","v":3804.62},{"$f":"+SUMIFS(InTran!$M:$M,InTran!$G:$G,C85,InTran!$O:$O,$C$82,InTran!$C:$C,$D$82)","v":522274.16},{"$f":"+IFERROR(D85/SUM($D$84:$D$105),0)","v":0.19794935446610654},{"$f":"+SUMIFS(InTran!$R:$R,InTran!$G:$G,C85,InTran!$O:$O,$C$82,InTran!$C:$C,$H$82)","v":38693137.100000001},{"$f":"+SUMIFS(InTran!$S:$S,InTran!$G:$G,C85,InTran!$O:$O,$C$82,InTran!$C:$C,$H$82)","v":57125.8},{"$f":"+SUMIFS(InTran!$M:$M,InTran!$G:$G,C85,InTran!$O:$O,$C$82,InTran!$C:$C,$H$82)","v":1123969.21},{"$f":"+IFERROR(H85/SUM($H$84:$H$105),0)","v":0.16287281453253785},{"$f":"+SUMIFS(InTran!$R:$R,InTran!$G:$G,C85,InTran!$O:$O,$C$82,InTran!$C:$C,$L$82)","v":0},{"$f":"+SUMIFS(InTran!$S:$S,InTran!$G:$G,C85,InTran!$O:$O,$C$82,InTran!$C:$C,$L$82)","v":0},{"$f":"+SUMIFS(InTran!$M:$M,InTran!$G:$G,C85,InTran!$O:$O,$C$82,InTran!$C:$C,$L$82)","v":0},{"$f":"+IFERROR(L85/SUM($L$84:$L$105),0)","v":0},{"$f":"+SUMIFS(InTran!$R:$R,InTran!$G:$G,C85,InTran!$O:$O,$C$82,InTran!$C:$C,$P$82)","v":1946482.38},{"$f":"+SUMIFS(InTran!$S:$S,InTran!$G:$G,C85,InTran!$O:$O,$C$82,InTran!$C:$C,$P$82)","v":3902.88},{"$f":"+SUMIFS(InTran!$M:$M,InTran!$G:$G,C85,InTran!$O:$O,$C$82,InTran!$C:$C,$P$82)","v":118495.86},{"$f":"+IFERROR(P85/SUM($P$84:$P$105),0)","v":1},{"$f":"+SUMIFS(InTran!$R:$R,InTran!$G:$G,C85,InTran!$O:$O,$C$82,InTran!$C:$C,$T$82)","v":0},{"$f":"+SUMIFS(InTran!$S:$S,InTran!$G:$G,C85,InTran!$O:$O,$C$82,InTran!$C:$C,$T$82)","v":0},{"$f":"+SUMIFS(InTran!$M:$M,InTran!$G:$G,C85,InTran!$O:$O,$C$82,InTran!$C:$C,$T$82)","v":0},{"$f":"+IFERROR(T85/SUM($T$84:$T$105),0)","v":0},{"$f":"+SUMIFS(InTran!$R:$R,InTran!$G:$G,C85,InTran!$O:$O,$C$82,InTran!$C:$C,$X$82)","v":0},{"$f":"+SUMIFS(InTran!$S:$S,InTran!$G:$G,C85,InTran!$O:$O,$C$82,InTran!$C:$C,$X$82)","v":0},{"$f":"+SUMIFS(InTran!$M:$M,InTran!$G:$G,C85,InTran!$O:$O,$C$82,InTran!$C:$C,$X$82)","v":0},{"$f":"+IFERROR(X85/SUM($X$84:$X$105),0)","v":0},{"$f":"+SUMIFS(InTran!$R:$R,InTran!$G:$G,C85,InTran!$O:$O,$C$82)","v":42537093.639999993},{"$f":"+SUMIFS(InTran!$S:$S,InTran!$G:$G,C85,InTran!$O:$O,$C$82)","v":64833.299999999996},{"$f":"+SUMIFS(InTran!$M:$M,InTran!$G:$G,C85,InTran!$O:$O,$C$82)","v":1764739.23},{"$f":"+IFERROR(AB85/SUM($AB$84:$AB$105),0)","v":0.16126589651470563},{"$f":"+RANK(AB85,$AB$84:$AB$105)","v":2}]
[null,null,"TA SECURITIES HOLDINGS BHD",{"$f":"+SUMIFS(InTran!$R:$R,InTran!$G:$G,C86,InTran!$O:$O,$C$82,InTran!$C:$C,$D$82)","v":0},{"$f":"+SUMIFS(InTran!$S:$S,InTran!$G:$G,C86,InTran!$O:$O,$C$82,InTran!$C:$C,$D$82)","v":0},{"$f":"+SUMIFS(InTran!$M:$M,InTran!$G:$G,C86,InTran!$O:$O,$C$82,InTran!$C:$C,$D$82)","v":0},{"$f":"+IFERROR(D86/SUM($D$84:$D$105),0)","v":0},{"$f":"+SUMIFS(InTran!$R:$R,InTran!$G:$G,C86,InTran!$O:$O,$C$82,InTran!$C:$C,$H$82)","v":40426520.920000002},{"$f":"+SUMIFS(InTran!$S:$S,InTran!$G:$G,C86,InTran!$O:$O,$C$82,InTran!$C:$C,$H$82)","v":69133.489999999991},{"$f":"+SUMIFS(InTran!$M:$M,InTran!$G:$G,C86,InTran!$O:$O,$C$82,InTran!$C:$C,$H$82)","v":2346945.9599999995},{"$f":"+IFERROR(H86/SUM($H$84:$H$105),0)","v":0.17016922734856049},{"$f":"+SUMIFS(InTran!$R:$R,InTran!$G:$G,C86,InTran!$O:$O,$C$82,InTran!$C:$C,$L$82)","v":0},{"$f":"+SUMIFS(InTran!$S:$S,InTran!$G:$G,C86,InTran!$O:$O,$C$82,InTran!$C:$C,$L$82)","v":0},{"$f":"+SUMIFS(InTran!$M:$M,InTran!$G:$G,C86,InTran!$O:$O,$C$82,InTran!$C:$C,$L$82)","v":0},{"$f":"+IFERROR(L86/SUM($L$84:$L$105),0)","v":0},{"$f":"+SUMIFS(InTran!$R:$R,InTran!$G:$G,C86,InTran!$O:$O,$C$82,InTran!$C:$C,$P$82)","v":0},{"$f":"+SUMIFS(InTran!$S:$S,InTran!$G:$G,C86,InTran!$O:$O,$C$82,InTran!$C:$C,$P$82)","v":0},{"$f":"+SUMIFS(InTran!$M:$M,InTran!$G:$G,C86,InTran!$O:$O,$C$82,InTran!$C:$C,$P$82)","v":0},{"$f":"+IFERROR(P86/SUM($P$84:$P$105),0)","v":0},{"$f":"+SUMIFS(InTran!$R:$R,InTran!$G:$G,C86,InTran!$O:$O,$C$82,InTran!$C:$C,$T$82)","v":0},{"$f":"+SUMIFS(InTran!$S:$S,InTran!$G:$G,C86,InTran!$O:$O,$C$82,InTran!$C:$C,$T$82)","v":0},{"$f":"+SUMIFS(InTran!$M:$M,InTran!$G:$G,C86,InTran!$O:$O,$C$82,InTran!$C:$C,$T$82)","v":0},{"$f":"+IFERROR(T86/SUM($T$84:$T$105),0)","v":0},{"$f":"+SUMIFS(InTran!$R:$R,InTran!$G:$G,C86,InTran!$O:$O,$C$82,InTran!$C:$C,$X$82)","v":0},{"$f":"+SUMIFS(InTran!$S:$S,InTran!$G:$G,C86,InTran!$O:$O,$C$82,InTran!$C:$C,$X$82)","v":0},{"$f":"+SUMIFS(InTran!$M:$M,InTran!$G:$G,C86,InTran!$O:$O,$C$82,InTran!$C:$C,$X$82)","v":0},{"$f":"+IFERROR(X86/SUM($X$84:$X$105),0)","v":0},{"$f":"+SUMIFS(InTran!$R:$R,InTran!$G:$G,C86,InTran!$O:$O,$C$82)","v":40426520.920000002},{"$f":"+SUMIFS(InTran!$S:$S,InTran!$G:$G,C86,InTran!$O:$O,$C$82)","v":69133.489999999991},{"$f":"+SUMIFS(InTran!$M:$M,InTran!$G:$G,C86,InTran!$O:$O,$C$82)","v":2346945.9599999995},{"$f":"+IFERROR(AB86/SUM($AB$84:$AB$105),0)","v":0.15326432958277458},{"$f":"+RANK(AB86,$AB$84:$AB$105)","v":3}]
[null,null,"KENANGA INVESTMENT BANK BHD",{"$f":"+SUMIFS(InTran!$R:$R,InTran!$G:$G,C87,InTran!$O:$O,$C$82,InTran!$C:$C,$D$82)","v":0},{"$f":"+SUMIFS(InTran!$S:$S,InTran!$G:$G,C87,InTran!$O:$O,$C$82,InTran!$C:$C,$D$82)","v":0},{"$f":"+SUMIFS(InTran!$M:$M,InTran!$G:$G,C87,InTran!$O:$O,$C$82,InTran!$C:$C,$D$82)","v":0},{"$f":"+IFERROR(D87/SUM($D$84:$D$105),0)","v":0},{"$f":"+SUMIFS(InTran!$R:$R,InTran!$G:$G,C87,InTran!$O:$O,$C$82,InTran!$C:$C,$H$82)","v":38153877.180000007},{"$f":"+SUMIFS(InTran!$S:$S,InTran!$G:$G,C87,InTran!$O:$O,$C$82,InTran!$C:$C,$H$82)","v":62552.249999999993},{"$f":"+SUMIFS(InTran!$M:$M,InTran!$G:$G,C87,InTran!$O:$O,$C$82,InTran!$C:$C,$H$82)","v":2468431.0700000003},{"$f":"+IFERROR(H87/SUM($H$84:$H$105),0)","v":0.16060288276897994},{"$f":"+SUMIFS(InTran!$R:$R,InTran!$G:$G,C87,InTran!$O:$O,$C$82,InTran!$C:$C,$L$82)","v":344543.65},{"$f":"+SUMIFS(InTran!$S:$S,InTran!$G:$G,C87,InTran!$O:$O,$C$82,InTran!$C:$C,$L$82)","v":772.68},{"$f":"+SUMIFS(InTran!$M:$M,InTran!$G:$G,C87,InTran!$O:$O,$C$82,InTran!$C:$C,$L$82)","v":0},{"$f":"+IFERROR(L87/SUM($L$84:$L$105),0)","v":2.4506966005683771E-2},{"$f":"+SUMIFS(InTran!$R:$R,InTran!$G:$G,C87,InTran!$O:$O,$C$82,InTran!$C:$C,$P$82)","v":0},{"$f":"+SUMIFS(InTran!$S:$S,InTran!$G:$G,C87,InTran!$O:$O,$C$82,InTran!$C:$C,$P$82)","v":0},{"$f":"+SUMIFS(InTran!$M:$M,InTran!$G:$G,C87,InTran!$O:$O,$C$82,InTran!$C:$C,$P$82)","v":0},{"$f":"+IFERROR(P87/SUM($P$84:$P$105),0)","v":0},{"$f":"+SUMIFS(InTran!$R:$R,InTran!$G:$G,C87,InTran!$O:$O,$C$82,InTran!$C:$C,$T$82)","v":119042.95000000001},{"$f":"+SUMIFS(InTran!$S:$S,InTran!$G:$G,C87,InTran!$O:$O,$C$82,InTran!$C:$C,$T$82)","v":267.52999999999997},{"$f":"+SUMIFS(InTran!$M:$M,InTran!$G:$G,C87,InTran!$O:$O,$C$82,InTran!$C:$C,$T$82)","v":9097.41},{"$f":"+IFERROR(T87/SUM($T$84:$T$105),0)","v":0.23245946051604799},{"$f":"+SUMIFS(InTran!$R:$R,InTran!$G:$G,C87,InTran!$O:$O,$C$82,InTran!$C:$C,$X$82)","v":0},{"$f":"+SUMIFS(InTran!$S:$S,InTran!$G:$G,C87,InTran!$O:$O,$C$82,InTran!$C:$C,$X$82)","v":0},{"$f":"+SUMIFS(InTran!$M:$M,InTran!$G:$G,C87,InTran!$O:$O,$C$82,InTran!$C:$C,$X$82)","v":0},{"$f":"+IFERROR(X87/SUM($X$84:$X$105),0)","v":0},{"$f":"+SUMIFS(InTran!$R:$R,InTran!$G:$G,C87,InTran!$O:$O,$C$82)","v":38617463.780000009},{"$f":"+SUMIFS(InTran!$S:$S,InTran!$G:$G,C87,InTran!$O:$O,$C$82)","v":63592.459999999992},{"$f":"+SUMIFS(InTran!$M:$M,InTran!$G:$G,C87,InTran!$O:$O,$C$82)","v":2477528.4800000004},{"$f":"+IFERROR(AB87/SUM($AB$84:$AB$105),0)","v":0.14640586332277392},{"$f":"+RANK(AB87,$AB$84:$AB$105)","v":4}]
[null,null,"CIMB INVESTMENT BANK BHD",{"$f":"+SUMIFS(InTran!$R:$R,InTran!$G:$G,C88,InTran!$O:$O,$C$82,InTran!$C:$C,$D$82)","v":0},{"$f":"+SUMIFS(InTran!$S:$S,InTran!$G:$G,C88,InTran!$O:$O,$C$82,InTran!$C:$C,$D$82)","v":0},{"$f":"+SUMIFS(InTran!$M:$M,InTran!$G:$G,C88,InTran!$O:$O,$C$82,InTran!$C:$C,$D$82)","v":0},{"$f":"+IFERROR(D88/SUM($D$84:$D$105),0)","v":0},{"$f":"+SUMIFS(InTran!$R:$R,InTran!$G:$G,C88,InTran!$O:$O,$C$82,InTran!$C:$C,$H$82)","v":32286572.879999999},{"$f":"+SUMIFS(InTran!$S:$S,InTran!$G:$G,C88,InTran!$O:$O,$C$82,InTran!$C:$C,$H$82)","v":56639.669999999991},{"$f":"+SUMIFS(InTran!$M:$M,InTran!$G:$G,C88,InTran!$O:$O,$C$82,InTran!$C:$C,$H$82)","v":1166203.69},{"$f":"+IFERROR(H88/SUM($H$84:$H$105),0)","v":0.13590536696430092},{"$f":"+SUMIFS(InTran!$R:$R,InTran!$G:$G,C88,InTran!$O:$O,$C$82,InTran!$C:$C,$L$82)","v":0},{"$f":"+SUMIFS(InTran!$S:$S,InTran!$G:$G,C88,InTran!$O:$O,$C$82,InTran!$C:$C,$L$82)","v":0},{"$f":"+SUMIFS(InTran!$M:$M,InTran!$G:$G,C88,InTran!$O:$O,$C$82,InTran!$C:$C,$L$82)","v":0},{"$f":"+IFERROR(L88/SUM($L$84:$L$105),0)","v":0},{"$f":"+SUMIFS(InTran!$R:$R,InTran!$G:$G,C88,InTran!$O:$O,$C$82,InTran!$C:$C,$P$82)","v":0},{"$f":"+SUMIFS(InTran!$S:$S,InTran!$G:$G,C88,InTran!$O:$O,$C$82,InTran!$C:$C,$P$82)","v":0},{"$f":"+SUMIFS(InTran!$M:$M,InTran!$G:$G,C88,InTran!$O:$O,$C$82,InTran!$C:$C,$P$82)","v":0},{"$f":"+IFERROR(P88/SUM($P$84:$P$105),0)","v":0},{"$f":"+SUMIFS(InTran!$R:$R,InTran!$G:$G,C88,InTran!$O:$O,$C$82,InTran!$C:$C,$T$82)","v":0},{"$f":"+SUMIFS(InTran!$S:$S,InTran!$G:$G,C88,InTran!$O:$O,$C$82,InTran!$C:$C,$T$82)","v":0},{"$f":"+SUMIFS(InTran!$M:$M,InTran!$G:$G,C88,InTran!$O:$O,$C$82,InTran!$C:$C,$T$82)","v":0},{"$f":"+IFERROR(T88/SUM($T$84:$T$105),0)","v":0},{"$f":"+SUMIFS(InTran!$R:$R,InTran!$G:$G,C88,InTran!$O:$O,$C$82,InTran!$C:$C,$X$82)","v":0},{"$f":"+SUMIFS(InTran!$S:$S,InTran!$G:$G,C88,InTran!$O:$O,$C$82,InTran!$C:$C,$X$82)","v":0},{"$f":"+SUMIFS(InTran!$M:$M,InTran!$G:$G,C88,InTran!$O:$O,$C$82,InTran!$C:$C,$X$82)","v":0},{"$f":"+IFERROR(X88/SUM($X$84:$X$105),0)","v":0},{"$f":"+SUMIFS(InTran!$R:$R,InTran!$G:$G,C88,InTran!$O:$O,$C$82)","v":32286572.879999999},{"$f":"+SUMIFS(InTran!$S:$S,InTran!$G:$G,C88,InTran!$O:$O,$C$82)","v":56639.669999999991},{"$f":"+SUMIFS(InTran!$M:$M,InTran!$G:$G,C88,InTran!$O:$O,$C$82)","v":1166203.69},{"$f":"+IFERROR(AB88/SUM($AB$84:$AB$105),0)","v":0.12240429882083929},{"$f":"+RANK(AB88,$AB$84:$AB$105)","v":5}]
[null,null,"RHB INVESTMENT BANK BERHAD",{"$f":"+SUMIFS(InTran!$R:$R,InTran!$G:$G,C89,InTran!$O:$O,$C$82,InTran!$C:$C,$D$82)","v":0},{"$f":"+SUMIFS(InTran!$S:$S,InTran!$G:$G,C89,InTran!$O:$O,$C$82,InTran!$C:$C,$D$82)","v":0},{"$f":"+SUMIFS(InTran!$M:$M,InTran!$G:$G,C89,InTran!$O:$O,$C$82,InTran!$C:$C,$D$82)","v":0},{"$f":"+IFERROR(D89/SUM($D$84:$D$105),0)","v":0},{"$f":"+SUMIFS(InTran!$R:$R,InTran!$G:$G,C89,InTran!$O:$O,$C$82,InTran!$C:$C,$H$82)","v":21526203.770000003},{"$f":"+SUMIFS(InTran!$S:$S,InTran!$G:$G,C89,InTran!$O:$O,$C$82,InTran!$C:$C,$H$82)","v":43431.88},{"$f":"+SUMIFS(InTran!$M:$M,InTran!$G:$G,C89,InTran!$O:$O,$C$82,InTran!$C:$C,$H$82)","v":604155.82999999996},{"$f":"+IFERROR(H89/SUM($H$84:$H$105),0)","v":9.0611246773806498E-2},{"$f":"+SUMIFS(InTran!$R:$R,InTran!$G:$G,C89,InTran!$O:$O,$C$82,InTran!$C:$C,$L$82)","v":0},{"$f":"+SUMIFS(InTran!$S:$S,InTran!$G:$G,C89,InTran!$O:$O,$C$82,InTran!$C:$C,$L$82)","v":0},{"$f":"+SUMIFS(InTran!$M:$M,InTran!$G:$G,C89,InTran!$O:$O,$C$82,InTran!$C:$C,$L$82)","v":0},{"$f":"+IFERROR(L89/SUM($L$84:$L$105),0)","v":0},{"$f":"+SUMIFS(InTran!$R:$R,InTran!$G:$G,C89,InTran!$O:$O,$C$82,InTran!$C:$C,$P$82)","v":0},{"$f":"+SUMIFS(InTran!$S:$S,InTran!$G:$G,C89,InTran!$O:$O,$C$82,InTran!$C:$C,$P$82)","v":0},{"$f":"+SUMIFS(InTran!$M:$M,InTran!$G:$G,C89,InTran!$O:$O,$C$82,InTran!$C:$C,$P$82)","v":0},{"$f":"+IFERROR(P89/SUM($P$84:$P$105),0)","v":0},{"$f":"+SUMIFS(InTran!$R:$R,InTran!$G:$G,C89,InTran!$O:$O,$C$82,InTran!$C:$C,$T$82)","v":393059.03},{"$f":"+SUMIFS(InTran!$S:$S,InTran!$G:$G,C89,InTran!$O:$O,$C$82,InTran!$C:$C,$T$82)","v":881.55},{"$f":"+SUMIFS(InTran!$M:$M,InTran!$G:$G,C89,InTran!$O:$O,$C$82,InTran!$C:$C,$T$82)","v":0},{"$f":"+IFERROR(T89/SUM($T$84:$T$105),0)","v":0.76754053948395196},{"$f":"+SUMIFS(InTran!$R:$R,InTran!$G:$G,C89,InTran!$O:$O,$C$82,InTran!$C:$C,$X$82)","v":0},{"$f":"+SUMIFS(InTran!$S:$S,InTran!$G:$G,C89,InTran!$O:$O,$C$82,InTran!$C:$C,$X$82)","v":0},{"$f":"+SUMIFS(InTran!$M:$M,InTran!$G:$G,C89,InTran!$O:$O,$C$82,InTran!$C:$C,$X$82)","v":0},{"$f":"+IFERROR(X89/SUM($X$84:$X$105),0)","v":0},{"$f":"+SUMIFS(InTran!$R:$R,InTran!$G:$G,C89,InTran!$O:$O,$C$82)","v":21919262.800000004},{"$f":"+SUMIFS(InTran!$S:$S,InTran!$G:$G,C89,InTran!$O:$O,$C$82)","v":44313.429999999993},{"$f":"+SUMIFS(InTran!$M:$M,InTran!$G:$G,C89,InTran!$O:$O,$C$82)","v":604155.82999999996},{"$f":"+IFERROR(AB89/SUM($AB$84:$AB$105),0)","v":8.3099931469211644E-2},{"$f":"+RANK(AB89,$AB$84:$AB$105)","v":6}]
[null,null,"AFFIN INVESTMENT BANK BERHAD",{"$f":"+SUMIFS(InTran!$R:$R,InTran!$G:$G,C90,InTran!$O:$O,$C$82,InTran!$C:$C,$D$82)","v":0},{"$f":"+SUMIFS(InTran!$S:$S,InTran!$G:$G,C90,InTran!$O:$O,$C$82,InTran!$C:$C,$D$82)","v":0},{"$f":"+SUMIFS(InTran!$M:$M,InTran!$G:$G,C90,InTran!$O:$O,$C$82,InTran!$C:$C,$D$82)","v":0},{"$f":"+IFERROR(D90/SUM($D$84:$D$105),0)","v":0},{"$f":"+SUMIFS(InTran!$R:$R,InTran!$G:$G,C90,InTran!$O:$O,$C$82,InTran!$C:$C,$H$82)","v":16701483.479999999},{"$f":"+SUMIFS(InTran!$S:$S,InTran!$G:$G,C90,InTran!$O:$O,$C$82,InTran!$C:$C,$H$82)","v":28366.43},{"$f":"+SUMIFS(InTran!$M:$M,InTran!$G:$G,C90,InTran!$O:$O,$C$82,InTran!$C:$C,$H$82)","v":741739.59},{"$f":"+IFERROR(H90/SUM($H$84:$H$105),0)","v":7.030232814222459E-2},{"$f":"+SUMIFS(InTran!$R:$R,InTran!$G:$G,C90,InTran!$O:$O,$C$82,InTran!$C:$C,$L$82)","v":0},{"$f":"+SUMIFS(InTran!$S:$S,InTran!$G:$G,C90,InTran!$O:$O,$C$82,InTran!$C:$C,$L$82)","v":0},{"$f":"+SUMIFS(InTran!$M:$M,InTran!$G:$G,C90,InTran!$O:$O,$C$82,InTran!$C:$C,$L$82)","v":0},{"$f":"+IFERROR(L90/SUM($L$84:$L$105),0)","v":0},{"$f":"+SUMIFS(InTran!$R:$R,InTran!$G:$G,C90,InTran!$O:$O,$C$82,InTran!$C:$C,$P$82)","v":0},{"$f":"+SUMIFS(InTran!$S:$S,InTran!$G:$G,C90,InTran!$O:$O,$C$82,InTran!$C:$C,$P$82)","v":0},{"$f":"+SUMIFS(InTran!$M:$M,InTran!$G:$G,C90,InTran!$O:$O,$C$82,InTran!$C:$C,$P$82)","v":0},{"$f":"+IFERROR(P90/SUM($P$84:$P$105),0)","v":0},{"$f":"+SUMIFS(InTran!$R:$R,InTran!$G:$G,C90,InTran!$O:$O,$C$82,InTran!$C:$C,$T$82)","v":0},{"$f":"+SUMIFS(InTran!$S:$S,InTran!$G:$G,C90,InTran!$O:$O,$C$82,InTran!$C:$C,$T$82)","v":0},{"$f":"+SUMIFS(InTran!$M:$M,InTran!$G:$G,C90,InTran!$O:$O,$C$82,InTran!$C:$C,$T$82)","v":0},{"$f":"+IFERROR(T90/SUM($T$84:$T$105),0)","v":0},{"$f":"+SUMIFS(InTran!$R:$R,InTran!$G:$G,C90,InTran!$O:$O,$C$82,InTran!$C:$C,$X$82)","v":0},{"$f":"+SUMIFS(InTran!$S:$S,InTran!$G:$G,C90,InTran!$O:$O,$C$82,InTran!$C:$C,$X$82)","v":0},{"$f":"+SUMIFS(InTran!$M:$M,InTran!$G:$G,C90,InTran!$O:$O,$C$82,InTran!$C:$C,$X$82)","v":0},{"$f":"+IFERROR(X90/SUM($X$84:$X$105),0)","v":0},{"$f":"+SUMIFS(InTran!$R:$R,InTran!$G:$G,C90,InTran!$O:$O,$C$82)","v":16701483.479999999},{"$f":"+SUMIFS(InTran!$S:$S,InTran!$G:$G,C90,InTran!$O:$O,$C$82)","v":28366.43},{"$f":"+SUMIFS(InTran!$M:$M,InTran!$G:$G,C90,InTran!$O:$O,$C$82)","v":741739.59},{"$f":"+IFERROR(AB90/SUM($AB$84:$AB$105),0)","v":6.3318376411006391E-2},{"$f":"+RANK(AB90,$AB$84:$AB$105)","v":7}]
[null,null,"CREDIT SUISSE SECURITIES (M) SDN BHD",{"$f":"+SUMIFS(InTran!$R:$R,InTran!$G:$G,C91,InTran!$O:$O,$C$82,InTran!$C:$C,$D$82)","v":0},{"$f":"+SUMIFS(InTran!$S:$S,InTran!$G:$G,C91,InTran!$O:$O,$C$82,InTran!$C:$C,$D$82)","v":0},{"$f":"+SUMIFS(InTran!$M:$M,InTran!$G:$G,C91,InTran!$O:$O,$C$82,InTran!$C:$C,$D$82)","v":0},{"$f":"+IFERROR(D91/SUM($D$84:$D$105),0)","v":0},{"$f":"+SUMIFS(InTran!$R:$R,InTran!$G:$G,C91,InTran!$O:$O,$C$82,InTran!$C:$C,$H$82)","v":1627010.5},{"$f":"+SUMIFS(InTran!$S:$S,InTran!$G:$G,C91,InTran!$O:$O,$C$82,InTran!$C:$C,$H$82)","v":3302.5},{"$f":"+SUMIFS(InTran!$M:$M,InTran!$G:$G,C91,InTran!$O:$O,$C$82,InTran!$C:$C,$H$82)","v":241949.97},{"$f":"+IFERROR(H91/SUM($H$84:$H$105),0)","v":6.848650672188367E-3},{"$f":"+SUMIFS(InTran!$R:$R,InTran!$G:$G,C91,InTran!$O:$O,$C$82,InTran!$C:$C,$L$82)","v":13714465.120000001},{"$f":"+SUMIFS(InTran!$S:$S,InTran!$G:$G,C91,InTran!$O:$O,$C$82,InTran!$C:$C,$L$82)","v":14906.66},{"$f":"+SUMIFS(InTran!$M:$M,InTran!$G:$G,C91,InTran!$O:$O,$C$82,InTran!$C:$C,$L$82)","v":-581672.03},{"$f":"+IFERROR(L91/SUM($L$84:$L$105),0)","v":0.97549303399431619},{"$f":"+SUMIFS(InTran!$R:$R,InTran!$G:$G,C91,InTran!$O:$O,$C$82,InTran!$C:$C,$P$82)","v":0},{"$f":"+SUMIFS(InTran!$S:$S,InTran!$G:$G,C91,InTran!$O:$O,$C$82,InTran!$C:$C,$P$82)","v":0},{"$f":"+SUMIFS(InTran!$M:$M,InTran!$G:$G,C91,InTran!$O:$O,$C$82,InTran!$C:$C,$P$82)","v":0},{"$f":"+IFERROR(P91/SUM($P$84:$P$105),0)","v":0},{"$f":"+SUMIFS(InTran!$R:$R,InTran!$G:$G,C91,InTran!$O:$O,$C$82,InTran!$C:$C,$T$82)","v":0},{"$f":"+SUMIFS(InTran!$S:$S,InTran!$G:$G,C91,InTran!$O:$O,$C$82,InTran!$C:$C,$T$82)","v":0},{"$f":"+SUMIFS(InTran!$M:$M,InTran!$G:$G,C91,InTran!$O:$O,$C$82,InTran!$C:$C,$T$82)","v":0},{"$f":"+IFERROR(T91/SUM($T$84:$T$105),0)","v":0},{"$f":"+SUMIFS(InTran!$R:$R,InTran!$G:$G,C91,InTran!$O:$O,$C$82,InTran!$C:$C,$X$82)","v":0},{"$f":"+SUMIFS(InTran!$S:$S,InTran!$G:$G,C91,InTran!$O:$O,$C$82,InTran!$C:$C,$X$82)","v":0},{"$f":"+SUMIFS(InTran!$M:$M,InTran!$G:$G,C91,InTran!$O:$O,$C$82,InTran!$C:$C,$X$82)","v":0},{"$f":"+IFERROR(X91/SUM($X$84:$X$105),0)","v":0},{"$f":"+SUMIFS(InTran!$R:$R,InTran!$G:$G,C91,InTran!$O:$O,$C$82)","v":15341475.620000001},{"$f":"+SUMIFS(InTran!$S:$S,InTran!$G:$G,C91,InTran!$O:$O,$C$82)","v":18209.16},{"$f":"+SUMIFS(InTran!$M:$M,InTran!$G:$G,C91,InTran!$O:$O,$C$82)","v":-339722.06000000006},{"$f":"+IFERROR(AB91/SUM($AB$84:$AB$105),0)","v":5.8162338044442853E-2},{"$f":"+RANK(AB91,$AB$84:$AB$105)","v":8}]
[null,null,"CLSA LIMITED",{"$f":"+SUMIFS(InTran!$R:$R,InTran!$G:$G,C92,InTran!$O:$O,$C$82,InTran!$C:$C,$D$82)","v":7688180.54},{"$f":"+SUMIFS(InTran!$S:$S,InTran!$G:$G,C92,InTran!$O:$O,$C$82,InTran!$C:$C,$D$82)","v":7697.6},{"$f":"+SUMIFS(InTran!$M:$M,InTran!$G:$G,C92,InTran!$O:$O,$C$82,InTran!$C:$C,$D$82)","v":842288.11},{"$f":"+IFERROR(D92/SUM($D$84:$D$105),0)","v":0.80205064553389349},{"$f":"+SUMIFS(InTran!$R:$R,InTran!$G:$G,C92,InTran!$O:$O,$C$82,InTran!$C:$C,$H$82)","v":206966.55},{"$f":"+SUMIFS(InTran!$S:$S,InTran!$G:$G,C92,InTran!$O:$O,$C$82,InTran!$C:$C,$H$82)","v":467.39},{"$f":"+SUMIFS(InTran!$M:$M,InTran!$G:$G,C92,InTran!$O:$O,$C$82,InTran!$C:$C,$H$82)","v":7712.88},{"$f":"+IFERROR(H92/SUM($H$84:$H$105),0)","v":8.7119388705727912E-4},{"$f":"+SUMIFS(InTran!$R:$R,InTran!$G:$G,C92,InTran!$O:$O,$C$82,InTran!$C:$C,$L$82)","v":0},{"$f":"+SUMIFS(InTran!$S:$S,InTran!$G:$G,C92,InTran!$O:$O,$C$82,InTran!$C:$C,$L$82)","v":0},{"$f":"+SUMIFS(InTran!$M:$M,InTran!$G:$G,C92,InTran!$O:$O,$C$82,InTran!$C:$C,$L$82)","v":0},{"$f":"+IFERROR(L92/SUM($L$84:$L$105),0)","v":0},{"$f":"+SUMIFS(InTran!$R:$R,InTran!$G:$G,C92,InTran!$O:$O,$C$82,InTran!$C:$C,$P$82)","v":0},{"$f":"+SUMIFS(InTran!$S:$S,InTran!$G:$G,C92,InTran!$O:$O,$C$82,InTran!$C:$C,$P$82)","v":0},{"$f":"+SUMIFS(InTran!$M:$M,InTran!$G:$G,C92,InTran!$O:$O,$C$82,InTran!$C:$C,$P$82)","v":0},{"$f":"+IFERROR(P92/SUM($P$84:$P$105),0)","v":0},{"$f":"+SUMIFS(InTran!$R:$R,InTran!$G:$G,C92,InTran!$O:$O,$C$82,InTran!$C:$C,$T$82)","v":0},{"$f":"+SUMIFS(InTran!$S:$S,InTran!$G:$G,C92,InTran!$O:$O,$C$82,InTran!$C:$C,$T$82)","v":0},{"$f":"+SUMIFS(InTran!$M:$M,InTran!$G:$G,C92,InTran!$O:$O,$C$82,InTran!$C:$C,$T$82)","v":0},{"$f":"+IFERROR(T92/SUM($T$84:$T$105),0)","v":0},{"$f":"+SUMIFS(InTran!$R:$R,InTran!$G:$G,C92,InTran!$O:$O,$C$82,InTran!$C:$C,$X$82)","v":100101.08},{"$f":"+SUMIFS(InTran!$S:$S,InTran!$G:$G,C92,InTran!$O:$O,$C$82,InTran!$C:$C,$X$82)","v":224.4},{"$f":"+SUMIFS(InTran!$M:$M,InTran!$G:$G,C92,InTran!$O:$O,$C$82,InTran!$C:$C,$X$82)","v":0},{"$f":"+IFERROR(X92/SUM($X$84:$X$105),0)","v":1},{"$f":"+SUMIFS(InTran!$R:$R,InTran!$G:$G,C92,InTran!$O:$O,$C$82)","v":7995248.1699999999},{"$f":"+SUMIFS(InTran!$S:$S,InTran!$G:$G,C92,InTran!$O:$O,$C$82)","v":8389.39},{"$f":"+SUMIFS(InTran!$M:$M,InTran!$G:$G,C92,InTran!$O:$O,$C$82)","v":850000.99},{"$f":"+IFERROR(AB92/SUM($AB$84:$AB$105),0)","v":3.031144710789907E-2},{"$f":"+RANK(AB92,$AB$84:$AB$105)","v":9}]
[null,null,"MAYBANK INVESTMENT BANK BHD",{"$f":"+SUMIFS(InTran!$R:$R,InTran!$G:$G,C93,InTran!$O:$O,$C$82,InTran!$C:$C,$D$82)","v":0},{"$f":"+SUMIFS(InTran!$S:$S,InTran!$G:$G,C93,InTran!$O:$O,$C$82,InTran!$C:$C,$D$82)","v":0},{"$f":"+SUMIFS(InTran!$M:$M,InTran!$G:$G,C93,InTran!$O:$O,$C$82,InTran!$C:$C,$D$82)","v":0},{"$f":"+IFERROR(D93/SUM($D$84:$D$105),0)","v":0},{"$f":"+SUMIFS(InTran!$R:$R,InTran!$G:$G,C93,InTran!$O:$O,$C$82,InTran!$C:$C,$H$82)","v":1411607.94},{"$f":"+SUMIFS(InTran!$S:$S,InTran!$G:$G,C93,InTran!$O:$O,$C$82,InTran!$C:$C,$H$82)","v":3165.6800000000003},{"$f":"+SUMIFS(InTran!$M:$M,InTran!$G:$G,C93,InTran!$O:$O,$C$82,InTran!$C:$C,$H$82)","v":0},{"$f":"+IFERROR(H93/SUM($H$84:$H$105),0)","v":5.9419466974229337E-3},{"$f":"+SUMIFS(InTran!$R:$R,InTran!$G:$G,C93,InTran!$O:$O,$C$82,InTran!$C:$C,$L$82)","v":0},{"$f":"+SUMIFS(InTran!$S:$S,InTran!$G:$G,C93,InTran!$O:$O,$C$82,InTran!$C:$C,$L$82)","v":0},{"$f":"+SUMIFS(InTran!$M:$M,InTran!$G:$G,C93,InTran!$O:$O,$C$82,InTran!$C:$C,$L$82)","v":0},{"$f":"+IFERROR(L93/SUM($L$84:$L$105),0)","v":0},{"$f":"+SUMIFS(InTran!$R:$R,InTran!$G:$G,C93,InTran!$O:$O,$C$82,InTran!$C:$C,$P$82)","v":0},{"$f":"+SUMIFS(InTran!$S:$S,InTran!$G:$G,C93,InTran!$O:$O,$C$82,InTran!$C:$C,$P$82)","v":0},{"$f":"+SUMIFS(InTran!$M:$M,InTran!$G:$G,C93,InTran!$O:$O,$C$82,InTran!$C:$C,$P$82)","v":0},{"$f":"+IFERROR(P93/SUM($P$84:$P$105),0)","v":0},{"$f":"+SUMIFS(InTran!$R:$R,InTran!$G:$G,C93,InTran!$O:$O,$C$82,InTran!$C:$C,$T$82)","v":0},{"$f":"+SUMIFS(InTran!$S:$S,InTran!$G:$G,C93,InTran!$O:$O,$C$82,InTran!$C:$C,$T$82)","v":0},{"$f":"+SUMIFS(InTran!$M:$M,InTran!$G:$G,C93,InTran!$O:$O,$C$82,InTran!$C:$C,$T$82)","v":0},{"$f":"+IFERROR(T93/SUM($T$84:$T$105),0)","v":0},{"$f":"+SUMIFS(InTran!$R:$R,InTran!$G:$G,C93,InTran!$O:$O,$C$82,InTran!$C:$C,$X$82)","v":0},{"$f":"+SUMIFS(InTran!$S:$S,InTran!$G:$G,C93,InTran!$O:$O,$C$82,InTran!$C:$C,$X$82)","v":0},{"$f":"+SUMIFS(InTran!$M:$M,InTran!$G:$G,C93,InTran!$O:$O,$C$82,InTran!$C:$C,$X$82)","v":0},{"$f":"+IFERROR(X93/SUM($X$84:$X$105),0)","v":0},{"$f":"+SUMIFS(InTran!$R:$R,InTran!$G:$G,C93,InTran!$O:$O,$C$82)","v":1411607.94},{"$f":"+SUMIFS(InTran!$S:$S,InTran!$G:$G,C93,InTran!$O:$O,$C$82)","v":3165.6800000000003},{"$f":"+SUMIFS(InTran!$M:$M,InTran!$G:$G,C93,InTran!$O:$O,$C$82)","v":0},{"$f":"+IFERROR(AB93/SUM($AB$84:$AB$105),0)","v":5.3516637008154755E-3},{"$f":"+RANK(AB93,$AB$84:$AB$105)","v":10}]
[null,null,"ALLIANCE INVESTMENT BANK BERHAD",{"$f":"+SUMIFS(InTran!$R:$R,InTran!$G:$G,C94,InTran!$O:$O,$C$82,InTran!$C:$C,$D$82)","v":0},{"$f":"+SUMIFS(InTran!$S:$S,InTran!$G:$G,C94,InTran!$O:$O,$C$82,InTran!$C:$C,$D$82)","v":0},{"$f":"+SUMIFS(InTran!$M:$M,InTran!$G:$G,C94,InTran!$O:$O,$C$82,InTran!$C:$C,$D$82)","v":0},{"$f":"+IFERROR(D94/SUM($D$84:$D$105),0)","v":0},{"$f":"+SUMIFS(InTran!$R:$R,InTran!$G:$G,C94,InTran!$O:$O,$C$82,InTran!$C:$C,$H$82)","v":0},{"$f":"+SUMIFS(InTran!$S:$S,InTran!$G:$G,C94,InTran!$O:$O,$C$82,InTran!$C:$C,$H$82)","v":0},{"$f":"+SUMIFS(InTran!$M:$M,InTran!$G:$G,C94,InTran!$O:$O,$C$82,InTran!$C:$C,$H$82)","v":0},{"$f":"+IFERROR(H94/SUM($H$84:$H$105),0)","v":0},{"$f":"+SUMIFS(InTran!$R:$R,InTran!$G:$G,C94,InTran!$O:$O,$C$82,InTran!$C:$C,$L$82)","v":0},{"$f":"+SUMIFS(InTran!$S:$S,InTran!$G:$G,C94,InTran!$O:$O,$C$82,InTran!$C:$C,$L$82)","v":0},{"$f":"+SUMIFS(InTran!$M:$M,InTran!$G:$G,C94,InTran!$O:$O,$C$82,InTran!$C:$C,$L$82)","v":0},{"$f":"+IFERROR(L94/SUM($L$84:$L$105),0)","v":0},{"$f":"+SUMIFS(InTran!$R:$R,InTran!$G:$G,C94,InTran!$O:$O,$C$82,InTran!$C:$C,$P$82)","v":0},{"$f":"+SUMIFS(InTran!$S:$S,InTran!$G:$G,C94,InTran!$O:$O,$C$82,InTran!$C:$C,$P$82)","v":0},{"$f":"+SUMIFS(InTran!$M:$M,InTran!$G:$G,C94,InTran!$O:$O,$C$82,InTran!$C:$C,$P$82)","v":0},{"$f":"+IFERROR(P94/SUM($P$84:$P$105),0)","v":0},{"$f":"+SUMIFS(InTran!$R:$R,InTran!$G:$G,C94,InTran!$O:$O,$C$82,InTran!$C:$C,$T$82)","v":0},{"$f":"+SUMIFS(InTran!$S:$S,InTran!$G:$G,C94,InTran!$O:$O,$C$82,InTran!$C:$C,$T$82)","v":0},{"$f":"+SUMIFS(InTran!$M:$M,InTran!$G:$G,C94,InTran!$O:$O,$C$82,InTran!$C:$C,$T$82)","v":0},{"$f":"+IFERROR(T94/SUM($T$84:$T$105),0)","v":0},{"$f":"+SUMIFS(InTran!$R:$R,InTran!$G:$G,C94,InTran!$O:$O,$C$82,InTran!$C:$C,$X$82)","v":0},{"$f":"+SUMIFS(InTran!$S:$S,InTran!$G:$G,C94,InTran!$O:$O,$C$82,InTran!$C:$C,$X$82)","v":0},{"$f":"+SUMIFS(InTran!$M:$M,InTran!$G:$G,C94,InTran!$O:$O,$C$82,InTran!$C:$C,$X$82)","v":0},{"$f":"+IFERROR(X94/SUM($X$84:$X$105),0)","v":0},{"$f":"+SUMIFS(InTran!$R:$R,InTran!$G:$G,C94,InTran!$O:$O,$C$82)","v":0},{"$f":"+SUMIFS(InTran!$S:$S,InTran!$G:$G,C94,InTran!$O:$O,$C$82)","v":0},{"$f":"+SUMIFS(InTran!$M:$M,InTran!$G:$G,C94,InTran!$O:$O,$C$82)","v":0},{"$f":"+IFERROR(AB94/SUM($AB$84:$AB$105),0)","v":0},{"$f":"+RANK(AB94,$AB$84:$AB$105)","v":11}]
[null,null,"AMINVESTMENT BANK BHD",{"$f":"+SUMIFS(InTran!$R:$R,InTran!$G:$G,C95,InTran!$O:$O,$C$82,InTran!$C:$C,$D$82)","v":0},{"$f":"+SUMIFS(InTran!$S:$S,InTran!$G:$G,C95,InTran!$O:$O,$C$82,InTran!$C:$C,$D$82)","v":0},{"$f":"+SUMIFS(InTran!$M:$M,InTran!$G:$G,C95,InTran!$O:$O,$C$82,InTran!$C:$C,$D$82)","v":0},{"$f":"+IFERROR(D95/SUM($D$84:$D$105),0)","v":0},{"$f":"+SUMIFS(InTran!$R:$R,InTran!$G:$G,C95,InTran!$O:$O,$C$82,InTran!$C:$C,$H$82)","v":0},{"$f":"+SUMIFS(InTran!$S:$S,InTran!$G:$G,C95,InTran!$O:$O,$C$82,InTran!$C:$C,$H$82)","v":0},{"$f":"+SUMIFS(InTran!$M:$M,InTran!$G:$G,C95,InTran!$O:$O,$C$82,InTran!$C:$C,$H$82)","v":0},{"$f":"+IFERROR(H95/SUM($H$84:$H$105),0)","v":0},{"$f":"+SUMIFS(InTran!$R:$R,InTran!$G:$G,C95,InTran!$O:$O,$C$82,InTran!$C:$C,$L$82)","v":0},{"$f":"+SUMIFS(InTran!$S:$S,InTran!$G:$G,C95,InTran!$O:$O,$C$82,InTran!$C:$C,$L$82)","v":0},{"$f":"+SUMIFS(InTran!$M:$M,InTran!$G:$G,C95,InTran!$O:$O,$C$82,InTran!$C:$C,$L$82)","v":0},{"$f":"+IFERROR(L95/SUM($L$84:$L$105),0)","v":0},{"$f":"+SUMIFS(InTran!$R:$R,InTran!$G:$G,C95,InTran!$O:$O,$C$82,InTran!$C:$C,$P$82)","v":0},{"$f":"+SUMIFS(InTran!$S:$S,InTran!$G:$G,C95,InTran!$O:$O,$C$82,InTran!$C:$C,$P$82)","v":0},{"$f":"+SUMIFS(InTran!$M:$M,InTran!$G:$G,C95,InTran!$O:$O,$C$82,InTran!$C:$C,$P$82)","v":0},{"$f":"+IFERROR(P95/SUM($P$84:$P$105),0)","v":0},{"$f":"+SUMIFS(InTran!$R:$R,InTran!$G:$G,C95,InTran!$O:$O,$C$82,InTran!$C:$C,$T$82)","v":0},{"$f":"+SUMIFS(InTran!$S:$S,InTran!$G:$G,C95,InTran!$O:$O,$C$82,InTran!$C:$C,$T$82)","v":0},{"$f":"+SUMIFS(InTran!$M:$M,InTran!$G:$G,C95,InTran!$O:$O,$C$82,InTran!$C:$C,$T$82)","v":0},{"$f":"+IFERROR(T95/SUM($T$84:$T$105),0)","v":0},{"$f":"+SUMIFS(InTran!$R:$R,InTran!$G:$G,C95,InTran!$O:$O,$C$82,InTran!$C:$C,$X$82)","v":0},{"$f":"+SUMIFS(InTran!$S:$S,InTran!$G:$G,C95,InTran!$O:$O,$C$82,InTran!$C:$C,$X$82)","v":0},{"$f":"+SUMIFS(InTran!$M:$M,InTran!$G:$G,C95,InTran!$O:$O,$C$82,InTran!$C:$C,$X$82)","v":0},{"$f":"+IFERROR(X95/SUM($X$84:$X$105),0)","v":0},{"$f":"+SUMIFS(InTran!$R:$R,InTran!$G:$G,C95,InTran!$O:$O,$C$82)","v":0},{"$f":"+SUMIFS(InTran!$S:$S,InTran!$G:$G,C95,InTran!$O:$O,$C$82)","v":0},{"$f":"+SUMIFS(InTran!$M:$M,InTran!$G:$G,C95,InTran!$O:$O,$C$82)","v":0},{"$f":"+IFERROR(AB95/SUM($AB$84:$AB$105),0)","v":0},{"$f":"+RANK(AB95,$AB$84:$AB$105)","v":11}]
[null,null,"BIMB SECURITIES SDN BHD",{"$f":"+SUMIFS(InTran!$R:$R,InTran!$G:$G,C96,InTran!$O:$O,$C$82,InTran!$C:$C,$D$82)","v":0},{"$f":"+SUMIFS(InTran!$S:$S,InTran!$G:$G,C96,InTran!$O:$O,$C$82,InTran!$C:$C,$D$82)","v":0},{"$f":"+SUMIFS(InTran!$M:$M,InTran!$G:$G,C96,InTran!$O:$O,$C$82,InTran!$C:$C,$D$82)","v":0},{"$f":"+IFERROR(D96/SUM($D$84:$D$105),0)","v":0},{"$f":"+SUMIFS(InTran!$R:$R,InTran!$G:$G,C96,InTran!$O:$O,$C$82,InTran!$C:$C,$H$82)","v":0},{"$f":"+SUMIFS(InTran!$S:$S,InTran!$G:$G,C96,InTran!$O:$O,$C$82,InTran!$C:$C,$H$82)","v":0},{"$f":"+SUMIFS(InTran!$M:$M,InTran!$G:$G,C96,InTran!$O:$O,$C$82,InTran!$C:$C,$H$82)","v":0},{"$f":"+IFERROR(H96/SUM($H$84:$H$105),0)","v":0},{"$f":"+SUMIFS(InTran!$R:$R,InTran!$G:$G,C96,InTran!$O:$O,$C$82,InTran!$C:$C,$L$82)","v":0},{"$f":"+SUMIFS(InTran!$S:$S,InTran!$G:$G,C96,InTran!$O:$O,$C$82,InTran!$C:$C,$L$82)","v":0},{"$f":"+SUMIFS(InTran!$M:$M,InTran!$G:$G,C96,InTran!$O:$O,$C$82,InTran!$C:$C,$L$82)","v":0},{"$f":"+IFERROR(L96/SUM($L$84:$L$105),0)","v":0},{"$f":"+SUMIFS(InTran!$R:$R,InTran!$G:$G,C96,InTran!$O:$O,$C$82,InTran!$C:$C,$P$82)","v":0},{"$f":"+SUMIFS(InTran!$S:$S,InTran!$G:$G,C96,InTran!$O:$O,$C$82,InTran!$C:$C,$P$82)","v":0},{"$f":"+SUMIFS(InTran!$M:$M,InTran!$G:$G,C96,InTran!$O:$O,$C$82,InTran!$C:$C,$P$82)","v":0},{"$f":"+IFERROR(P96/SUM($P$84:$P$105),0)","v":0},{"$f":"+SUMIFS(InTran!$R:$R,InTran!$G:$G,C96,InTran!$O:$O,$C$82,InTran!$C:$C,$T$82)","v":0},{"$f":"+SUMIFS(InTran!$S:$S,InTran!$G:$G,C96,InTran!$O:$O,$C$82,InTran!$C:$C,$T$82)","v":0},{"$f":"+SUMIFS(InTran!$M:$M,InTran!$G:$G,C96,InTran!$O:$O,$C$82,InTran!$C:$C,$T$82)","v":0},{"$f":"+IFERROR(T96/SUM($T$84:$T$105),0)","v":0},{"$f":"+SUMIFS(InTran!$R:$R,InTran!$G:$G,C96,InTran!$O:$O,$C$82,InTran!$C:$C,$X$82)","v":0},{"$f":"+SUMIFS(InTran!$S:$S,InTran!$G:$G,C96,InTran!$O:$O,$C$82,InTran!$C:$C,$X$82)","v":0},{"$f":"+SUMIFS(InTran!$M:$M,InTran!$G:$G,C96,InTran!$O:$O,$C$82,InTran!$C:$C,$X$82)","v":0},{"$f":"+IFERROR(X96/SUM($X$84:$X$105),0)","v":0},{"$f":"+SUMIFS(InTran!$R:$R,InTran!$G:$G,C96,InTran!$O:$O,$C$82)","v":0},{"$f":"+SUMIFS(InTran!$S:$S,InTran!$G:$G,C96,InTran!$O:$O,$C$82)","v":0},{"$f":"+SUMIFS(InTran!$M:$M,InTran!$G:$G,C96,InTran!$O:$O,$C$82)","v":0},{"$f":"+IFERROR(AB96/SUM($AB$84:$AB$105),0)","v":0},{"$f":"+RANK(AB96,$AB$84:$AB$105)","v":11}]
[null,null,"CIMB INVESTMENT BANK BHD (FOREIGN)",{"$f":"+SUMIFS(InTran!$R:$R,InTran!$G:$G,C97,InTran!$O:$O,$C$82,InTran!$C:$C,$D$82)","v":0},{"$f":"+SUMIFS(InTran!$S:$S,InTran!$G:$G,C97,InTran!$O:$O,$C$82,InTran!$C:$C,$D$82)","v":0},{"$f":"+SUMIFS(InTran!$M:$M,InTran!$G:$G,C97,InTran!$O:$O,$C$82,InTran!$C:$C,$D$82)","v":0},{"$f":"+IFERROR(D97/SUM($D$84:$D$105),0)","v":0},{"$f":"+SUMIFS(InTran!$R:$R,InTran!$G:$G,C97,InTran!$O:$O,$C$82,InTran!$C:$C,$H$82)","v":0},{"$f":"+SUMIFS(InTran!$S:$S,InTran!$G:$G,C97,InTran!$O:$O,$C$82,InTran!$C:$C,$H$82)","v":0},{"$f":"+SUMIFS(InTran!$M:$M,InTran!$G:$G,C97,InTran!$O:$O,$C$82,InTran!$C:$C,$H$82)","v":0},{"$f":"+IFERROR(H97/SUM($H$84:$H$105),0)","v":0},{"$f":"+SUMIFS(InTran!$R:$R,InTran!$G:$G,C97,InTran!$O:$O,$C$82,InTran!$C:$C,$L$82)","v":0},{"$f":"+SUMIFS(InTran!$S:$S,InTran!$G:$G,C97,InTran!$O:$O,$C$82,InTran!$C:$C,$L$82)","v":0},{"$f":"+SUMIFS(InTran!$M:$M,InTran!$G:$G,C97,InTran!$O:$O,$C$82,InTran!$C:$C,$L$82)","v":0},{"$f":"+IFERROR(L97/SUM($L$84:$L$105),0)","v":0},{"$f":"+SUMIFS(InTran!$R:$R,InTran!$G:$G,C97,InTran!$O:$O,$C$82,InTran!$C:$C,$P$82)","v":0},{"$f":"+SUMIFS(InTran!$S:$S,InTran!$G:$G,C97,InTran!$O:$O,$C$82,InTran!$C:$C,$P$82)","v":0},{"$f":"+SUMIFS(InTran!$M:$M,InTran!$G:$G,C97,InTran!$O:$O,$C$82,InTran!$C:$C,$P$82)","v":0},{"$f":"+IFERROR(P97/SUM($P$84:$P$105),0)","v":0},{"$f":"+SUMIFS(InTran!$R:$R,InTran!$G:$G,C97,InTran!$O:$O,$C$82,InTran!$C:$C,$T$82)","v":0},{"$f":"+SUMIFS(InTran!$S:$S,InTran!$G:$G,C97,InTran!$O:$O,$C$82,InTran!$C:$C,$T$82)","v":0},{"$f":"+SUMIFS(InTran!$M:$M,InTran!$G:$G,C97,InTran!$O:$O,$C$82,InTran!$C:$C,$T$82)","v":0},{"$f":"+IFERROR(T97/SUM($T$84:$T$105),0)","v":0},{"$f":"+SUMIFS(InTran!$R:$R,InTran!$G:$G,C97,InTran!$O:$O,$C$82,InTran!$C:$C,$X$82)","v":0},{"$f":"+SUMIFS(InTran!$S:$S,InTran!$G:$G,C97,InTran!$O:$O,$C$82,InTran!$C:$C,$X$82)","v":0},{"$f":"+SUMIFS(InTran!$M:$M,InTran!$G:$G,C97,InTran!$O:$O,$C$82,InTran!$C:$C,$X$82)","v":0},{"$f":"+IFERROR(X97/SUM($X$84:$X$105),0)","v":0},{"$f":"+SUMIFS(InTran!$R:$R,InTran!$G:$G,C97,InTran!$O:$O,$C$82)","v":0},{"$f":"+SUMIFS(InTran!$S:$S,InTran!$G:$G,C97,InTran!$O:$O,$C$82)","v":0},{"$f":"+SUMIFS(InTran!$M:$M,InTran!$G:$G,C97,InTran!$O:$O,$C$82)","v":0},{"$f":"+IFERROR(AB97/SUM($AB$84:$AB$105),0)","v":0},{"$f":"+RANK(AB97,$AB$84:$AB$105)","v":11}]
[null,null,"CLSA LIMITED FOREIGN",{"$f":"+SUMIFS(InTran!$R:$R,InTran!$G:$G,C98,InTran!$O:$O,$C$82,InTran!$C:$C,$D$82)","v":0},{"$f":"+SUMIFS(InTran!$S:$S,InTran!$G:$G,C98,InTran!$O:$O,$C$82,InTran!$C:$C,$D$82)","v":0},{"$f":"+SUMIFS(InTran!$M:$M,InTran!$G:$G,C98,InTran!$O:$O,$C$82,InTran!$C:$C,$D$82)","v":0},{"$f":"+IFERROR(D98/SUM($D$84:$D$105),0)","v":0},{"$f":"+SUMIFS(InTran!$R:$R,InTran!$G:$G,C98,InTran!$O:$O,$C$82,InTran!$C:$C,$H$82)","v":0},{"$f":"+SUMIFS(InTran!$S:$S,InTran!$G:$G,C98,InTran!$O:$O,$C$82,InTran!$C:$C,$H$82)","v":0},{"$f":"+SUMIFS(InTran!$M:$M,InTran!$G:$G,C98,InTran!$O:$O,$C$82,InTran!$C:$C,$H$82)","v":0},{"$f":"+IFERROR(H98/SUM($H$84:$H$105),0)","v":0},{"$f":"+SUMIFS(InTran!$R:$R,InTran!$G:$G,C98,InTran!$O:$O,$C$82,InTran!$C:$C,$L$82)","v":0},{"$f":"+SUMIFS(InTran!$S:$S,InTran!$G:$G,C98,InTran!$O:$O,$C$82,InTran!$C:$C,$L$82)","v":0},{"$f":"+SUMIFS(InTran!$M:$M,InTran!$G:$G,C98,InTran!$O:$O,$C$82,InTran!$C:$C,$L$82)","v":0},{"$f":"+IFERROR(L98/SUM($L$84:$L$105),0)","v":0},{"$f":"+SUMIFS(InTran!$R:$R,InTran!$G:$G,C98,InTran!$O:$O,$C$82,InTran!$C:$C,$P$82)","v":0},{"$f":"+SUMIFS(InTran!$S:$S,InTran!$G:$G,C98,InTran!$O:$O,$C$82,InTran!$C:$C,$P$82)","v":0},{"$f":"+SUMIFS(InTran!$M:$M,InTran!$G:$G,C98,InTran!$O:$O,$C$82,InTran!$C:$C,$P$82)","v":0},{"$f":"+IFERROR(P98/SUM($P$84:$P$105),0)","v":0},{"$f":"+SUMIFS(InTran!$R:$R,InTran!$G:$G,C98,InTran!$O:$O,$C$82,InTran!$C:$C,$T$82)","v":0},{"$f":"+SUMIFS(InTran!$S:$S,InTran!$G:$G,C98,InTran!$O:$O,$C$82,InTran!$C:$C,$T$82)","v":0},{"$f":"+SUMIFS(InTran!$M:$M,InTran!$G:$G,C98,InTran!$O:$O,$C$82,InTran!$C:$C,$T$82)","v":0},{"$f":"+IFERROR(T98/SUM($T$84:$T$105),0)","v":0},{"$f":"+SUMIFS(InTran!$R:$R,InTran!$G:$G,C98,InTran!$O:$O,$C$82,InTran!$C:$C,$X$82)","v":0},{"$f":"+SUMIFS(InTran!$S:$S,InTran!$G:$G,C98,InTran!$O:$O,$C$82,InTran!$C:$C,$X$82)","v":0},{"$f":"+SUMIFS(InTran!$M:$M,InTran!$G:$G,C98,InTran!$O:$O,$C$82,InTran!$C:$C,$X$82)","v":0},{"$f":"+IFERROR(X98/SUM($X$84:$X$105),0)","v":0},{"$f":"+SUMIFS(InTran!$R:$R,InTran!$G:$G,C98,InTran!$O:$O,$C$82)","v":0},{"$f":"+SUMIFS(InTran!$S:$S,InTran!$G:$G,C98,InTran!$O:$O,$C$82)","v":0},{"$f":"+SUMIFS(InTran!$M:$M,InTran!$G:$G,C98,InTran!$O:$O,$C$82)","v":0},{"$f":"+IFERROR(AB98/SUM($AB$84:$AB$105),0)","v":0},{"$f":"+RANK(AB98,$AB$84:$AB$105)","v":11}]
[null,null,"HONG LEONG INVESTMENT BANK BHD",{"$f":"+SUMIFS(InTran!$R:$R,InTran!$G:$G,C99,InTran!$O:$O,$C$82,InTran!$C:$C,$D$82)","v":0},{"$f":"+SUMIFS(InTran!$S:$S,InTran!$G:$G,C99,InTran!$O:$O,$C$82,InTran!$C:$C,$D$82)","v":0},{"$f":"+SUMIFS(InTran!$M:$M,InTran!$G:$G,C99,InTran!$O:$O,$C$82,InTran!$C:$C,$D$82)","v":0},{"$f":"+IFERROR(D99/SUM($D$84:$D$105),0)","v":0},{"$f":"+SUMIFS(InTran!$R:$R,InTran!$G:$G,C99,InTran!$O:$O,$C$82,InTran!$C:$C,$H$82)","v":0},{"$f":"+SUMIFS(InTran!$S:$S,InTran!$G:$G,C99,InTran!$O:$O,$C$82,InTran!$C:$C,$H$82)","v":0},{"$f":"+SUMIFS(InTran!$M:$M,InTran!$G:$G,C99,InTran!$O:$O,$C$82,InTran!$C:$C,$H$82)","v":0},{"$f":"+IFERROR(H99/SUM($H$84:$H$105),0)","v":0},{"$f":"+SUMIFS(InTran!$R:$R,InTran!$G:$G,C99,InTran!$O:$O,$C$82,InTran!$C:$C,$L$82)","v":0},{"$f":"+SUMIFS(InTran!$S:$S,InTran!$G:$G,C99,InTran!$O:$O,$C$82,InTran!$C:$C,$L$82)","v":0},{"$f":"+SUMIFS(InTran!$M:$M,InTran!$G:$G,C99,InTran!$O:$O,$C$82,InTran!$C:$C,$L$82)","v":0},{"$f":"+IFERROR(L99/SUM($L$84:$L$105),0)","v":0},{"$f":"+SUMIFS(InTran!$R:$R,InTran!$G:$G,C99,InTran!$O:$O,$C$82,InTran!$C:$C,$P$82)","v":0},{"$f":"+SUMIFS(InTran!$S:$S,InTran!$G:$G,C99,InTran!$O:$O,$C$82,InTran!$C:$C,$P$82)","v":0},{"$f":"+SUMIFS(InTran!$M:$M,InTran!$G:$G,C99,InTran!$O:$O,$C$82,InTran!$C:$C,$P$82)","v":0},{"$f":"+IFERROR(P99/SUM($P$84:$P$105),0)","v":0},{"$f":"+SUMIFS(InTran!$R:$R,InTran!$G:$G,C99,InTran!$O:$O,$C$82,InTran!$C:$C,$T$82)","v":0},{"$f":"+SUMIFS(InTran!$S:$S,InTran!$G:$G,C99,InTran!$O:$O,$C$82,InTran!$C:$C,$T$82)","v":0},{"$f":"+SUMIFS(InTran!$M:$M,InTran!$G:$G,C99,InTran!$O:$O,$C$82,InTran!$C:$C,$T$82)","v":0},{"$f":"+IFERROR(T99/SUM($T$84:$T$105),0)","v":0},{"$f":"+SUMIFS(InTran!$R:$R,InTran!$G:$G,C99,InTran!$O:$O,$C$82,InTran!$C:$C,$X$82)","v":0},{"$f":"+SUMIFS(InTran!$S:$S,InTran!$G:$G,C99,InTran!$O:$O,$C$82,InTran!$C:$C,$X$82)","v":0},{"$f":"+SUMIFS(InTran!$M:$M,InTran!$G:$G,C99,InTran!$O:$O,$C$82,InTran!$C:$C,$X$82)","v":0},{"$f":"+IFERROR(X99/SUM($X$84:$X$105),0)","v":0},{"$f":"+SUMIFS(InTran!$R:$R,InTran!$G:$G,C99,InTran!$O:$O,$C$82)","v":0},{"$f":"+SUMIFS(InTran!$S:$S,InTran!$G:$G,C99,InTran!$O:$O,$C$82)","v":0},{"$f":"+SUMIFS(InTran!$M:$M,InTran!$G:$G,C99,InTran!$O:$O,$C$82)","v":0},{"$f":"+IFERROR(AB99/SUM($AB$84:$AB$105),0)","v":0},{"$f":"+RANK(AB99,$AB$84:$AB$105)","v":11}]
[null,null,"MACQUARIE CAPITAL SECURITIES (MALAYSIA) SDN BHD (FOREIGN)",{"$f":"+SUMIFS(InTran!$R:$R,InTran!$G:$G,C100,InTran!$O:$O,$C$82,InTran!$C:$C,$D$82)","v":0},{"$f":"+SUMIFS(InTran!$S:$S,InTran!$G:$G,C100,InTran!$O:$O,$C$82,InTran!$C:$C,$D$82)","v":0},{"$f":"+SUMIFS(InTran!$M:$M,InTran!$G:$G,C100,InTran!$O:$O,$C$82,InTran!$C:$C,$D$82)","v":0},{"$f":"+IFERROR(D100/SUM($D$84:$D$105),0)","v":0},{"$f":"+SUMIFS(InTran!$R:$R,InTran!$G:$G,C100,InTran!$O:$O,$C$82,InTran!$C:$C,$H$82)","v":0},{"$f":"+SUMIFS(InTran!$S:$S,InTran!$G:$G,C100,InTran!$O:$O,$C$82,InTran!$C:$C,$H$82)","v":0},{"$f":"+SUMIFS(InTran!$M:$M,InTran!$G:$G,C100,InTran!$O:$O,$C$82,InTran!$C:$C,$H$82)","v":0},{"$f":"+IFERROR(H100/SUM($H$84:$H$105),0)","v":0},{"$f":"+SUMIFS(InTran!$R:$R,InTran!$G:$G,C100,InTran!$O:$O,$C$82,InTran!$C:$C,$L$82)","v":0},{"$f":"+SUMIFS(InTran!$S:$S,InTran!$G:$G,C100,InTran!$O:$O,$C$82,InTran!$C:$C,$L$82)","v":0},{"$f":"+SUMIFS(InTran!$M:$M,InTran!$G:$G,C100,InTran!$O:$O,$C$82,InTran!$C:$C,$L$82)","v":0},{"$f":"+IFERROR(L100/SUM($L$84:$L$105),0)","v":0},{"$f":"+SUMIFS(InTran!$R:$R,InTran!$G:$G,C100,InTran!$O:$O,$C$82,InTran!$C:$C,$P$82)","v":0},{"$f":"+SUMIFS(InTran!$S:$S,InTran!$G:$G,C100,InTran!$O:$O,$C$82,InTran!$C:$C,$P$82)","v":0},{"$f":"+SUMIFS(InTran!$M:$M,InTran!$G:$G,C100,InTran!$O:$O,$C$82,InTran!$C:$C,$P$82)","v":0},{"$f":"+IFERROR(P100/SUM($P$84:$P$105),0)","v":0},{"$f":"+SUMIFS(InTran!$R:$R,InTran!$G:$G,C100,InTran!$O:$O,$C$82,InTran!$C:$C,$T$82)","v":0},{"$f":"+SUMIFS(InTran!$S:$S,InTran!$G:$G,C100,InTran!$O:$O,$C$82,InTran!$C:$C,$T$82)","v":0},{"$f":"+SUMIFS(InTran!$M:$M,InTran!$G:$G,C100,InTran!$O:$O,$C$82,InTran!$C:$C,$T$82)","v":0},{"$f":"+IFERROR(T100/SUM($T$84:$T$105),0)","v":0},{"$f":"+SUMIFS(InTran!$R:$R,InTran!$G:$G,C100,InTran!$O:$O,$C$82,InTran!$C:$C,$X$82)","v":0},{"$f":"+SUMIFS(InTran!$S:$S,InTran!$G:$G,C100,InTran!$O:$O,$C$82,InTran!$C:$C,$X$82)","v":0},{"$f":"+SUMIFS(InTran!$M:$M,InTran!$G:$G,C100,InTran!$O:$O,$C$82,InTran!$C:$C,$X$82)","v":0},{"$f":"+IFERROR(X100/SUM($X$84:$X$105),0)","v":0},{"$f":"+SUMIFS(InTran!$R:$R,InTran!$G:$G,C100,InTran!$O:$O,$C$82)","v":0},{"$f":"+SUMIFS(InTran!$S:$S,InTran!$G:$G,C100,InTran!$O:$O,$C$82)","v":0},{"$f":"+SUMIFS(InTran!$M:$M,InTran!$G:$G,C100,InTran!$O:$O,$C$82)","v":0},{"$f":"+IFERROR(AB100/SUM($AB$84:$AB$105),0)","v":0},{"$f":"+RANK(AB100,$AB$84:$AB$105)","v":11}]
[null,null,"MAYBANK INVESTMENT BANK BHD (FOREIGN)",{"$f":"+SUMIFS(InTran!$R:$R,InTran!$G:$G,C101,InTran!$O:$O,$C$82,InTran!$C:$C,$D$82)","v":0},{"$f":"+SUMIFS(InTran!$S:$S,InTran!$G:$G,C101,InTran!$O:$O,$C$82,InTran!$C:$C,$D$82)","v":0},{"$f":"+SUMIFS(InTran!$M:$M,InTran!$G:$G,C101,InTran!$O:$O,$C$82,InTran!$C:$C,$D$82)","v":0},{"$f":"+IFERROR(D101/SUM($D$84:$D$105),0)","v":0},{"$f":"+SUMIFS(InTran!$R:$R,InTran!$G:$G,C101,InTran!$O:$O,$C$82,InTran!$C:$C,$H$82)","v":0},{"$f":"+SUMIFS(InTran!$S:$S,InTran!$G:$G,C101,InTran!$O:$O,$C$82,InTran!$C:$C,$H$82)","v":0},{"$f":"+SUMIFS(InTran!$M:$M,InTran!$G:$G,C101,InTran!$O:$O,$C$82,InTran!$C:$C,$H$82)","v":0},{"$f":"+IFERROR(H101/SUM($H$84:$H$105),0)","v":0},{"$f":"+SUMIFS(InTran!$R:$R,InTran!$G:$G,C101,InTran!$O:$O,$C$82,InTran!$C:$C,$L$82)","v":0},{"$f":"+SUMIFS(InTran!$S:$S,InTran!$G:$G,C101,InTran!$O:$O,$C$82,InTran!$C:$C,$L$82)","v":0},{"$f":"+SUMIFS(InTran!$M:$M,InTran!$G:$G,C101,InTran!$O:$O,$C$82,InTran!$C:$C,$L$82)","v":0},{"$f":"+IFERROR(L101/SUM($L$84:$L$105),0)","v":0},{"$f":"+SUMIFS(InTran!$R:$R,InTran!$G:$G,C101,InTran!$O:$O,$C$82,InTran!$C:$C,$P$82)","v":0},{"$f":"+SUMIFS(InTran!$S:$S,InTran!$G:$G,C101,InTran!$O:$O,$C$82,InTran!$C:$C,$P$82)","v":0},{"$f":"+SUMIFS(InTran!$M:$M,InTran!$G:$G,C101,InTran!$O:$O,$C$82,InTran!$C:$C,$P$82)","v":0},{"$f":"+IFERROR(P101/SUM($P$84:$P$105),0)","v":0},{"$f":"+SUMIFS(InTran!$R:$R,InTran!$G:$G,C101,InTran!$O:$O,$C$82,InTran!$C:$C,$T$82)","v":0},{"$f":"+SUMIFS(InTran!$S:$S,InTran!$G:$G,C101,InTran!$O:$O,$C$82,InTran!$C:$C,$T$82)","v":0},{"$f":"+SUMIFS(InTran!$M:$M,InTran!$G:$G,C101,InTran!$O:$O,$C$82,InTran!$C:$C,$T$82)","v":0},{"$f":"+IFERROR(T101/SUM($T$84:$T$105),0)","v":0},{"$f":"+SUMIFS(InTran!$R:$R,InTran!$G:$G,C101,InTran!$O:$O,$C$82,InTran!$C:$C,$X$82)","v":0},{"$f":"+SUMIFS(InTran!$S:$S,InTran!$G:$G,C101,InTran!$O:$O,$C$82,InTran!$C:$C,$X$82)","v":0},{"$f":"+SUMIFS(InTran!$M:$M,InTran!$G:$G,C101,InTran!$O:$O,$C$82,InTran!$C:$C,$X$82)","v":0},{"$f":"+IFERROR(X101/SUM($X$84:$X$105),0)","v":0},{"$f":"+SUMIFS(InTran!$R:$R,InTran!$G:$G,C101,InTran!$O:$O,$C$82)","v":0},{"$f":"+SUMIFS(InTran!$S:$S,InTran!$G:$G,C101,InTran!$O:$O,$C$82)","v":0},{"$f":"+SUMIFS(InTran!$M:$M,InTran!$G:$G,C101,InTran!$O:$O,$C$82)","v":0},{"$f":"+IFERROR(AB101/SUM($AB$84:$AB$105),0)","v":0},{"$f":"+RANK(AB101,$AB$84:$AB$105)","v":11}]
[null,null,"MIDF AMANAH INVESTMENT BANK BHD",{"$f":"+SUMIFS(InTran!$R:$R,InTran!$G:$G,C102,InTran!$O:$O,$C$82,InTran!$C:$C,$D$82)","v":0},{"$f":"+SUMIFS(InTran!$S:$S,InTran!$G:$G,C102,InTran!$O:$O,$C$82,InTran!$C:$C,$D$82)","v":0},{"$f":"+SUMIFS(InTran!$M:$M,InTran!$G:$G,C102,InTran!$O:$O,$C$82,InTran!$C:$C,$D$82)","v":0},{"$f":"+IFERROR(D102/SUM($D$84:$D$105),0)","v":0},{"$f":"+SUMIFS(InTran!$R:$R,InTran!$G:$G,C102,InTran!$O:$O,$C$82,InTran!$C:$C,$H$82)","v":0},{"$f":"+SUMIFS(InTran!$S:$S,InTran!$G:$G,C102,InTran!$O:$O,$C$82,InTran!$C:$C,$H$82)","v":0},{"$f":"+SUMIFS(InTran!$M:$M,InTran!$G:$G,C102,InTran!$O:$O,$C$82,InTran!$C:$C,$H$82)","v":0},{"$f":"+IFERROR(H102/SUM($H$84:$H$105),0)","v":0},{"$f":"+SUMIFS(InTran!$R:$R,InTran!$G:$G,C102,InTran!$O:$O,$C$82,InTran!$C:$C,$L$82)","v":0},{"$f":"+SUMIFS(InTran!$S:$S,InTran!$G:$G,C102,InTran!$O:$O,$C$82,InTran!$C:$C,$L$82)","v":0},{"$f":"+SUMIFS(InTran!$M:$M,InTran!$G:$G,C102,InTran!$O:$O,$C$82,InTran!$C:$C,$L$82)","v":0},{"$f":"+IFERROR(L102/SUM($L$84:$L$105),0)","v":0},{"$f":"+SUMIFS(InTran!$R:$R,InTran!$G:$G,C102,InTran!$O:$O,$C$82,InTran!$C:$C,$P$82)","v":0},{"$f":"+SUMIFS(InTran!$S:$S,InTran!$G:$G,C102,InTran!$O:$O,$C$82,InTran!$C:$C,$P$82)","v":0},{"$f":"+SUMIFS(InTran!$M:$M,InTran!$G:$G,C102,InTran!$O:$O,$C$82,InTran!$C:$C,$P$82)","v":0},{"$f":"+IFERROR(P102/SUM($P$84:$P$105),0)","v":0},{"$f":"+SUMIFS(InTran!$R:$R,InTran!$G:$G,C102,InTran!$O:$O,$C$82,InTran!$C:$C,$T$82)","v":0},{"$f":"+SUMIFS(InTran!$S:$S,InTran!$G:$G,C102,InTran!$O:$O,$C$82,InTran!$C:$C,$T$82)","v":0},{"$f":"+SUMIFS(InTran!$M:$M,InTran!$G:$G,C102,InTran!$O:$O,$C$82,InTran!$C:$C,$T$82)","v":0},{"$f":"+IFERROR(T102/SUM($T$84:$T$105),0)","v":0},{"$f":"+SUMIFS(InTran!$R:$R,InTran!$G:$G,C102,InTran!$O:$O,$C$82,InTran!$C:$C,$X$82)","v":0},{"$f":"+SUMIFS(InTran!$S:$S,InTran!$G:$G,C102,InTran!$O:$O,$C$82,InTran!$C:$C,$X$82)","v":0},{"$f":"+SUMIFS(InTran!$M:$M,InTran!$G:$G,C102,InTran!$O:$O,$C$82,InTran!$C:$C,$X$82)","v":0},{"$f":"+IFERROR(X102/SUM($X$84:$X$105),0)","v":0},{"$f":"+SUMIFS(InTran!$R:$R,InTran!$G:$G,C102,InTran!$O:$O,$C$82)","v":0},{"$f":"+SUMIFS(InTran!$S:$S,InTran!$G:$G,C102,InTran!$O:$O,$C$82)","v":0},{"$f":"+SUMIFS(InTran!$M:$M,InTran!$G:$G,C102,InTran!$O:$O,$C$82)","v":0},{"$f":"+IFERROR(AB102/SUM($AB$84:$AB$105),0)","v":0},{"$f":"+RANK(AB102,$AB$84:$AB$105)","v":11}]
[null,null,"NOMURA SECURITIES MALAYSIA SDN BHD",{"$f":"+SUMIFS(InTran!$R:$R,InTran!$G:$G,C103,InTran!$O:$O,$C$82,InTran!$C:$C,$D$82)","v":0},{"$f":"+SUMIFS(InTran!$S:$S,InTran!$G:$G,C103,InTran!$O:$O,$C$82,InTran!$C:$C,$D$82)","v":0},{"$f":"+SUMIFS(InTran!$M:$M,InTran!$G:$G,C103,InTran!$O:$O,$C$82,InTran!$C:$C,$D$82)","v":0},{"$f":"+IFERROR(D103/SUM($D$84:$D$105),0)","v":0},{"$f":"+SUMIFS(InTran!$R:$R,InTran!$G:$G,C103,InTran!$O:$O,$C$82,InTran!$C:$C,$H$82)","v":0},{"$f":"+SUMIFS(InTran!$S:$S,InTran!$G:$G,C103,InTran!$O:$O,$C$82,InTran!$C:$C,$H$82)","v":0},{"$f":"+SUMIFS(InTran!$M:$M,InTran!$G:$G,C103,InTran!$O:$O,$C$82,InTran!$C:$C,$H$82)","v":0},{"$f":"+IFERROR(H103/SUM($H$84:$H$105),0)","v":0},{"$f":"+SUMIFS(InTran!$R:$R,InTran!$G:$G,C103,InTran!$O:$O,$C$82,InTran!$C:$C,$L$82)","v":0},{"$f":"+SUMIFS(InTran!$S:$S,InTran!$G:$G,C103,InTran!$O:$O,$C$82,InTran!$C:$C,$L$82)","v":0},{"$f":"+SUMIFS(InTran!$M:$M,InTran!$G:$G,C103,InTran!$O:$O,$C$82,InTran!$C:$C,$L$82)","v":0},{"$f":"+IFERROR(L103/SUM($L$84:$L$105),0)","v":0},{"$f":"+SUMIFS(InTran!$R:$R,InTran!$G:$G,C103,InTran!$O:$O,$C$82,InTran!$C:$C,$P$82)","v":0},{"$f":"+SUMIFS(InTran!$S:$S,InTran!$G:$G,C103,InTran!$O:$O,$C$82,InTran!$C:$C,$P$82)","v":0},{"$f":"+SUMIFS(InTran!$M:$M,InTran!$G:$G,C103,InTran!$O:$O,$C$82,InTran!$C:$C,$P$82)","v":0},{"$f":"+IFERROR(P103/SUM($P$84:$P$105),0)","v":0},{"$f":"+SUMIFS(InTran!$R:$R,InTran!$G:$G,C103,InTran!$O:$O,$C$82,InTran!$C:$C,$T$82)","v":0},{"$f":"+SUMIFS(InTran!$S:$S,InTran!$G:$G,C103,InTran!$O:$O,$C$82,InTran!$C:$C,$T$82)","v":0},{"$f":"+SUMIFS(InTran!$M:$M,InTran!$G:$G,C103,InTran!$O:$O,$C$82,InTran!$C:$C,$T$82)","v":0},{"$f":"+IFERROR(T103/SUM($T$84:$T$105),0)","v":0},{"$f":"+SUMIFS(InTran!$R:$R,InTran!$G:$G,C103,InTran!$O:$O,$C$82,InTran!$C:$C,$X$82)","v":0},{"$f":"+SUMIFS(InTran!$S:$S,InTran!$G:$G,C103,InTran!$O:$O,$C$82,InTran!$C:$C,$X$82)","v":0},{"$f":"+SUMIFS(InTran!$M:$M,InTran!$G:$G,C103,InTran!$O:$O,$C$82,InTran!$C:$C,$X$82)","v":0},{"$f":"+IFERROR(X103/SUM($X$84:$X$105),0)","v":0},{"$f":"+SUMIFS(InTran!$R:$R,InTran!$G:$G,C103,InTran!$O:$O,$C$82)","v":0},{"$f":"+SUMIFS(InTran!$S:$S,InTran!$G:$G,C103,InTran!$O:$O,$C$82)","v":0},{"$f":"+SUMIFS(InTran!$M:$M,InTran!$G:$G,C103,InTran!$O:$O,$C$82)","v":0},{"$f":"+IFERROR(AB103/SUM($AB$84:$AB$105),0)","v":0},{"$f":"+RANK(AB103,$AB$84:$AB$105)","v":11}]
[null,null,"NOT APPLICABLE",{"$f":"+SUMIFS(InTran!$R:$R,InTran!$G:$G,C104,InTran!$O:$O,$C$82,InTran!$C:$C,$D$82)","v":0},{"$f":"+SUMIFS(InTran!$S:$S,InTran!$G:$G,C104,InTran!$O:$O,$C$82,InTran!$C:$C,$D$82)","v":0},{"$f":"+SUMIFS(InTran!$M:$M,InTran!$G:$G,C104,InTran!$O:$O,$C$82,InTran!$C:$C,$D$82)","v":0},{"$f":"+IFERROR(D104/SUM($D$84:$D$105),0)","v":0},{"$f":"+SUMIFS(InTran!$R:$R,InTran!$G:$G,C104,InTran!$O:$O,$C$82,InTran!$C:$C,$H$82)","v":0},{"$f":"+SUMIFS(InTran!$S:$S,InTran!$G:$G,C104,InTran!$O:$O,$C$82,InTran!$C:$C,$H$82)","v":0},{"$f":"+SUMIFS(InTran!$M:$M,InTran!$G:$G,C104,InTran!$O:$O,$C$82,InTran!$C:$C,$H$82)","v":0},{"$f":"+IFERROR(H104/SUM($H$84:$H$105),0)","v":0},{"$f":"+SUMIFS(InTran!$R:$R,InTran!$G:$G,C104,InTran!$O:$O,$C$82,InTran!$C:$C,$L$82)","v":0},{"$f":"+SUMIFS(InTran!$S:$S,InTran!$G:$G,C104,InTran!$O:$O,$C$82,InTran!$C:$C,$L$82)","v":0},{"$f":"+SUMIFS(InTran!$M:$M,InTran!$G:$G,C104,InTran!$O:$O,$C$82,InTran!$C:$C,$L$82)","v":0},{"$f":"+IFERROR(L104/SUM($L$84:$L$105),0)","v":0},{"$f":"+SUMIFS(InTran!$R:$R,InTran!$G:$G,C104,InTran!$O:$O,$C$82,InTran!$C:$C,$P$82)","v":0},{"$f":"+SUMIFS(InTran!$S:$S,InTran!$G:$G,C104,InTran!$O:$O,$C$82,InTran!$C:$C,$P$82)","v":0},{"$f":"+SUMIFS(InTran!$M:$M,InTran!$G:$G,C104,InTran!$O:$O,$C$82,InTran!$C:$C,$P$82)","v":0},{"$f":"+IFERROR(P104/SUM($P$84:$P$105),0)","v":0},{"$f":"+SUMIFS(InTran!$R:$R,InTran!$G:$G,C104,InTran!$O:$O,$C$82,InTran!$C:$C,$T$82)","v":0},{"$f":"+SUMIFS(InTran!$S:$S,InTran!$G:$G,C104,InTran!$O:$O,$C$82,InTran!$C:$C,$T$82)","v":0},{"$f":"+SUMIFS(InTran!$M:$M,InTran!$G:$G,C104,InTran!$O:$O,$C$82,InTran!$C:$C,$T$82)","v":0},{"$f":"+IFERROR(T104/SUM($T$84:$T$105),0)","v":0},{"$f":"+SUMIFS(InTran!$R:$R,InTran!$G:$G,C104,InTran!$O:$O,$C$82,InTran!$C:$C,$X$82)","v":0},{"$f":"+SUMIFS(InTran!$S:$S,InTran!$G:$G,C104,InTran!$O:$O,$C$82,InTran!$C:$C,$X$82)","v":0},{"$f":"+SUMIFS(InTran!$M:$M,InTran!$G:$G,C104,InTran!$O:$O,$C$82,InTran!$C:$C,$X$82)","v":0},{"$f":"+IFERROR(X104/SUM($X$84:$X$105),0)","v":0},{"$f":"+SUMIFS(InTran!$R:$R,InTran!$G:$G,C104,InTran!$O:$O,$C$82)","v":0},{"$f":"+SUMIFS(InTran!$S:$S,InTran!$G:$G,C104,InTran!$O:$O,$C$82)","v":0},{"$f":"+SUMIFS(InTran!$M:$M,InTran!$G:$G,C104,InTran!$O:$O,$C$82)","v":0},{"$f":"+IFERROR(AB104/SUM($AB$84:$AB$105),0)","v":0},{"$f":"+RANK(AB104,$AB$84:$AB$105)","v":11}]
[null,null,"UBS SECURITIES MALAYSIA SDN BHD",{"$f":"+SUMIFS(InTran!$R:$R,InTran!$G:$G,C105,InTran!$O:$O,$C$82,InTran!$C:$C,$D$82)","v":0},{"$f":"+SUMIFS(InTran!$S:$S,InTran!$G:$G,C105,InTran!$O:$O,$C$82,InTran!$C:$C,$D$82)","v":0},{"$f":"+SUMIFS(InTran!$M:$M,InTran!$G:$G,C105,InTran!$O:$O,$C$82,InTran!$C:$C,$D$82)","v":0},{"$f":"+IFERROR(D105/SUM($D$84:$D$105),0)","v":0},{"$f":"+SUMIFS(InTran!$R:$R,InTran!$G:$G,C105,InTran!$O:$O,$C$82,InTran!$C:$C,$H$82)","v":0},{"$f":"+SUMIFS(InTran!$S:$S,InTran!$G:$G,C105,InTran!$O:$O,$C$82,InTran!$C:$C,$H$82)","v":0},{"$f":"+SUMIFS(InTran!$M:$M,InTran!$G:$G,C105,InTran!$O:$O,$C$82,InTran!$C:$C,$H$82)","v":0},{"$f":"+IFERROR(H105/SUM($H$84:$H$105),0)","v":0},{"$f":"+SUMIFS(InTran!$R:$R,InTran!$G:$G,C105,InTran!$O:$O,$C$82,InTran!$C:$C,$L$82)","v":0},{"$f":"+SUMIFS(InTran!$S:$S,InTran!$G:$G,C105,InTran!$O:$O,$C$82,InTran!$C:$C,$L$82)","v":0},{"$f":"+SUMIFS(InTran!$M:$M,InTran!$G:$G,C105,InTran!$O:$O,$C$82,InTran!$C:$C,$L$82)","v":0},{"$f":"+IFERROR(L105/SUM($L$84:$L$105),0)","v":0},{"$f":"+SUMIFS(InTran!$R:$R,InTran!$G:$G,C105,InTran!$O:$O,$C$82,InTran!$C:$C,$P$82)","v":0},{"$f":"+SUMIFS(InTran!$S:$S,InTran!$G:$G,C105,InTran!$O:$O,$C$82,InTran!$C:$C,$P$82)","v":0},{"$f":"+SUMIFS(InTran!$M:$M,InTran!$G:$G,C105,InTran!$O:$O,$C$82,InTran!$C:$C,$P$82)","v":0},{"$f":"+IFERROR(P105/SUM($P$84:$P$105),0)","v":0},{"$f":"+SUMIFS(InTran!$R:$R,InTran!$G:$G,C105,InTran!$O:$O,$C$82,InTran!$C:$C,$T$82)","v":0},{"$f":"+SUMIFS(InTran!$S:$S,InTran!$G:$G,C105,InTran!$O:$O,$C$82,InTran!$C:$C,$T$82)","v":0},{"$f":"+SUMIFS(InTran!$M:$M,InTran!$G:$G,C105,InTran!$O:$O,$C$82,InTran!$C:$C,$T$82)","v":0},{"$f":"+IFERROR(T105/SUM($T$84:$T$105),0)","v":0},{"$f":"+SUMIFS(InTran!$R:$R,InTran!$G:$G,C105,InTran!$O:$O,$C$82,InTran!$C:$C,$X$82)","v":0},{"$f":"+SUMIFS(InTran!$S:$S,InTran!$G:$G,C105,InTran!$O:$O,$C$82,InTran!$C:$C,$X$82)","v":0},{"$f":"+SUMIFS(InTran!$M:$M,InTran!$G:$G,C105,InTran!$O:$O,$C$82,InTran!$C:$C,$X$82)","v":0},{"$f":"+IFERROR(X105/SUM($X$84:$X$105),0)","v":0},{"$f":"+SUMIFS(InTran!$R:$R,InTran!$G:$G,C105,InTran!$O:$O,$C$82)","v":0},{"$f":"+SUMIFS(InTran!$S:$S,InTran!$G:$G,C105,InTran!$O:$O,$C$82)","v":0},{"$f":"+SUMIFS(InTran!$M:$M,InTran!$G:$G,C105,InTran!$O:$O,$C$82)","v":0},{"$f":"+IFERROR(AB105/SUM($AB$84:$AB$105),0)","v":0},{"$f":"+RANK(AB105,$AB$84:$AB$105)","v":11}]
[null,null,"Total",{"$f":"SUM(D84:D105)","v":9585654.6999999993},{"$f":"SUM(E84:E105)","v":11502.220000000001},{"$f":"SUM(F84:F105)","v":1364562.27},{"$f":"SUM(G84:G105)","v":1},{"$f":"SUM(H84:H105)","v":237566577.40000004},{"$f":"SUM(I84:I105)","v":408675.72},{"$f":"SUM(J84:J105)","v":9586269.2300000004},{"$f":"SUM(K84:K105)","v":0.99999999999999989},{"$f":"SUM(L84:L105)","v":14059008.770000001},{"$f":"SUM(M84:M105)","v":15679.34},{"$f":"SUM(N84:N105)","v":-581672.03},{"$f":"SUM(O84:O105)","v":1},{"$f":"SUM(P84:P105)","v":1946482.38},{"$f":"SUM(Q84:Q105)","v":3902.88},{"$f":"SUM(R84:R105)","v":118495.86},{"$f":"SUM(S84:S105)","v":1},{"$f":"SUM(T84:T105)","v":512101.98000000004},{"$f":"SUM(U84:U105)","v":1149.08},{"$f":"SUM(V84:V105)","v":9097.41},{"$f":"SUM(W84:W105)","v":1},{"$f":"SUM(X84:X105)","v":100101.08},{"$f":"SUM(Y84:Y105)","v":224.4},{"$f":"SUM(Z84:Z105)","v":0},{"$f":"SUM(AA84:AA105)","v":1},{"$f":"SUM(AB84:AB105)","v":263769926.31},{"$f":"SUM(AC84:AC105)","v":441133.63999999996},{"$f":"SUM(AD84:AD105)","v":10496752.739999998},{"$f":"SUM(AE84:AE105)","v":1}]
[]
[null,null,"NIK.FAIZ","YH-AUR-VCAM",null,null,null,"KWAP",null,null,null,"MEQESG",null,null,null,"YAMIR-VCAM",null,null,null,"VCAM-TABA",null,null,null,"ASEAN5ESG",null,null,null,"Total"]
[null,null,"Brokers","Trade Value (RM)","Brokerage Fees (RM)","Capital Gains (RM)","%","Trade Value (RM)","Brokerage Fees (RM)","Capital Gains (RM)","%","Trade Value (RM)","Brokerage Fees (RM)","Capital Gains (RM)","%","Trade Value (RM)","Brokerage Fees (RM)","Capital Gains (RM)","%","Trade Value (RM)","Brokerage Fees (RM)","Capital Gains (RM)","%","Trade Value (RM)","Brokerage Fees (RM)","Capital Gains (RM)","%","Trade Value (RM)","Brokerage Fees (RM)","Capital Gains (RM)","%","Trade Value Ranking"]
[null,null,"CIMB INVESTMENT BANK BHD",{"$f":"+SUMIFS(InTran!$R:$R,InTran!$G:$G,C110,InTran!$O:$O,$C$108,InTran!$C:$C,$D$108)","v":0},{"$f":"+SUMIFS(InTran!$S:$S,InTran!$G:$G,C110,InTran!$O:$O,$C$108,InTran!$C:$C,$D$108)","v":0},{"$f":"+SUMIFS(InTran!$M:$M,InTran!$G:$G,C110,InTran!$O:$O,$C$108,InTran!$C:$C,$D$108)","v":0},{"$f":"+IFERROR(D110/SUM($D$110:$D$131),0)","v":0},{"$f":"+SUMIFS(InTran!$R:$R,InTran!$G:$G,C110,InTran!$O:$O,$C$108,InTran!$C:$C,$H$108)","v":34498367.049999997},{"$f":"+SUMIFS(InTran!$S:$S,InTran!$G:$G,C110,InTran!$O:$O,$C$108,InTran!$C:$C,$H$108)","v":51572.06},{"$f":"+SUMIFS(InTran!$M:$M,InTran!$G:$G,C110,InTran!$O:$O,$C$108,InTran!$C:$C,$H$108)","v":922348.52},{"$f":"+IFERROR(H110/SUM($H$110:$H$131),0)","v":0.10027721589329153},{"$f":"+SUMIFS(InTran!$R:$R,InTran!$G:$G,C110,InTran!$O:$O,$C$108,InTran!$C:$C,$L$108)","v":0},{"$f":"+SUMIFS(InTran!$S:$S,InTran!$G:$G,C110,InTran!$O:$O,$C$108,InTran!$C:$C,$L$108)","v":0},{"$f":"+SUMIFS(InTran!$M:$M,InTran!$G:$G,C110,InTran!$O:$O,$C$108,InTran!$C:$C,$L$108)","v":0},{"$f":"+IFERROR(L110/SUM($L$110:$L$131),0)","v":0},{"$f":"+SUMIFS(InTran!$R:$R,InTran!$G:$G,C110,InTran!$O:$O,$C$108,InTran!$C:$C,$P$108)","v":6416560.3100000005},{"$f":"+SUMIFS(InTran!$S:$S,InTran!$G:$G,C110,InTran!$O:$O,$C$108,InTran!$C:$C,$P$108)","v":13601.8},{"$f":"+SUMIFS(InTran!$M:$M,InTran!$G:$G,C110,InTran!$O:$O,$C$108,InTran!$C:$C,$P$108)","v":149045.42000000001},{"$f":"+IFERROR(P110/SUM($P$110:$P$131),0)","v":9.1732059021493534E-2},{"$f":"+SUMIFS(InTran!$R:$R,InTran!$G:$G,C110,InTran!$O:$O,$C$108,InTran!$C:$C,$T$108)","v":352147.23},{"$f":"+SUMIFS(InTran!$S:$S,InTran!$G:$G,C110,InTran!$O:$O,$C$108,InTran!$C:$C,$T$108)","v":794.93},{"$f":"+SUMIFS(InTran!$M:$M,InTran!$G:$G,C110,InTran!$O:$O,$C$108,InTran!$C:$C,$T$108)","v":33882.83},{"$f":"+IFERROR(T110/SUM($T$110:$T$131),0)","v":0.36259524893005757},{"$f":"+SUMIFS(InTran!$R:$R,InTran!$G:$G,C110,InTran!$O:$O,$C$108,InTran!$C:$C,$X$108)","v":0},{"$f":"+SUMIFS(InTran!$S:$S,InTran!$G:$G,C110,InTran!$O:$O,$C$108,InTran!$C:$C,$X$108)","v":0},{"$f":"+SUMIFS(InTran!$M:$M,InTran!$G:$G,C110,InTran!$O:$O,$C$108,InTran!$C:$C,$X$108)","v":0},{"$f":"+IFERROR(X110/SUM($X$110:$X$131),0)","v":0},{"$f":"+SUMIFS(InTran!$R:$R,InTran!$G:$G,C110,InTran!$O:$O,$C$108)","v":41267074.589999996},{"$f":"+SUMIFS(InTran!$S:$S,InTran!$G:$G,C110,InTran!$O:$O,$C$108)","v":65968.789999999994},{"$f":"+SUMIFS(InTran!$M:$M,InTran!$G:$G,C110,InTran!$O:$O,$C$108)","v":1105276.77},{"$f":"+IFERROR(AB110/SUM($AB$110:$AB$131),0)","v":9.8742734887561232E-2},{"$f":"+RANK(AB110,$AB$110:$AB$131)","v":1}]
[null,null,"MACQUARIE CAPITAL SECURITIES (MALAYSIA) SDN BHD",{"$f":"+SUMIFS(InTran!$R:$R,InTran!$G:$G,C111,InTran!$O:$O,$C$108,InTran!$C:$C,$D$108)","v":0},{"$f":"+SUMIFS(InTran!$S:$S,InTran!$G:$G,C111,InTran!$O:$O,$C$108,InTran!$C:$C,$D$108)","v":0},{"$f":"+SUMIFS(InTran!$M:$M,InTran!$G:$G,C111,InTran!$O:$O,$C$108,InTran!$C:$C,$D$108)","v":0},{"$f":"+IFERROR(D111/SUM($D$110:$D$131),0)","v":0},{"$f":"+SUMIFS(InTran!$R:$R,InTran!$G:$G,C111,InTran!$O:$O,$C$108,InTran!$C:$C,$H$108)","v":31650741.469999999},{"$f":"+SUMIFS(InTran!$S:$S,InTran!$G:$G,C111,InTran!$O:$O,$C$108,InTran!$C:$C,$H$108)","v":57332.58},{"$f":"+SUMIFS(InTran!$M:$M,InTran!$G:$G,C111,InTran!$O:$O,$C$108,InTran!$C:$C,$H$108)","v":2314543.4},{"$f":"+IFERROR(H111/SUM($H$110:$H$131),0)","v":9.1999955562242927E-2},{"$f":"+SUMIFS(InTran!$R:$R,InTran!$G:$G,C111,InTran!$O:$O,$C$108,InTran!$C:$C,$L$108)","v":0},{"$f":"+SUMIFS(InTran!$S:$S,InTran!$G:$G,C111,InTran!$O:$O,$C$108,InTran!$C:$C,$L$108)","v":0},{"$f":"+SUMIFS(InTran!$M:$M,InTran!$G:$G,C111,InTran!$O:$O,$C$108,InTran!$C:$C,$L$108)","v":0},{"$f":"+IFERROR(L111/SUM($L$110:$L$131),0)","v":0},{"$f":"+SUMIFS(InTran!$R:$R,InTran!$G:$G,C111,InTran!$O:$O,$C$108,InTran!$C:$C,$P$108)","v":9445355.4000000004},{"$f":"+SUMIFS(InTran!$S:$S,InTran!$G:$G,C111,InTran!$O:$O,$C$108,InTran!$C:$C,$P$108)","v":20638.329999999998},{"$f":"+SUMIFS(InTran!$M:$M,InTran!$G:$G,C111,InTran!$O:$O,$C$108,InTran!$C:$C,$P$108)","v":291917.76},{"$f":"+IFERROR(P111/SUM($P$110:$P$131),0)","v":0.13503214450917903},{"$f":"+SUMIFS(InTran!$R:$R,InTran!$G:$G,C111,InTran!$O:$O,$C$108,InTran!$C:$C,$T$108)","v":0},{"$f":"+SUMIFS(InTran!$S:$S,InTran!$G:$G,C111,InTran!$O:$O,$C$108,InTran!$C:$C,$T$108)","v":0},{"$f":"+SUMIFS(InTran!$M:$M,InTran!$G:$G,C111,InTran!$O:$O,$C$108,InTran!$C:$C,$T$108)","v":0},{"$f":"+IFERROR(T111/SUM($T$110:$T$131),0)","v":0},{"$f":"+SUMIFS(InTran!$R:$R,InTran!$G:$G,C111,InTran!$O:$O,$C$108,InTran!$C:$C,$X$108)","v":0},{"$f":"+SUMIFS(InTran!$S:$S,InTran!$G:$G,C111,InTran!$O:$O,$C$108,InTran!$C:$C,$X$108)","v":0},{"$f":"+SUMIFS(InTran!$M:$M,InTran!$G:$G,C111,InTran!$O:$O,$C$108,InTran!$C:$C,$X$108)","v":0},{"$f":"+IFERROR(X111/SUM($X$110:$X$131),0)","v":0},{"$f":"+SUMIFS(InTran!$R:$R,InTran!$G:$G,C111,InTran!$O:$O,$C$108)","v":41096096.869999997},{"$f":"+SUMIFS(InTran!$S:$S,InTran!$G:$G,C111,InTran!$O:$O,$C$108)","v":77970.909999999989},{"$f":"+SUMIFS(InTran!$M:$M,InTran!$G:$G,C111,InTran!$O:$O,$C$108)","v":2606461.16},{"$f":"+IFERROR(AB111/SUM($AB$110:$AB$131),0)","v":9.833362404446476E-2},{"$f":"+RANK(AB111,$AB$110:$AB$131)","v":2}]
[null,null,"AFFIN INVESTMENT BANK BERHAD",{"$f":"+SUMIFS(InTran!$R:$R,InTran!$G:$G,C112,InTran!$O:$O,$C$108,InTran!$C:$C,$D$108)","v":0},{"$f":"+SUMIFS(InTran!$S:$S,InTran!$G:$G,C112,InTran!$O:$O,$C$108,InTran!$C:$C,$D$108)","v":0},{"$f":"+SUMIFS(InTran!$M:$M,InTran!$G:$G,C112,InTran!$O:$O,$C$108,InTran!$C:$C,$D$108)","v":0},{"$f":"+IFERROR(D112/SUM($D$110:$D$131),0)","v":0},{"$f":"+SUMIFS(InTran!$R:$R,InTran!$G:$G,C112,InTran!$O:$O,$C$108,InTran!$C:$C,$H$108)","v":32977545.779999997},{"$f":"+SUMIFS(InTran!$S:$S,InTran!$G:$G,C112,InTran!$O:$O,$C$108,InTran!$C:$C,$H$108)","v":34175.49},{"$f":"+SUMIFS(InTran!$M:$M,InTran!$G:$G,C112,InTran!$O:$O,$C$108,InTran!$C:$C,$H$108)","v":64650.86},{"$f":"+IFERROR(H112/SUM($H$110:$H$131),0)","v":9.5856608894535053E-2},{"$f":"+SUMIFS(InTran!$R:$R,InTran!$G:$G,C112,InTran!$O:$O,$C$108,InTran!$C:$C,$L$108)","v":0},{"$f":"+SUMIFS(InTran!$S:$S,InTran!$G:$G,C112,InTran!$O:$O,$C$108,InTran!$C:$C,$L$108)","v":0},{"$f":"+SUMIFS(InTran!$M:$M,InTran!$G:$G,C112,InTran!$O:$O,$C$108,InTran!$C:$C,$L$108)","v":0},{"$f":"+IFERROR(L112/SUM($L$110:$L$131),0)","v":0},{"$f":"+SUMIFS(InTran!$R:$R,InTran!$G:$G,C112,InTran!$O:$O,$C$108,InTran!$C:$C,$P$108)","v":5325479.7400000012},{"$f":"+SUMIFS(InTran!$S:$S,InTran!$G:$G,C112,InTran!$O:$O,$C$108,InTran!$C:$C,$P$108)","v":11739.52},{"$f":"+SUMIFS(InTran!$M:$M,InTran!$G:$G,C112,InTran!$O:$O,$C$108,InTran!$C:$C,$P$108)","v":141297.76},{"$f":"+IFERROR(P112/SUM($P$110:$P$131),0)","v":7.6133815973974395E-2},{"$f":"+SUMIFS(InTran!$R:$R,InTran!$G:$G,C112,InTran!$O:$O,$C$108,InTran!$C:$C,$T$108)","v":0},{"$f":"+SUMIFS(InTran!$S:$S,InTran!$G:$G,C112,InTran!$O:$O,$C$108,InTran!$C:$C,$T$108)","v":0},{"$f":"+SUMIFS(InTran!$M:$M,InTran!$G:$G,C112,InTran!$O:$O,$C$108,InTran!$C:$C,$T$108)","v":0},{"$f":"+IFERROR(T112/SUM($T$110:$T$131),0)","v":0},{"$f":"+SUMIFS(InTran!$R:$R,InTran!$G:$G,C112,InTran!$O:$O,$C$108,InTran!$C:$C,$X$108)","v":0},{"$f":"+SUMIFS(InTran!$S:$S,InTran!$G:$G,C112,InTran!$O:$O,$C$108,InTran!$C:$C,$X$108)","v":0},{"$f":"+SUMIFS(InTran!$M:$M,InTran!$G:$G,C112,InTran!$O:$O,$C$108,InTran!$C:$C,$X$108)","v":0},{"$f":"+IFERROR(X112/SUM($X$110:$X$131),0)","v":0},{"$f":"+SUMIFS(InTran!$R:$R,InTran!$G:$G,C112,InTran!$O:$O,$C$108)","v":38303025.519999996},{"$f":"+SUMIFS(InTran!$S:$S,InTran!$G:$G,C112,InTran!$O:$O,$C$108)","v":45915.009999999995},{"$f":"+SUMIFS(InTran!$M:$M,InTran!$G:$G,C112,InTran!$O:$O,$C$108)","v":205948.62},{"$f":"+IFERROR(AB112/SUM($AB$110:$AB$131),0)","v":9.1650438803562689E-2},{"$f":"+RANK(AB112,$AB$110:$AB$131)","v":3}]
[null,null,"KAF-SEAGROATT & CAMPBELL SECURITIES SDN BHD",{"$f":"+SUMIFS(InTran!$R:$R,InTran!$G:$G,C113,InTran!$O:$O,$C$108,InTran!$C:$C,$D$108)","v":0},{"$f":"+SUMIFS(InTran!$S:$S,InTran!$G:$G,C113,InTran!$O:$O,$C$108,InTran!$C:$C,$D$108)","v":0},{"$f":"+SUMIFS(InTran!$M:$M,InTran!$G:$G,C113,InTran!$O:$O,$C$108,InTran!$C:$C,$D$108)","v":0},{"$f":"+IFERROR(D113/SUM($D$110:$D$131),0)","v":0},{"$f":"+SUMIFS(InTran!$R:$R,InTran!$G:$G,C113,InTran!$O:$O,$C$108,InTran!$C:$C,$H$108)","v":31737782.960000001},{"$f":"+SUMIFS(InTran!$S:$S,InTran!$G:$G,C113,InTran!$O:$O,$C$108,InTran!$C:$C,$H$108)","v":42552.83},{"$f":"+SUMIFS(InTran!$M:$M,InTran!$G:$G,C113,InTran!$O:$O,$C$108,InTran!$C:$C,$H$108)","v":2199255.39},{"$f":"+IFERROR(H113/SUM($H$110:$H$131),0)","v":9.2252961110933202E-2},{"$f":"+SUMIFS(InTran!$R:$R,InTran!$G:$G,C113,InTran!$O:$O,$C$108,InTran!$C:$C,$L$108)","v":0},{"$f":"+SUMIFS(InTran!$S:$S,InTran!$G:$G,C113,InTran!$O:$O,$C$108,InTran!$C:$C,$L$108)","v":0},{"$f":"+SUMIFS(InTran!$M:$M,InTran!$G:$G,C113,InTran!$O:$O,$C$108,InTran!$C:$C,$L$108)","v":0},{"$f":"+IFERROR(L113/SUM($L$110:$L$131),0)","v":0},{"$f":"+SUMIFS(InTran!$R:$R,InTran!$G:$G,C113,InTran!$O:$O,$C$108,InTran!$C:$C,$P$108)","v":6122541.5299999993},{"$f":"+SUMIFS(InTran!$S:$S,InTran!$G:$G,C113,InTran!$O:$O,$C$108,InTran!$C:$C,$P$108)","v":13796.899999999998},{"$f":"+SUMIFS(InTran!$M:$M,InTran!$G:$G,C113,InTran!$O:$O,$C$108,InTran!$C:$C,$P$108)","v":163136.63},{"$f":"+IFERROR(P113/SUM($P$110:$P$131),0)","v":8.7528724715049896E-2},{"$f":"+SUMIFS(InTran!$R:$R,InTran!$G:$G,C113,InTran!$O:$O,$C$108,InTran!$C:$C,$T$108)","v":0},{"$f":"+SUMIFS(InTran!$S:$S,InTran!$G:$G,C113,InTran!$O:$O,$C$108,InTran!$C:$C,$T$108)","v":0},{"$f":"+SUMIFS(InTran!$M:$M,InTran!$G:$G,C113,InTran!$O:$O,$C$108,InTran!$C:$C,$T$108)","v":0},{"$f":"+IFERROR(T113/SUM($T$110:$T$131),0)","v":0},{"$f":"+SUMIFS(InTran!$R:$R,InTran!$G:$G,C113,InTran!$O:$O,$C$108,InTran!$C:$C,$X$108)","v":0},{"$f":"+SUMIFS(InTran!$S:$S,InTran!$G:$G,C113,InTran!$O:$O,$C$108,InTran!$C:$C,$X$108)","v":0},{"$f":"+SUMIFS(InTran!$M:$M,InTran!$G:$G,C113,InTran!$O:$O,$C$108,InTran!$C:$C,$X$108)","v":0},{"$f":"+IFERROR(X113/SUM($X$110:$X$131),0)","v":0},{"$f":"+SUMIFS(InTran!$R:$R,InTran!$G:$G,C113,InTran!$O:$O,$C$108)","v":37860324.490000002},{"$f":"+SUMIFS(InTran!$S:$S,InTran!$G:$G,C113,InTran!$O:$O,$C$108)","v":56349.73},{"$f":"+SUMIFS(InTran!$M:$M,InTran!$G:$G,C113,InTran!$O:$O,$C$108)","v":2362392.02},{"$f":"+IFERROR(AB113/SUM($AB$110:$AB$131),0)","v":9.0591155806789947E-2},{"$f":"+RANK(AB113,$AB$110:$AB$131)","v":4}]
[null,null,"MIDF AMANAH INVESTMENT BANK BHD",{"$f":"+SUMIFS(InTran!$R:$R,InTran!$G:$G,C114,InTran!$O:$O,$C$108,InTran!$C:$C,$D$108)","v":0},{"$f":"+SUMIFS(InTran!$S:$S,InTran!$G:$G,C114,InTran!$O:$O,$C$108,InTran!$C:$C,$D$108)","v":0},{"$f":"+SUMIFS(InTran!$M:$M,InTran!$G:$G,C114,InTran!$O:$O,$C$108,InTran!$C:$C,$D$108)","v":0},{"$f":"+IFERROR(D114/SUM($D$110:$D$131),0)","v":0},{"$f":"+SUMIFS(InTran!$R:$R,InTran!$G:$G,C114,InTran!$O:$O,$C$108,InTran!$C:$C,$H$108)","v":30812374.57},{"$f":"+SUMIFS(InTran!$S:$S,InTran!$G:$G,C114,InTran!$O:$O,$C$108,InTran!$C:$C,$H$108)","v":57426.830000000009},{"$f":"+SUMIFS(InTran!$M:$M,InTran!$G:$G,C114,InTran!$O:$O,$C$108,InTran!$C:$C,$H$108)","v":2399705.0500000003},{"$f":"+IFERROR(H114/SUM($H$110:$H$131),0)","v":8.9563054751626459E-2},{"$f":"+SUMIFS(InTran!$R:$R,InTran!$G:$G,C114,InTran!$O:$O,$C$108,InTran!$C:$C,$L$108)","v":0},{"$f":"+SUMIFS(InTran!$S:$S,InTran!$G:$G,C114,InTran!$O:$O,$C$108,InTran!$C:$C,$L$108)","v":0},{"$f":"+SUMIFS(InTran!$M:$M,InTran!$G:$G,C114,InTran!$O:$O,$C$108,InTran!$C:$C,$L$108)","v":0},{"$f":"+IFERROR(L114/SUM($L$110:$L$131),0)","v":0},{"$f":"+SUMIFS(InTran!$R:$R,InTran!$G:$G,C114,InTran!$O:$O,$C$108,InTran!$C:$C,$P$108)","v":5650216.9699999997},{"$f":"+SUMIFS(InTran!$S:$S,InTran!$G:$G,C114,InTran!$O:$O,$C$108,InTran!$C:$C,$P$108)","v":12734.92},{"$f":"+SUMIFS(InTran!$M:$M,InTran!$G:$G,C114,InTran!$O:$O,$C$108,InTran!$C:$C,$P$108)","v":193892.93999999997},{"$f":"+IFERROR(P114/SUM($P$110:$P$131),0)","v":8.0776305611671914E-2},{"$f":"+SUMIFS(InTran!$R:$R,InTran!$G:$G,C114,InTran!$O:$O,$C$108,InTran!$C:$C,$T$108)","v":619038.22},{"$f":"+SUMIFS(InTran!$S:$S,InTran!$G:$G,C114,InTran!$O:$O,$C$108,InTran!$C:$C,$T$108)","v":1388.63},{"$f":"+SUMIFS(InTran!$M:$M,InTran!$G:$G,C114,InTran!$O:$O,$C$108,InTran!$C:$C,$T$108)","v":0},{"$f":"+IFERROR(T114/SUM($T$110:$T$131),0)","v":0.63740475106994243},{"$f":"+SUMIFS(InTran!$R:$R,InTran!$G:$G,C114,InTran!$O:$O,$C$108,InTran!$C:$C,$X$108)","v":0},{"$f":"+SUMIFS(InTran!$S:$S,InTran!$G:$G,C114,InTran!$O:$O,$C$108,InTran!$C:$C,$X$108)","v":0},{"$f":"+SUMIFS(InTran!$M:$M,InTran!$G:$G,C114,InTran!$O:$O,$C$108,InTran!$C:$C,$X$108)","v":0},{"$f":"+IFERROR(X114/SUM($X$110:$X$131),0)","v":0},{"$f":"+SUMIFS(InTran!$R:$R,InTran!$G:$G,C114,InTran!$O:$O,$C$108)","v":37081629.759999998},{"$f":"+SUMIFS(InTran!$S:$S,InTran!$G:$G,C114,InTran!$O:$O,$C$108)","v":71550.38},{"$f":"+SUMIFS(InTran!$M:$M,InTran!$G:$G,C114,InTran!$O:$O,$C$108)","v":2593597.9899999993},{"$f":"+IFERROR(AB114/SUM($AB$110:$AB$131),0)","v":8.8727916213320823E-2},{"$f":"+RANK(AB114,$AB$110:$AB$131)","v":5}]
[null,null,"NOMURA SECURITIES MALAYSIA SDN BHD",{"$f":"+SUMIFS(InTran!$R:$R,InTran!$G:$G,C115,InTran!$O:$O,$C$108,InTran!$C:$C,$D$108)","v":0},{"$f":"+SUMIFS(InTran!$S:$S,InTran!$G:$G,C115,InTran!$O:$O,$C$108,InTran!$C:$C,$D$108)","v":0},{"$f":"+SUMIFS(InTran!$M:$M,InTran!$G:$G,C115,InTran!$O:$O,$C$108,InTran!$C:$C,$D$108)","v":0},{"$f":"+IFERROR(D115/SUM($D$110:$D$131),0)","v":0},{"$f":"+SUMIFS(InTran!$R:$R,InTran!$G:$G,C115,InTran!$O:$O,$C$108,InTran!$C:$C,$H$108)","v":26926106.560000002},{"$f":"+SUMIFS(InTran!$S:$S,InTran!$G:$G,C115,InTran!$O:$O,$C$108,InTran!$C:$C,$H$108)","v":48562.7},{"$f":"+SUMIFS(InTran!$M:$M,InTran!$G:$G,C115,InTran!$O:$O,$C$108,InTran!$C:$C,$H$108)","v":1759607.8999999997},{"$f":"+IFERROR(H115/SUM($H$110:$H$131),0)","v":7.8266748010697329E-2},{"$f":"+SUMIFS(InTran!$R:$R,InTran!$G:$G,C115,InTran!$O:$O,$C$108,InTran!$C:$C,$L$108)","v":0},{"$f":"+SUMIFS(InTran!$S:$S,InTran!$G:$G,C115,InTran!$O:$O,$C$108,InTran!$C:$C,$L$108)","v":0},{"$f":"+SUMIFS(InTran!$M:$M,InTran!$G:$G,C115,InTran!$O:$O,$C$108,InTran!$C:$C,$L$108)","v":0},{"$f":"+IFERROR(L115/SUM($L$110:$L$131),0)","v":0},{"$f":"+SUMIFS(InTran!$R:$R,InTran!$G:$G,C115,InTran!$O:$O,$C$108,InTran!$C:$C,$P$108)","v":5762268.3999999985},{"$f":"+SUMIFS(InTran!$S:$S,InTran!$G:$G,C115,InTran!$O:$O,$C$108,InTran!$C:$C,$P$108)","v":12648.96},{"$f":"+SUMIFS(InTran!$M:$M,InTran!$G:$G,C115,InTran!$O:$O,$C$108,InTran!$C:$C,$P$108)","v":331943.27},{"$f":"+IFERROR(P115/SUM($P$110:$P$131),0)","v":8.237820879556057E-2},{"$f":"+SUMIFS(InTran!$R:$R,InTran!$G:$G,C115,InTran!$O:$O,$C$108,InTran!$C:$C,$T$108)","v":0},{"$f":"+SUMIFS(InTran!$S:$S,InTran!$G:$G,C115,InTran!$O:$O,$C$108,InTran!$C:$C,$T$108)","v":0},{"$f":"+SUMIFS(InTran!$M:$M,InTran!$G:$G,C115,InTran!$O:$O,$C$108,InTran!$C:$C,$T$108)","v":0},{"$f":"+IFERROR(T115/SUM($T$110:$T$131),0)","v":0},{"$f":"+SUMIFS(InTran!$R:$R,InTran!$G:$G,C115,InTran!$O:$O,$C$108,InTran!$C:$C,$X$108)","v":0},{"$f":"+SUMIFS(InTran!$S:$S,InTran!$G:$G,C115,InTran!$O:$O,$C$108,InTran!$C:$C,$X$108)","v":0},{"$f":"+SUMIFS(InTran!$M:$M,InTran!$G:$G,C115,InTran!$O:$O,$C$108,InTran!$C:$C,$X$108)","v":0},{"$f":"+IFERROR(X115/SUM($X$110:$X$131),0)","v":0},{"$f":"+SUMIFS(InTran!$R:$R,InTran!$G:$G,C115,InTran!$O:$O,$C$108)","v":32688374.960000001},{"$f":"+SUMIFS(InTran!$S:$S,InTran!$G:$G,C115,InTran!$O:$O,$C$108)","v":61211.66},{"$f":"+SUMIFS(InTran!$M:$M,InTran!$G:$G,C115,InTran!$O:$O,$C$108)","v":2091551.1699999997},{"$f":"+IFERROR(AB115/SUM($AB$110:$AB$131),0)","v":7.8215855488884933E-2},{"$f":"+RANK(AB115,$AB$110:$AB$131)","v":6}]
[null,null,"UBS SECURITIES MALAYSIA SDN BHD",{"$f":"+SUMIFS(InTran!$R:$R,InTran!$G:$G,C116,InTran!$O:$O,$C$108,InTran!$C:$C,$D$108)","v":0},{"$f":"+SUMIFS(InTran!$S:$S,InTran!$G:$G,C116,InTran!$O:$O,$C$108,InTran!$C:$C,$D$108)","v":0},{"$f":"+SUMIFS(InTran!$M:$M,InTran!$G:$G,C116,InTran!$O:$O,$C$108,InTran!$C:$C,$D$108)","v":0},{"$f":"+IFERROR(D116/SUM($D$110:$D$131),0)","v":0},{"$f":"+SUMIFS(InTran!$R:$R,InTran!$G:$G,C116,InTran!$O:$O,$C$108,InTran!$C:$C,$H$108)","v":29585066.260000002},{"$f":"+SUMIFS(InTran!$S:$S,InTran!$G:$G,C116,InTran!$O:$O,$C$108,InTran!$C:$C,$H$108)","v":59321.48},{"$f":"+SUMIFS(InTran!$M:$M,InTran!$G:$G,C116,InTran!$O:$O,$C$108,InTran!$C:$C,$H$108)","v":1036020.5},{"$f":"+IFERROR(H116/SUM($H$110:$H$131),0)","v":8.5995608785528171E-2},{"$f":"+SUMIFS(InTran!$R:$R,InTran!$G:$G,C116,InTran!$O:$O,$C$108,InTran!$C:$C,$L$108)","v":0},{"$f":"+SUMIFS(InTran!$S:$S,InTran!$G:$G,C116,InTran!$O:$O,$C$108,InTran!$C:$C,$L$108)","v":0},{"$f":"+SUMIFS(InTran!$M:$M,InTran!$G:$G,C116,InTran!$O:$O,$C$108,InTran!$C:$C,$L$108)","v":0},{"$f":"+IFERROR(L116/SUM($L$110:$L$131),0)","v":0},{"$f":"+SUMIFS(InTran!$R:$R,InTran!$G:$G,C116,InTran!$O:$O,$C$108,InTran!$C:$C,$P$108)","v":1398152.28},{"$f":"+SUMIFS(InTran!$S:$S,InTran!$G:$G,C116,InTran!$O:$O,$C$108,InTran!$C:$C,$P$108)","v":3149.1},{"$f":"+SUMIFS(InTran!$M:$M,InTran!$G:$G,C116,InTran!$O:$O,$C$108,InTran!$C:$C,$P$108)","v":33627.14},{"$f":"+IFERROR(P116/SUM($P$110:$P$131),0)","v":1.9988183898172654E-2},{"$f":"+SUMIFS(InTran!$R:$R,InTran!$G:$G,C116,InTran!$O:$O,$C$108,InTran!$C:$C,$T$108)","v":0},{"$f":"+SUMIFS(InTran!$S:$S,InTran!$G:$G,C116,InTran!$O:$O,$C$108,InTran!$C:$C,$T$108)","v":0},{"$f":"+SUMIFS(InTran!$M:$M,InTran!$G:$G,C116,InTran!$O:$O,$C$108,InTran!$C:$C,$T$108)","v":0},{"$f":"+IFERROR(T116/SUM($T$110:$T$131),0)","v":0},{"$f":"+SUMIFS(InTran!$R:$R,InTran!$G:$G,C116,InTran!$O:$O,$C$108,InTran!$C:$C,$X$108)","v":0},{"$f":"+SUMIFS(InTran!$S:$S,InTran!$G:$G,C116,InTran!$O:$O,$C$108,InTran!$C:$C,$X$108)","v":0},{"$f":"+SUMIFS(InTran!$M:$M,InTran!$G:$G,C116,InTran!$O:$O,$C$108,InTran!$C:$C,$X$108)","v":0},{"$f":"+IFERROR(X116/SUM($X$110:$X$131),0)","v":0},{"$f":"+SUMIFS(InTran!$R:$R,InTran!$G:$G,C116,InTran!$O:$O,$C$108)","v":30983218.539999999},{"$f":"+SUMIFS(InTran!$S:$S,InTran!$G:$G,C116,InTran!$O:$O,$C$108)","v":62470.58},{"$f":"+SUMIFS(InTran!$M:$M,InTran!$G:$G,C116,InTran!$O:$O,$C$108)","v":1069647.6399999999},{"$f":"+IFERROR(AB116/SUM($AB$110:$AB$131),0)","v":7.4135803534761582E-2},{"$f":"+RANK(AB116,$AB$110:$AB$131)","v":7}]
[null,null,"AMINVESTMENT BANK BHD",{"$f":"+SUMIFS(InTran!$R:$R,InTran!$G:$G,C117,InTran!$O:$O,$C$108,InTran!$C:$C,$D$108)","v":0},{"$f":"+SUMIFS(InTran!$S:$S,InTran!$G:$G,C117,InTran!$O:$O,$C$108,InTran!$C:$C,$D$108)","v":0},{"$f":"+SUMIFS(InTran!$M:$M,InTran!$G:$G,C117,InTran!$O:$O,$C$108,InTran!$C:$C,$D$108)","v":0},{"$f":"+IFERROR(D117/SUM($D$110:$D$131),0)","v":0},{"$f":"+SUMIFS(InTran!$R:$R,InTran!$G:$G,C117,InTran!$O:$O,$C$108,InTran!$C:$C,$H$108)","v":26006152.560000002},{"$f":"+SUMIFS(InTran!$S:$S,InTran!$G:$G,C117,InTran!$O:$O,$C$108,InTran!$C:$C,$H$108)","v":46470.38},{"$f":"+SUMIFS(InTran!$M:$M,InTran!$G:$G,C117,InTran!$O:$O,$C$108,InTran!$C:$C,$H$108)","v":1350107},{"$f":"+IFERROR(H117/SUM($H$110:$H$131),0)","v":7.5592696055246961E-2},{"$f":"+SUMIFS(InTran!$R:$R,InTran!$G:$G,C117,InTran!$O:$O,$C$108,InTran!$C:$C,$L$108)","v":0},{"$f":"+SUMIFS(InTran!$S:$S,InTran!$G:$G,C117,InTran!$O:$O,$C$108,InTran!$C:$C,$L$108)","v":0},{"$f":"+SUMIFS(InTran!$M:$M,InTran!$G:$G,C117,InTran!$O:$O,$C$108,InTran!$C:$C,$L$108)","v":0},{"$f":"+IFERROR(L117/SUM($L$110:$L$131),0)","v":0},{"$f":"+SUMIFS(InTran!$R:$R,InTran!$G:$G,C117,InTran!$O:$O,$C$108,InTran!$C:$C,$P$108)","v":4188702.38},{"$f":"+SUMIFS(InTran!$S:$S,InTran!$G:$G,C117,InTran!$O:$O,$C$108,InTran!$C:$C,$P$108)","v":8939.5299999999988},{"$f":"+SUMIFS(InTran!$M:$M,InTran!$G:$G,C117,InTran!$O:$O,$C$108,InTran!$C:$C,$P$108)","v":146479.38000000003},{"$f":"+IFERROR(P117/SUM($P$110:$P$131),0)","v":5.9882285115719636E-2},{"$f":"+SUMIFS(InTran!$R:$R,InTran!$G:$G,C117,InTran!$O:$O,$C$108,InTran!$C:$C,$T$108)","v":0},{"$f":"+SUMIFS(InTran!$S:$S,InTran!$G:$G,C117,InTran!$O:$O,$C$108,InTran!$C:$C,$T$108)","v":0},{"$f":"+SUMIFS(InTran!$M:$M,InTran!$G:$G,C117,InTran!$O:$O,$C$108,InTran!$C:$C,$T$108)","v":0},{"$f":"+IFERROR(T117/SUM($T$110:$T$131),0)","v":0},{"$f":"+SUMIFS(InTran!$R:$R,InTran!$G:$G,C117,InTran!$O:$O,$C$108,InTran!$C:$C,$X$108)","v":0},{"$f":"+SUMIFS(InTran!$S:$S,InTran!$G:$G,C117,InTran!$O:$O,$C$108,InTran!$C:$C,$X$108)","v":0},{"$f":"+SUMIFS(InTran!$M:$M,InTran!$G:$G,C117,InTran!$O:$O,$C$108,InTran!$C:$C,$X$108)","v":0},{"$f":"+IFERROR(X117/SUM($X$110:$X$131),0)","v":0},{"$f":"+SUMIFS(InTran!$R:$R,InTran!$G:$G,C117,InTran!$O:$O,$C$108)","v":30194854.940000005},{"$f":"+SUMIFS(InTran!$S:$S,InTran!$G:$G,C117,InTran!$O:$O,$C$108)","v":55409.91},{"$f":"+SUMIFS(InTran!$M:$M,InTran!$G:$G,C117,InTran!$O:$O,$C$108)","v":1496586.3800000001},{"$f":"+IFERROR(AB117/SUM($AB$110:$AB$131),0)","v":7.2249428531851484E-2},{"$f":"+RANK(AB117,$AB$110:$AB$131)","v":8}]
[null,null,"HONG LEONG INVESTMENT BANK BHD",{"$f":"+SUMIFS(InTran!$R:$R,InTran!$G:$G,C118,InTran!$O:$O,$C$108,InTran!$C:$C,$D$108)","v":0},{"$f":"+SUMIFS(InTran!$S:$S,InTran!$G:$G,C118,InTran!$O:$O,$C$108,InTran!$C:$C,$D$108)","v":0},{"$f":"+SUMIFS(InTran!$M:$M,InTran!$G:$G,C118,InTran!$O:$O,$C$108,InTran!$C:$C,$D$108)","v":0},{"$f":"+IFERROR(D118/SUM($D$110:$D$131),0)","v":0},{"$f":"+SUMIFS(InTran!$R:$R,InTran!$G:$G,C118,InTran!$O:$O,$C$108,InTran!$C:$C,$H$108)","v":23647235.720000003},{"$f":"+SUMIFS(InTran!$S:$S,InTran!$G:$G,C118,InTran!$O:$O,$C$108,InTran!$C:$C,$H$108)","v":47560.65},{"$f":"+SUMIFS(InTran!$M:$M,InTran!$G:$G,C118,InTran!$O:$O,$C$108,InTran!$C:$C,$H$108)","v":1654941.81},{"$f":"+IFERROR(H118/SUM($H$110:$H$131),0)","v":6.8735976927174466E-2},{"$f":"+SUMIFS(InTran!$R:$R,InTran!$G:$G,C118,InTran!$O:$O,$C$108,InTran!$C:$C,$L$108)","v":0},{"$f":"+SUMIFS(InTran!$S:$S,InTran!$G:$G,C118,InTran!$O:$O,$C$108,InTran!$C:$C,$L$108)","v":0},{"$f":"+SUMIFS(InTran!$M:$M,InTran!$G:$G,C118,InTran!$O:$O,$C$108,InTran!$C:$C,$L$108)","v":0},{"$f":"+IFERROR(L118/SUM($L$110:$L$131),0)","v":0},{"$f":"+SUMIFS(InTran!$R:$R,InTran!$G:$G,C118,InTran!$O:$O,$C$108,InTran!$C:$C,$P$108)","v":4988881.4399999995},{"$f":"+SUMIFS(InTran!$S:$S,InTran!$G:$G,C118,InTran!$O:$O,$C$108,InTran!$C:$C,$P$108)","v":10261.370000000001},{"$f":"+SUMIFS(InTran!$M:$M,InTran!$G:$G,C118,InTran!$O:$O,$C$108,InTran!$C:$C,$P$108)","v":12695.9},{"$f":"+IFERROR(P118/SUM($P$110:$P$131),0)","v":7.1321758792182777E-2},{"$f":"+SUMIFS(InTran!$R:$R,InTran!$G:$G,C118,InTran!$O:$O,$C$108,InTran!$C:$C,$T$108)","v":0},{"$f":"+SUMIFS(InTran!$S:$S,InTran!$G:$G,C118,InTran!$O:$O,$C$108,InTran!$C:$C,$T$108)","v":0},{"$f":"+SUMIFS(InTran!$M:$M,InTran!$G:$G,C118,InTran!$O:$O,$C$108,InTran!$C:$C,$T$108)","v":0},{"$f":"+IFERROR(T118/SUM($T$110:$T$131),0)","v":0},{"$f":"+SUMIFS(InTran!$R:$R,InTran!$G:$G,C118,InTran!$O:$O,$C$108,InTran!$C:$C,$X$108)","v":0},{"$f":"+SUMIFS(InTran!$S:$S,InTran!$G:$G,C118,InTran!$O:$O,$C$108,InTran!$C:$C,$X$108)","v":0},{"$f":"+SUMIFS(InTran!$M:$M,InTran!$G:$G,C118,InTran!$O:$O,$C$108,InTran!$C:$C,$X$108)","v":0},{"$f":"+IFERROR(X118/SUM($X$110:$X$131),0)","v":0},{"$f":"+SUMIFS(InTran!$R:$R,InTran!$G:$G,C118,InTran!$O:$O,$C$108)","v":28636117.16},{"$f":"+SUMIFS(InTran!$S:$S,InTran!$G:$G,C118,InTran!$O:$O,$C$108)","v":57822.020000000004},{"$f":"+SUMIFS(InTran!$M:$M,InTran!$G:$G,C118,InTran!$O:$O,$C$108)","v":1667637.71},{"$f":"+IFERROR(AB118/SUM($AB$110:$AB$131),0)","v":6.8519723121449966E-2},{"$f":"+RANK(AB118,$AB$110:$AB$131)","v":9}]
[null,null,"RHB INVESTMENT BANK BERHAD",{"$f":"+SUMIFS(InTran!$R:$R,InTran!$G:$G,C119,InTran!$O:$O,$C$108,InTran!$C:$C,$D$108)","v":0},{"$f":"+SUMIFS(InTran!$S:$S,InTran!$G:$G,C119,InTran!$O:$O,$C$108,InTran!$C:$C,$D$108)","v":0},{"$f":"+SUMIFS(InTran!$M:$M,InTran!$G:$G,C119,InTran!$O:$O,$C$108,InTran!$C:$C,$D$108)","v":0},{"$f":"+IFERROR(D119/SUM($D$110:$D$131),0)","v":0},{"$f":"+SUMIFS(InTran!$R:$R,InTran!$G:$G,C119,InTran!$O:$O,$C$108,InTran!$C:$C,$H$108)","v":14726160.800000001},{"$f":"+SUMIFS(InTran!$S:$S,InTran!$G:$G,C119,InTran!$O:$O,$C$108,InTran!$C:$C,$H$108)","v":21107.09},{"$f":"+SUMIFS(InTran!$M:$M,InTran!$G:$G,C119,InTran!$O:$O,$C$108,InTran!$C:$C,$H$108)","v":412249.75},{"$f":"+IFERROR(H119/SUM($H$110:$H$131),0)","v":4.2804878378176078E-2},{"$f":"+SUMIFS(InTran!$R:$R,InTran!$G:$G,C119,InTran!$O:$O,$C$108,InTran!$C:$C,$L$108)","v":0},{"$f":"+SUMIFS(InTran!$S:$S,InTran!$G:$G,C119,InTran!$O:$O,$C$108,InTran!$C:$C,$L$108)","v":0},{"$f":"+SUMIFS(InTran!$M:$M,InTran!$G:$G,C119,InTran!$O:$O,$C$108,InTran!$C:$C,$L$108)","v":0},{"$f":"+IFERROR(L119/SUM($L$110:$L$131),0)","v":0},{"$f":"+SUMIFS(InTran!$R:$R,InTran!$G:$G,C119,InTran!$O:$O,$C$108,InTran!$C:$C,$P$108)","v":7173726.3100000005},{"$f":"+SUMIFS(InTran!$S:$S,InTran!$G:$G,C119,InTran!$O:$O,$C$108,InTran!$C:$C,$P$108)","v":15521.170000000002},{"$f":"+SUMIFS(InTran!$M:$M,InTran!$G:$G,C119,InTran!$O:$O,$C$108,InTran!$C:$C,$P$108)","v":249439.34000000003},{"$f":"+IFERROR(P119/SUM($P$110:$P$131),0)","v":0.10255661187309263},{"$f":"+SUMIFS(InTran!$R:$R,InTran!$G:$G,C119,InTran!$O:$O,$C$108,InTran!$C:$C,$T$108)","v":0},{"$f":"+SUMIFS(InTran!$S:$S,InTran!$G:$G,C119,InTran!$O:$O,$C$108,InTran!$C:$C,$T$108)","v":0},{"$f":"+SUMIFS(InTran!$M:$M,InTran!$G:$G,C119,InTran!$O:$O,$C$108,InTran!$C:$C,$T$108)","v":0},{"$f":"+IFERROR(T119/SUM($T$110:$T$131),0)","v":0},{"$f":"+SUMIFS(InTran!$R:$R,InTran!$G:$G,C119,InTran!$O:$O,$C$108,InTran!$C:$C,$X$108)","v":0},{"$f":"+SUMIFS(InTran!$S:$S,InTran!$G:$G,C119,InTran!$O:$O,$C$108,InTran!$C:$C,$X$108)","v":0},{"$f":"+SUMIFS(InTran!$M:$M,InTran!$G:$G,C119,InTran!$O:$O,$C$108,InTran!$C:$C,$X$108)","v":0},{"$f":"+IFERROR(X119/SUM($X$110:$X$131),0)","v":0},{"$f":"+SUMIFS(InTran!$R:$R,InTran!$G:$G,C119,InTran!$O:$O,$C$108)","v":21899887.110000003},{"$f":"+SUMIFS(InTran!$S:$S,InTran!$G:$G,C119,InTran!$O:$O,$C$108)","v":36628.26},{"$f":"+SUMIFS(InTran!$M:$M,InTran!$G:$G,C119,InTran!$O:$O,$C$108)","v":661689.09},{"$f":"+IFERROR(AB119/SUM($AB$110:$AB$131),0)","v":5.240145487546298E-2},{"$f":"+RANK(AB119,$AB$110:$AB$131)","v":10}]
[null,null,"MAYBANK INVESTMENT BANK BHD",{"$f":"+SUMIFS(InTran!$R:$R,InTran!$G:$G,C120,InTran!$O:$O,$C$108,InTran!$C:$C,$D$108)","v":0},{"$f":"+SUMIFS(InTran!$S:$S,InTran!$G:$G,C120,InTran!$O:$O,$C$108,InTran!$C:$C,$D$108)","v":0},{"$f":"+SUMIFS(InTran!$M:$M,InTran!$G:$G,C120,InTran!$O:$O,$C$108,InTran!$C:$C,$D$108)","v":0},{"$f":"+IFERROR(D120/SUM($D$110:$D$131),0)","v":0},{"$f":"+SUMIFS(InTran!$R:$R,InTran!$G:$G,C120,InTran!$O:$O,$C$108,InTran!$C:$C,$H$108)","v":14827319.82},{"$f":"+SUMIFS(InTran!$S:$S,InTran!$G:$G,C120,InTran!$O:$O,$C$108,InTran!$C:$C,$H$108)","v":24522.61},{"$f":"+SUMIFS(InTran!$M:$M,InTran!$G:$G,C120,InTran!$O:$O,$C$108,InTran!$C:$C,$H$108)","v":440479.51},{"$f":"+IFERROR(H120/SUM($H$110:$H$131),0)","v":4.3098919683765745E-2},{"$f":"+SUMIFS(InTran!$R:$R,InTran!$G:$G,C120,InTran!$O:$O,$C$108,InTran!$C:$C,$L$108)","v":0},{"$f":"+SUMIFS(InTran!$S:$S,InTran!$G:$G,C120,InTran!$O:$O,$C$108,InTran!$C:$C,$L$108)","v":0},{"$f":"+SUMIFS(InTran!$M:$M,InTran!$G:$G,C120,InTran!$O:$O,$C$108,InTran!$C:$C,$L$108)","v":0},{"$f":"+IFERROR(L120/SUM($L$110:$L$131),0)","v":0},{"$f":"+SUMIFS(InTran!$R:$R,InTran!$G:$G,C120,InTran!$O:$O,$C$108,InTran!$C:$C,$P$108)","v":3131393.23},{"$f":"+SUMIFS(InTran!$S:$S,InTran!$G:$G,C120,InTran!$O:$O,$C$108,InTran!$C:$C,$P$108)","v":6725.4000000000005},{"$f":"+SUMIFS(InTran!$M:$M,InTran!$G:$G,C120,InTran!$O:$O,$C$108,InTran!$C:$C,$P$108)","v":167833.93000000002},{"$f":"+IFERROR(P120/SUM($P$110:$P$131),0)","v":4.4766843092894616E-2},{"$f":"+SUMIFS(InTran!$R:$R,InTran!$G:$G,C120,InTran!$O:$O,$C$108,InTran!$C:$C,$T$108)","v":0},{"$f":"+SUMIFS(InTran!$S:$S,InTran!$G:$G,C120,InTran!$O:$O,$C$108,InTran!$C:$C,$T$108)","v":0},{"$f":"+SUMIFS(InTran!$M:$M,InTran!$G:$G,C120,InTran!$O:$O,$C$108,InTran!$C:$C,$T$108)","v":0},{"$f":"+IFERROR(T120/SUM($T$110:$T$131),0)","v":0},{"$f":"+SUMIFS(InTran!$R:$R,InTran!$G:$G,C120,InTran!$O:$O,$C$108,InTran!$C:$C,$X$108)","v":0},{"$f":"+SUMIFS(InTran!$S:$S,InTran!$G:$G,C120,InTran!$O:$O,$C$108,InTran!$C:$C,$X$108)","v":0},{"$f":"+SUMIFS(InTran!$M:$M,InTran!$G:$G,C120,InTran!$O:$O,$C$108,InTran!$C:$C,$X$108)","v":0},{"$f":"+IFERROR(X120/SUM($X$110:$X$131),0)","v":0},{"$f":"+SUMIFS(InTran!$R:$R,InTran!$G:$G,C120,InTran!$O:$O,$C$108)","v":17958713.050000001},{"$f":"+SUMIFS(InTran!$S:$S,InTran!$G:$G,C120,InTran!$O:$O,$C$108)","v":31248.010000000006},{"$f":"+SUMIFS(InTran!$M:$M,InTran!$G:$G,C120,InTran!$O:$O,$C$108)","v":608313.44000000006},{"$f":"+IFERROR(AB120/SUM($AB$110:$AB$131),0)","v":4.2971120663049076E-2},{"$f":"+RANK(AB120,$AB$110:$AB$131)","v":11}]
[null,null,"TA SECURITIES HOLDINGS BHD",{"$f":"+SUMIFS(InTran!$R:$R,InTran!$G:$G,C121,InTran!$O:$O,$C$108,InTran!$C:$C,$D$108)","v":0},{"$f":"+SUMIFS(InTran!$S:$S,InTran!$G:$G,C121,InTran!$O:$O,$C$108,InTran!$C:$C,$D$108)","v":0},{"$f":"+SUMIFS(InTran!$M:$M,InTran!$G:$G,C121,InTran!$O:$O,$C$108,InTran!$C:$C,$D$108)","v":0},{"$f":"+IFERROR(D121/SUM($D$110:$D$131),0)","v":0},{"$f":"+SUMIFS(InTran!$R:$R,InTran!$G:$G,C121,InTran!$O:$O,$C$108,InTran!$C:$C,$H$108)","v":12968612.6},{"$f":"+SUMIFS(InTran!$S:$S,InTran!$G:$G,C121,InTran!$O:$O,$C$108,InTran!$C:$C,$H$108)","v":16988.64},{"$f":"+SUMIFS(InTran!$M:$M,InTran!$G:$G,C121,InTran!$O:$O,$C$108,InTran!$C:$C,$H$108)","v":556261.6},{"$f":"+IFERROR(H121/SUM($H$110:$H$131),0)","v":3.7696171637395255E-2},{"$f":"+SUMIFS(InTran!$R:$R,InTran!$G:$G,C121,InTran!$O:$O,$C$108,InTran!$C:$C,$L$108)","v":0},{"$f":"+SUMIFS(InTran!$S:$S,InTran!$G:$G,C121,InTran!$O:$O,$C$108,InTran!$C:$C,$L$108)","v":0},{"$f":"+SUMIFS(InTran!$M:$M,InTran!$G:$G,C121,InTran!$O:$O,$C$108,InTran!$C:$C,$L$108)","v":0},{"$f":"+IFERROR(L121/SUM($L$110:$L$131),0)","v":0},{"$f":"+SUMIFS(InTran!$R:$R,InTran!$G:$G,C121,InTran!$O:$O,$C$108,InTran!$C:$C,$P$108)","v":3318871.5800000005},{"$f":"+SUMIFS(InTran!$S:$S,InTran!$G:$G,C121,InTran!$O:$O,$C$108,InTran!$C:$C,$P$108)","v":7225.18},{"$f":"+SUMIFS(InTran!$M:$M,InTran!$G:$G,C121,InTran!$O:$O,$C$108,InTran!$C:$C,$P$108)","v":112745.1},{"$f":"+IFERROR(P121/SUM($P$110:$P$131),0)","v":4.7447060255452894E-2},{"$f":"+SUMIFS(InTran!$R:$R,InTran!$G:$G,C121,InTran!$O:$O,$C$108,InTran!$C:$C,$T$108)","v":0},{"$f":"+SUMIFS(InTran!$S:$S,InTran!$G:$G,C121,InTran!$O:$O,$C$108,InTran!$C:$C,$T$108)","v":0},{"$f":"+SUMIFS(InTran!$M:$M,InTran!$G:$G,C121,InTran!$O:$O,$C$108,InTran!$C:$C,$T$108)","v":0},{"$f":"+IFERROR(T121/SUM($T$110:$T$131),0)","v":0},{"$f":"+SUMIFS(InTran!$R:$R,InTran!$G:$G,C121,InTran!$O:$O,$C$108,InTran!$C:$C,$X$108)","v":0},{"$f":"+SUMIFS(InTran!$S:$S,InTran!$G:$G,C121,InTran!$O:$O,$C$108,InTran!$C:$C,$X$108)","v":0},{"$f":"+SUMIFS(InTran!$M:$M,InTran!$G:$G,C121,InTran!$O:$O,$C$108,InTran!$C:$C,$X$108)","v":0},{"$f":"+IFERROR(X121/SUM($X$110:$X$131),0)","v":0},{"$f":"+SUMIFS(InTran!$R:$R,InTran!$G:$G,C121,InTran!$O:$O,$C$108)","v":16287484.18},{"$f":"+SUMIFS(InTran!$S:$S,InTran!$G:$G,C121,InTran!$O:$O,$C$108)","v":24213.82},{"$f":"+SUMIFS(InTran!$M:$M,InTran!$G:$G,C121,InTran!$O:$O,$C$108)","v":669006.69999999995},{"$f":"+IFERROR(AB121/SUM($AB$110:$AB$131),0)","v":3.8972249628782998E-2},{"$f":"+RANK(AB121,$AB$110:$AB$131)","v":12}]
[null,null,"CLSA LIMITED",{"$f":"+SUMIFS(InTran!$R:$R,InTran!$G:$G,C122,InTran!$O:$O,$C$108,InTran!$C:$C,$D$108)","v":0},{"$f":"+SUMIFS(InTran!$S:$S,InTran!$G:$G,C122,InTran!$O:$O,$C$108,InTran!$C:$C,$D$108)","v":0},{"$f":"+SUMIFS(InTran!$M:$M,InTran!$G:$G,C122,InTran!$O:$O,$C$108,InTran!$C:$C,$D$108)","v":0},{"$f":"+IFERROR(D122/SUM($D$110:$D$131),0)","v":0},{"$f":"+SUMIFS(InTran!$R:$R,InTran!$G:$G,C122,InTran!$O:$O,$C$108,InTran!$C:$C,$H$108)","v":14963356.940000001},{"$f":"+SUMIFS(InTran!$S:$S,InTran!$G:$G,C122,InTran!$O:$O,$C$108,InTran!$C:$C,$H$108)","v":19953.150000000001},{"$f":"+SUMIFS(InTran!$M:$M,InTran!$G:$G,C122,InTran!$O:$O,$C$108,InTran!$C:$C,$H$108)","v":0},{"$f":"+IFERROR(H122/SUM($H$110:$H$131),0)","v":4.3494341983956672E-2},{"$f":"+SUMIFS(InTran!$R:$R,InTran!$G:$G,C122,InTran!$O:$O,$C$108,InTran!$C:$C,$L$108)","v":0},{"$f":"+SUMIFS(InTran!$S:$S,InTran!$G:$G,C122,InTran!$O:$O,$C$108,InTran!$C:$C,$L$108)","v":0},{"$f":"+SUMIFS(InTran!$M:$M,InTran!$G:$G,C122,InTran!$O:$O,$C$108,InTran!$C:$C,$L$108)","v":0},{"$f":"+IFERROR(L122/SUM($L$110:$L$131),0)","v":0},{"$f":"+SUMIFS(InTran!$R:$R,InTran!$G:$G,C122,InTran!$O:$O,$C$108,InTran!$C:$C,$P$108)","v":1083629.76},{"$f":"+SUMIFS(InTran!$S:$S,InTran!$G:$G,C122,InTran!$O:$O,$C$108,InTran!$C:$C,$P$108)","v":2445.08},{"$f":"+SUMIFS(InTran!$M:$M,InTran!$G:$G,C122,InTran!$O:$O,$C$108,InTran!$C:$C,$P$108)","v":39279.51},{"$f":"+IFERROR(P122/SUM($P$110:$P$131),0)","v":1.5491725207795461E-2},{"$f":"+SUMIFS(InTran!$R:$R,InTran!$G:$G,C122,InTran!$O:$O,$C$108,InTran!$C:$C,$T$108)","v":0},{"$f":"+SUMIFS(InTran!$S:$S,InTran!$G:$G,C122,InTran!$O:$O,$C$108,InTran!$C:$C,$T$108)","v":0},{"$f":"+SUMIFS(InTran!$M:$M,InTran!$G:$G,C122,InTran!$O:$O,$C$108,InTran!$C:$C,$T$108)","v":0},{"$f":"+IFERROR(T122/SUM($T$110:$T$131),0)","v":0},{"$f":"+SUMIFS(InTran!$R:$R,InTran!$G:$G,C122,InTran!$O:$O,$C$108,InTran!$C:$C,$X$108)","v":0},{"$f":"+SUMIFS(InTran!$S:$S,InTran!$G:$G,C122,InTran!$O:$O,$C$108,InTran!$C:$C,$X$108)","v":0},{"$f":"+SUMIFS(InTran!$M:$M,InTran!$G:$G,C122,InTran!$O:$O,$C$108,InTran!$C:$C,$X$108)","v":0},{"$f":"+IFERROR(X122/SUM($X$110:$X$131),0)","v":0},{"$f":"+SUMIFS(InTran!$R:$R,InTran!$G:$G,C122,InTran!$O:$O,$C$108)","v":16046986.699999999},{"$f":"+SUMIFS(InTran!$S:$S,InTran!$G:$G,C122,InTran!$O:$O,$C$108)","v":22398.230000000003},{"$f":"+SUMIFS(InTran!$M:$M,InTran!$G:$G,C122,InTran!$O:$O,$C$108)","v":39279.51},{"$f":"+IFERROR(AB122/SUM($AB$110:$AB$131),0)","v":3.8396793792751405E-2},{"$f":"+RANK(AB122,$AB$110:$AB$131)","v":13}]
[null,null,"ALLIANCE INVESTMENT BANK BERHAD",{"$f":"+SUMIFS(InTran!$R:$R,InTran!$G:$G,C123,InTran!$O:$O,$C$108,InTran!$C:$C,$D$108)","v":0},{"$f":"+SUMIFS(InTran!$S:$S,InTran!$G:$G,C123,InTran!$O:$O,$C$108,InTran!$C:$C,$D$108)","v":0},{"$f":"+SUMIFS(InTran!$M:$M,InTran!$G:$G,C123,InTran!$O:$O,$C$108,InTran!$C:$C,$D$108)","v":0},{"$f":"+IFERROR(D123/SUM($D$110:$D$131),0)","v":0},{"$f":"+SUMIFS(InTran!$R:$R,InTran!$G:$G,C123,InTran!$O:$O,$C$108,InTran!$C:$C,$H$108)","v":11213130.5},{"$f":"+SUMIFS(InTran!$S:$S,InTran!$G:$G,C123,InTran!$O:$O,$C$108,InTran!$C:$C,$H$108)","v":22602.12},{"$f":"+SUMIFS(InTran!$M:$M,InTran!$G:$G,C123,InTran!$O:$O,$C$108,InTran!$C:$C,$H$108)","v":489840.18},{"$f":"+IFERROR(H123/SUM($H$110:$H$131),0)","v":3.2593470478138244E-2},{"$f":"+SUMIFS(InTran!$R:$R,InTran!$G:$G,C123,InTran!$O:$O,$C$108,InTran!$C:$C,$L$108)","v":0},{"$f":"+SUMIFS(InTran!$S:$S,InTran!$G:$G,C123,InTran!$O:$O,$C$108,InTran!$C:$C,$L$108)","v":0},{"$f":"+SUMIFS(InTran!$M:$M,InTran!$G:$G,C123,InTran!$O:$O,$C$108,InTran!$C:$C,$L$108)","v":0},{"$f":"+IFERROR(L123/SUM($L$110:$L$131),0)","v":0},{"$f":"+SUMIFS(InTran!$R:$R,InTran!$G:$G,C123,InTran!$O:$O,$C$108,InTran!$C:$C,$P$108)","v":282180.42},{"$f":"+SUMIFS(InTran!$S:$S,InTran!$G:$G,C123,InTran!$O:$O,$C$108,InTran!$C:$C,$P$108)","v":637.27},{"$f":"+SUMIFS(InTran!$M:$M,InTran!$G:$G,C123,InTran!$O:$O,$C$108,InTran!$C:$C,$P$108)","v":20436.96},{"$f":"+IFERROR(P123/SUM($P$110:$P$131),0)","v":4.0340914277403293E-3},{"$f":"+SUMIFS(InTran!$R:$R,InTran!$G:$G,C123,InTran!$O:$O,$C$108,InTran!$C:$C,$T$108)","v":0},{"$f":"+SUMIFS(InTran!$S:$S,InTran!$G:$G,C123,InTran!$O:$O,$C$108,InTran!$C:$C,$T$108)","v":0},{"$f":"+SUMIFS(InTran!$M:$M,InTran!$G:$G,C123,InTran!$O:$O,$C$108,InTran!$C:$C,$T$108)","v":0},{"$f":"+IFERROR(T123/SUM($T$110:$T$131),0)","v":0},{"$f":"+SUMIFS(InTran!$R:$R,InTran!$G:$G,C123,InTran!$O:$O,$C$108,InTran!$C:$C,$X$108)","v":0},{"$f":"+SUMIFS(InTran!$S:$S,InTran!$G:$G,C123,InTran!$O:$O,$C$108,InTran!$C:$C,$X$108)","v":0},{"$f":"+SUMIFS(InTran!$M:$M,InTran!$G:$G,C123,InTran!$O:$O,$C$108,InTran!$C:$C,$X$108)","v":0},{"$f":"+IFERROR(X123/SUM($X$110:$X$131),0)","v":0},{"$f":"+SUMIFS(InTran!$R:$R,InTran!$G:$G,C123,InTran!$O:$O,$C$108)","v":11495310.92},{"$f":"+SUMIFS(InTran!$S:$S,InTran!$G:$G,C123,InTran!$O:$O,$C$108)","v":23239.39},{"$f":"+SUMIFS(InTran!$M:$M,InTran!$G:$G,C123,InTran!$O:$O,$C$108)","v":510277.14},{"$f":"+IFERROR(AB123/SUM($AB$110:$AB$131),0)","v":2.7505667651535066E-2},{"$f":"+RANK(AB123,$AB$110:$AB$131)","v":14}]
[null,null,"KENANGA INVESTMENT BANK BHD",{"$f":"+SUMIFS(InTran!$R:$R,InTran!$G:$G,C124,InTran!$O:$O,$C$108,InTran!$C:$C,$D$108)","v":0},{"$f":"+SUMIFS(InTran!$S:$S,InTran!$G:$G,C124,InTran!$O:$O,$C$108,InTran!$C:$C,$D$108)","v":0},{"$f":"+SUMIFS(InTran!$M:$M,InTran!$G:$G,C124,InTran!$O:$O,$C$108,InTran!$C:$C,$D$108)","v":0},{"$f":"+IFERROR(D124/SUM($D$110:$D$131),0)","v":0},{"$f":"+SUMIFS(InTran!$R:$R,InTran!$G:$G,C124,InTran!$O:$O,$C$108,InTran!$C:$C,$H$108)","v":6149614.629999999},{"$f":"+SUMIFS(InTran!$S:$S,InTran!$G:$G,C124,InTran!$O:$O,$C$108,InTran!$C:$C,$H$108)","v":12440.78},{"$f":"+SUMIFS(InTran!$M:$M,InTran!$G:$G,C124,InTran!$O:$O,$C$108,InTran!$C:$C,$H$108)","v":311931.39},{"$f":"+IFERROR(H124/SUM($H$110:$H$131),0)","v":1.7875229659980504E-2},{"$f":"+SUMIFS(InTran!$R:$R,InTran!$G:$G,C124,InTran!$O:$O,$C$108,InTran!$C:$C,$L$108)","v":0},{"$f":"+SUMIFS(InTran!$S:$S,InTran!$G:$G,C124,InTran!$O:$O,$C$108,InTran!$C:$C,$L$108)","v":0},{"$f":"+SUMIFS(InTran!$M:$M,InTran!$G:$G,C124,InTran!$O:$O,$C$108,InTran!$C:$C,$L$108)","v":0},{"$f":"+IFERROR(L124/SUM($L$110:$L$131),0)","v":0},{"$f":"+SUMIFS(InTran!$R:$R,InTran!$G:$G,C124,InTran!$O:$O,$C$108,InTran!$C:$C,$P$108)","v":3953720.09},{"$f":"+SUMIFS(InTran!$S:$S,InTran!$G:$G,C124,InTran!$O:$O,$C$108,InTran!$C:$C,$P$108)","v":8901.75},{"$f":"+SUMIFS(InTran!$M:$M,InTran!$G:$G,C124,InTran!$O:$O,$C$108,InTran!$C:$C,$P$108)","v":118879.06999999999},{"$f":"+IFERROR(P124/SUM($P$110:$P$131),0)","v":5.6522944868937837E-2},{"$f":"+SUMIFS(InTran!$R:$R,InTran!$G:$G,C124,InTran!$O:$O,$C$108,InTran!$C:$C,$T$108)","v":0},{"$f":"+SUMIFS(InTran!$S:$S,InTran!$G:$G,C124,InTran!$O:$O,$C$108,InTran!$C:$C,$T$108)","v":0},{"$f":"+SUMIFS(InTran!$M:$M,InTran!$G:$G,C124,InTran!$O:$O,$C$108,InTran!$C:$C,$T$108)","v":0},{"$f":"+IFERROR(T124/SUM($T$110:$T$131),0)","v":0},{"$f":"+SUMIFS(InTran!$R:$R,InTran!$G:$G,C124,InTran!$O:$O,$C$108,InTran!$C:$C,$X$108)","v":0},{"$f":"+SUMIFS(InTran!$S:$S,InTran!$G:$G,C124,InTran!$O:$O,$C$108,InTran!$C:$C,$X$108)","v":0},{"$f":"+SUMIFS(InTran!$M:$M,InTran!$G:$G,C124,InTran!$O:$O,$C$108,InTran!$C:$C,$X$108)","v":0},{"$f":"+IFERROR(X124/SUM($X$110:$X$131),0)","v":0},{"$f":"+SUMIFS(InTran!$R:$R,InTran!$G:$G,C124,InTran!$O:$O,$C$108)","v":10103334.720000001},{"$f":"+SUMIFS(InTran!$S:$S,InTran!$G:$G,C124,InTran!$O:$O,$C$108)","v":21342.53},{"$f":"+SUMIFS(InTran!$M:$M,InTran!$G:$G,C124,InTran!$O:$O,$C$108)","v":430810.46000000008},{"$f":"+IFERROR(AB124/SUM($AB$110:$AB$131),0)","v":2.4174984818986969E-2},{"$f":"+RANK(AB124,$AB$110:$AB$131)","v":15}]
[null,null,"CREDIT SUISSE SECURITIES (M) SDN BHD",{"$f":"+SUMIFS(InTran!$R:$R,InTran!$G:$G,C125,InTran!$O:$O,$C$108,InTran!$C:$C,$D$108)","v":2618100.9900000002},{"$f":"+SUMIFS(InTran!$S:$S,InTran!$G:$G,C125,InTran!$O:$O,$C$108,InTran!$C:$C,$D$108)","v":5249.4},{"$f":"+SUMIFS(InTran!$M:$M,InTran!$G:$G,C125,InTran!$O:$O,$C$108,InTran!$C:$C,$D$108)","v":262097.66},{"$f":"+IFERROR(D125/SUM($D$110:$D$131),0)","v":1},{"$f":"+SUMIFS(InTran!$R:$R,InTran!$G:$G,C125,InTran!$O:$O,$C$108,InTran!$C:$C,$H$108)","v":0},{"$f":"+SUMIFS(InTran!$S:$S,InTran!$G:$G,C125,InTran!$O:$O,$C$108,InTran!$C:$C,$H$108)","v":0},{"$f":"+SUMIFS(InTran!$M:$M,InTran!$G:$G,C125,InTran!$O:$O,$C$108,InTran!$C:$C,$H$108)","v":0},{"$f":"+IFERROR(H125/SUM($H$110:$H$131),0)","v":0},{"$f":"+SUMIFS(InTran!$R:$R,InTran!$G:$G,C125,InTran!$O:$O,$C$108,InTran!$C:$C,$L$108)","v":0},{"$f":"+SUMIFS(InTran!$S:$S,InTran!$G:$G,C125,InTran!$O:$O,$C$108,InTran!$C:$C,$L$108)","v":0},{"$f":"+SUMIFS(InTran!$M:$M,InTran!$G:$G,C125,InTran!$O:$O,$C$108,InTran!$C:$C,$L$108)","v":0},{"$f":"+IFERROR(L125/SUM($L$110:$L$131),0)","v":0},{"$f":"+SUMIFS(InTran!$R:$R,InTran!$G:$G,C125,InTran!$O:$O,$C$108,InTran!$C:$C,$P$108)","v":836004.58},{"$f":"+SUMIFS(InTran!$S:$S,InTran!$G:$G,C125,InTran!$O:$O,$C$108,InTran!$C:$C,$P$108)","v":1887.4099999999999},{"$f":"+SUMIFS(InTran!$M:$M,InTran!$G:$G,C125,InTran!$O:$O,$C$108,InTran!$C:$C,$P$108)","v":34964.97},{"$f":"+IFERROR(P125/SUM($P$110:$P$131),0)","v":1.1951640406976693E-2},{"$f":"+SUMIFS(InTran!$R:$R,InTran!$G:$G,C125,InTran!$O:$O,$C$108,InTran!$C:$C,$T$108)","v":0},{"$f":"+SUMIFS(InTran!$S:$S,InTran!$G:$G,C125,InTran!$O:$O,$C$108,InTran!$C:$C,$T$108)","v":0},{"$f":"+SUMIFS(InTran!$M:$M,InTran!$G:$G,C125,InTran!$O:$O,$C$108,InTran!$C:$C,$T$108)","v":0},{"$f":"+IFERROR(T125/SUM($T$110:$T$131),0)","v":0},{"$f":"+SUMIFS(InTran!$R:$R,InTran!$G:$G,C125,InTran!$O:$O,$C$108,InTran!$C:$C,$X$108)","v":356981.91},{"$f":"+SUMIFS(InTran!$S:$S,InTran!$G:$G,C125,InTran!$O:$O,$C$108,InTran!$C:$C,$X$108)","v":805.84},{"$f":"+SUMIFS(InTran!$M:$M,InTran!$G:$G,C125,InTran!$O:$O,$C$108,InTran!$C:$C,$X$108)","v":303.3},{"$f":"+IFERROR(X125/SUM($X$110:$X$131),0)","v":1},{"$f":"+SUMIFS(InTran!$R:$R,InTran!$G:$G,C125,InTran!$O:$O,$C$108)","v":3811087.4800000004},{"$f":"+SUMIFS(InTran!$S:$S,InTran!$G:$G,C125,InTran!$O:$O,$C$108)","v":7942.65},{"$f":"+SUMIFS(InTran!$M:$M,InTran!$G:$G,C125,InTran!$O:$O,$C$108)","v":297365.93},{"$f":"+IFERROR(AB125/SUM($AB$110:$AB$131),0)","v":9.1190665781318691E-3},{"$f":"+RANK(AB125,$AB$110:$AB$131)","v":16}]
[null,null,"BIMB SECURITIES SDN BHD",{"$f":"+SUMIFS(InTran!$R:$R,InTran!$G:$G,C126,InTran!$O:$O,$C$108,InTran!$C:$C,$D$108)","v":0},{"$f":"+SUMIFS(InTran!$S:$S,InTran!$G:$G,C126,InTran!$O:$O,$C$108,InTran!$C:$C,$D$108)","v":0},{"$f":"+SUMIFS(InTran!$M:$M,InTran!$G:$G,C126,InTran!$O:$O,$C$108,InTran!$C:$C,$D$108)","v":0},{"$f":"+IFERROR(D126/SUM($D$110:$D$131),0)","v":0},{"$f":"+SUMIFS(InTran!$R:$R,InTran!$G:$G,C126,InTran!$O:$O,$C$108,InTran!$C:$C,$H$108)","v":1340396.54},{"$f":"+SUMIFS(InTran!$S:$S,InTran!$G:$G,C126,InTran!$O:$O,$C$108,InTran!$C:$C,$H$108)","v":2687.75},{"$f":"+SUMIFS(InTran!$M:$M,InTran!$G:$G,C126,InTran!$O:$O,$C$108,InTran!$C:$C,$H$108)","v":71048.679999999993},{"$f":"+IFERROR(H126/SUM($H$110:$H$131),0)","v":3.8961621873114423E-3},{"$f":"+SUMIFS(InTran!$R:$R,InTran!$G:$G,C126,InTran!$O:$O,$C$108,InTran!$C:$C,$L$108)","v":0},{"$f":"+SUMIFS(InTran!$S:$S,InTran!$G:$G,C126,InTran!$O:$O,$C$108,InTran!$C:$C,$L$108)","v":0},{"$f":"+SUMIFS(InTran!$M:$M,InTran!$G:$G,C126,InTran!$O:$O,$C$108,InTran!$C:$C,$L$108)","v":0},{"$f":"+IFERROR(L126/SUM($L$110:$L$131),0)","v":0},{"$f":"+SUMIFS(InTran!$R:$R,InTran!$G:$G,C126,InTran!$O:$O,$C$108,InTran!$C:$C,$P$108)","v":871255.77},{"$f":"+SUMIFS(InTran!$S:$S,InTran!$G:$G,C126,InTran!$O:$O,$C$108,InTran!$C:$C,$P$108)","v":1960.23},{"$f":"+SUMIFS(InTran!$M:$M,InTran!$G:$G,C126,InTran!$O:$O,$C$108,InTran!$C:$C,$P$108)","v":25891.040000000001},{"$f":"+IFERROR(P126/SUM($P$110:$P$131),0)","v":1.2455596434105173E-2},{"$f":"+SUMIFS(InTran!$R:$R,InTran!$G:$G,C126,InTran!$O:$O,$C$108,InTran!$C:$C,$T$108)","v":0},{"$f":"+SUMIFS(InTran!$S:$S,InTran!$G:$G,C126,InTran!$O:$O,$C$108,InTran!$C:$C,$T$108)","v":0},{"$f":"+SUMIFS(InTran!$M:$M,InTran!$G:$G,C126,InTran!$O:$O,$C$108,InTran!$C:$C,$T$108)","v":0},{"$f":"+IFERROR(T126/SUM($T$110:$T$131),0)","v":0},{"$f":"+SUMIFS(InTran!$R:$R,InTran!$G:$G,C126,InTran!$O:$O,$C$108,InTran!$C:$C,$X$108)","v":0},{"$f":"+SUMIFS(InTran!$S:$S,InTran!$G:$G,C126,InTran!$O:$O,$C$108,InTran!$C:$C,$X$108)","v":0},{"$f":"+SUMIFS(InTran!$M:$M,InTran!$G:$G,C126,InTran!$O:$O,$C$108,InTran!$C:$C,$X$108)","v":0},{"$f":"+IFERROR(X126/SUM($X$110:$X$131),0)","v":0},{"$f":"+SUMIFS(InTran!$R:$R,InTran!$G:$G,C126,InTran!$O:$O,$C$108)","v":2211652.31},{"$f":"+SUMIFS(InTran!$S:$S,InTran!$G:$G,C126,InTran!$O:$O,$C$108)","v":4647.9799999999996},{"$f":"+SUMIFS(InTran!$M:$M,InTran!$G:$G,C126,InTran!$O:$O,$C$108)","v":96939.72},{"$f":"+IFERROR(AB126/SUM($AB$110:$AB$131),0)","v":5.2919815586519002E-3},{"$f":"+RANK(AB126,$AB$110:$AB$131)","v":17}]
[null,null,"CIMB INVESTMENT BANK BHD (FOREIGN)",{"$f":"+SUMIFS(InTran!$R:$R,InTran!$G:$G,C127,InTran!$O:$O,$C$108,InTran!$C:$C,$D$108)","v":0},{"$f":"+SUMIFS(InTran!$S:$S,InTran!$G:$G,C127,InTran!$O:$O,$C$108,InTran!$C:$C,$D$108)","v":0},{"$f":"+SUMIFS(InTran!$M:$M,InTran!$G:$G,C127,InTran!$O:$O,$C$108,InTran!$C:$C,$D$108)","v":0},{"$f":"+IFERROR(D127/SUM($D$110:$D$131),0)","v":0},{"$f":"+SUMIFS(InTran!$R:$R,InTran!$G:$G,C127,InTran!$O:$O,$C$108,InTran!$C:$C,$H$108)","v":0},{"$f":"+SUMIFS(InTran!$S:$S,InTran!$G:$G,C127,InTran!$O:$O,$C$108,InTran!$C:$C,$H$108)","v":0},{"$f":"+SUMIFS(InTran!$M:$M,InTran!$G:$G,C127,InTran!$O:$O,$C$108,InTran!$C:$C,$H$108)","v":0},{"$f":"+IFERROR(H127/SUM($H$110:$H$131),0)","v":0},{"$f":"+SUMIFS(InTran!$R:$R,InTran!$G:$G,C127,InTran!$O:$O,$C$108,InTran!$C:$C,$L$108)","v":0},{"$f":"+SUMIFS(InTran!$S:$S,InTran!$G:$G,C127,InTran!$O:$O,$C$108,InTran!$C:$C,$L$108)","v":0},{"$f":"+SUMIFS(InTran!$M:$M,InTran!$G:$G,C127,InTran!$O:$O,$C$108,InTran!$C:$C,$L$108)","v":0},{"$f":"+IFERROR(L127/SUM($L$110:$L$131),0)","v":0},{"$f":"+SUMIFS(InTran!$R:$R,InTran!$G:$G,C127,InTran!$O:$O,$C$108,InTran!$C:$C,$P$108)","v":0},{"$f":"+SUMIFS(InTran!$S:$S,InTran!$G:$G,C127,InTran!$O:$O,$C$108,InTran!$C:$C,$P$108)","v":0},{"$f":"+SUMIFS(InTran!$M:$M,InTran!$G:$G,C127,InTran!$O:$O,$C$108,InTran!$C:$C,$P$108)","v":0},{"$f":"+IFERROR(P127/SUM($P$110:$P$131),0)","v":0},{"$f":"+SUMIFS(InTran!$R:$R,InTran!$G:$G,C127,InTran!$O:$O,$C$108,InTran!$C:$C,$T$108)","v":0},{"$f":"+SUMIFS(InTran!$S:$S,InTran!$G:$G,C127,InTran!$O:$O,$C$108,InTran!$C:$C,$T$108)","v":0},{"$f":"+SUMIFS(InTran!$M:$M,InTran!$G:$G,C127,InTran!$O:$O,$C$108,InTran!$C:$C,$T$108)","v":0},{"$f":"+IFERROR(T127/SUM($T$110:$T$131),0)","v":0},{"$f":"+SUMIFS(InTran!$R:$R,InTran!$G:$G,C127,InTran!$O:$O,$C$108,InTran!$C:$C,$X$108)","v":0},{"$f":"+SUMIFS(InTran!$S:$S,InTran!$G:$G,C127,InTran!$O:$O,$C$108,InTran!$C:$C,$X$108)","v":0},{"$f":"+SUMIFS(InTran!$M:$M,InTran!$G:$G,C127,InTran!$O:$O,$C$108,InTran!$C:$C,$X$108)","v":0},{"$f":"+IFERROR(X127/SUM($X$110:$X$131),0)","v":0},{"$f":"+SUMIFS(InTran!$R:$R,InTran!$G:$G,C127,InTran!$O:$O,$C$108)","v":0},{"$f":"+SUMIFS(InTran!$S:$S,InTran!$G:$G,C127,InTran!$O:$O,$C$108)","v":0},{"$f":"+SUMIFS(InTran!$M:$M,InTran!$G:$G,C127,InTran!$O:$O,$C$108)","v":0},{"$f":"+IFERROR(AB127/SUM($AB$110:$AB$131),0)","v":0},{"$f":"+RANK(AB127,$AB$110:$AB$131)","v":18}]
[null,null,"CLSA LIMITED FOREIGN",{"$f":"+SUMIFS(InTran!$R:$R,InTran!$G:$G,C128,InTran!$O:$O,$C$108,InTran!$C:$C,$D$108)","v":0},{"$f":"+SUMIFS(InTran!$S:$S,InTran!$G:$G,C128,InTran!$O:$O,$C$108,InTran!$C:$C,$D$108)","v":0},{"$f":"+SUMIFS(InTran!$M:$M,InTran!$G:$G,C128,InTran!$O:$O,$C$108,InTran!$C:$C,$D$108)","v":0},{"$f":"+IFERROR(D128/SUM($D$110:$D$131),0)","v":0},{"$f":"+SUMIFS(InTran!$R:$R,InTran!$G:$G,C128,InTran!$O:$O,$C$108,InTran!$C:$C,$H$108)","v":0},{"$f":"+SUMIFS(InTran!$S:$S,InTran!$G:$G,C128,InTran!$O:$O,$C$108,InTran!$C:$C,$H$108)","v":0},{"$f":"+SUMIFS(InTran!$M:$M,InTran!$G:$G,C128,InTran!$O:$O,$C$108,InTran!$C:$C,$H$108)","v":0},{"$f":"+IFERROR(H128/SUM($H$110:$H$131),0)","v":0},{"$f":"+SUMIFS(InTran!$R:$R,InTran!$G:$G,C128,InTran!$O:$O,$C$108,InTran!$C:$C,$L$108)","v":0},{"$f":"+SUMIFS(InTran!$S:$S,InTran!$G:$G,C128,InTran!$O:$O,$C$108,InTran!$C:$C,$L$108)","v":0},{"$f":"+SUMIFS(InTran!$M:$M,InTran!$G:$G,C128,InTran!$O:$O,$C$108,InTran!$C:$C,$L$108)","v":0},{"$f":"+IFERROR(L128/SUM($L$110:$L$131),0)","v":0},{"$f":"+SUMIFS(InTran!$R:$R,InTran!$G:$G,C128,InTran!$O:$O,$C$108,InTran!$C:$C,$P$108)","v":0},{"$f":"+SUMIFS(InTran!$S:$S,InTran!$G:$G,C128,InTran!$O:$O,$C$108,InTran!$C:$C,$P$108)","v":0},{"$f":"+SUMIFS(InTran!$M:$M,InTran!$G:$G,C128,InTran!$O:$O,$C$108,InTran!$C:$C,$P$108)","v":0},{"$f":"+IFERROR(P128/SUM($P$110:$P$131),0)","v":0},{"$f":"+SUMIFS(InTran!$R:$R,InTran!$G:$G,C128,InTran!$O:$O,$C$108,InTran!$C:$C,$T$108)","v":0},{"$f":"+SUMIFS(InTran!$S:$S,InTran!$G:$G,C128,InTran!$O:$O,$C$108,InTran!$C:$C,$T$108)","v":0},{"$f":"+SUMIFS(InTran!$M:$M,InTran!$G:$G,C128,InTran!$O:$O,$C$108,InTran!$C:$C,$T$108)","v":0},{"$f":"+IFERROR(T128/SUM($T$110:$T$131),0)","v":0},{"$f":"+SUMIFS(InTran!$R:$R,InTran!$G:$G,C128,InTran!$O:$O,$C$108,InTran!$C:$C,$X$108)","v":0},{"$f":"+SUMIFS(InTran!$S:$S,InTran!$G:$G,C128,InTran!$O:$O,$C$108,InTran!$C:$C,$X$108)","v":0},{"$f":"+SUMIFS(InTran!$M:$M,InTran!$G:$G,C128,InTran!$O:$O,$C$108,InTran!$C:$C,$X$108)","v":0},{"$f":"+IFERROR(X128/SUM($X$110:$X$131),0)","v":0},{"$f":"+SUMIFS(InTran!$R:$R,InTran!$G:$G,C128,InTran!$O:$O,$C$108)","v":0},{"$f":"+SUMIFS(InTran!$S:$S,InTran!$G:$G,C128,InTran!$O:$O,$C$108)","v":0},{"$f":"+SUMIFS(InTran!$M:$M,InTran!$G:$G,C128,InTran!$O:$O,$C$108)","v":0},{"$f":"+IFERROR(AB128/SUM($AB$110:$AB$131),0)","v":0},{"$f":"+RANK(AB128,$AB$110:$AB$131)","v":18}]
[null,null,"MACQUARIE CAPITAL SECURITIES (MALAYSIA) SDN BHD (FOREIGN)",{"$f":"+SUMIFS(InTran!$R:$R,InTran!$G:$G,C129,InTran!$O:$O,$C$108,InTran!$C:$C,$D$108)","v":0},{"$f":"+SUMIFS(InTran!$S:$S,InTran!$G:$G,C129,InTran!$O:$O,$C$108,InTran!$C:$C,$D$108)","v":0},{"$f":"+SUMIFS(InTran!$M:$M,InTran!$G:$G,C129,InTran!$O:$O,$C$108,InTran!$C:$C,$D$108)","v":0},{"$f":"+IFERROR(D129/SUM($D$110:$D$131),0)","v":0},{"$f":"+SUMIFS(InTran!$R:$R,InTran!$G:$G,C129,InTran!$O:$O,$C$108,InTran!$C:$C,$H$108)","v":0},{"$f":"+SUMIFS(InTran!$S:$S,InTran!$G:$G,C129,InTran!$O:$O,$C$108,InTran!$C:$C,$H$108)","v":0},{"$f":"+SUMIFS(InTran!$M:$M,InTran!$G:$G,C129,InTran!$O:$O,$C$108,InTran!$C:$C,$H$108)","v":0},{"$f":"+IFERROR(H129/SUM($H$110:$H$131),0)","v":0},{"$f":"+SUMIFS(InTran!$R:$R,InTran!$G:$G,C129,InTran!$O:$O,$C$108,InTran!$C:$C,$L$108)","v":0},{"$f":"+SUMIFS(InTran!$S:$S,InTran!$G:$G,C129,InTran!$O:$O,$C$108,InTran!$C:$C,$L$108)","v":0},{"$f":"+SUMIFS(InTran!$M:$M,InTran!$G:$G,C129,InTran!$O:$O,$C$108,InTran!$C:$C,$L$108)","v":0},{"$f":"+IFERROR(L129/SUM($L$110:$L$131),0)","v":0},{"$f":"+SUMIFS(InTran!$R:$R,InTran!$G:$G,C129,InTran!$O:$O,$C$108,InTran!$C:$C,$P$108)","v":0},{"$f":"+SUMIFS(InTran!$S:$S,InTran!$G:$G,C129,InTran!$O:$O,$C$108,InTran!$C:$C,$P$108)","v":0},{"$f":"+SUMIFS(InTran!$M:$M,InTran!$G:$G,C129,InTran!$O:$O,$C$108,InTran!$C:$C,$P$108)","v":0},{"$f":"+IFERROR(P129/SUM($P$110:$P$131),0)","v":0},{"$f":"+SUMIFS(InTran!$R:$R,InTran!$G:$G,C129,InTran!$O:$O,$C$108,InTran!$C:$C,$T$108)","v":0},{"$f":"+SUMIFS(InTran!$S:$S,InTran!$G:$G,C129,InTran!$O:$O,$C$108,InTran!$C:$C,$T$108)","v":0},{"$f":"+SUMIFS(InTran!$M:$M,InTran!$G:$G,C129,InTran!$O:$O,$C$108,InTran!$C:$C,$T$108)","v":0},{"$f":"+IFERROR(T129/SUM($T$110:$T$131),0)","v":0},{"$f":"+SUMIFS(InTran!$R:$R,InTran!$G:$G,C129,InTran!$O:$O,$C$108,InTran!$C:$C,$X$108)","v":0},{"$f":"+SUMIFS(InTran!$S:$S,InTran!$G:$G,C129,InTran!$O:$O,$C$108,InTran!$C:$C,$X$108)","v":0},{"$f":"+SUMIFS(InTran!$M:$M,InTran!$G:$G,C129,InTran!$O:$O,$C$108,InTran!$C:$C,$X$108)","v":0},{"$f":"+IFERROR(X129/SUM($X$110:$X$131),0)","v":0},{"$f":"+SUMIFS(InTran!$R:$R,InTran!$G:$G,C129,InTran!$O:$O,$C$108)","v":0},{"$f":"+SUMIFS(InTran!$S:$S,InTran!$G:$G,C129,InTran!$O:$O,$C$108)","v":0},{"$f":"+SUMIFS(InTran!$M:$M,InTran!$G:$G,C129,InTran!$O:$O,$C$108)","v":0},{"$f":"+IFERROR(AB129/SUM($AB$110:$AB$131),0)","v":0},{"$f":"+RANK(AB129,$AB$110:$AB$131)","v":18}]
[null,null,"MAYBANK INVESTMENT BANK BHD (FOREIGN)",{"$f":"+SUMIFS(InTran!$R:$R,InTran!$G:$G,C130,InTran!$O:$O,$C$108,InTran!$C:$C,$D$108)","v":0},{"$f":"+SUMIFS(InTran!$S:$S,InTran!$G:$G,C130,InTran!$O:$O,$C$108,InTran!$C:$C,$D$108)","v":0},{"$f":"+SUMIFS(InTran!$M:$M,InTran!$G:$G,C130,InTran!$O:$O,$C$108,InTran!$C:$C,$D$108)","v":0},{"$f":"+IFERROR(D130/SUM($D$110:$D$131),0)","v":0},{"$f":"+SUMIFS(InTran!$R:$R,InTran!$G:$G,C130,InTran!$O:$O,$C$108,InTran!$C:$C,$H$108)","v":0},{"$f":"+SUMIFS(InTran!$S:$S,InTran!$G:$G,C130,InTran!$O:$O,$C$108,InTran!$C:$C,$H$108)","v":0},{"$f":"+SUMIFS(InTran!$M:$M,InTran!$G:$G,C130,InTran!$O:$O,$C$108,InTran!$C:$C,$H$108)","v":0},{"$f":"+IFERROR(H130/SUM($H$110:$H$131),0)","v":0},{"$f":"+SUMIFS(InTran!$R:$R,InTran!$G:$G,C130,InTran!$O:$O,$C$108,InTran!$C:$C,$L$108)","v":0},{"$f":"+SUMIFS(InTran!$S:$S,InTran!$G:$G,C130,InTran!$O:$O,$C$108,InTran!$C:$C,$L$108)","v":0},{"$f":"+SUMIFS(InTran!$M:$M,InTran!$G:$G,C130,InTran!$O:$O,$C$108,InTran!$C:$C,$L$108)","v":0},{"$f":"+IFERROR(L130/SUM($L$110:$L$131),0)","v":0},{"$f":"+SUMIFS(InTran!$R:$R,InTran!$G:$G,C130,InTran!$O:$O,$C$108,InTran!$C:$C,$P$108)","v":0},{"$f":"+SUMIFS(InTran!$S:$S,InTran!$G:$G,C130,InTran!$O:$O,$C$108,InTran!$C:$C,$P$108)","v":0},{"$f":"+SUMIFS(InTran!$M:$M,InTran!$G:$G,C130,InTran!$O:$O,$C$108,InTran!$C:$C,$P$108)","v":0},{"$f":"+IFERROR(P130/SUM($P$110:$P$131),0)","v":0},{"$f":"+SUMIFS(InTran!$R:$R,InTran!$G:$G,C130,InTran!$O:$O,$C$108,InTran!$C:$C,$T$108)","v":0},{"$f":"+SUMIFS(InTran!$S:$S,InTran!$G:$G,C130,InTran!$O:$O,$C$108,InTran!$C:$C,$T$108)","v":0},{"$f":"+SUMIFS(InTran!$M:$M,InTran!$G:$G,C130,InTran!$O:$O,$C$108,InTran!$C:$C,$T$108)","v":0},{"$f":"+IFERROR(T130/SUM($T$110:$T$131),0)","v":0},{"$f":"+SUMIFS(InTran!$R:$R,InTran!$G:$G,C130,InTran!$O:$O,$C$108,InTran!$C:$C,$X$108)","v":0},{"$f":"+SUMIFS(InTran!$S:$S,InTran!$G:$G,C130,InTran!$O:$O,$C$108,InTran!$C:$C,$X$108)","v":0},{"$f":"+SUMIFS(InTran!$M:$M,InTran!$G:$G,C130,InTran!$O:$O,$C$108,InTran!$C:$C,$X$108)","v":0},{"$f":"+IFERROR(X130/SUM($X$110:$X$131),0)","v":0},{"$f":"+SUMIFS(InTran!$R:$R,InTran!$G:$G,C130,InTran!$O:$O,$C$108)","v":0},{"$f":"+SUMIFS(InTran!$S:$S,InTran!$G:$G,C130,InTran!$O:$O,$C$108)","v":0},{"$f":"+SUMIFS(InTran!$M:$M,InTran!$G:$G,C130,InTran!$O:$O,$C$108)","v":0},{"$f":"+IFERROR(AB130/SUM($AB$110:$AB$131),0)","v":0},{"$f":"+RANK(AB130,$AB$110:$AB$131)","v":18}]
[null,null,"NOT APPLICABLE",{"$f":"+SUMIFS(InTran!$R:$R,InTran!$G:$G,C131,InTran!$O:$O,$C$108,InTran!$C:$C,$D$108)","v":0},{"$f":"+SUMIFS(InTran!$S:$S,InTran!$G:$G,C131,InTran!$O:$O,$C$108,InTran!$C:$C,$D$108)","v":0},{"$f":"+SUMIFS(InTran!$M:$M,InTran!$G:$G,C131,InTran!$O:$O,$C$108,InTran!$C:$C,$D$108)","v":0},{"$f":"+IFERROR(D131/SUM($D$110:$D$131),0)","v":0},{"$f":"+SUMIFS(InTran!$R:$R,InTran!$G:$G,C131,InTran!$O:$O,$C$108,InTran!$C:$C,$H$108)","v":0},{"$f":"+SUMIFS(InTran!$S:$S,InTran!$G:$G,C131,InTran!$O:$O,$C$108,InTran!$C:$C,$H$108)","v":0},{"$f":"+SUMIFS(InTran!$M:$M,InTran!$G:$G,C131,InTran!$O:$O,$C$108,InTran!$C:$C,$H$108)","v":0},{"$f":"+IFERROR(H131/SUM($H$110:$H$131),0)","v":0},{"$f":"+SUMIFS(InTran!$R:$R,InTran!$G:$G,C131,InTran!$O:$O,$C$108,InTran!$C:$C,$L$108)","v":0},{"$f":"+SUMIFS(InTran!$S:$S,InTran!$G:$G,C131,InTran!$O:$O,$C$108,InTran!$C:$C,$L$108)","v":0},{"$f":"+SUMIFS(InTran!$M:$M,InTran!$G:$G,C131,InTran!$O:$O,$C$108,InTran!$C:$C,$L$108)","v":0},{"$f":"+IFERROR(L131/SUM($L$110:$L$131),0)","v":0},{"$f":"+SUMIFS(InTran!$R:$R,InTran!$G:$G,C131,InTran!$O:$O,$C$108,InTran!$C:$C,$P$108)","v":0},{"$f":"+SUMIFS(InTran!$S:$S,InTran!$G:$G,C131,InTran!$O:$O,$C$108,InTran!$C:$C,$P$108)","v":0},{"$f":"+SUMIFS(InTran!$M:$M,InTran!$G:$G,C131,InTran!$O:$O,$C$108,InTran!$C:$C,$P$108)","v":0},{"$f":"+IFERROR(P131/SUM($P$110:$P$131),0)","v":0},{"$f":"+SUMIFS(InTran!$R:$R,InTran!$G:$G,C131,InTran!$O:$O,$C$108,InTran!$C:$C,$T$108)","v":0},{"$f":"+SUMIFS(InTran!$S:$S,InTran!$G:$G,C131,InTran!$O:$O,$C$108,InTran!$C:$C,$T$108)","v":0},{"$f":"+SUMIFS(InTran!$M:$M,InTran!$G:$G,C131,InTran!$O:$O,$C$108,InTran!$C:$C,$T$108)","v":0},{"$f":"+IFERROR(T131/SUM($T$110:$T$131),0)","v":0},{"$f":"+SUMIFS(InTran!$R:$R,InTran!$G:$G,C131,InTran!$O:$O,$C$108,InTran!$C:$C,$X$108)","v":0},{"$f":"+SUMIFS(InTran!$S:$S,InTran!$G:$G,C131,InTran!$O:$O,$C$108,InTran!$C:$C,$X$108)","v":0},{"$f":"+SUMIFS(InTran!$M:$M,InTran!$G:$G,C131,InTran!$O:$O,$C$108,InTran!$C:$C,$X$108)","v":0},{"$f":"+IFERROR(X131/SUM($X$110:$X$131),0)","v":0},{"$f":"+SUMIFS(InTran!$R:$R,InTran!$G:$G,C131,InTran!$O:$O,$C$108)","v":0},{"$f":"+SUMIFS(InTran!$S:$S,InTran!$G:$G,C131,InTran!$O:$O,$C$108)","v":0},{"$f":"+SUMIFS(InTran!$M:$M,InTran!$G:$G,C131,InTran!$O:$O,$C$108)","v":0},{"$f":"+IFERROR(AB131/SUM($AB$110:$AB$131),0)","v":0},{"$f":"+RANK(AB131,$AB$110:$AB$131)","v":18}]
[null,null,"Total",{"$f":"SUM(D110:D131)","v":2618100.9900000002},{"$f":"SUM(E110:E131)","v":5249.4},{"$f":"SUM(F110:F131)","v":262097.66},{"$f":"SUM(G110:G131)","v":1},{"$f":"SUM(H110:H131)","v":344029964.75999999},{"$f":"SUM(I110:I131)","v":565277.14000000013},{"$f":"SUM(J110:J131)","v":15982991.540000001},{"$f":"SUM(K110:K131)","v":0.99999999999999989},{"$f":"SUM(L110:L131)","v":0},{"$f":"SUM(M110:M131)","v":0},{"$f":"SUM(N110:N131)","v":0},{"$f":"SUM(O110:O131)","v":0},{"$f":"SUM(P110:P131)","v":69948940.189999998},{"$f":"SUM(Q110:Q131)","v":152813.91999999998},{"$f":"SUM(R110:R131)","v":2233506.12},{"$f":"SUM(S110:S131)","v":1},{"$f":"SUM(T110:T131)","v":971185.45},{"$f":"SUM(U110:U131)","v":2183.56},{"$f":"SUM(V110:V131)","v":33882.83},{"$f":"SUM(W110:W131)","v":1},{"$f":"SUM(X110:X131)","v":356981.91},{"$f":"SUM(Y110:Y131)","v":805.84},{"$f":"SUM(Z110:Z131)","v":303.3},{"$f":"SUM(AA110:AA131)","v":1},{"$f":"SUM(AB110:AB131)","v":417925173.30000013},{"$f":"SUM(AC110:AC131)","v":726329.86},{"$f":"SUM(AD110:AD131)","v":18512781.450000003},{"$f":"SUM(AE110:AE131)","v":0.99999999999999956}]
[]
[null,null,"SHAN","YH-AUR-VCAM",null,null,null,"KWAP",null,null,null,"MEQESG",null,null,null,"YAMIR-VCAM",null,null,null,"VCAM-TABA",null,null,null,"ASEAN5ESG",null,null,null,"Total"]
[null,null,"Brokers","Trade Value (RM)","Brokerage Fees (RM)","Capital Gains (RM)","%","Trade Value (RM)","Brokerage Fees (RM)","Capital Gains (RM)","%","Trade Value (RM)","Brokerage Fees (RM)","Capital Gains (RM)","%","Trade Value (RM)","Brokerage Fees (RM)","Capital Gains (RM)","%","Trade Value (RM)","Brokerage Fees (RM)","Capital Gains (RM)","%","Trade Value (RM)","Brokerage Fees (RM)","Capital Gains (RM)","%","Trade Value (RM)","Brokerage Fees (RM)","Capital Gains (RM)","%","Trade Value Ranking"]
[null,null,"CIMB INVESTMENT BANK BHD",{"$f":"+SUMIFS(InTran!$R:$R,InTran!$G:$G,C136,InTran!$O:$O,$C$134,InTran!$C:$C,$D$134)","v":22138512},{"$f":"+SUMIFS(InTran!$S:$S,InTran!$G:$G,C136,InTran!$O:$O,$C$134,InTran!$C:$C,$D$134)","v":55200},{"$f":"+SUMIFS(InTran!$M:$M,InTran!$G:$G,C136,InTran!$O:$O,$C$134,InTran!$C:$C,$D$134)","v":0},{"$f":"+IFERROR(D136/SUM($D$136:$D$157),0)","v":0.35495481298370896},{"$f":"+SUMIFS(InTran!$R:$R,InTran!$G:$G,C136,InTran!$O:$O,$C$134,InTran!$C:$C,$H$134)","v":0},{"$f":"+SUMIFS(InTran!$S:$S,InTran!$G:$G,C136,InTran!$O:$O,$C$134,InTran!$C:$C,$H$134)","v":0},{"$f":"+SUMIFS(InTran!$M:$M,InTran!$G:$G,C136,InTran!$O:$O,$C$134,InTran!$C:$C,$H$134)","v":0},{"$f":"+IFERROR(H136/SUM($H$136:$H$157),0)","v":0},{"$f":"+SUMIFS(InTran!$R:$R,InTran!$G:$G,C136,InTran!$O:$O,$C$134,InTran!$C:$C,$L$134)","v":16808665.239999998},{"$f":"+SUMIFS(InTran!$S:$S,InTran!$G:$G,C136,InTran!$O:$O,$C$134,InTran!$C:$C,$L$134)","v":41910.6},{"$f":"+SUMIFS(InTran!$M:$M,InTran!$G:$G,C136,InTran!$O:$O,$C$134,InTran!$C:$C,$L$134)","v":0},{"$f":"+IFERROR(L136/SUM($L$136:$L$157),0)","v":1},{"$f":"+SUMIFS(InTran!$R:$R,InTran!$G:$G,C136,InTran!$O:$O,$C$134,InTran!$C:$C,$P$134)","v":0},{"$f":"+SUMIFS(InTran!$S:$S,InTran!$G:$G,C136,InTran!$O:$O,$C$134,InTran!$C:$C,$P$134)","v":0},{"$f":"+SUMIFS(InTran!$M:$M,InTran!$G:$G,C136,InTran!$O:$O,$C$134,InTran!$C:$C,$P$134)","v":0},{"$f":"+IFERROR(P136/SUM($P$136:$P$157),0)","v":0},{"$f":"+SUMIFS(InTran!$R:$R,InTran!$G:$G,C136,InTran!$O:$O,$C$134,InTran!$C:$C,$T$134)","v":608809.07999999996},{"$f":"+SUMIFS(InTran!$S:$S,InTran!$G:$G,C136,InTran!$O:$O,$C$134,InTran!$C:$C,$T$134)","v":1518},{"$f":"+SUMIFS(InTran!$M:$M,InTran!$G:$G,C136,InTran!$O:$O,$C$134,InTran!$C:$C,$T$134)","v":0},{"$f":"+IFERROR(T136/SUM($T$136:$T$157),0)","v":1},{"$f":"+SUMIFS(InTran!$R:$R,InTran!$G:$G,C136,InTran!$O:$O,$C$134,InTran!$C:$C,$X$134)","v":0},{"$f":"+SUMIFS(InTran!$S:$S,InTran!$G:$G,C136,InTran!$O:$O,$C$134,InTran!$C:$C,$X$134)","v":0},{"$f":"+SUMIFS(InTran!$M:$M,InTran!$G:$G,C136,InTran!$O:$O,$C$134,InTran!$C:$C,$X$134)","v":0},{"$f":"+IFERROR(X136/SUM($X$136:$X$157),0)","v":0},{"$f":"+SUMIFS(InTran!$R:$R,InTran!$G:$G,C136,InTran!$O:$O,$C$134)","v":39555986.319999993},{"$f":"+SUMIFS(InTran!$S:$S,InTran!$G:$G,C136,InTran!$O:$O,$C$134)","v":98628.6},{"$f":"+SUMIFS(InTran!$M:$M,InTran!$G:$G,C136,InTran!$O:$O,$C$134)","v":0},{"$f":"+IFERROR(AB136/SUM($AB$136:$AB$157),0)","v":0.47510308706416104},{"$f":"+RANK(AB136,$AB$136:$AB$157)","v":1}]
[null,null,"RHB INVESTMENT BANK BERHAD",{"$f":"+SUMIFS(InTran!$R:$R,InTran!$G:$G,C137,InTran!$O:$O,$C$134,InTran!$C:$C,$D$134)","v":24902689.02},{"$f":"+SUMIFS(InTran!$S:$S,InTran!$G:$G,C137,InTran!$O:$O,$C$134,InTran!$C:$C,$D$134)","v":24930.38},{"$f":"+SUMIFS(InTran!$M:$M,InTran!$G:$G,C137,InTran!$O:$O,$C$134,InTran!$C:$C,$D$134)","v":2149012.14},{"$f":"+IFERROR(D137/SUM($D$136:$D$157),0)","v":0.39927386826565231},{"$f":"+SUMIFS(InTran!$R:$R,InTran!$G:$G,C137,InTran!$O:$O,$C$134,InTran!$C:$C,$H$134)","v":1963976.04},{"$f":"+SUMIFS(InTran!$S:$S,InTran!$G:$G,C137,InTran!$O:$O,$C$134,InTran!$C:$C,$H$134)","v":3918},{"$f":"+SUMIFS(InTran!$M:$M,InTran!$G:$G,C137,InTran!$O:$O,$C$134,InTran!$C:$C,$H$134)","v":0},{"$f":"+IFERROR(H137/SUM($H$136:$H$157),0)","v":0.56594284210706913},{"$f":"+SUMIFS(InTran!$R:$R,InTran!$G:$G,C137,InTran!$O:$O,$C$134,InTran!$C:$C,$L$134)","v":0},{"$f":"+SUMIFS(InTran!$S:$S,InTran!$G:$G,C137,InTran!$O:$O,$C$134,InTran!$C:$C,$L$134)","v":0},{"$f":"+SUMIFS(InTran!$M:$M,InTran!$G:$G,C137,InTran!$O:$O,$C$134,InTran!$C:$C,$L$134)","v":0},{"$f":"+IFERROR(L137/SUM($L$136:$L$157),0)","v":0},{"$f":"+SUMIFS(InTran!$R:$R,InTran!$G:$G,C137,InTran!$O:$O,$C$134,InTran!$C:$C,$P$134)","v":0},{"$f":"+SUMIFS(InTran!$S:$S,InTran!$G:$G,C137,InTran!$O:$O,$C$134,InTran!$C:$C,$P$134)","v":0},{"$f":"+SUMIFS(InTran!$M:$M,InTran!$G:$G,C137,InTran!$O:$O,$C$134,InTran!$C:$C,$P$134)","v":0},{"$f":"+IFERROR(P137/SUM($P$136:$P$157),0)","v":0},{"$f":"+SUMIFS(InTran!$R:$R,InTran!$G:$G,C137,InTran!$O:$O,$C$134,InTran!$C:$C,$T$134)","v":0},{"$f":"+SUMIFS(InTran!$S:$S,InTran!$G:$G,C137,InTran!$O:$O,$C$134,InTran!$C:$C,$T$134)","v":0},{"$f":"+SUMIFS(InTran!$M:$M,InTran!$G:$G,C137,InTran!$O:$O,$C$134,InTran!$C:$C,$T$134)","v":0},{"$f":"+IFERROR(T137/SUM($T$136:$T$157),0)","v":0},{"$f":"+SUMIFS(InTran!$R:$R,InTran!$G:$G,C137,InTran!$O:$O,$C$134,InTran!$C:$C,$X$134)","v":0},{"$f":"+SUMIFS(InTran!$S:$S,InTran!$G:$G,C137,InTran!$O:$O,$C$134,InTran!$C:$C,$X$134)","v":0},{"$f":"+SUMIFS(InTran!$M:$M,InTran!$G:$G,C137,InTran!$O:$O,$C$134,InTran!$C:$C,$X$134)","v":0},{"$f":"+IFERROR(X137/SUM($X$136:$X$157),0)","v":0},{"$f":"+SUMIFS(InTran!$R:$R,InTran!$G:$G,C137,InTran!$O:$O,$C$134)","v":26866665.059999999},{"$f":"+SUMIFS(InTran!$S:$S,InTran!$G:$G,C137,InTran!$O:$O,$C$134)","v":28848.38},{"$f":"+SUMIFS(InTran!$M:$M,InTran!$G:$G,C137,InTran!$O:$O,$C$134)","v":2149012.14},{"$f":"+IFERROR(AB137/SUM($AB$136:$AB$157),0)","v":0.32269288915875111},{"$f":"+RANK(AB137,$AB$136:$AB$157)","v":2}]
[null,null,"MACQUARIE CAPITAL SECURITIES (MALAYSIA) SDN BHD",{"$f":"+SUMIFS(InTran!$R:$R,InTran!$G:$G,C138,InTran!$O:$O,$C$134,InTran!$C:$C,$D$134)","v":8679765.4800000004},{"$f":"+SUMIFS(InTran!$S:$S,InTran!$G:$G,C138,InTran!$O:$O,$C$134,InTran!$C:$C,$D$134)","v":8669.32},{"$f":"+SUMIFS(InTran!$M:$M,InTran!$G:$G,C138,InTran!$O:$O,$C$134,InTran!$C:$C,$D$134)","v":0},{"$f":"+IFERROR(D138/SUM($D$136:$D$157),0)","v":0.13916583610930369},{"$f":"+SUMIFS(InTran!$R:$R,InTran!$G:$G,C138,InTran!$O:$O,$C$134,InTran!$C:$C,$H$134)","v":0},{"$f":"+SUMIFS(InTran!$S:$S,InTran!$G:$G,C138,InTran!$O:$O,$C$134,InTran!$C:$C,$H$134)","v":0},{"$f":"+SUMIFS(InTran!$M:$M,InTran!$G:$G,C138,InTran!$O:$O,$C$134,InTran!$C:$C,$H$134)","v":0},{"$f":"+IFERROR(H138/SUM($H$136:$H$157),0)","v":0},{"$f":"+SUMIFS(InTran!$R:$R,InTran!$G:$G,C138,InTran!$O:$O,$C$134,InTran!$C:$C,$L$134)","v":0},{"$f":"+SUMIFS(InTran!$S:$S,InTran!$G:$G,C138,InTran!$O:$O,$C$134,InTran!$C:$C,$L$134)","v":0},{"$f":"+SUMIFS(InTran!$M:$M,InTran!$G:$G,C138,InTran!$O:$O,$C$134,InTran!$C:$C,$L$134)","v":0},{"$f":"+IFERROR(L138/SUM($L$136:$L$157),0)","v":0},{"$f":"+SUMIFS(InTran!$R:$R,InTran!$G:$G,C138,InTran!$O:$O,$C$134,InTran!$C:$C,$P$134)","v":0},{"$f":"+SUMIFS(InTran!$S:$S,InTran!$G:$G,C138,InTran!$O:$O,$C$134,InTran!$C:$C,$P$134)","v":0},{"$f":"+SUMIFS(InTran!$M:$M,InTran!$G:$G,C138,InTran!$O:$O,$C$134,InTran!$C:$C,$P$134)","v":0},{"$f":"+IFERROR(P138/SUM($P$136:$P$157),0)","v":0},{"$f":"+SUMIFS(InTran!$R:$R,InTran!$G:$G,C138,InTran!$O:$O,$C$134,InTran!$C:$C,$T$134)","v":0},{"$f":"+SUMIFS(InTran!$S:$S,InTran!$G:$G,C138,InTran!$O:$O,$C$134,InTran!$C:$C,$T$134)","v":0},{"$f":"+SUMIFS(InTran!$M:$M,InTran!$G:$G,C138,InTran!$O:$O,$C$134,InTran!$C:$C,$T$134)","v":0},{"$f":"+IFERROR(T138/SUM($T$136:$T$157),0)","v":0},{"$f":"+SUMIFS(InTran!$R:$R,InTran!$G:$G,C138,InTran!$O:$O,$C$134,InTran!$C:$C,$X$134)","v":0},{"$f":"+SUMIFS(InTran!$S:$S,InTran!$G:$G,C138,InTran!$O:$O,$C$134,InTran!$C:$C,$X$134)","v":0},{"$f":"+SUMIFS(InTran!$M:$M,InTran!$G:$G,C138,InTran!$O:$O,$C$134,InTran!$C:$C,$X$134)","v":0},{"$f":"+IFERROR(X138/SUM($X$136:$X$157),0)","v":0},{"$f":"+SUMIFS(InTran!$R:$R,InTran!$G:$G,C138,InTran!$O:$O,$C$134)","v":8679765.4800000004},{"$f":"+SUMIFS(InTran!$S:$S,InTran!$G:$G,C138,InTran!$O:$O,$C$134)","v":8669.32},{"$f":"+SUMIFS(InTran!$M:$M,InTran!$G:$G,C138,InTran!$O:$O,$C$134)","v":0},{"$f":"+IFERROR(AB138/SUM($AB$136:$AB$157),0)","v":0.10425181516598675},{"$f":"+RANK(AB138,$AB$136:$AB$157)","v":3}]
[null,null,"MAYBANK INVESTMENT BANK BHD",{"$f":"+SUMIFS(InTran!$R:$R,InTran!$G:$G,C139,InTran!$O:$O,$C$134,InTran!$C:$C,$D$134)","v":6648978.040000001},{"$f":"+SUMIFS(InTran!$S:$S,InTran!$G:$G,C139,InTran!$O:$O,$C$134,InTran!$C:$C,$D$134)","v":13265.56},{"$f":"+SUMIFS(InTran!$M:$M,InTran!$G:$G,C139,InTran!$O:$O,$C$134,InTran!$C:$C,$D$134)","v":0},{"$f":"+IFERROR(D139/SUM($D$136:$D$157),0)","v":0.10660548264133507},{"$f":"+SUMIFS(InTran!$R:$R,InTran!$G:$G,C139,InTran!$O:$O,$C$134,InTran!$C:$C,$H$134)","v":0},{"$f":"+SUMIFS(InTran!$S:$S,InTran!$G:$G,C139,InTran!$O:$O,$C$134,InTran!$C:$C,$H$134)","v":0},{"$f":"+SUMIFS(InTran!$M:$M,InTran!$G:$G,C139,InTran!$O:$O,$C$134,InTran!$C:$C,$H$134)","v":0},{"$f":"+IFERROR(H139/SUM($H$136:$H$157),0)","v":0},{"$f":"+SUMIFS(InTran!$R:$R,InTran!$G:$G,C139,InTran!$O:$O,$C$134,InTran!$C:$C,$L$134)","v":0},{"$f":"+SUMIFS(InTran!$S:$S,InTran!$G:$G,C139,InTran!$O:$O,$C$134,InTran!$C:$C,$L$134)","v":0},{"$f":"+SUMIFS(InTran!$M:$M,InTran!$G:$G,C139,InTran!$O:$O,$C$134,InTran!$C:$C,$L$134)","v":0},{"$f":"+IFERROR(L139/SUM($L$136:$L$157),0)","v":0},{"$f":"+SUMIFS(InTran!$R:$R,InTran!$G:$G,C139,InTran!$O:$O,$C$134,InTran!$C:$C,$P$134)","v":0},{"$f":"+SUMIFS(InTran!$S:$S,InTran!$G:$G,C139,InTran!$O:$O,$C$134,InTran!$C:$C,$P$134)","v":0},{"$f":"+SUMIFS(InTran!$M:$M,InTran!$G:$G,C139,InTran!$O:$O,$C$134,InTran!$C:$C,$P$134)","v":0},{"$f":"+IFERROR(P139/SUM($P$136:$P$157),0)","v":0},{"$f":"+SUMIFS(InTran!$R:$R,InTran!$G:$G,C139,InTran!$O:$O,$C$134,InTran!$C:$C,$T$134)","v":0},{"$f":"+SUMIFS(InTran!$S:$S,InTran!$G:$G,C139,InTran!$O:$O,$C$134,InTran!$C:$C,$T$134)","v":0},{"$f":"+SUMIFS(InTran!$M:$M,InTran!$G:$G,C139,InTran!$O:$O,$C$134,InTran!$C:$C,$T$134)","v":0},{"$f":"+IFERROR(T139/SUM($T$136:$T$157),0)","v":0},{"$f":"+SUMIFS(InTran!$R:$R,InTran!$G:$G,C139,InTran!$O:$O,$C$134,InTran!$C:$C,$X$134)","v":0},{"$f":"+SUMIFS(InTran!$S:$S,InTran!$G:$G,C139,InTran!$O:$O,$C$134,InTran!$C:$C,$X$134)","v":0},{"$f":"+SUMIFS(InTran!$M:$M,InTran!$G:$G,C139,InTran!$O:$O,$C$134,InTran!$C:$C,$X$134)","v":0},{"$f":"+IFERROR(X139/SUM($X$136:$X$157),0)","v":0},{"$f":"+SUMIFS(InTran!$R:$R,InTran!$G:$G,C139,InTran!$O:$O,$C$134)","v":6648978.040000001},{"$f":"+SUMIFS(InTran!$S:$S,InTran!$G:$G,C139,InTran!$O:$O,$C$134)","v":13265.56},{"$f":"+SUMIFS(InTran!$M:$M,InTran!$G:$G,C139,InTran!$O:$O,$C$134)","v":0},{"$f":"+IFERROR(AB139/SUM($AB$136:$AB$157),0)","v":7.9860225632361781E-2},{"$f":"+RANK(AB139,$AB$136:$AB$157)","v":4}]
[null,null,"KENANGA INVESTMENT BANK BHD",{"$f":"+SUMIFS(InTran!$R:$R,InTran!$G:$G,C140,InTran!$O:$O,$C$134,InTran!$C:$C,$D$134)","v":0},{"$f":"+SUMIFS(InTran!$S:$S,InTran!$G:$G,C140,InTran!$O:$O,$C$134,InTran!$C:$C,$D$134)","v":0},{"$f":"+SUMIFS(InTran!$M:$M,InTran!$G:$G,C140,InTran!$O:$O,$C$134,InTran!$C:$C,$D$134)","v":0},{"$f":"+IFERROR(D140/SUM($D$136:$D$157),0)","v":0},{"$f":"+SUMIFS(InTran!$R:$R,InTran!$G:$G,C140,InTran!$O:$O,$C$134,InTran!$C:$C,$H$134)","v":1506296.74},{"$f":"+SUMIFS(InTran!$S:$S,InTran!$G:$G,C140,InTran!$O:$O,$C$134,InTran!$C:$C,$H$134)","v":376.3},{"$f":"+SUMIFS(InTran!$M:$M,InTran!$G:$G,C140,InTran!$O:$O,$C$134,InTran!$C:$C,$H$134)","v":0},{"$f":"+IFERROR(H140/SUM($H$136:$H$157),0)","v":0.43405715789293081},{"$f":"+SUMIFS(InTran!$R:$R,InTran!$G:$G,C140,InTran!$O:$O,$C$134,InTran!$C:$C,$L$134)","v":0},{"$f":"+SUMIFS(InTran!$S:$S,InTran!$G:$G,C140,InTran!$O:$O,$C$134,InTran!$C:$C,$L$134)","v":0},{"$f":"+SUMIFS(InTran!$M:$M,InTran!$G:$G,C140,InTran!$O:$O,$C$134,InTran!$C:$C,$L$134)","v":0},{"$f":"+IFERROR(L140/SUM($L$136:$L$157),0)","v":0},{"$f":"+SUMIFS(InTran!$R:$R,InTran!$G:$G,C140,InTran!$O:$O,$C$134,InTran!$C:$C,$P$134)","v":0},{"$f":"+SUMIFS(InTran!$S:$S,InTran!$G:$G,C140,InTran!$O:$O,$C$134,InTran!$C:$C,$P$134)","v":0},{"$f":"+SUMIFS(InTran!$M:$M,InTran!$G:$G,C140,InTran!$O:$O,$C$134,InTran!$C:$C,$P$134)","v":0},{"$f":"+IFERROR(P140/SUM($P$136:$P$157),0)","v":0},{"$f":"+SUMIFS(InTran!$R:$R,InTran!$G:$G,C140,InTran!$O:$O,$C$134,InTran!$C:$C,$T$134)","v":0},{"$f":"+SUMIFS(InTran!$S:$S,InTran!$G:$G,C140,InTran!$O:$O,$C$134,InTran!$C:$C,$T$134)","v":0},{"$f":"+SUMIFS(InTran!$M:$M,InTran!$G:$G,C140,InTran!$O:$O,$C$134,InTran!$C:$C,$T$134)","v":0},{"$f":"+IFERROR(T140/SUM($T$136:$T$157),0)","v":0},{"$f":"+SUMIFS(InTran!$R:$R,InTran!$G:$G,C140,InTran!$O:$O,$C$134,InTran!$C:$C,$X$134)","v":0},{"$f":"+SUMIFS(InTran!$S:$S,InTran!$G:$G,C140,InTran!$O:$O,$C$134,InTran!$C:$C,$X$134)","v":0},{"$f":"+SUMIFS(InTran!$M:$M,InTran!$G:$G,C140,InTran!$O:$O,$C$134,InTran!$C:$C,$X$134)","v":0},{"$f":"+IFERROR(X140/SUM($X$136:$X$157),0)","v":0},{"$f":"+SUMIFS(InTran!$R:$R,InTran!$G:$G,C140,InTran!$O:$O,$C$134)","v":1506296.74},{"$f":"+SUMIFS(InTran!$S:$S,InTran!$G:$G,C140,InTran!$O:$O,$C$134)","v":376.3},{"$f":"+SUMIFS(InTran!$M:$M,InTran!$G:$G,C140,InTran!$O:$O,$C$134)","v":0},{"$f":"+IFERROR(AB140/SUM($AB$136:$AB$157),0)","v":1.8091982978739235E-2},{"$f":"+RANK(AB140,$AB$136:$AB$157)","v":5}]
[null,null,"AFFIN INVESTMENT BANK BERHAD",{"$f":"+SUMIFS(InTran!$R:$R,InTran!$G:$G,C141,InTran!$O:$O,$C$134,InTran!$C:$C,$D$134)","v":0},{"$f":"+SUMIFS(InTran!$S:$S,InTran!$G:$G,C141,InTran!$O:$O,$C$134,InTran!$C:$C,$D$134)","v":0},{"$f":"+SUMIFS(InTran!$M:$M,InTran!$G:$G,C141,InTran!$O:$O,$C$134,InTran!$C:$C,$D$134)","v":0},{"$f":"+IFERROR(D141/SUM($D$136:$D$157),0)","v":0},{"$f":"+SUMIFS(InTran!$R:$R,InTran!$G:$G,C141,InTran!$O:$O,$C$134,InTran!$C:$C,$H$134)","v":0},{"$f":"+SUMIFS(InTran!$S:$S,InTran!$G:$G,C141,InTran!$O:$O,$C$134,InTran!$C:$C,$H$134)","v":0},{"$f":"+SUMIFS(InTran!$M:$M,InTran!$G:$G,C141,InTran!$O:$O,$C$134,InTran!$C:$C,$H$134)","v":0},{"$f":"+IFERROR(H141/SUM($H$136:$H$157),0)","v":0},{"$f":"+SUMIFS(InTran!$R:$R,InTran!$G:$G,C141,InTran!$O:$O,$C$134,InTran!$C:$C,$L$134)","v":0},{"$f":"+SUMIFS(InTran!$S:$S,InTran!$G:$G,C141,InTran!$O:$O,$C$134,InTran!$C:$C,$L$134)","v":0},{"$f":"+SUMIFS(InTran!$M:$M,InTran!$G:$G,C141,InTran!$O:$O,$C$134,InTran!$C:$C,$L$134)","v":0},{"$f":"+IFERROR(L141/SUM($L$136:$L$157),0)","v":0},{"$f":"+SUMIFS(InTran!$R:$R,InTran!$G:$G,C141,InTran!$O:$O,$C$134,InTran!$C:$C,$P$134)","v":0},{"$f":"+SUMIFS(InTran!$S:$S,InTran!$G:$G,C141,InTran!$O:$O,$C$134,InTran!$C:$C,$P$134)","v":0},{"$f":"+SUMIFS(InTran!$M:$M,InTran!$G:$G,C141,InTran!$O:$O,$C$134,InTran!$C:$C,$P$134)","v":0},{"$f":"+IFERROR(P141/SUM($P$136:$P$157),0)","v":0},{"$f":"+SUMIFS(InTran!$R:$R,InTran!$G:$G,C141,InTran!$O:$O,$C$134,InTran!$C:$C,$T$134)","v":0},{"$f":"+SUMIFS(InTran!$S:$S,InTran!$G:$G,C141,InTran!$O:$O,$C$134,InTran!$C:$C,$T$134)","v":0},{"$f":"+SUMIFS(InTran!$M:$M,InTran!$G:$G,C141,InTran!$O:$O,$C$134,InTran!$C:$C,$T$134)","v":0},{"$f":"+IFERROR(T141/SUM($T$136:$T$157),0)","v":0},{"$f":"+SUMIFS(InTran!$R:$R,InTran!$G:$G,C141,InTran!$O:$O,$C$134,InTran!$C:$C,$X$134)","v":0},{"$f":"+SUMIFS(InTran!$S:$S,InTran!$G:$G,C141,InTran!$O:$O,$C$134,InTran!$C:$C,$X$134)","v":0},{"$f":"+SUMIFS(InTran!$M:$M,InTran!$G:$G,C141,InTran!$O:$O,$C$134,InTran!$C:$C,$X$134)","v":0},{"$f":"+IFERROR(X141/SUM($X$136:$X$157),0)","v":0},{"$f":"+SUMIFS(InTran!$R:$R,InTran!$G:$G,C141,InTran!$O:$O,$C$134)","v":0},{"$f":"+SUMIFS(InTran!$S:$S,InTran!$G:$G,C141,InTran!$O:$O,$C$134)","v":0},{"$f":"+SUMIFS(InTran!$M:$M,InTran!$G:$G,C141,InTran!$O:$O,$C$134)","v":0},{"$f":"+IFERROR(AB141/SUM($AB$136:$AB$157),0)","v":0},{"$f":"+RANK(AB141,$AB$136:$AB$157)","v":6}]
[null,null,"ALLIANCE INVESTMENT BANK BERHAD",{"$f":"+SUMIFS(InTran!$R:$R,InTran!$G:$G,C142,InTran!$O:$O,$C$134,InTran!$C:$C,$D$134)","v":0},{"$f":"+SUMIFS(InTran!$S:$S,InTran!$G:$G,C142,InTran!$O:$O,$C$134,InTran!$C:$C,$D$134)","v":0},{"$f":"+SUMIFS(InTran!$M:$M,InTran!$G:$G,C142,InTran!$O:$O,$C$134,InTran!$C:$C,$D$134)","v":0},{"$f":"+IFERROR(D142/SUM($D$136:$D$157),0)","v":0},{"$f":"+SUMIFS(InTran!$R:$R,InTran!$G:$G,C142,InTran!$O:$O,$C$134,InTran!$C:$C,$H$134)","v":0},{"$f":"+SUMIFS(InTran!$S:$S,InTran!$G:$G,C142,InTran!$O:$O,$C$134,InTran!$C:$C,$H$134)","v":0},{"$f":"+SUMIFS(InTran!$M:$M,InTran!$G:$G,C142,InTran!$O:$O,$C$134,InTran!$C:$C,$H$134)","v":0},{"$f":"+IFERROR(H142/SUM($H$136:$H$157),0)","v":0},{"$f":"+SUMIFS(InTran!$R:$R,InTran!$G:$G,C142,InTran!$O:$O,$C$134,InTran!$C:$C,$L$134)","v":0},{"$f":"+SUMIFS(InTran!$S:$S,InTran!$G:$G,C142,InTran!$O:$O,$C$134,InTran!$C:$C,$L$134)","v":0},{"$f":"+SUMIFS(InTran!$M:$M,InTran!$G:$G,C142,InTran!$O:$O,$C$134,InTran!$C:$C,$L$134)","v":0},{"$f":"+IFERROR(L142/SUM($L$136:$L$157),0)","v":0},{"$f":"+SUMIFS(InTran!$R:$R,InTran!$G:$G,C142,InTran!$O:$O,$C$134,InTran!$C:$C,$P$134)","v":0},{"$f":"+SUMIFS(InTran!$S:$S,InTran!$G:$G,C142,InTran!$O:$O,$C$134,InTran!$C:$C,$P$134)","v":0},{"$f":"+SUMIFS(InTran!$M:$M,InTran!$G:$G,C142,InTran!$O:$O,$C$134,InTran!$C:$C,$P$134)","v":0},{"$f":"+IFERROR(P142/SUM($P$136:$P$157),0)","v":0},{"$f":"+SUMIFS(InTran!$R:$R,InTran!$G:$G,C142,InTran!$O:$O,$C$134,InTran!$C:$C,$T$134)","v":0},{"$f":"+SUMIFS(InTran!$S:$S,InTran!$G:$G,C142,InTran!$O:$O,$C$134,InTran!$C:$C,$T$134)","v":0},{"$f":"+SUMIFS(InTran!$M:$M,InTran!$G:$G,C142,InTran!$O:$O,$C$134,InTran!$C:$C,$T$134)","v":0},{"$f":"+IFERROR(T142/SUM($T$136:$T$157),0)","v":0},{"$f":"+SUMIFS(InTran!$R:$R,InTran!$G:$G,C142,InTran!$O:$O,$C$134,InTran!$C:$C,$X$134)","v":0},{"$f":"+SUMIFS(InTran!$S:$S,InTran!$G:$G,C142,InTran!$O:$O,$C$134,InTran!$C:$C,$X$134)","v":0},{"$f":"+SUMIFS(InTran!$M:$M,InTran!$G:$G,C142,InTran!$O:$O,$C$134,InTran!$C:$C,$X$134)","v":0},{"$f":"+IFERROR(X142/SUM($X$136:$X$157),0)","v":0},{"$f":"+SUMIFS(InTran!$R:$R,InTran!$G:$G,C142,InTran!$O:$O,$C$134)","v":0},{"$f":"+SUMIFS(InTran!$S:$S,InTran!$G:$G,C142,InTran!$O:$O,$C$134)","v":0},{"$f":"+SUMIFS(InTran!$M:$M,InTran!$G:$G,C142,InTran!$O:$O,$C$134)","v":0},{"$f":"+IFERROR(AB142/SUM($AB$136:$AB$157),0)","v":0},{"$f":"+RANK(AB142,$AB$136:$AB$157)","v":6}]
[null,null,"AMINVESTMENT BANK BHD",{"$f":"+SUMIFS(InTran!$R:$R,InTran!$G:$G,C143,InTran!$O:$O,$C$134,InTran!$C:$C,$D$134)","v":0},{"$f":"+SUMIFS(InTran!$S:$S,InTran!$G:$G,C143,InTran!$O:$O,$C$134,InTran!$C:$C,$D$134)","v":0},{"$f":"+SUMIFS(InTran!$M:$M,InTran!$G:$G,C143,InTran!$O:$O,$C$134,InTran!$C:$C,$D$134)","v":0},{"$f":"+IFERROR(D143/SUM($D$136:$D$157),0)","v":0},{"$f":"+SUMIFS(InTran!$R:$R,InTran!$G:$G,C143,InTran!$O:$O,$C$134,InTran!$C:$C,$H$134)","v":0},{"$f":"+SUMIFS(InTran!$S:$S,InTran!$G:$G,C143,InTran!$O:$O,$C$134,InTran!$C:$C,$H$134)","v":0},{"$f":"+SUMIFS(InTran!$M:$M,InTran!$G:$G,C143,InTran!$O:$O,$C$134,InTran!$C:$C,$H$134)","v":0},{"$f":"+IFERROR(H143/SUM($H$136:$H$157),0)","v":0},{"$f":"+SUMIFS(InTran!$R:$R,InTran!$G:$G,C143,InTran!$O:$O,$C$134,InTran!$C:$C,$L$134)","v":0},{"$f":"+SUMIFS(InTran!$S:$S,InTran!$G:$G,C143,InTran!$O:$O,$C$134,InTran!$C:$C,$L$134)","v":0},{"$f":"+SUMIFS(InTran!$M:$M,InTran!$G:$G,C143,InTran!$O:$O,$C$134,InTran!$C:$C,$L$134)","v":0},{"$f":"+IFERROR(L143/SUM($L$136:$L$157),0)","v":0},{"$f":"+SUMIFS(InTran!$R:$R,InTran!$G:$G,C143,InTran!$O:$O,$C$134,InTran!$C:$C,$P$134)","v":0},{"$f":"+SUMIFS(InTran!$S:$S,InTran!$G:$G,C143,InTran!$O:$O,$C$134,InTran!$C:$C,$P$134)","v":0},{"$f":"+SUMIFS(InTran!$M:$M,InTran!$G:$G,C143,InTran!$O:$O,$C$134,InTran!$C:$C,$P$134)","v":0},{"$f":"+IFERROR(P143/SUM($P$136:$P$157),0)","v":0},{"$f":"+SUMIFS(InTran!$R:$R,InTran!$G:$G,C143,InTran!$O:$O,$C$134,InTran!$C:$C,$T$134)","v":0},{"$f":"+SUMIFS(InTran!$S:$S,InTran!$G:$G,C143,InTran!$O:$O,$C$134,InTran!$C:$C,$T$134)","v":0},{"$f":"+SUMIFS(InTran!$M:$M,InTran!$G:$G,C143,InTran!$O:$O,$C$134,InTran!$C:$C,$T$134)","v":0},{"$f":"+IFERROR(T143/SUM($T$136:$T$157),0)","v":0},{"$f":"+SUMIFS(InTran!$R:$R,InTran!$G:$G,C143,InTran!$O:$O,$C$134,InTran!$C:$C,$X$134)","v":0},{"$f":"+SUMIFS(InTran!$S:$S,InTran!$G:$G,C143,InTran!$O:$O,$C$134,InTran!$C:$C,$X$134)","v":0},{"$f":"+SUMIFS(InTran!$M:$M,InTran!$G:$G,C143,InTran!$O:$O,$C$134,InTran!$C:$C,$X$134)","v":0},{"$f":"+IFERROR(X143/SUM($X$136:$X$157),0)","v":0},{"$f":"+SUMIFS(InTran!$R:$R,InTran!$G:$G,C143,InTran!$O:$O,$C$134)","v":0},{"$f":"+SUMIFS(InTran!$S:$S,InTran!$G:$G,C143,InTran!$O:$O,$C$134)","v":0},{"$f":"+SUMIFS(InTran!$M:$M,InTran!$G:$G,C143,InTran!$O:$O,$C$134)","v":0},{"$f":"+IFERROR(AB143/SUM($AB$136:$AB$157),0)","v":0},{"$f":"+RANK(AB143,$AB$136:$AB$157)","v":6}]
[null,null,"BIMB SECURITIES SDN BHD",{"$f":"+SUMIFS(InTran!$R:$R,InTran!$G:$G,C144,InTran!$O:$O,$C$134,InTran!$C:$C,$D$134)","v":0},{"$f":"+SUMIFS(InTran!$S:$S,InTran!$G:$G,C144,InTran!$O:$O,$C$134,InTran!$C:$C,$D$134)","v":0},{"$f":"+SUMIFS(InTran!$M:$M,InTran!$G:$G,C144,InTran!$O:$O,$C$134,InTran!$C:$C,$D$134)","v":0},{"$f":"+IFERROR(D144/SUM($D$136:$D$157),0)","v":0},{"$f":"+SUMIFS(InTran!$R:$R,InTran!$G:$G,C144,InTran!$O:$O,$C$134,InTran!$C:$C,$H$134)","v":0},{"$f":"+SUMIFS(InTran!$S:$S,InTran!$G:$G,C144,InTran!$O:$O,$C$134,InTran!$C:$C,$H$134)","v":0},{"$f":"+SUMIFS(InTran!$M:$M,InTran!$G:$G,C144,InTran!$O:$O,$C$134,InTran!$C:$C,$H$134)","v":0},{"$f":"+IFERROR(H144/SUM($H$136:$H$157),0)","v":0},{"$f":"+SUMIFS(InTran!$R:$R,InTran!$G:$G,C144,InTran!$O:$O,$C$134,InTran!$C:$C,$L$134)","v":0},{"$f":"+SUMIFS(InTran!$S:$S,InTran!$G:$G,C144,InTran!$O:$O,$C$134,InTran!$C:$C,$L$134)","v":0},{"$f":"+SUMIFS(InTran!$M:$M,InTran!$G:$G,C144,InTran!$O:$O,$C$134,InTran!$C:$C,$L$134)","v":0},{"$f":"+IFERROR(L144/SUM($L$136:$L$157),0)","v":0},{"$f":"+SUMIFS(InTran!$R:$R,InTran!$G:$G,C144,InTran!$O:$O,$C$134,InTran!$C:$C,$P$134)","v":0},{"$f":"+SUMIFS(InTran!$S:$S,InTran!$G:$G,C144,InTran!$O:$O,$C$134,InTran!$C:$C,$P$134)","v":0},{"$f":"+SUMIFS(InTran!$M:$M,InTran!$G:$G,C144,InTran!$O:$O,$C$134,InTran!$C:$C,$P$134)","v":0},{"$f":"+IFERROR(P144/SUM($P$136:$P$157),0)","v":0},{"$f":"+SUMIFS(InTran!$R:$R,InTran!$G:$G,C144,InTran!$O:$O,$C$134,InTran!$C:$C,$T$134)","v":0},{"$f":"+SUMIFS(InTran!$S:$S,InTran!$G:$G,C144,InTran!$O:$O,$C$134,InTran!$C:$C,$T$134)","v":0},{"$f":"+SUMIFS(InTran!$M:$M,InTran!$G:$G,C144,InTran!$O:$O,$C$134,InTran!$C:$C,$T$134)","v":0},{"$f":"+IFERROR(T144/SUM($T$136:$T$157),0)","v":0},{"$f":"+SUMIFS(InTran!$R:$R,InTran!$G:$G,C144,InTran!$O:$O,$C$134,InTran!$C:$C,$X$134)","v":0},{"$f":"+SUMIFS(InTran!$S:$S,InTran!$G:$G,C144,InTran!$O:$O,$C$134,InTran!$C:$C,$X$134)","v":0},{"$f":"+SUMIFS(InTran!$M:$M,InTran!$G:$G,C144,InTran!$O:$O,$C$134,InTran!$C:$C,$X$134)","v":0},{"$f":"+IFERROR(X144/SUM($X$136:$X$157),0)","v":0},{"$f":"+SUMIFS(InTran!$R:$R,InTran!$G:$G,C144,InTran!$O:$O,$C$134)","v":0},{"$f":"+SUMIFS(InTran!$S:$S,InTran!$G:$G,C144,InTran!$O:$O,$C$134)","v":0},{"$f":"+SUMIFS(InTran!$M:$M,InTran!$G:$G,C144,InTran!$O:$O,$C$134)","v":0},{"$f":"+IFERROR(AB144/SUM($AB$136:$AB$157),0)","v":0},{"$f":"+RANK(AB144,$AB$136:$AB$157)","v":6}]
[null,null,"CIMB INVESTMENT BANK BHD (FOREIGN)",{"$f":"+SUMIFS(InTran!$R:$R,InTran!$G:$G,C145,InTran!$O:$O,$C$134,InTran!$C:$C,$D$134)","v":0},{"$f":"+SUMIFS(InTran!$S:$S,InTran!$G:$G,C145,InTran!$O:$O,$C$134,InTran!$C:$C,$D$134)","v":0},{"$f":"+SUMIFS(InTran!$M:$M,InTran!$G:$G,C145,InTran!$O:$O,$C$134,InTran!$C:$C,$D$134)","v":0},{"$f":"+IFERROR(D145/SUM($D$136:$D$157),0)","v":0},{"$f":"+SUMIFS(InTran!$R:$R,InTran!$G:$G,C145,InTran!$O:$O,$C$134,InTran!$C:$C,$H$134)","v":0},{"$f":"+SUMIFS(InTran!$S:$S,InTran!$G:$G,C145,InTran!$O:$O,$C$134,InTran!$C:$C,$H$134)","v":0},{"$f":"+SUMIFS(InTran!$M:$M,InTran!$G:$G,C145,InTran!$O:$O,$C$134,InTran!$C:$C,$H$134)","v":0},{"$f":"+IFERROR(H145/SUM($H$136:$H$157),0)","v":0},{"$f":"+SUMIFS(InTran!$R:$R,InTran!$G:$G,C145,InTran!$O:$O,$C$134,InTran!$C:$C,$L$134)","v":0},{"$f":"+SUMIFS(InTran!$S:$S,InTran!$G:$G,C145,InTran!$O:$O,$C$134,InTran!$C:$C,$L$134)","v":0},{"$f":"+SUMIFS(InTran!$M:$M,InTran!$G:$G,C145,InTran!$O:$O,$C$134,InTran!$C:$C,$L$134)","v":0},{"$f":"+IFERROR(L145/SUM($L$136:$L$157),0)","v":0},{"$f":"+SUMIFS(InTran!$R:$R,InTran!$G:$G,C145,InTran!$O:$O,$C$134,InTran!$C:$C,$P$134)","v":0},{"$f":"+SUMIFS(InTran!$S:$S,InTran!$G:$G,C145,InTran!$O:$O,$C$134,InTran!$C:$C,$P$134)","v":0},{"$f":"+SUMIFS(InTran!$M:$M,InTran!$G:$G,C145,InTran!$O:$O,$C$134,InTran!$C:$C,$P$134)","v":0},{"$f":"+IFERROR(P145/SUM($P$136:$P$157),0)","v":0},{"$f":"+SUMIFS(InTran!$R:$R,InTran!$G:$G,C145,InTran!$O:$O,$C$134,InTran!$C:$C,$T$134)","v":0},{"$f":"+SUMIFS(InTran!$S:$S,InTran!$G:$G,C145,InTran!$O:$O,$C$134,InTran!$C:$C,$T$134)","v":0},{"$f":"+SUMIFS(InTran!$M:$M,InTran!$G:$G,C145,InTran!$O:$O,$C$134,InTran!$C:$C,$T$134)","v":0},{"$f":"+IFERROR(T145/SUM($T$136:$T$157),0)","v":0},{"$f":"+SUMIFS(InTran!$R:$R,InTran!$G:$G,C145,InTran!$O:$O,$C$134,InTran!$C:$C,$X$134)","v":0},{"$f":"+SUMIFS(InTran!$S:$S,InTran!$G:$G,C145,InTran!$O:$O,$C$134,InTran!$C:$C,$X$134)","v":0},{"$f":"+SUMIFS(InTran!$M:$M,InTran!$G:$G,C145,InTran!$O:$O,$C$134,InTran!$C:$C,$X$134)","v":0},{"$f":"+IFERROR(X145/SUM($X$136:$X$157),0)","v":0},{"$f":"+SUMIFS(InTran!$R:$R,InTran!$G:$G,C145,InTran!$O:$O,$C$134)","v":0},{"$f":"+SUMIFS(InTran!$S:$S,InTran!$G:$G,C145,InTran!$O:$O,$C$134)","v":0},{"$f":"+SUMIFS(InTran!$M:$M,InTran!$G:$G,C145,InTran!$O:$O,$C$134)","v":0},{"$f":"+IFERROR(AB145/SUM($AB$136:$AB$157),0)","v":0},{"$f":"+RANK(AB145,$AB$136:$AB$157)","v":6}]
[null,null,"CLSA LIMITED",{"$f":"+SUMIFS(InTran!$R:$R,InTran!$G:$G,C146,InTran!$O:$O,$C$134,InTran!$C:$C,$D$134)","v":0},{"$f":"+SUMIFS(InTran!$S:$S,InTran!$G:$G,C146,InTran!$O:$O,$C$134,InTran!$C:$C,$D$134)","v":0},{"$f":"+SUMIFS(InTran!$M:$M,InTran!$G:$G,C146,InTran!$O:$O,$C$134,InTran!$C:$C,$D$134)","v":0},{"$f":"+IFERROR(D146/SUM($D$136:$D$157),0)","v":0},{"$f":"+SUMIFS(InTran!$R:$R,InTran!$G:$G,C146,InTran!$O:$O,$C$134,InTran!$C:$C,$H$134)","v":0},{"$f":"+SUMIFS(InTran!$S:$S,InTran!$G:$G,C146,InTran!$O:$O,$C$134,InTran!$C:$C,$H$134)","v":0},{"$f":"+SUMIFS(InTran!$M:$M,InTran!$G:$G,C146,InTran!$O:$O,$C$134,InTran!$C:$C,$H$134)","v":0},{"$f":"+IFERROR(H146/SUM($H$136:$H$157),0)","v":0},{"$f":"+SUMIFS(InTran!$R:$R,InTran!$G:$G,C146,InTran!$O:$O,$C$134,InTran!$C:$C,$L$134)","v":0},{"$f":"+SUMIFS(InTran!$S:$S,InTran!$G:$G,C146,InTran!$O:$O,$C$134,InTran!$C:$C,$L$134)","v":0},{"$f":"+SUMIFS(InTran!$M:$M,InTran!$G:$G,C146,InTran!$O:$O,$C$134,InTran!$C:$C,$L$134)","v":0},{"$f":"+IFERROR(L146/SUM($L$136:$L$157),0)","v":0},{"$f":"+SUMIFS(InTran!$R:$R,InTran!$G:$G,C146,InTran!$O:$O,$C$134,InTran!$C:$C,$P$134)","v":0},{"$f":"+SUMIFS(InTran!$S:$S,InTran!$G:$G,C146,InTran!$O:$O,$C$134,InTran!$C:$C,$P$134)","v":0},{"$f":"+SUMIFS(InTran!$M:$M,InTran!$G:$G,C146,InTran!$O:$O,$C$134,InTran!$C:$C,$P$134)","v":0},{"$f":"+IFERROR(P146/SUM($P$136:$P$157),0)","v":0},{"$f":"+SUMIFS(InTran!$R:$R,InTran!$G:$G,C146,InTran!$O:$O,$C$134,InTran!$C:$C,$T$134)","v":0},{"$f":"+SUMIFS(InTran!$S:$S,InTran!$G:$G,C146,InTran!$O:$O,$C$134,InTran!$C:$C,$T$134)","v":0},{"$f":"+SUMIFS(InTran!$M:$M,InTran!$G:$G,C146,InTran!$O:$O,$C$134,InTran!$C:$C,$T$134)","v":0},{"$f":"+IFERROR(T146/SUM($T$136:$T$157),0)","v":0},{"$f":"+SUMIFS(InTran!$R:$R,InTran!$G:$G,C146,InTran!$O:$O,$C$134,InTran!$C:$C,$X$134)","v":0},{"$f":"+SUMIFS(InTran!$S:$S,InTran!$G:$G,C146,InTran!$O:$O,$C$134,InTran!$C:$C,$X$134)","v":0},{"$f":"+SUMIFS(InTran!$M:$M,InTran!$G:$G,C146,InTran!$O:$O,$C$134,InTran!$C:$C,$X$134)","v":0},{"$f":"+IFERROR(X146/SUM($X$136:$X$157),0)","v":0},{"$f":"+SUMIFS(InTran!$R:$R,InTran!$G:$G,C146,InTran!$O:$O,$C$134)","v":0},{"$f":"+SUMIFS(InTran!$S:$S,InTran!$G:$G,C146,InTran!$O:$O,$C$134)","v":0},{"$f":"+SUMIFS(InTran!$M:$M,InTran!$G:$G,C146,InTran!$O:$O,$C$134)","v":0},{"$f":"+IFERROR(AB146/SUM($AB$136:$AB$157),0)","v":0},{"$f":"+RANK(AB146,$AB$136:$AB$157)","v":6}]
[null,null,"CLSA LIMITED FOREIGN",{"$f":"+SUMIFS(InTran!$R:$R,InTran!$G:$G,C147,InTran!$O:$O,$C$134,InTran!$C:$C,$D$134)","v":0},{"$f":"+SUMIFS(InTran!$S:$S,InTran!$G:$G,C147,InTran!$O:$O,$C$134,InTran!$C:$C,$D$134)","v":0},{"$f":"+SUMIFS(InTran!$M:$M,InTran!$G:$G,C147,InTran!$O:$O,$C$134,InTran!$C:$C,$D$134)","v":0},{"$f":"+IFERROR(D147/SUM($D$136:$D$157),0)","v":0},{"$f":"+SUMIFS(InTran!$R:$R,InTran!$G:$G,C147,InTran!$O:$O,$C$134,InTran!$C:$C,$H$134)","v":0},{"$f":"+SUMIFS(InTran!$S:$S,InTran!$G:$G,C147,InTran!$O:$O,$C$134,InTran!$C:$C,$H$134)","v":0},{"$f":"+SUMIFS(InTran!$M:$M,InTran!$G:$G,C147,InTran!$O:$O,$C$134,InTran!$C:$C,$H$134)","v":0},{"$f":"+IFERROR(H147/SUM($H$136:$H$157),0)","v":0},{"$f":"+SUMIFS(InTran!$R:$R,InTran!$G:$G,C147,InTran!$O:$O,$C$134,InTran!$C:$C,$L$134)","v":0},{"$f":"+SUMIFS(InTran!$S:$S,InTran!$G:$G,C147,InTran!$O:$O,$C$134,InTran!$C:$C,$L$134)","v":0},{"$f":"+SUMIFS(InTran!$M:$M,InTran!$G:$G,C147,InTran!$O:$O,$C$134,InTran!$C:$C,$L$134)","v":0},{"$f":"+IFERROR(L147/SUM($L$136:$L$157),0)","v":0},{"$f":"+SUMIFS(InTran!$R:$R,InTran!$G:$G,C147,InTran!$O:$O,$C$134,InTran!$C:$C,$P$134)","v":0},{"$f":"+SUMIFS(InTran!$S:$S,InTran!$G:$G,C147,InTran!$O:$O,$C$134,InTran!$C:$C,$P$134)","v":0},{"$f":"+SUMIFS(InTran!$M:$M,InTran!$G:$G,C147,InTran!$O:$O,$C$134,InTran!$C:$C,$P$134)","v":0},{"$f":"+IFERROR(P147/SUM($P$136:$P$157),0)","v":0},{"$f":"+SUMIFS(InTran!$R:$R,InTran!$G:$G,C147,InTran!$O:$O,$C$134,InTran!$C:$C,$T$134)","v":0},{"$f":"+SUMIFS(InTran!$S:$S,InTran!$G:$G,C147,InTran!$O:$O,$C$134,InTran!$C:$C,$T$134)","v":0},{"$f":"+SUMIFS(InTran!$M:$M,InTran!$G:$G,C147,InTran!$O:$O,$C$134,InTran!$C:$C,$T$134)","v":0},{"$f":"+IFERROR(T147/SUM($T$136:$T$157),0)","v":0},{"$f":"+SUMIFS(InTran!$R:$R,InTran!$G:$G,C147,InTran!$O:$O,$C$134,InTran!$C:$C,$X$134)","v":0},{"$f":"+SUMIFS(InTran!$S:$S,InTran!$G:$G,C147,InTran!$O:$O,$C$134,InTran!$C:$C,$X$134)","v":0},{"$f":"+SUMIFS(InTran!$M:$M,InTran!$G:$G,C147,InTran!$O:$O,$C$134,InTran!$C:$C,$X$134)","v":0},{"$f":"+IFERROR(X147/SUM($X$136:$X$157),0)","v":0},{"$f":"+SUMIFS(InTran!$R:$R,InTran!$G:$G,C147,InTran!$O:$O,$C$134)","v":0},{"$f":"+SUMIFS(InTran!$S:$S,InTran!$G:$G,C147,InTran!$O:$O,$C$134)","v":0},{"$f":"+SUMIFS(InTran!$M:$M,InTran!$G:$G,C147,InTran!$O:$O,$C$134)","v":0},{"$f":"+IFERROR(AB147/SUM($AB$136:$AB$157),0)","v":0},{"$f":"+RANK(AB147,$AB$136:$AB$157)","v":6}]
[null,null,"CREDIT SUISSE SECURITIES (M) SDN BHD",{"$f":"+SUMIFS(InTran!$R:$R,InTran!$G:$G,C148,InTran!$O:$O,$C$134,InTran!$C:$C,$D$134)","v":0},{"$f":"+SUMIFS(InTran!$S:$S,InTran!$G:$G,C148,InTran!$O:$O,$C$134,InTran!$C:$C,$D$134)","v":0},{"$f":"+SUMIFS(InTran!$M:$M,InTran!$G:$G,C148,InTran!$O:$O,$C$134,InTran!$C:$C,$D$134)","v":0},{"$f":"+IFERROR(D148/SUM($D$136:$D$157),0)","v":0},{"$f":"+SUMIFS(InTran!$R:$R,InTran!$G:$G,C148,InTran!$O:$O,$C$134,InTran!$C:$C,$H$134)","v":0},{"$f":"+SUMIFS(InTran!$S:$S,InTran!$G:$G,C148,InTran!$O:$O,$C$134,InTran!$C:$C,$H$134)","v":0},{"$f":"+SUMIFS(InTran!$M:$M,InTran!$G:$G,C148,InTran!$O:$O,$C$134,InTran!$C:$C,$H$134)","v":0},{"$f":"+IFERROR(H148/SUM($H$136:$H$157),0)","v":0},{"$f":"+SUMIFS(InTran!$R:$R,InTran!$G:$G,C148,InTran!$O:$O,$C$134,InTran!$C:$C,$L$134)","v":0},{"$f":"+SUMIFS(InTran!$S:$S,InTran!$G:$G,C148,InTran!$O:$O,$C$134,InTran!$C:$C,$L$134)","v":0},{"$f":"+SUMIFS(InTran!$M:$M,InTran!$G:$G,C148,InTran!$O:$O,$C$134,InTran!$C:$C,$L$134)","v":0},{"$f":"+IFERROR(L148/SUM($L$136:$L$157),0)","v":0},{"$f":"+SUMIFS(InTran!$R:$R,InTran!$G:$G,C148,InTran!$O:$O,$C$134,InTran!$C:$C,$P$134)","v":0},{"$f":"+SUMIFS(InTran!$S:$S,InTran!$G:$G,C148,InTran!$O:$O,$C$134,InTran!$C:$C,$P$134)","v":0},{"$f":"+SUMIFS(InTran!$M:$M,InTran!$G:$G,C148,InTran!$O:$O,$C$134,InTran!$C:$C,$P$134)","v":0},{"$f":"+IFERROR(P148/SUM($P$136:$P$157),0)","v":0},{"$f":"+SUMIFS(InTran!$R:$R,InTran!$G:$G,C148,InTran!$O:$O,$C$134,InTran!$C:$C,$T$134)","v":0},{"$f":"+SUMIFS(InTran!$S:$S,InTran!$G:$G,C148,InTran!$O:$O,$C$134,InTran!$C:$C,$T$134)","v":0},{"$f":"+SUMIFS(InTran!$M:$M,InTran!$G:$G,C148,InTran!$O:$O,$C$134,InTran!$C:$C,$T$134)","v":0},{"$f":"+IFERROR(T148/SUM($T$136:$T$157),0)","v":0},{"$f":"+SUMIFS(InTran!$R:$R,InTran!$G:$G,C148,InTran!$O:$O,$C$134,InTran!$C:$C,$X$134)","v":0},{"$f":"+SUMIFS(InTran!$S:$S,InTran!$G:$G,C148,InTran!$O:$O,$C$134,InTran!$C:$C,$X$134)","v":0},{"$f":"+SUMIFS(InTran!$M:$M,InTran!$G:$G,C148,InTran!$O:$O,$C$134,InTran!$C:$C,$X$134)","v":0},{"$f":"+IFERROR(X148/SUM($X$136:$X$157),0)","v":0},{"$f":"+SUMIFS(InTran!$R:$R,InTran!$G:$G,C148,InTran!$O:$O,$C$134)","v":0},{"$f":"+SUMIFS(InTran!$S:$S,InTran!$G:$G,C148,InTran!$O:$O,$C$134)","v":0},{"$f":"+SUMIFS(InTran!$M:$M,InTran!$G:$G,C148,InTran!$O:$O,$C$134)","v":0},{"$f":"+IFERROR(AB148/SUM($AB$136:$AB$157),0)","v":0},{"$f":"+RANK(AB148,$AB$136:$AB$157)","v":6}]
[null,null,"HONG LEONG INVESTMENT BANK BHD",{"$f":"+SUMIFS(InTran!$R:$R,InTran!$G:$G,C149,InTran!$O:$O,$C$134,InTran!$C:$C,$D$134)","v":0},{"$f":"+SUMIFS(InTran!$S:$S,InTran!$G:$G,C149,InTran!$O:$O,$C$134,InTran!$C:$C,$D$134)","v":0},{"$f":"+SUMIFS(InTran!$M:$M,InTran!$G:$G,C149,InTran!$O:$O,$C$134,InTran!$C:$C,$D$134)","v":0},{"$f":"+IFERROR(D149/SUM($D$136:$D$157),0)","v":0},{"$f":"+SUMIFS(InTran!$R:$R,InTran!$G:$G,C149,InTran!$O:$O,$C$134,InTran!$C:$C,$H$134)","v":0},{"$f":"+SUMIFS(InTran!$S:$S,InTran!$G:$G,C149,InTran!$O:$O,$C$134,InTran!$C:$C,$H$134)","v":0},{"$f":"+SUMIFS(InTran!$M:$M,InTran!$G:$G,C149,InTran!$O:$O,$C$134,InTran!$C:$C,$H$134)","v":0},{"$f":"+IFERROR(H149/SUM($H$136:$H$157),0)","v":0},{"$f":"+SUMIFS(InTran!$R:$R,InTran!$G:$G,C149,InTran!$O:$O,$C$134,InTran!$C:$C,$L$134)","v":0},{"$f":"+SUMIFS(InTran!$S:$S,InTran!$G:$G,C149,InTran!$O:$O,$C$134,InTran!$C:$C,$L$134)","v":0},{"$f":"+SUMIFS(InTran!$M:$M,InTran!$G:$G,C149,InTran!$O:$O,$C$134,InTran!$C:$C,$L$134)","v":0},{"$f":"+IFERROR(L149/SUM($L$136:$L$157),0)","v":0},{"$f":"+SUMIFS(InTran!$R:$R,InTran!$G:$G,C149,InTran!$O:$O,$C$134,InTran!$C:$C,$P$134)","v":0},{"$f":"+SUMIFS(InTran!$S:$S,InTran!$G:$G,C149,InTran!$O:$O,$C$134,InTran!$C:$C,$P$134)","v":0},{"$f":"+SUMIFS(InTran!$M:$M,InTran!$G:$G,C149,InTran!$O:$O,$C$134,InTran!$C:$C,$P$134)","v":0},{"$f":"+IFERROR(P149/SUM($P$136:$P$157),0)","v":0},{"$f":"+SUMIFS(InTran!$R:$R,InTran!$G:$G,C149,InTran!$O:$O,$C$134,InTran!$C:$C,$T$134)","v":0},{"$f":"+SUMIFS(InTran!$S:$S,InTran!$G:$G,C149,InTran!$O:$O,$C$134,InTran!$C:$C,$T$134)","v":0},{"$f":"+SUMIFS(InTran!$M:$M,InTran!$G:$G,C149,InTran!$O:$O,$C$134,InTran!$C:$C,$T$134)","v":0},{"$f":"+IFERROR(T149/SUM($T$136:$T$157),0)","v":0},{"$f":"+SUMIFS(InTran!$R:$R,InTran!$G:$G,C149,InTran!$O:$O,$C$134,InTran!$C:$C,$X$134)","v":0},{"$f":"+SUMIFS(InTran!$S:$S,InTran!$G:$G,C149,InTran!$O:$O,$C$134,InTran!$C:$C,$X$134)","v":0},{"$f":"+SUMIFS(InTran!$M:$M,InTran!$G:$G,C149,InTran!$O:$O,$C$134,InTran!$C:$C,$X$134)","v":0},{"$f":"+IFERROR(X149/SUM($X$136:$X$157),0)","v":0},{"$f":"+SUMIFS(InTran!$R:$R,InTran!$G:$G,C149,InTran!$O:$O,$C$134)","v":0},{"$f":"+SUMIFS(InTran!$S:$S,InTran!$G:$G,C149,InTran!$O:$O,$C$134)","v":0},{"$f":"+SUMIFS(InTran!$M:$M,InTran!$G:$G,C149,InTran!$O:$O,$C$134)","v":0},{"$f":"+IFERROR(AB149/SUM($AB$136:$AB$157),0)","v":0},{"$f":"+RANK(AB149,$AB$136:$AB$157)","v":6}]
[null,null,"KAF-SEAGROATT & CAMPBELL SECURITIES SDN BHD",{"$f":"+SUMIFS(InTran!$R:$R,InTran!$G:$G,C150,InTran!$O:$O,$C$134,InTran!$C:$C,$D$134)","v":0},{"$f":"+SUMIFS(InTran!$S:$S,InTran!$G:$G,C150,InTran!$O:$O,$C$134,InTran!$C:$C,$D$134)","v":0},{"$f":"+SUMIFS(InTran!$M:$M,InTran!$G:$G,C150,InTran!$O:$O,$C$134,InTran!$C:$C,$D$134)","v":0},{"$f":"+IFERROR(D150/SUM($D$136:$D$157),0)","v":0},{"$f":"+SUMIFS(InTran!$R:$R,InTran!$G:$G,C150,InTran!$O:$O,$C$134,InTran!$C:$C,$H$134)","v":0},{"$f":"+SUMIFS(InTran!$S:$S,InTran!$G:$G,C150,InTran!$O:$O,$C$134,InTran!$C:$C,$H$134)","v":0},{"$f":"+SUMIFS(InTran!$M:$M,InTran!$G:$G,C150,InTran!$O:$O,$C$134,InTran!$C:$C,$H$134)","v":0},{"$f":"+IFERROR(H150/SUM($H$136:$H$157),0)","v":0},{"$f":"+SUMIFS(InTran!$R:$R,InTran!$G:$G,C150,InTran!$O:$O,$C$134,InTran!$C:$C,$L$134)","v":0},{"$f":"+SUMIFS(InTran!$S:$S,InTran!$G:$G,C150,InTran!$O:$O,$C$134,InTran!$C:$C,$L$134)","v":0},{"$f":"+SUMIFS(InTran!$M:$M,InTran!$G:$G,C150,InTran!$O:$O,$C$134,InTran!$C:$C,$L$134)","v":0},{"$f":"+IFERROR(L150/SUM($L$136:$L$157),0)","v":0},{"$f":"+SUMIFS(InTran!$R:$R,InTran!$G:$G,C150,InTran!$O:$O,$C$134,InTran!$C:$C,$P$134)","v":0},{"$f":"+SUMIFS(InTran!$S:$S,InTran!$G:$G,C150,InTran!$O:$O,$C$134,InTran!$C:$C,$P$134)","v":0},{"$f":"+SUMIFS(InTran!$M:$M,InTran!$G:$G,C150,InTran!$O:$O,$C$134,InTran!$C:$C,$P$134)","v":0},{"$f":"+IFERROR(P150/SUM($P$136:$P$157),0)","v":0},{"$f":"+SUMIFS(InTran!$R:$R,InTran!$G:$G,C150,InTran!$O:$O,$C$134,InTran!$C:$C,$T$134)","v":0},{"$f":"+SUMIFS(InTran!$S:$S,InTran!$G:$G,C150,InTran!$O:$O,$C$134,InTran!$C:$C,$T$134)","v":0},{"$f":"+SUMIFS(InTran!$M:$M,InTran!$G:$G,C150,InTran!$O:$O,$C$134,InTran!$C:$C,$T$134)","v":0},{"$f":"+IFERROR(T150/SUM($T$136:$T$157),0)","v":0},{"$f":"+SUMIFS(InTran!$R:$R,InTran!$G:$G,C150,InTran!$O:$O,$C$134,InTran!$C:$C,$X$134)","v":0},{"$f":"+SUMIFS(InTran!$S:$S,InTran!$G:$G,C150,InTran!$O:$O,$C$134,InTran!$C:$C,$X$134)","v":0},{"$f":"+SUMIFS(InTran!$M:$M,InTran!$G:$G,C150,InTran!$O:$O,$C$134,InTran!$C:$C,$X$134)","v":0},{"$f":"+IFERROR(X150/SUM($X$136:$X$157),0)","v":0},{"$f":"+SUMIFS(InTran!$R:$R,InTran!$G:$G,C150,InTran!$O:$O,$C$134)","v":0},{"$f":"+SUMIFS(InTran!$S:$S,InTran!$G:$G,C150,InTran!$O:$O,$C$134)","v":0},{"$f":"+SUMIFS(InTran!$M:$M,InTran!$G:$G,C150,InTran!$O:$O,$C$134)","v":0},{"$f":"+IFERROR(AB150/SUM($AB$136:$AB$157),0)","v":0},{"$f":"+RANK(AB150,$AB$136:$AB$157)","v":6}]
[null,null,"MACQUARIE CAPITAL SECURITIES (MALAYSIA) SDN BHD (FOREIGN)",{"$f":"+SUMIFS(InTran!$R:$R,InTran!$G:$G,C151,InTran!$O:$O,$C$134,InTran!$C:$C,$D$134)","v":0},{"$f":"+SUMIFS(InTran!$S:$S,InTran!$G:$G,C151,InTran!$O:$O,$C$134,InTran!$C:$C,$D$134)","v":0},{"$f":"+SUMIFS(InTran!$M:$M,InTran!$G:$G,C151,InTran!$O:$O,$C$134,InTran!$C:$C,$D$134)","v":0},{"$f":"+IFERROR(D151/SUM($D$136:$D$157),0)","v":0},{"$f":"+SUMIFS(InTran!$R:$R,InTran!$G:$G,C151,InTran!$O:$O,$C$134,InTran!$C:$C,$H$134)","v":0},{"$f":"+SUMIFS(InTran!$S:$S,InTran!$G:$G,C151,InTran!$O:$O,$C$134,InTran!$C:$C,$H$134)","v":0},{"$f":"+SUMIFS(InTran!$M:$M,InTran!$G:$G,C151,InTran!$O:$O,$C$134,InTran!$C:$C,$H$134)","v":0},{"$f":"+IFERROR(H151/SUM($H$136:$H$157),0)","v":0},{"$f":"+SUMIFS(InTran!$R:$R,InTran!$G:$G,C151,InTran!$O:$O,$C$134,InTran!$C:$C,$L$134)","v":0},{"$f":"+SUMIFS(InTran!$S:$S,InTran!$G:$G,C151,InTran!$O:$O,$C$134,InTran!$C:$C,$L$134)","v":0},{"$f":"+SUMIFS(InTran!$M:$M,InTran!$G:$G,C151,InTran!$O:$O,$C$134,InTran!$C:$C,$L$134)","v":0},{"$f":"+IFERROR(L151/SUM($L$136:$L$157),0)","v":0},{"$f":"+SUMIFS(InTran!$R:$R,InTran!$G:$G,C151,InTran!$O:$O,$C$134,InTran!$C:$C,$P$134)","v":0},{"$f":"+SUMIFS(InTran!$S:$S,InTran!$G:$G,C151,InTran!$O:$O,$C$134,InTran!$C:$C,$P$134)","v":0},{"$f":"+SUMIFS(InTran!$M:$M,InTran!$G:$G,C151,InTran!$O:$O,$C$134,InTran!$C:$C,$P$134)","v":0},{"$f":"+IFERROR(P151/SUM($P$136:$P$157),0)","v":0},{"$f":"+SUMIFS(InTran!$R:$R,InTran!$G:$G,C151,InTran!$O:$O,$C$134,InTran!$C:$C,$T$134)","v":0},{"$f":"+SUMIFS(InTran!$S:$S,InTran!$G:$G,C151,InTran!$O:$O,$C$134,InTran!$C:$C,$T$134)","v":0},{"$f":"+SUMIFS(InTran!$M:$M,InTran!$G:$G,C151,InTran!$O:$O,$C$134,InTran!$C:$C,$T$134)","v":0},{"$f":"+IFERROR(T151/SUM($T$136:$T$157),0)","v":0},{"$f":"+SUMIFS(InTran!$R:$R,InTran!$G:$G,C151,InTran!$O:$O,$C$134,InTran!$C:$C,$X$134)","v":0},{"$f":"+SUMIFS(InTran!$S:$S,InTran!$G:$G,C151,InTran!$O:$O,$C$134,InTran!$C:$C,$X$134)","v":0},{"$f":"+SUMIFS(InTran!$M:$M,InTran!$G:$G,C151,InTran!$O:$O,$C$134,InTran!$C:$C,$X$134)","v":0},{"$f":"+IFERROR(X151/SUM($X$136:$X$157),0)","v":0},{"$f":"+SUMIFS(InTran!$R:$R,InTran!$G:$G,C151,InTran!$O:$O,$C$134)","v":0},{"$f":"+SUMIFS(InTran!$S:$S,InTran!$G:$G,C151,InTran!$O:$O,$C$134)","v":0},{"$f":"+SUMIFS(InTran!$M:$M,InTran!$G:$G,C151,InTran!$O:$O,$C$134)","v":0},{"$f":"+IFERROR(AB151/SUM($AB$136:$AB$157),0)","v":0},{"$f":"+RANK(AB151,$AB$136:$AB$157)","v":6}]
[null,null,"MAYBANK INVESTMENT BANK BHD (FOREIGN)",{"$f":"+SUMIFS(InTran!$R:$R,InTran!$G:$G,C152,InTran!$O:$O,$C$134,InTran!$C:$C,$D$134)","v":0},{"$f":"+SUMIFS(InTran!$S:$S,InTran!$G:$G,C152,InTran!$O:$O,$C$134,InTran!$C:$C,$D$134)","v":0},{"$f":"+SUMIFS(InTran!$M:$M,InTran!$G:$G,C152,InTran!$O:$O,$C$134,InTran!$C:$C,$D$134)","v":0},{"$f":"+IFERROR(D152/SUM($D$136:$D$157),0)","v":0},{"$f":"+SUMIFS(InTran!$R:$R,InTran!$G:$G,C152,InTran!$O:$O,$C$134,InTran!$C:$C,$H$134)","v":0},{"$f":"+SUMIFS(InTran!$S:$S,InTran!$G:$G,C152,InTran!$O:$O,$C$134,InTran!$C:$C,$H$134)","v":0},{"$f":"+SUMIFS(InTran!$M:$M,InTran!$G:$G,C152,InTran!$O:$O,$C$134,InTran!$C:$C,$H$134)","v":0},{"$f":"+IFERROR(H152/SUM($H$136:$H$157),0)","v":0},{"$f":"+SUMIFS(InTran!$R:$R,InTran!$G:$G,C152,InTran!$O:$O,$C$134,InTran!$C:$C,$L$134)","v":0},{"$f":"+SUMIFS(InTran!$S:$S,InTran!$G:$G,C152,InTran!$O:$O,$C$134,InTran!$C:$C,$L$134)","v":0},{"$f":"+SUMIFS(InTran!$M:$M,InTran!$G:$G,C152,InTran!$O:$O,$C$134,InTran!$C:$C,$L$134)","v":0},{"$f":"+IFERROR(L152/SUM($L$136:$L$157),0)","v":0},{"$f":"+SUMIFS(InTran!$R:$R,InTran!$G:$G,C152,InTran!$O:$O,$C$134,InTran!$C:$C,$P$134)","v":0},{"$f":"+SUMIFS(InTran!$S:$S,InTran!$G:$G,C152,InTran!$O:$O,$C$134,InTran!$C:$C,$P$134)","v":0},{"$f":"+SUMIFS(InTran!$M:$M,InTran!$G:$G,C152,InTran!$O:$O,$C$134,InTran!$C:$C,$P$134)","v":0},{"$f":"+IFERROR(P152/SUM($P$136:$P$157),0)","v":0},{"$f":"+SUMIFS(InTran!$R:$R,InTran!$G:$G,C152,InTran!$O:$O,$C$134,InTran!$C:$C,$T$134)","v":0},{"$f":"+SUMIFS(InTran!$S:$S,InTran!$G:$G,C152,InTran!$O:$O,$C$134,InTran!$C:$C,$T$134)","v":0},{"$f":"+SUMIFS(InTran!$M:$M,InTran!$G:$G,C152,InTran!$O:$O,$C$134,InTran!$C:$C,$T$134)","v":0},{"$f":"+IFERROR(T152/SUM($T$136:$T$157),0)","v":0},{"$f":"+SUMIFS(InTran!$R:$R,InTran!$G:$G,C152,InTran!$O:$O,$C$134,InTran!$C:$C,$X$134)","v":0},{"$f":"+SUMIFS(InTran!$S:$S,InTran!$G:$G,C152,InTran!$O:$O,$C$134,InTran!$C:$C,$X$134)","v":0},{"$f":"+SUMIFS(InTran!$M:$M,InTran!$G:$G,C152,InTran!$O:$O,$C$134,InTran!$C:$C,$X$134)","v":0},{"$f":"+IFERROR(X152/SUM($X$136:$X$157),0)","v":0},{"$f":"+SUMIFS(InTran!$R:$R,InTran!$G:$G,C152,InTran!$O:$O,$C$134)","v":0},{"$f":"+SUMIFS(InTran!$S:$S,InTran!$G:$G,C152,InTran!$O:$O,$C$134)","v":0},{"$f":"+SUMIFS(InTran!$M:$M,InTran!$G:$G,C152,InTran!$O:$O,$C$134)","v":0},{"$f":"+IFERROR(AB152/SUM($AB$136:$AB$157),0)","v":0},{"$f":"+RANK(AB152,$AB$136:$AB$157)","v":6}]
[null,null,"MIDF AMANAH INVESTMENT BANK BHD",{"$f":"+SUMIFS(InTran!$R:$R,InTran!$G:$G,C153,InTran!$O:$O,$C$134,InTran!$C:$C,$D$134)","v":0},{"$f":"+SUMIFS(InTran!$S:$S,InTran!$G:$G,C153,InTran!$O:$O,$C$134,InTran!$C:$C,$D$134)","v":0},{"$f":"+SUMIFS(InTran!$M:$M,InTran!$G:$G,C153,InTran!$O:$O,$C$134,InTran!$C:$C,$D$134)","v":0},{"$f":"+IFERROR(D153/SUM($D$136:$D$157),0)","v":0},{"$f":"+SUMIFS(InTran!$R:$R,InTran!$G:$G,C153,InTran!$O:$O,$C$134,InTran!$C:$C,$H$134)","v":0},{"$f":"+SUMIFS(InTran!$S:$S,InTran!$G:$G,C153,InTran!$O:$O,$C$134,InTran!$C:$C,$H$134)","v":0},{"$f":"+SUMIFS(InTran!$M:$M,InTran!$G:$G,C153,InTran!$O:$O,$C$134,InTran!$C:$C,$H$134)","v":0},{"$f":"+IFERROR(H153/SUM($H$136:$H$157),0)","v":0},{"$f":"+SUMIFS(InTran!$R:$R,InTran!$G:$G,C153,InTran!$O:$O,$C$134,InTran!$C:$C,$L$134)","v":0},{"$f":"+SUMIFS(InTran!$S:$S,InTran!$G:$G,C153,InTran!$O:$O,$C$134,InTran!$C:$C,$L$134)","v":0},{"$f":"+SUMIFS(InTran!$M:$M,InTran!$G:$G,C153,InTran!$O:$O,$C$134,InTran!$C:$C,$L$134)","v":0},{"$f":"+IFERROR(L153/SUM($L$136:$L$157),0)","v":0},{"$f":"+SUMIFS(InTran!$R:$R,InTran!$G:$G,C153,InTran!$O:$O,$C$134,InTran!$C:$C,$P$134)","v":0},{"$f":"+SUMIFS(InTran!$S:$S,InTran!$G:$G,C153,InTran!$O:$O,$C$134,InTran!$C:$C,$P$134)","v":0},{"$f":"+SUMIFS(InTran!$M:$M,InTran!$G:$G,C153,InTran!$O:$O,$C$134,InTran!$C:$C,$P$134)","v":0},{"$f":"+IFERROR(P153/SUM($P$136:$P$157),0)","v":0},{"$f":"+SUMIFS(InTran!$R:$R,InTran!$G:$G,C153,InTran!$O:$O,$C$134,InTran!$C:$C,$T$134)","v":0},{"$f":"+SUMIFS(InTran!$S:$S,InTran!$G:$G,C153,InTran!$O:$O,$C$134,InTran!$C:$C,$T$134)","v":0},{"$f":"+SUMIFS(InTran!$M:$M,InTran!$G:$G,C153,InTran!$O:$O,$C$134,InTran!$C:$C,$T$134)","v":0},{"$f":"+IFERROR(T153/SUM($T$136:$T$157),0)","v":0},{"$f":"+SUMIFS(InTran!$R:$R,InTran!$G:$G,C153,InTran!$O:$O,$C$134,InTran!$C:$C,$X$134)","v":0},{"$f":"+SUMIFS(InTran!$S:$S,InTran!$G:$G,C153,InTran!$O:$O,$C$134,InTran!$C:$C,$X$134)","v":0},{"$f":"+SUMIFS(InTran!$M:$M,InTran!$G:$G,C153,InTran!$O:$O,$C$134,InTran!$C:$C,$X$134)","v":0},{"$f":"+IFERROR(X153/SUM($X$136:$X$157),0)","v":0},{"$f":"+SUMIFS(InTran!$R:$R,InTran!$G:$G,C153,InTran!$O:$O,$C$134)","v":0},{"$f":"+SUMIFS(InTran!$S:$S,InTran!$G:$G,C153,InTran!$O:$O,$C$134)","v":0},{"$f":"+SUMIFS(InTran!$M:$M,InTran!$G:$G,C153,InTran!$O:$O,$C$134)","v":0},{"$f":"+IFERROR(AB153/SUM($AB$136:$AB$157),0)","v":0},{"$f":"+RANK(AB153,$AB$136:$AB$157)","v":6}]
[null,null,"NOMURA SECURITIES MALAYSIA SDN BHD",{"$f":"+SUMIFS(InTran!$R:$R,InTran!$G:$G,C154,InTran!$O:$O,$C$134,InTran!$C:$C,$D$134)","v":0},{"$f":"+SUMIFS(InTran!$S:$S,InTran!$G:$G,C154,InTran!$O:$O,$C$134,InTran!$C:$C,$D$134)","v":0},{"$f":"+SUMIFS(InTran!$M:$M,InTran!$G:$G,C154,InTran!$O:$O,$C$134,InTran!$C:$C,$D$134)","v":0},{"$f":"+IFERROR(D154/SUM($D$136:$D$157),0)","v":0},{"$f":"+SUMIFS(InTran!$R:$R,InTran!$G:$G,C154,InTran!$O:$O,$C$134,InTran!$C:$C,$H$134)","v":0},{"$f":"+SUMIFS(InTran!$S:$S,InTran!$G:$G,C154,InTran!$O:$O,$C$134,InTran!$C:$C,$H$134)","v":0},{"$f":"+SUMIFS(InTran!$M:$M,InTran!$G:$G,C154,InTran!$O:$O,$C$134,InTran!$C:$C,$H$134)","v":0},{"$f":"+IFERROR(H154/SUM($H$136:$H$157),0)","v":0},{"$f":"+SUMIFS(InTran!$R:$R,InTran!$G:$G,C154,InTran!$O:$O,$C$134,InTran!$C:$C,$L$134)","v":0},{"$f":"+SUMIFS(InTran!$S:$S,InTran!$G:$G,C154,InTran!$O:$O,$C$134,InTran!$C:$C,$L$134)","v":0},{"$f":"+SUMIFS(InTran!$M:$M,InTran!$G:$G,C154,InTran!$O:$O,$C$134,InTran!$C:$C,$L$134)","v":0},{"$f":"+IFERROR(L154/SUM($L$136:$L$157),0)","v":0},{"$f":"+SUMIFS(InTran!$R:$R,InTran!$G:$G,C154,InTran!$O:$O,$C$134,InTran!$C:$C,$P$134)","v":0},{"$f":"+SUMIFS(InTran!$S:$S,InTran!$G:$G,C154,InTran!$O:$O,$C$134,InTran!$C:$C,$P$134)","v":0},{"$f":"+SUMIFS(InTran!$M:$M,InTran!$G:$G,C154,InTran!$O:$O,$C$134,InTran!$C:$C,$P$134)","v":0},{"$f":"+IFERROR(P154/SUM($P$136:$P$157),0)","v":0},{"$f":"+SUMIFS(InTran!$R:$R,InTran!$G:$G,C154,InTran!$O:$O,$C$134,InTran!$C:$C,$T$134)","v":0},{"$f":"+SUMIFS(InTran!$S:$S,InTran!$G:$G,C154,InTran!$O:$O,$C$134,InTran!$C:$C,$T$134)","v":0},{"$f":"+SUMIFS(InTran!$M:$M,InTran!$G:$G,C154,InTran!$O:$O,$C$134,InTran!$C:$C,$T$134)","v":0},{"$f":"+IFERROR(T154/SUM($T$136:$T$157),0)","v":0},{"$f":"+SUMIFS(InTran!$R:$R,InTran!$G:$G,C154,InTran!$O:$O,$C$134,InTran!$C:$C,$X$134)","v":0},{"$f":"+SUMIFS(InTran!$S:$S,InTran!$G:$G,C154,InTran!$O:$O,$C$134,InTran!$C:$C,$X$134)","v":0},{"$f":"+SUMIFS(InTran!$M:$M,InTran!$G:$G,C154,InTran!$O:$O,$C$134,InTran!$C:$C,$X$134)","v":0},{"$f":"+IFERROR(X154/SUM($X$136:$X$157),0)","v":0},{"$f":"+SUMIFS(InTran!$R:$R,InTran!$G:$G,C154,InTran!$O:$O,$C$134)","v":0},{"$f":"+SUMIFS(InTran!$S:$S,InTran!$G:$G,C154,InTran!$O:$O,$C$134)","v":0},{"$f":"+SUMIFS(InTran!$M:$M,InTran!$G:$G,C154,InTran!$O:$O,$C$134)","v":0},{"$f":"+IFERROR(AB154/SUM($AB$136:$AB$157),0)","v":0},{"$f":"+RANK(AB154,$AB$136:$AB$157)","v":6}]
[null,null,"NOT APPLICABLE",{"$f":"+SUMIFS(InTran!$R:$R,InTran!$G:$G,C155,InTran!$O:$O,$C$134,InTran!$C:$C,$D$134)","v":0},{"$f":"+SUMIFS(InTran!$S:$S,InTran!$G:$G,C155,InTran!$O:$O,$C$134,InTran!$C:$C,$D$134)","v":0},{"$f":"+SUMIFS(InTran!$M:$M,InTran!$G:$G,C155,InTran!$O:$O,$C$134,InTran!$C:$C,$D$134)","v":0},{"$f":"+IFERROR(D155/SUM($D$136:$D$157),0)","v":0},{"$f":"+SUMIFS(InTran!$R:$R,InTran!$G:$G,C155,InTran!$O:$O,$C$134,InTran!$C:$C,$H$134)","v":0},{"$f":"+SUMIFS(InTran!$S:$S,InTran!$G:$G,C155,InTran!$O:$O,$C$134,InTran!$C:$C,$H$134)","v":0},{"$f":"+SUMIFS(InTran!$M:$M,InTran!$G:$G,C155,InTran!$O:$O,$C$134,InTran!$C:$C,$H$134)","v":0},{"$f":"+IFERROR(H155/SUM($H$136:$H$157),0)","v":0},{"$f":"+SUMIFS(InTran!$R:$R,InTran!$G:$G,C155,InTran!$O:$O,$C$134,InTran!$C:$C,$L$134)","v":0},{"$f":"+SUMIFS(InTran!$S:$S,InTran!$G:$G,C155,InTran!$O:$O,$C$134,InTran!$C:$C,$L$134)","v":0},{"$f":"+SUMIFS(InTran!$M:$M,InTran!$G:$G,C155,InTran!$O:$O,$C$134,InTran!$C:$C,$L$134)","v":0},{"$f":"+IFERROR(L155/SUM($L$136:$L$157),0)","v":0},{"$f":"+SUMIFS(InTran!$R:$R,InTran!$G:$G,C155,InTran!$O:$O,$C$134,InTran!$C:$C,$P$134)","v":0},{"$f":"+SUMIFS(InTran!$S:$S,InTran!$G:$G,C155,InTran!$O:$O,$C$134,InTran!$C:$C,$P$134)","v":0},{"$f":"+SUMIFS(InTran!$M:$M,InTran!$G:$G,C155,InTran!$O:$O,$C$134,InTran!$C:$C,$P$134)","v":0},{"$f":"+IFERROR(P155/SUM($P$136:$P$157),0)","v":0},{"$f":"+SUMIFS(InTran!$R:$R,InTran!$G:$G,C155,InTran!$O:$O,$C$134,InTran!$C:$C,$T$134)","v":0},{"$f":"+SUMIFS(InTran!$S:$S,InTran!$G:$G,C155,InTran!$O:$O,$C$134,InTran!$C:$C,$T$134)","v":0},{"$f":"+SUMIFS(InTran!$M:$M,InTran!$G:$G,C155,InTran!$O:$O,$C$134,InTran!$C:$C,$T$134)","v":0},{"$f":"+IFERROR(T155/SUM($T$136:$T$157),0)","v":0},{"$f":"+SUMIFS(InTran!$R:$R,InTran!$G:$G,C155,InTran!$O:$O,$C$134,InTran!$C:$C,$X$134)","v":0},{"$f":"+SUMIFS(InTran!$S:$S,InTran!$G:$G,C155,InTran!$O:$O,$C$134,InTran!$C:$C,$X$134)","v":0},{"$f":"+SUMIFS(InTran!$M:$M,InTran!$G:$G,C155,InTran!$O:$O,$C$134,InTran!$C:$C,$X$134)","v":0},{"$f":"+IFERROR(X155/SUM($X$136:$X$157),0)","v":0},{"$f":"+SUMIFS(InTran!$R:$R,InTran!$G:$G,C155,InTran!$O:$O,$C$134)","v":0},{"$f":"+SUMIFS(InTran!$S:$S,InTran!$G:$G,C155,InTran!$O:$O,$C$134)","v":0},{"$f":"+SUMIFS(InTran!$M:$M,InTran!$G:$G,C155,InTran!$O:$O,$C$134)","v":0},{"$f":"+IFERROR(AB155/SUM($AB$136:$AB$157),0)","v":0},{"$f":"+RANK(AB155,$AB$136:$AB$157)","v":6}]
[null,null,"TA SECURITIES HOLDINGS BHD",{"$f":"+SUMIFS(InTran!$R:$R,InTran!$G:$G,C156,InTran!$O:$O,$C$134,InTran!$C:$C,$D$134)","v":0},{"$f":"+SUMIFS(InTran!$S:$S,InTran!$G:$G,C156,InTran!$O:$O,$C$134,InTran!$C:$C,$D$134)","v":0},{"$f":"+SUMIFS(InTran!$M:$M,InTran!$G:$G,C156,InTran!$O:$O,$C$134,InTran!$C:$C,$D$134)","v":0},{"$f":"+IFERROR(D156/SUM($D$136:$D$157),0)","v":0},{"$f":"+SUMIFS(InTran!$R:$R,InTran!$G:$G,C156,InTran!$O:$O,$C$134,InTran!$C:$C,$H$134)","v":0},{"$f":"+SUMIFS(InTran!$S:$S,InTran!$G:$G,C156,InTran!$O:$O,$C$134,InTran!$C:$C,$H$134)","v":0},{"$f":"+SUMIFS(InTran!$M:$M,InTran!$G:$G,C156,InTran!$O:$O,$C$134,InTran!$C:$C,$H$134)","v":0},{"$f":"+IFERROR(H156/SUM($H$136:$H$157),0)","v":0},{"$f":"+SUMIFS(InTran!$R:$R,InTran!$G:$G,C156,InTran!$O:$O,$C$134,InTran!$C:$C,$L$134)","v":0},{"$f":"+SUMIFS(InTran!$S:$S,InTran!$G:$G,C156,InTran!$O:$O,$C$134,InTran!$C:$C,$L$134)","v":0},{"$f":"+SUMIFS(InTran!$M:$M,InTran!$G:$G,C156,InTran!$O:$O,$C$134,InTran!$C:$C,$L$134)","v":0},{"$f":"+IFERROR(L156/SUM($L$136:$L$157),0)","v":0},{"$f":"+SUMIFS(InTran!$R:$R,InTran!$G:$G,C156,InTran!$O:$O,$C$134,InTran!$C:$C,$P$134)","v":0},{"$f":"+SUMIFS(InTran!$S:$S,InTran!$G:$G,C156,InTran!$O:$O,$C$134,InTran!$C:$C,$P$134)","v":0},{"$f":"+SUMIFS(InTran!$M:$M,InTran!$G:$G,C156,InTran!$O:$O,$C$134,InTran!$C:$C,$P$134)","v":0},{"$f":"+IFERROR(P156/SUM($P$136:$P$157),0)","v":0},{"$f":"+SUMIFS(InTran!$R:$R,InTran!$G:$G,C156,InTran!$O:$O,$C$134,InTran!$C:$C,$T$134)","v":0},{"$f":"+SUMIFS(InTran!$S:$S,InTran!$G:$G,C156,InTran!$O:$O,$C$134,InTran!$C:$C,$T$134)","v":0},{"$f":"+SUMIFS(InTran!$M:$M,InTran!$G:$G,C156,InTran!$O:$O,$C$134,InTran!$C:$C,$T$134)","v":0},{"$f":"+IFERROR(T156/SUM($T$136:$T$157),0)","v":0},{"$f":"+SUMIFS(InTran!$R:$R,InTran!$G:$G,C156,InTran!$O:$O,$C$134,InTran!$C:$C,$X$134)","v":0},{"$f":"+SUMIFS(InTran!$S:$S,InTran!$G:$G,C156,InTran!$O:$O,$C$134,InTran!$C:$C,$X$134)","v":0},{"$f":"+SUMIFS(InTran!$M:$M,InTran!$G:$G,C156,InTran!$O:$O,$C$134,InTran!$C:$C,$X$134)","v":0},{"$f":"+IFERROR(X156/SUM($X$136:$X$157),0)","v":0},{"$f":"+SUMIFS(InTran!$R:$R,InTran!$G:$G,C156,InTran!$O:$O,$C$134)","v":0},{"$f":"+SUMIFS(InTran!$S:$S,InTran!$G:$G,C156,InTran!$O:$O,$C$134)","v":0},{"$f":"+SUMIFS(InTran!$M:$M,InTran!$G:$G,C156,InTran!$O:$O,$C$134)","v":0},{"$f":"+IFERROR(AB156/SUM($AB$136:$AB$157),0)","v":0},{"$f":"+RANK(AB156,$AB$136:$AB$157)","v":6}]
[null,null,"UBS SECURITIES MALAYSIA SDN BHD",{"$f":"+SUMIFS(InTran!$R:$R,InTran!$G:$G,C157,InTran!$O:$O,$C$134,InTran!$C:$C,$D$134)","v":0},{"$f":"+SUMIFS(InTran!$S:$S,InTran!$G:$G,C157,InTran!$O:$O,$C$134,InTran!$C:$C,$D$134)","v":0},{"$f":"+SUMIFS(InTran!$M:$M,InTran!$G:$G,C157,InTran!$O:$O,$C$134,InTran!$C:$C,$D$134)","v":0},{"$f":"+IFERROR(D157/SUM($D$136:$D$157),0)","v":0},{"$f":"+SUMIFS(InTran!$R:$R,InTran!$G:$G,C157,InTran!$O:$O,$C$134,InTran!$C:$C,$H$134)","v":0},{"$f":"+SUMIFS(InTran!$S:$S,InTran!$G:$G,C157,InTran!$O:$O,$C$134,InTran!$C:$C,$H$134)","v":0},{"$f":"+SUMIFS(InTran!$M:$M,InTran!$G:$G,C157,InTran!$O:$O,$C$134,InTran!$C:$C,$H$134)","v":0},{"$f":"+IFERROR(H157/SUM($H$136:$H$157),0)","v":0},{"$f":"+SUMIFS(InTran!$R:$R,InTran!$G:$G,C157,InTran!$O:$O,$C$134,InTran!$C:$C,$L$134)","v":0},{"$f":"+SUMIFS(InTran!$S:$S,InTran!$G:$G,C157,InTran!$O:$O,$C$134,InTran!$C:$C,$L$134)","v":0},{"$f":"+SUMIFS(InTran!$M:$M,InTran!$G:$G,C157,InTran!$O:$O,$C$134,InTran!$C:$C,$L$134)","v":0},{"$f":"+IFERROR(L157/SUM($L$136:$L$157),0)","v":0},{"$f":"+SUMIFS(InTran!$R:$R,InTran!$G:$G,C157,InTran!$O:$O,$C$134,InTran!$C:$C,$P$134)","v":0},{"$f":"+SUMIFS(InTran!$S:$S,InTran!$G:$G,C157,InTran!$O:$O,$C$134,InTran!$C:$C,$P$134)","v":0},{"$f":"+SUMIFS(InTran!$M:$M,InTran!$G:$G,C157,InTran!$O:$O,$C$134,InTran!$C:$C,$P$134)","v":0},{"$f":"+IFERROR(P157/SUM($P$136:$P$157),0)","v":0},{"$f":"+SUMIFS(InTran!$R:$R,InTran!$G:$G,C157,InTran!$O:$O,$C$134,InTran!$C:$C,$T$134)","v":0},{"$f":"+SUMIFS(InTran!$S:$S,InTran!$G:$G,C157,InTran!$O:$O,$C$134,InTran!$C:$C,$T$134)","v":0},{"$f":"+SUMIFS(InTran!$M:$M,InTran!$G:$G,C157,InTran!$O:$O,$C$134,InTran!$C:$C,$T$134)","v":0},{"$f":"+IFERROR(T157/SUM($T$136:$T$157),0)","v":0},{"$f":"+SUMIFS(InTran!$R:$R,InTran!$G:$G,C157,InTran!$O:$O,$C$134,InTran!$C:$C,$X$134)","v":0},{"$f":"+SUMIFS(InTran!$S:$S,InTran!$G:$G,C157,InTran!$O:$O,$C$134,InTran!$C:$C,$X$134)","v":0},{"$f":"+SUMIFS(InTran!$M:$M,InTran!$G:$G,C157,InTran!$O:$O,$C$134,InTran!$C:$C,$X$134)","v":0},{"$f":"+IFERROR(X157/SUM($X$136:$X$157),0)","v":0},{"$f":"+SUMIFS(InTran!$R:$R,InTran!$G:$G,C157,InTran!$O:$O,$C$134)","v":0},{"$f":"+SUMIFS(InTran!$S:$S,InTran!$G:$G,C157,InTran!$O:$O,$C$134)","v":0},{"$f":"+SUMIFS(InTran!$M:$M,InTran!$G:$G,C157,InTran!$O:$O,$C$134)","v":0},{"$f":"+IFERROR(AB157/SUM($AB$136:$AB$157),0)","v":0},{"$f":"+RANK(AB157,$AB$136:$AB$157)","v":6}]
[null,null,"Total",{"$f":"SUM(D136:D157)","v":62369944.539999999},{"$f":"SUM(E136:E157)","v":102065.26000000001},{"$f":"SUM(F136:F157)","v":2149012.14},{"$f":"SUM(G136:G157)","v":1},{"$f":"SUM(H136:H157)","v":3470272.7800000003},{"$f":"SUM(I136:I157)","v":4294.3},{"$f":"SUM(J136:J157)","v":0},{"$f":"SUM(K136:K157)","v":1},{"$f":"SUM(L136:L157)","v":16808665.239999998},{"$f":"SUM(M136:M157)","v":41910.6},{"$f":"SUM(N136:N157)","v":0},{"$f":"SUM(O136:O157)","v":1},{"$f":"SUM(P136:P157)","v":0},{"$f":"SUM(Q136:Q157)","v":0},{"$f":"SUM(R136:R157)","v":0},{"$f":"SUM(S136:S157)","v":0},{"$f":"SUM(T136:T157)","v":608809.07999999996},{"$f":"SUM(U136:U157)","v":1518},{"$f":"SUM(V136:V157)","v":0},{"$f":"SUM(W136:W157)","v":1},{"$f":"SUM(X136:X157)","v":0},{"$f":"SUM(Y136:Y157)","v":0},{"$f":"SUM(Z136:Z157)","v":0},{"$f":"SUM(AA136:AA157)","v":0},{"$f":"SUM(AB136:AB157)","v":83257691.640000001},{"$f":"SUM(AC136:AC157)","v":149788.16},{"$f":"SUM(AD136:AD157)","v":2149012.14},{"$f":"SUM(AE136:AE157)","v":0.99999999999999989}]
[]
[null,null,"SOONCHONG","YH-AUR-VCAM",null,null,null,"KWAP",null,null,null,"MEQESG",null,null,null,"YAMIR-VCAM",null,null,null,"VCAM-TABA",null,null,null,"ASEAN5ESG",null,null,null,"Total"]
[null,null,"Brokers","Trade Value (RM)","Brokerage Fees (RM)","Capital Gains (RM)","%","Trade Value (RM)","Brokerage Fees (RM)","Capital Gains (RM)","%","Trade Value (RM)","Brokerage Fees (RM)","Capital Gains (RM)","%","Trade Value (RM)","Brokerage Fees (RM)","Capital Gains (RM)","%","Trade Value (RM)","Brokerage Fees (RM)","Capital Gains (RM)","%","Trade Value (RM)","Brokerage Fees (RM)","Capital Gains (RM)","%","Trade Value (RM)","Brokerage Fees (RM)","Capital Gains (RM)","%","Trade Value Ranking"]
[null,null,"AFFIN INVESTMENT BANK BERHAD",{"$f":"+SUMIFS(InTran!$R:$R,InTran!$G:$G,C162,InTran!$O:$O,$C$160,InTran!$C:$C,$D$160)","v":95256647.25},{"$f":"+SUMIFS(InTran!$S:$S,InTran!$G:$G,C162,InTran!$O:$O,$C$160,InTran!$C:$C,$D$160)","v":111929.53},{"$f":"+SUMIFS(InTran!$M:$M,InTran!$G:$G,C162,InTran!$O:$O,$C$160,InTran!$C:$C,$D$160)","v":1121105.8},{"$f":"+IFERROR(D162/SUM($D$162:$D$183),0)","v":0.19902808753899925},{"$f":"+SUMIFS(InTran!$R:$R,InTran!$G:$G,C162,InTran!$O:$O,$C$160,InTran!$C:$C,$H$160)","v":0},{"$f":"+SUMIFS(InTran!$S:$S,InTran!$G:$G,C162,InTran!$O:$O,$C$160,InTran!$C:$C,$H$160)","v":0},{"$f":"+SUMIFS(InTran!$M:$M,InTran!$G:$G,C162,InTran!$O:$O,$C$160,InTran!$C:$C,$H$160)","v":0},{"$f":"+IFERROR(H162/SUM($H$162:$H$183),0)","v":0},{"$f":"+SUMIFS(InTran!$R:$R,InTran!$G:$G,C162,InTran!$O:$O,$C$160,InTran!$C:$C,$L$160)","v":0},{"$f":"+SUMIFS(InTran!$S:$S,InTran!$G:$G,C162,InTran!$O:$O,$C$160,InTran!$C:$C,$L$160)","v":0},{"$f":"+SUMIFS(InTran!$M:$M,InTran!$G:$G,C162,InTran!$O:$O,$C$160,InTran!$C:$C,$L$160)","v":0},{"$f":"+IFERROR(L162/SUM($L$162:$L$183),0)","v":0},{"$f":"+SUMIFS(InTran!$R:$R,InTran!$G:$G,C162,InTran!$O:$O,$C$160,InTran!$C:$C,$P$160)","v":0},{"$f":"+SUMIFS(InTran!$S:$S,InTran!$G:$G,C162,InTran!$O:$O,$C$160,InTran!$C:$C,$P$160)","v":0},{"$f":"+SUMIFS(InTran!$M:$M,InTran!$G:$G,C162,InTran!$O:$O,$C$160,InTran!$C:$C,$P$160)","v":0},{"$f":"+IFERROR(P162/SUM($P$162:$P$183),0)","v":0},{"$f":"+SUMIFS(InTran!$R:$R,InTran!$G:$G,C162,InTran!$O:$O,$C$160,InTran!$C:$C,$T$160)","v":0},{"$f":"+SUMIFS(InTran!$S:$S,InTran!$G:$G,C162,InTran!$O:$O,$C$160,InTran!$C:$C,$T$160)","v":0},{"$f":"+SUMIFS(InTran!$M:$M,InTran!$G:$G,C162,InTran!$O:$O,$C$160,InTran!$C:$C,$T$160)","v":0},{"$f":"+IFERROR(T162/SUM($T$162:$T$183),0)","v":0},{"$f":"+SUMIFS(InTran!$R:$R,InTran!$G:$G,C162,InTran!$O:$O,$C$160,InTran!$C:$C,$X$160)","v":0},{"$f":"+SUMIFS(InTran!$S:$S,InTran!$G:$G,C162,InTran!$O:$O,$C$160,InTran!$C:$C,$X$160)","v":0},{"$f":"+SUMIFS(InTran!$M:$M,InTran!$G:$G,C162,InTran!$O:$O,$C$160,InTran!$C:$C,$X$160)","v":0},{"$f":"+IFERROR(X162/SUM($X$162:$X$183),0)","v":0},{"$f":"+SUMIFS(InTran!$R:$R,InTran!$G:$G,C162,InTran!$O:$O,$C$160)","v":95256647.25},{"$f":"+SUMIFS(InTran!$S:$S,InTran!$G:$G,C162,InTran!$O:$O,$C$160)","v":111929.53},{"$f":"+SUMIFS(InTran!$M:$M,InTran!$G:$G,C162,InTran!$O:$O,$C$160)","v":1121105.8},{"$f":"+IFERROR(AB162/SUM($AB$162:$AB$183),0)","v":0.19799886037281422},{"$f":"+RANK(AB162,$AB$162:$AB$183)","v":1}]
[null,null,"RHB INVESTMENT BANK BERHAD",{"$f":"+SUMIFS(InTran!$R:$R,InTran!$G:$G,C163,InTran!$O:$O,$C$160,InTran!$C:$C,$D$160)","v":64236131.729999997},{"$f":"+SUMIFS(InTran!$S:$S,InTran!$G:$G,C163,InTran!$O:$O,$C$160,InTran!$C:$C,$D$160)","v":92693.15},{"$f":"+SUMIFS(InTran!$M:$M,InTran!$G:$G,C163,InTran!$O:$O,$C$160,InTran!$C:$C,$D$160)","v":215155.50000000003},{"$f":"+IFERROR(D163/SUM($D$162:$D$183),0)","v":0.1342141973102578},{"$f":"+SUMIFS(InTran!$R:$R,InTran!$G:$G,C163,InTran!$O:$O,$C$160,InTran!$C:$C,$H$160)","v":0},{"$f":"+SUMIFS(InTran!$S:$S,InTran!$G:$G,C163,InTran!$O:$O,$C$160,InTran!$C:$C,$H$160)","v":0},{"$f":"+SUMIFS(InTran!$M:$M,InTran!$G:$G,C163,InTran!$O:$O,$C$160,InTran!$C:$C,$H$160)","v":0},{"$f":"+IFERROR(H163/SUM($H$162:$H$183),0)","v":0},{"$f":"+SUMIFS(InTran!$R:$R,InTran!$G:$G,C163,InTran!$O:$O,$C$160,InTran!$C:$C,$L$160)","v":0},{"$f":"+SUMIFS(InTran!$S:$S,InTran!$G:$G,C163,InTran!$O:$O,$C$160,InTran!$C:$C,$L$160)","v":0},{"$f":"+SUMIFS(InTran!$M:$M,InTran!$G:$G,C163,InTran!$O:$O,$C$160,InTran!$C:$C,$L$160)","v":0},{"$f":"+IFERROR(L163/SUM($L$162:$L$183),0)","v":0},{"$f":"+SUMIFS(InTran!$R:$R,InTran!$G:$G,C163,InTran!$O:$O,$C$160,InTran!$C:$C,$P$160)","v":0},{"$f":"+SUMIFS(InTran!$S:$S,InTran!$G:$G,C163,InTran!$O:$O,$C$160,InTran!$C:$C,$P$160)","v":0},{"$f":"+SUMIFS(InTran!$M:$M,InTran!$G:$G,C163,InTran!$O:$O,$C$160,InTran!$C:$C,$P$160)","v":0},{"$f":"+IFERROR(P163/SUM($P$162:$P$183),0)","v":0},{"$f":"+SUMIFS(InTran!$R:$R,InTran!$G:$G,C163,InTran!$O:$O,$C$160,InTran!$C:$C,$T$160)","v":0},{"$f":"+SUMIFS(InTran!$S:$S,InTran!$G:$G,C163,InTran!$O:$O,$C$160,InTran!$C:$C,$T$160)","v":0},{"$f":"+SUMIFS(InTran!$M:$M,InTran!$G:$G,C163,InTran!$O:$O,$C$160,InTran!$C:$C,$T$160)","v":0},{"$f":"+IFERROR(T163/SUM($T$162:$T$183),0)","v":0},{"$f":"+SUMIFS(InTran!$R:$R,InTran!$G:$G,C163,InTran!$O:$O,$C$160,InTran!$C:$C,$X$160)","v":0},{"$f":"+SUMIFS(InTran!$S:$S,InTran!$G:$G,C163,InTran!$O:$O,$C$160,InTran!$C:$C,$X$160)","v":0},{"$f":"+SUMIFS(InTran!$M:$M,InTran!$G:$G,C163,InTran!$O:$O,$C$160,InTran!$C:$C,$X$160)","v":0},{"$f":"+IFERROR(X163/SUM($X$162:$X$183),0)","v":0},{"$f":"+SUMIFS(InTran!$R:$R,InTran!$G:$G,C163,InTran!$O:$O,$C$160)","v":64236131.729999997},{"$f":"+SUMIFS(InTran!$S:$S,InTran!$G:$G,C163,InTran!$O:$O,$C$160)","v":92693.15},{"$f":"+SUMIFS(InTran!$M:$M,InTran!$G:$G,C163,InTran!$O:$O,$C$160)","v":215155.50000000003},{"$f":"+IFERROR(AB163/SUM($AB$162:$AB$183),0)","v":0.13352014000574611},{"$f":"+RANK(AB163,$AB$162:$AB$183)","v":2}]
[null,null,"MAYBANK INVESTMENT BANK BHD",{"$f":"+SUMIFS(InTran!$R:$R,InTran!$G:$G,C164,InTran!$O:$O,$C$160,InTran!$C:$C,$D$160)","v":58083234.410000004},{"$f":"+SUMIFS(InTran!$S:$S,InTran!$G:$G,C164,InTran!$O:$O,$C$160,InTran!$C:$C,$D$160)","v":78857.450000000012},{"$f":"+SUMIFS(InTran!$M:$M,InTran!$G:$G,C164,InTran!$O:$O,$C$160,InTran!$C:$C,$D$160)","v":3705358.77},{"$f":"+IFERROR(D164/SUM($D$162:$D$183),0)","v":0.12135840801075112},{"$f":"+SUMIFS(InTran!$R:$R,InTran!$G:$G,C164,InTran!$O:$O,$C$160,InTran!$C:$C,$H$160)","v":2341895.17},{"$f":"+SUMIFS(InTran!$S:$S,InTran!$G:$G,C164,InTran!$O:$O,$C$160,InTran!$C:$C,$H$160)","v":4672},{"$f":"+SUMIFS(InTran!$M:$M,InTran!$G:$G,C164,InTran!$O:$O,$C$160,InTran!$C:$C,$H$160)","v":0},{"$f":"+IFERROR(H164/SUM($H$162:$H$183),0)","v":1},{"$f":"+SUMIFS(InTran!$R:$R,InTran!$G:$G,C164,InTran!$O:$O,$C$160,InTran!$C:$C,$L$160)","v":0},{"$f":"+SUMIFS(InTran!$S:$S,InTran!$G:$G,C164,InTran!$O:$O,$C$160,InTran!$C:$C,$L$160)","v":0},{"$f":"+SUMIFS(InTran!$M:$M,InTran!$G:$G,C164,InTran!$O:$O,$C$160,InTran!$C:$C,$L$160)","v":0},{"$f":"+IFERROR(L164/SUM($L$162:$L$183),0)","v":0},{"$f":"+SUMIFS(InTran!$R:$R,InTran!$G:$G,C164,InTran!$O:$O,$C$160,InTran!$C:$C,$P$160)","v":0},{"$f":"+SUMIFS(InTran!$S:$S,InTran!$G:$G,C164,InTran!$O:$O,$C$160,InTran!$C:$C,$P$160)","v":0},{"$f":"+SUMIFS(InTran!$M:$M,InTran!$G:$G,C164,InTran!$O:$O,$C$160,InTran!$C:$C,$P$160)","v":0},{"$f":"+IFERROR(P164/SUM($P$162:$P$183),0)","v":0},{"$f":"+SUMIFS(InTran!$R:$R,InTran!$G:$G,C164,InTran!$O:$O,$C$160,InTran!$C:$C,$T$160)","v":0},{"$f":"+SUMIFS(InTran!$S:$S,InTran!$G:$G,C164,InTran!$O:$O,$C$160,InTran!$C:$C,$T$160)","v":0},{"$f":"+SUMIFS(InTran!$M:$M,InTran!$G:$G,C164,InTran!$O:$O,$C$160,InTran!$C:$C,$T$160)","v":0},{"$f":"+IFERROR(T164/SUM($T$162:$T$183),0)","v":0},{"$f":"+SUMIFS(InTran!$R:$R,InTran!$G:$G,C164,InTran!$O:$O,$C$160,InTran!$C:$C,$X$160)","v":0},{"$f":"+SUMIFS(InTran!$S:$S,InTran!$G:$G,C164,InTran!$O:$O,$C$160,InTran!$C:$C,$X$160)","v":0},{"$f":"+SUMIFS(InTran!$M:$M,InTran!$G:$G,C164,InTran!$O:$O,$C$160,InTran!$C:$C,$X$160)","v":0},{"$f":"+IFERROR(X164/SUM($X$162:$X$183),0)","v":0},{"$f":"+SUMIFS(InTran!$R:$R,InTran!$G:$G,C164,InTran!$O:$O,$C$160)","v":60425129.580000006},{"$f":"+SUMIFS(InTran!$S:$S,InTran!$G:$G,C164,InTran!$O:$O,$C$160)","v":83529.450000000026},{"$f":"+SUMIFS(InTran!$M:$M,InTran!$G:$G,C164,InTran!$O:$O,$C$160)","v":3705358.77},{"$f":"+IFERROR(AB164/SUM($AB$162:$AB$183),0)","v":0.12559865521321534},{"$f":"+RANK(AB164,$AB$162:$AB$183)","v":3}]
[null,null,"CIMB INVESTMENT BANK BHD",{"$f":"+SUMIFS(InTran!$R:$R,InTran!$G:$G,C165,InTran!$O:$O,$C$160,InTran!$C:$C,$D$160)","v":59107814.160000004},{"$f":"+SUMIFS(InTran!$S:$S,InTran!$G:$G,C165,InTran!$O:$O,$C$160,InTran!$C:$C,$D$160)","v":96517.27999999997},{"$f":"+SUMIFS(InTran!$M:$M,InTran!$G:$G,C165,InTran!$O:$O,$C$160,InTran!$C:$C,$D$160)","v":4767751.42},{"$f":"+IFERROR(D165/SUM($D$162:$D$183),0)","v":0.12349915255783243},{"$f":"+SUMIFS(InTran!$R:$R,InTran!$G:$G,C165,InTran!$O:$O,$C$160,InTran!$C:$C,$H$160)","v":0},{"$f":"+SUMIFS(InTran!$S:$S,InTran!$G:$G,C165,InTran!$O:$O,$C$160,InTran!$C:$C,$H$160)","v":0},{"$f":"+SUMIFS(InTran!$M:$M,InTran!$G:$G,C165,InTran!$O:$O,$C$160,InTran!$C:$C,$H$160)","v":0},{"$f":"+IFERROR(H165/SUM($H$162:$H$183),0)","v":0},{"$f":"+SUMIFS(InTran!$R:$R,InTran!$G:$G,C165,InTran!$O:$O,$C$160,InTran!$C:$C,$L$160)","v":0},{"$f":"+SUMIFS(InTran!$S:$S,InTran!$G:$G,C165,InTran!$O:$O,$C$160,InTran!$C:$C,$L$160)","v":0},{"$f":"+SUMIFS(InTran!$M:$M,InTran!$G:$G,C165,InTran!$O:$O,$C$160,InTran!$C:$C,$L$160)","v":0},{"$f":"+IFERROR(L165/SUM($L$162:$L$183),0)","v":0},{"$f":"+SUMIFS(InTran!$R:$R,InTran!$G:$G,C165,InTran!$O:$O,$C$160,InTran!$C:$C,$P$160)","v":0},{"$f":"+SUMIFS(InTran!$S:$S,InTran!$G:$G,C165,InTran!$O:$O,$C$160,InTran!$C:$C,$P$160)","v":0},{"$f":"+SUMIFS(InTran!$M:$M,InTran!$G:$G,C165,InTran!$O:$O,$C$160,InTran!$C:$C,$P$160)","v":0},{"$f":"+IFERROR(P165/SUM($P$162:$P$183),0)","v":0},{"$f":"+SUMIFS(InTran!$R:$R,InTran!$G:$G,C165,InTran!$O:$O,$C$160,InTran!$C:$C,$T$160)","v":0},{"$f":"+SUMIFS(InTran!$S:$S,InTran!$G:$G,C165,InTran!$O:$O,$C$160,InTran!$C:$C,$T$160)","v":0},{"$f":"+SUMIFS(InTran!$M:$M,InTran!$G:$G,C165,InTran!$O:$O,$C$160,InTran!$C:$C,$T$160)","v":0},{"$f":"+IFERROR(T165/SUM($T$162:$T$183),0)","v":0},{"$f":"+SUMIFS(InTran!$R:$R,InTran!$G:$G,C165,InTran!$O:$O,$C$160,InTran!$C:$C,$X$160)","v":0},{"$f":"+SUMIFS(InTran!$S:$S,InTran!$G:$G,C165,InTran!$O:$O,$C$160,InTran!$C:$C,$X$160)","v":0},{"$f":"+SUMIFS(InTran!$M:$M,InTran!$G:$G,C165,InTran!$O:$O,$C$160,InTran!$C:$C,$X$160)","v":0},{"$f":"+IFERROR(X165/SUM($X$162:$X$183),0)","v":0},{"$f":"+SUMIFS(InTran!$R:$R,InTran!$G:$G,C165,InTran!$O:$O,$C$160)","v":59107814.160000004},{"$f":"+SUMIFS(InTran!$S:$S,InTran!$G:$G,C165,InTran!$O:$O,$C$160)","v":96517.27999999997},{"$f":"+SUMIFS(InTran!$M:$M,InTran!$G:$G,C165,InTran!$O:$O,$C$160)","v":4767751.42},{"$f":"+IFERROR(AB165/SUM($AB$162:$AB$183),0)","v":0.12286050559907873},{"$f":"+RANK(AB165,$AB$162:$AB$183)","v":4}]
[null,null,"KENANGA INVESTMENT BANK BHD",{"$f":"+SUMIFS(InTran!$R:$R,InTran!$G:$G,C166,InTran!$O:$O,$C$160,InTran!$C:$C,$D$160)","v":54421064.059999995},{"$f":"+SUMIFS(InTran!$S:$S,InTran!$G:$G,C166,InTran!$O:$O,$C$160,InTran!$C:$C,$D$160)","v":64625.539999999994},{"$f":"+SUMIFS(InTran!$M:$M,InTran!$G:$G,C166,InTran!$O:$O,$C$160,InTran!$C:$C,$D$160)","v":1204865.7199999997},{"$f":"+IFERROR(D166/SUM($D$162:$D$183),0)","v":0.11370671354065702},{"$f":"+SUMIFS(InTran!$R:$R,InTran!$G:$G,C166,InTran!$O:$O,$C$160,InTran!$C:$C,$H$160)","v":0},{"$f":"+SUMIFS(InTran!$S:$S,InTran!$G:$G,C166,InTran!$O:$O,$C$160,InTran!$C:$C,$H$160)","v":0},{"$f":"+SUMIFS(InTran!$M:$M,InTran!$G:$G,C166,InTran!$O:$O,$C$160,InTran!$C:$C,$H$160)","v":0},{"$f":"+IFERROR(H166/SUM($H$162:$H$183),0)","v":0},{"$f":"+SUMIFS(InTran!$R:$R,InTran!$G:$G,C166,InTran!$O:$O,$C$160,InTran!$C:$C,$L$160)","v":0},{"$f":"+SUMIFS(InTran!$S:$S,InTran!$G:$G,C166,InTran!$O:$O,$C$160,InTran!$C:$C,$L$160)","v":0},{"$f":"+SUMIFS(InTran!$M:$M,InTran!$G:$G,C166,InTran!$O:$O,$C$160,InTran!$C:$C,$L$160)","v":0},{"$f":"+IFERROR(L166/SUM($L$162:$L$183),0)","v":0},{"$f":"+SUMIFS(InTran!$R:$R,InTran!$G:$G,C166,InTran!$O:$O,$C$160,InTran!$C:$C,$P$160)","v":0},{"$f":"+SUMIFS(InTran!$S:$S,InTran!$G:$G,C166,InTran!$O:$O,$C$160,InTran!$C:$C,$P$160)","v":0},{"$f":"+SUMIFS(InTran!$M:$M,InTran!$G:$G,C166,InTran!$O:$O,$C$160,InTran!$C:$C,$P$160)","v":0},{"$f":"+IFERROR(P166/SUM($P$162:$P$183),0)","v":0},{"$f":"+SUMIFS(InTran!$R:$R,InTran!$G:$G,C166,InTran!$O:$O,$C$160,InTran!$C:$C,$T$160)","v":0},{"$f":"+SUMIFS(InTran!$S:$S,InTran!$G:$G,C166,InTran!$O:$O,$C$160,InTran!$C:$C,$T$160)","v":0},{"$f":"+SUMIFS(InTran!$M:$M,InTran!$G:$G,C166,InTran!$O:$O,$C$160,InTran!$C:$C,$T$160)","v":0},{"$f":"+IFERROR(T166/SUM($T$162:$T$183),0)","v":0},{"$f":"+SUMIFS(InTran!$R:$R,InTran!$G:$G,C166,InTran!$O:$O,$C$160,InTran!$C:$C,$X$160)","v":0},{"$f":"+SUMIFS(InTran!$S:$S,InTran!$G:$G,C166,InTran!$O:$O,$C$160,InTran!$C:$C,$X$160)","v":0},{"$f":"+SUMIFS(InTran!$M:$M,InTran!$G:$G,C166,InTran!$O:$O,$C$160,InTran!$C:$C,$X$160)","v":0},{"$f":"+IFERROR(X166/SUM($X$162:$X$183),0)","v":0},{"$f":"+SUMIFS(InTran!$R:$R,InTran!$G:$G,C166,InTran!$O:$O,$C$160)","v":54421064.059999995},{"$f":"+SUMIFS(InTran!$S:$S,InTran!$G:$G,C166,InTran!$O:$O,$C$160)","v":64625.539999999994},{"$f":"+SUMIFS(InTran!$M:$M,InTran!$G:$G,C166,InTran!$O:$O,$C$160)","v":1204865.7199999997},{"$f":"+IFERROR(AB166/SUM($AB$162:$AB$183),0)","v":0.11311870588806512},{"$f":"+RANK(AB166,$AB$162:$AB$183)","v":5}]
[null,null,"KAF-SEAGROATT & CAMPBELL SECURITIES SDN BHD",{"$f":"+SUMIFS(InTran!$R:$R,InTran!$G:$G,C167,InTran!$O:$O,$C$160,InTran!$C:$C,$D$160)","v":36764826.18},{"$f":"+SUMIFS(InTran!$S:$S,InTran!$G:$G,C167,InTran!$O:$O,$C$160,InTran!$C:$C,$D$160)","v":55663.790000000008},{"$f":"+SUMIFS(InTran!$M:$M,InTran!$G:$G,C167,InTran!$O:$O,$C$160,InTran!$C:$C,$D$160)","v":3837811.6199999992},{"$f":"+IFERROR(D167/SUM($D$162:$D$183),0)","v":7.6815983498822238E-2},{"$f":"+SUMIFS(InTran!$R:$R,InTran!$G:$G,C167,InTran!$O:$O,$C$160,InTran!$C:$C,$H$160)","v":0},{"$f":"+SUMIFS(InTran!$S:$S,InTran!$G:$G,C167,InTran!$O:$O,$C$160,InTran!$C:$C,$H$160)","v":0},{"$f":"+SUMIFS(InTran!$M:$M,InTran!$G:$G,C167,InTran!$O:$O,$C$160,InTran!$C:$C,$H$160)","v":0},{"$f":"+IFERROR(H167/SUM($H$162:$H$183),0)","v":0},{"$f":"+SUMIFS(InTran!$R:$R,InTran!$G:$G,C167,InTran!$O:$O,$C$160,InTran!$C:$C,$L$160)","v":0},{"$f":"+SUMIFS(InTran!$S:$S,InTran!$G:$G,C167,InTran!$O:$O,$C$160,InTran!$C:$C,$L$160)","v":0},{"$f":"+SUMIFS(InTran!$M:$M,InTran!$G:$G,C167,InTran!$O:$O,$C$160,InTran!$C:$C,$L$160)","v":0},{"$f":"+IFERROR(L167/SUM($L$162:$L$183),0)","v":0},{"$f":"+SUMIFS(InTran!$R:$R,InTran!$G:$G,C167,InTran!$O:$O,$C$160,InTran!$C:$C,$P$160)","v":0},{"$f":"+SUMIFS(InTran!$S:$S,InTran!$G:$G,C167,InTran!$O:$O,$C$160,InTran!$C:$C,$P$160)","v":0},{"$f":"+SUMIFS(InTran!$M:$M,InTran!$G:$G,C167,InTran!$O:$O,$C$160,InTran!$C:$C,$P$160)","v":0},{"$f":"+IFERROR(P167/SUM($P$162:$P$183),0)","v":0},{"$f":"+SUMIFS(InTran!$R:$R,InTran!$G:$G,C167,InTran!$O:$O,$C$160,InTran!$C:$C,$T$160)","v":0},{"$f":"+SUMIFS(InTran!$S:$S,InTran!$G:$G,C167,InTran!$O:$O,$C$160,InTran!$C:$C,$T$160)","v":0},{"$f":"+SUMIFS(InTran!$M:$M,InTran!$G:$G,C167,InTran!$O:$O,$C$160,InTran!$C:$C,$T$160)","v":0},{"$f":"+IFERROR(T167/SUM($T$162:$T$183),0)","v":0},{"$f":"+SUMIFS(InTran!$R:$R,InTran!$G:$G,C167,InTran!$O:$O,$C$160,InTran!$C:$C,$X$160)","v":0},{"$f":"+SUMIFS(InTran!$S:$S,InTran!$G:$G,C167,InTran!$O:$O,$C$160,InTran!$C:$C,$X$160)","v":0},{"$f":"+SUMIFS(InTran!$M:$M,InTran!$G:$G,C167,InTran!$O:$O,$C$160,InTran!$C:$C,$X$160)","v":0},{"$f":"+IFERROR(X167/SUM($X$162:$X$183),0)","v":0},{"$f":"+SUMIFS(InTran!$R:$R,InTran!$G:$G,C167,InTran!$O:$O,$C$160)","v":36764826.18},{"$f":"+SUMIFS(InTran!$S:$S,InTran!$G:$G,C167,InTran!$O:$O,$C$160)","v":55663.790000000008},{"$f":"+SUMIFS(InTran!$M:$M,InTran!$G:$G,C167,InTran!$O:$O,$C$160)","v":3837811.6199999992},{"$f":"+IFERROR(AB167/SUM($AB$162:$AB$183),0)","v":7.6418747621254376E-2},{"$f":"+RANK(AB167,$AB$162:$AB$183)","v":6}]
[null,null,"MACQUARIE CAPITAL SECURITIES (MALAYSIA) SDN BHD",{"$f":"+SUMIFS(InTran!$R:$R,InTran!$G:$G,C168,InTran!$O:$O,$C$160,InTran!$C:$C,$D$160)","v":28873488.129999999},{"$f":"+SUMIFS(InTran!$S:$S,InTran!$G:$G,C168,InTran!$O:$O,$C$160,InTran!$C:$C,$D$160)","v":48481.210000000006},{"$f":"+SUMIFS(InTran!$M:$M,InTran!$G:$G,C168,InTran!$O:$O,$C$160,InTran!$C:$C,$D$160)","v":1875213.8299999998},{"$f":"+IFERROR(D168/SUM($D$162:$D$183),0)","v":6.0327917147996152E-2},{"$f":"+SUMIFS(InTran!$R:$R,InTran!$G:$G,C168,InTran!$O:$O,$C$160,InTran!$C:$C,$H$160)","v":0},{"$f":"+SUMIFS(InTran!$S:$S,InTran!$G:$G,C168,InTran!$O:$O,$C$160,InTran!$C:$C,$H$160)","v":0},{"$f":"+SUMIFS(InTran!$M:$M,InTran!$G:$G,C168,InTran!$O:$O,$C$160,InTran!$C:$C,$H$160)","v":0},{"$f":"+IFERROR(H168/SUM($H$162:$H$183),0)","v":0},{"$f":"+SUMIFS(InTran!$R:$R,InTran!$G:$G,C168,InTran!$O:$O,$C$160,InTran!$C:$C,$L$160)","v":0},{"$f":"+SUMIFS(InTran!$S:$S,InTran!$G:$G,C168,InTran!$O:$O,$C$160,InTran!$C:$C,$L$160)","v":0},{"$f":"+SUMIFS(InTran!$M:$M,InTran!$G:$G,C168,InTran!$O:$O,$C$160,InTran!$C:$C,$L$160)","v":0},{"$f":"+IFERROR(L168/SUM($L$162:$L$183),0)","v":0},{"$f":"+SUMIFS(InTran!$R:$R,InTran!$G:$G,C168,InTran!$O:$O,$C$160,InTran!$C:$C,$P$160)","v":0},{"$f":"+SUMIFS(InTran!$S:$S,InTran!$G:$G,C168,InTran!$O:$O,$C$160,InTran!$C:$C,$P$160)","v":0},{"$f":"+SUMIFS(InTran!$M:$M,InTran!$G:$G,C168,InTran!$O:$O,$C$160,InTran!$C:$C,$P$160)","v":0},{"$f":"+IFERROR(P168/SUM($P$162:$P$183),0)","v":0},{"$f":"+SUMIFS(InTran!$R:$R,InTran!$G:$G,C168,InTran!$O:$O,$C$160,InTran!$C:$C,$T$160)","v":0},{"$f":"+SUMIFS(InTran!$S:$S,InTran!$G:$G,C168,InTran!$O:$O,$C$160,InTran!$C:$C,$T$160)","v":0},{"$f":"+SUMIFS(InTran!$M:$M,InTran!$G:$G,C168,InTran!$O:$O,$C$160,InTran!$C:$C,$T$160)","v":0},{"$f":"+IFERROR(T168/SUM($T$162:$T$183),0)","v":0},{"$f":"+SUMIFS(InTran!$R:$R,InTran!$G:$G,C168,InTran!$O:$O,$C$160,InTran!$C:$C,$X$160)","v":0},{"$f":"+SUMIFS(InTran!$S:$S,InTran!$G:$G,C168,InTran!$O:$O,$C$160,InTran!$C:$C,$X$160)","v":0},{"$f":"+SUMIFS(InTran!$M:$M,InTran!$G:$G,C168,InTran!$O:$O,$C$160,InTran!$C:$C,$X$160)","v":0},{"$f":"+IFERROR(X168/SUM($X$162:$X$183),0)","v":0},{"$f":"+SUMIFS(InTran!$R:$R,InTran!$G:$G,C168,InTran!$O:$O,$C$160)","v":28873488.129999999},{"$f":"+SUMIFS(InTran!$S:$S,InTran!$G:$G,C168,InTran!$O:$O,$C$160)","v":48481.210000000006},{"$f":"+SUMIFS(InTran!$M:$M,InTran!$G:$G,C168,InTran!$O:$O,$C$160)","v":1875213.8299999998},{"$f":"+IFERROR(AB168/SUM($AB$162:$AB$183),0)","v":6.0015945446032677E-2},{"$f":"+RANK(AB168,$AB$162:$AB$183)","v":7}]
[null,null,"NOMURA SECURITIES MALAYSIA SDN BHD",{"$f":"+SUMIFS(InTran!$R:$R,InTran!$G:$G,C169,InTran!$O:$O,$C$160,InTran!$C:$C,$D$160)","v":22243889.390000001},{"$f":"+SUMIFS(InTran!$S:$S,InTran!$G:$G,C169,InTran!$O:$O,$C$160,InTran!$C:$C,$D$160)","v":31247.979999999996},{"$f":"+SUMIFS(InTran!$M:$M,InTran!$G:$G,C169,InTran!$O:$O,$C$160,InTran!$C:$C,$D$160)","v":1360579.1500000001},{"$f":"+IFERROR(D169/SUM($D$162:$D$183),0)","v":4.6476113662721176E-2},{"$f":"+SUMIFS(InTran!$R:$R,InTran!$G:$G,C169,InTran!$O:$O,$C$160,InTran!$C:$C,$H$160)","v":0},{"$f":"+SUMIFS(InTran!$S:$S,InTran!$G:$G,C169,InTran!$O:$O,$C$160,InTran!$C:$C,$H$160)","v":0},{"$f":"+SUMIFS(InTran!$M:$M,InTran!$G:$G,C169,InTran!$O:$O,$C$160,InTran!$C:$C,$H$160)","v":0},{"$f":"+IFERROR(H169/SUM($H$162:$H$183),0)","v":0},{"$f":"+SUMIFS(InTran!$R:$R,InTran!$G:$G,C169,InTran!$O:$O,$C$160,InTran!$C:$C,$L$160)","v":0},{"$f":"+SUMIFS(InTran!$S:$S,InTran!$G:$G,C169,InTran!$O:$O,$C$160,InTran!$C:$C,$L$160)","v":0},{"$f":"+SUMIFS(InTran!$M:$M,InTran!$G:$G,C169,InTran!$O:$O,$C$160,InTran!$C:$C,$L$160)","v":0},{"$f":"+IFERROR(L169/SUM($L$162:$L$183),0)","v":0},{"$f":"+SUMIFS(InTran!$R:$R,InTran!$G:$G,C169,InTran!$O:$O,$C$160,InTran!$C:$C,$P$160)","v":0},{"$f":"+SUMIFS(InTran!$S:$S,InTran!$G:$G,C169,InTran!$O:$O,$C$160,InTran!$C:$C,$P$160)","v":0},{"$f":"+SUMIFS(InTran!$M:$M,InTran!$G:$G,C169,InTran!$O:$O,$C$160,InTran!$C:$C,$P$160)","v":0},{"$f":"+IFERROR(P169/SUM($P$162:$P$183),0)","v":0},{"$f":"+SUMIFS(InTran!$R:$R,InTran!$G:$G,C169,InTran!$O:$O,$C$160,InTran!$C:$C,$T$160)","v":0},{"$f":"+SUMIFS(InTran!$S:$S,InTran!$G:$G,C169,InTran!$O:$O,$C$160,InTran!$C:$C,$T$160)","v":0},{"$f":"+SUMIFS(InTran!$M:$M,InTran!$G:$G,C169,InTran!$O:$O,$C$160,InTran!$C:$C,$T$160)","v":0},{"$f":"+IFERROR(T169/SUM($T$162:$T$183),0)","v":0},{"$f":"+SUMIFS(InTran!$R:$R,InTran!$G:$G,C169,InTran!$O:$O,$C$160,InTran!$C:$C,$X$160)","v":0},{"$f":"+SUMIFS(InTran!$S:$S,InTran!$G:$G,C169,InTran!$O:$O,$C$160,InTran!$C:$C,$X$160)","v":0},{"$f":"+SUMIFS(InTran!$M:$M,InTran!$G:$G,C169,InTran!$O:$O,$C$160,InTran!$C:$C,$X$160)","v":0},{"$f":"+IFERROR(X169/SUM($X$162:$X$183),0)","v":0},{"$f":"+SUMIFS(InTran!$R:$R,InTran!$G:$G,C169,InTran!$O:$O,$C$160)","v":22243889.390000001},{"$f":"+SUMIFS(InTran!$S:$S,InTran!$G:$G,C169,InTran!$O:$O,$C$160)","v":31247.979999999996},{"$f":"+SUMIFS(InTran!$M:$M,InTran!$G:$G,C169,InTran!$O:$O,$C$160)","v":1360579.1500000001},{"$f":"+IFERROR(AB169/SUM($AB$162:$AB$183),0)","v":4.6235773320049682E-2},{"$f":"+RANK(AB169,$AB$162:$AB$183)","v":8}]
[null,null,"HONG LEONG INVESTMENT BANK BHD",{"$f":"+SUMIFS(InTran!$R:$R,InTran!$G:$G,C170,InTran!$O:$O,$C$160,InTran!$C:$C,$D$160)","v":19849371.16},{"$f":"+SUMIFS(InTran!$S:$S,InTran!$G:$G,C170,InTran!$O:$O,$C$160,InTran!$C:$C,$D$160)","v":26035.82},{"$f":"+SUMIFS(InTran!$M:$M,InTran!$G:$G,C170,InTran!$O:$O,$C$160,InTran!$C:$C,$D$160)","v":624068.85},{"$f":"+IFERROR(D170/SUM($D$162:$D$183),0)","v":4.1473036211932886E-2},{"$f":"+SUMIFS(InTran!$R:$R,InTran!$G:$G,C170,InTran!$O:$O,$C$160,InTran!$C:$C,$H$160)","v":0},{"$f":"+SUMIFS(InTran!$S:$S,InTran!$G:$G,C170,InTran!$O:$O,$C$160,InTran!$C:$C,$H$160)","v":0},{"$f":"+SUMIFS(InTran!$M:$M,InTran!$G:$G,C170,InTran!$O:$O,$C$160,InTran!$C:$C,$H$160)","v":0},{"$f":"+IFERROR(H170/SUM($H$162:$H$183),0)","v":0},{"$f":"+SUMIFS(InTran!$R:$R,InTran!$G:$G,C170,InTran!$O:$O,$C$160,InTran!$C:$C,$L$160)","v":0},{"$f":"+SUMIFS(InTran!$S:$S,InTran!$G:$G,C170,InTran!$O:$O,$C$160,InTran!$C:$C,$L$160)","v":0},{"$f":"+SUMIFS(InTran!$M:$M,InTran!$G:$G,C170,InTran!$O:$O,$C$160,InTran!$C:$C,$L$160)","v":0},{"$f":"+IFERROR(L170/SUM($L$162:$L$183),0)","v":0},{"$f":"+SUMIFS(InTran!$R:$R,InTran!$G:$G,C170,InTran!$O:$O,$C$160,InTran!$C:$C,$P$160)","v":0},{"$f":"+SUMIFS(InTran!$S:$S,InTran!$G:$G,C170,InTran!$O:$O,$C$160,InTran!$C:$C,$P$160)","v":0},{"$f":"+SUMIFS(InTran!$M:$M,InTran!$G:$G,C170,InTran!$O:$O,$C$160,InTran!$C:$C,$P$160)","v":0},{"$f":"+IFERROR(P170/SUM($P$162:$P$183),0)","v":0},{"$f":"+SUMIFS(InTran!$R:$R,InTran!$G:$G,C170,InTran!$O:$O,$C$160,InTran!$C:$C,$T$160)","v":0},{"$f":"+SUMIFS(InTran!$S:$S,InTran!$G:$G,C170,InTran!$O:$O,$C$160,InTran!$C:$C,$T$160)","v":0},{"$f":"+SUMIFS(InTran!$M:$M,InTran!$G:$G,C170,InTran!$O:$O,$C$160,InTran!$C:$C,$T$160)","v":0},{"$f":"+IFERROR(T170/SUM($T$162:$T$183),0)","v":0},{"$f":"+SUMIFS(InTran!$R:$R,InTran!$G:$G,C170,InTran!$O:$O,$C$160,InTran!$C:$C,$X$160)","v":0},{"$f":"+SUMIFS(InTran!$S:$S,InTran!$G:$G,C170,InTran!$O:$O,$C$160,InTran!$C:$C,$X$160)","v":0},{"$f":"+SUMIFS(InTran!$M:$M,InTran!$G:$G,C170,InTran!$O:$O,$C$160,InTran!$C:$C,$X$160)","v":0},{"$f":"+IFERROR(X170/SUM($X$162:$X$183),0)","v":0},{"$f":"+SUMIFS(InTran!$R:$R,InTran!$G:$G,C170,InTran!$O:$O,$C$160)","v":19849371.16},{"$f":"+SUMIFS(InTran!$S:$S,InTran!$G:$G,C170,InTran!$O:$O,$C$160)","v":26035.82},{"$f":"+SUMIFS(InTran!$M:$M,InTran!$G:$G,C170,InTran!$O:$O,$C$160)","v":624068.85},{"$f":"+IFERROR(AB170/SUM($AB$162:$AB$183),0)","v":4.125856811317706E-2},{"$f":"+RANK(AB170,$AB$162:$AB$183)","v":9}]
[null,null,"BIMB SECURITIES SDN BHD",{"$f":"+SUMIFS(InTran!$R:$R,InTran!$G:$G,C171,InTran!$O:$O,$C$160,InTran!$C:$C,$D$160)","v":18025808.559999999},{"$f":"+SUMIFS(InTran!$S:$S,InTran!$G:$G,C171,InTran!$O:$O,$C$160,InTran!$C:$C,$D$160)","v":18979.810000000001},{"$f":"+SUMIFS(InTran!$M:$M,InTran!$G:$G,C171,InTran!$O:$O,$C$160,InTran!$C:$C,$D$160)","v":1205569.06},{"$f":"+IFERROR(D171/SUM($D$162:$D$183),0)","v":3.7662906554176687E-2},{"$f":"+SUMIFS(InTran!$R:$R,InTran!$G:$G,C171,InTran!$O:$O,$C$160,InTran!$C:$C,$H$160)","v":0},{"$f":"+SUMIFS(InTran!$S:$S,InTran!$G:$G,C171,InTran!$O:$O,$C$160,InTran!$C:$C,$H$160)","v":0},{"$f":"+SUMIFS(InTran!$M:$M,InTran!$G:$G,C171,InTran!$O:$O,$C$160,InTran!$C:$C,$H$160)","v":0},{"$f":"+IFERROR(H171/SUM($H$162:$H$183),0)","v":0},{"$f":"+SUMIFS(InTran!$R:$R,InTran!$G:$G,C171,InTran!$O:$O,$C$160,InTran!$C:$C,$L$160)","v":0},{"$f":"+SUMIFS(InTran!$S:$S,InTran!$G:$G,C171,InTran!$O:$O,$C$160,InTran!$C:$C,$L$160)","v":0},{"$f":"+SUMIFS(InTran!$M:$M,InTran!$G:$G,C171,InTran!$O:$O,$C$160,InTran!$C:$C,$L$160)","v":0},{"$f":"+IFERROR(L171/SUM($L$162:$L$183),0)","v":0},{"$f":"+SUMIFS(InTran!$R:$R,InTran!$G:$G,C171,InTran!$O:$O,$C$160,InTran!$C:$C,$P$160)","v":0},{"$f":"+SUMIFS(InTran!$S:$S,InTran!$G:$G,C171,InTran!$O:$O,$C$160,InTran!$C:$C,$P$160)","v":0},{"$f":"+SUMIFS(InTran!$M:$M,InTran!$G:$G,C171,InTran!$O:$O,$C$160,InTran!$C:$C,$P$160)","v":0},{"$f":"+IFERROR(P171/SUM($P$162:$P$183),0)","v":0},{"$f":"+SUMIFS(InTran!$R:$R,InTran!$G:$G,C171,InTran!$O:$O,$C$160,InTran!$C:$C,$T$160)","v":0},{"$f":"+SUMIFS(InTran!$S:$S,InTran!$G:$G,C171,InTran!$O:$O,$C$160,InTran!$C:$C,$T$160)","v":0},{"$f":"+SUMIFS(InTran!$M:$M,InTran!$G:$G,C171,InTran!$O:$O,$C$160,InTran!$C:$C,$T$160)","v":0},{"$f":"+IFERROR(T171/SUM($T$162:$T$183),0)","v":0},{"$f":"+SUMIFS(InTran!$R:$R,InTran!$G:$G,C171,InTran!$O:$O,$C$160,InTran!$C:$C,$X$160)","v":0},{"$f":"+SUMIFS(InTran!$S:$S,InTran!$G:$G,C171,InTran!$O:$O,$C$160,InTran!$C:$C,$X$160)","v":0},{"$f":"+SUMIFS(InTran!$M:$M,InTran!$G:$G,C171,InTran!$O:$O,$C$160,InTran!$C:$C,$X$160)","v":0},{"$f":"+IFERROR(X171/SUM($X$162:$X$183),0)","v":0},{"$f":"+SUMIFS(InTran!$R:$R,InTran!$G:$G,C171,InTran!$O:$O,$C$160)","v":18025808.559999999},{"$f":"+SUMIFS(InTran!$S:$S,InTran!$G:$G,C171,InTran!$O:$O,$C$160)","v":18979.810000000001},{"$f":"+SUMIFS(InTran!$M:$M,InTran!$G:$G,C171,InTran!$O:$O,$C$160)","v":1205569.06},{"$f":"+IFERROR(AB171/SUM($AB$162:$AB$183),0)","v":3.7468141649070259E-2},{"$f":"+RANK(AB171,$AB$162:$AB$183)","v":10}]
[null,null,"ALLIANCE INVESTMENT BANK BERHAD",{"$f":"+SUMIFS(InTran!$R:$R,InTran!$G:$G,C172,InTran!$O:$O,$C$160,InTran!$C:$C,$D$160)","v":13394303.419999998},{"$f":"+SUMIFS(InTran!$S:$S,InTran!$G:$G,C172,InTran!$O:$O,$C$160,InTran!$C:$C,$D$160)","v":21067.53},{"$f":"+SUMIFS(InTran!$M:$M,InTran!$G:$G,C172,InTran!$O:$O,$C$160,InTran!$C:$C,$D$160)","v":1092200.8900000001},{"$f":"+IFERROR(D172/SUM($D$162:$D$183),0)","v":2.798589568876178E-2},{"$f":"+SUMIFS(InTran!$R:$R,InTran!$G:$G,C172,InTran!$O:$O,$C$160,InTran!$C:$C,$H$160)","v":0},{"$f":"+SUMIFS(InTran!$S:$S,InTran!$G:$G,C172,InTran!$O:$O,$C$160,InTran!$C:$C,$H$160)","v":0},{"$f":"+SUMIFS(InTran!$M:$M,InTran!$G:$G,C172,InTran!$O:$O,$C$160,InTran!$C:$C,$H$160)","v":0},{"$f":"+IFERROR(H172/SUM($H$162:$H$183),0)","v":0},{"$f":"+SUMIFS(InTran!$R:$R,InTran!$G:$G,C172,InTran!$O:$O,$C$160,InTran!$C:$C,$L$160)","v":0},{"$f":"+SUMIFS(InTran!$S:$S,InTran!$G:$G,C172,InTran!$O:$O,$C$160,InTran!$C:$C,$L$160)","v":0},{"$f":"+SUMIFS(InTran!$M:$M,InTran!$G:$G,C172,InTran!$O:$O,$C$160,InTran!$C:$C,$L$160)","v":0},{"$f":"+IFERROR(L172/SUM($L$162:$L$183),0)","v":0},{"$f":"+SUMIFS(InTran!$R:$R,InTran!$G:$G,C172,InTran!$O:$O,$C$160,InTran!$C:$C,$P$160)","v":0},{"$f":"+SUMIFS(InTran!$S:$S,InTran!$G:$G,C172,InTran!$O:$O,$C$160,InTran!$C:$C,$P$160)","v":0},{"$f":"+SUMIFS(InTran!$M:$M,InTran!$G:$G,C172,InTran!$O:$O,$C$160,InTran!$C:$C,$P$160)","v":0},{"$f":"+IFERROR(P172/SUM($P$162:$P$183),0)","v":0},{"$f":"+SUMIFS(InTran!$R:$R,InTran!$G:$G,C172,InTran!$O:$O,$C$160,InTran!$C:$C,$T$160)","v":0},{"$f":"+SUMIFS(InTran!$S:$S,InTran!$G:$G,C172,InTran!$O:$O,$C$160,InTran!$C:$C,$T$160)","v":0},{"$f":"+SUMIFS(InTran!$M:$M,InTran!$G:$G,C172,InTran!$O:$O,$C$160,InTran!$C:$C,$T$160)","v":0},{"$f":"+IFERROR(T172/SUM($T$162:$T$183),0)","v":0},{"$f":"+SUMIFS(InTran!$R:$R,InTran!$G:$G,C172,InTran!$O:$O,$C$160,InTran!$C:$C,$X$160)","v":0},{"$f":"+SUMIFS(InTran!$S:$S,InTran!$G:$G,C172,InTran!$O:$O,$C$160,InTran!$C:$C,$X$160)","v":0},{"$f":"+SUMIFS(InTran!$M:$M,InTran!$G:$G,C172,InTran!$O:$O,$C$160,InTran!$C:$C,$X$160)","v":0},{"$f":"+IFERROR(X172/SUM($X$162:$X$183),0)","v":0},{"$f":"+SUMIFS(InTran!$R:$R,InTran!$G:$G,C172,InTran!$O:$O,$C$160)","v":13394303.419999998},{"$f":"+SUMIFS(InTran!$S:$S,InTran!$G:$G,C172,InTran!$O:$O,$C$160)","v":21067.53},{"$f":"+SUMIFS(InTran!$M:$M,InTran!$G:$G,C172,InTran!$O:$O,$C$160)","v":1092200.8900000001},{"$f":"+IFERROR(AB172/SUM($AB$162:$AB$183),0)","v":2.784117318014977E-2},{"$f":"+RANK(AB172,$AB$162:$AB$183)","v":11}]
[null,null,"MIDF AMANAH INVESTMENT BANK BHD",{"$f":"+SUMIFS(InTran!$R:$R,InTran!$G:$G,C173,InTran!$O:$O,$C$160,InTran!$C:$C,$D$160)","v":6661175.4699999997},{"$f":"+SUMIFS(InTran!$S:$S,InTran!$G:$G,C173,InTran!$O:$O,$C$160,InTran!$C:$C,$D$160)","v":13555.7},{"$f":"+SUMIFS(InTran!$M:$M,InTran!$G:$G,C173,InTran!$O:$O,$C$160,InTran!$C:$C,$D$160)","v":561141.86},{"$f":"+IFERROR(D173/SUM($D$162:$D$183),0)","v":1.3917779523316095E-2},{"$f":"+SUMIFS(InTran!$R:$R,InTran!$G:$G,C173,InTran!$O:$O,$C$160,InTran!$C:$C,$H$160)","v":0},{"$f":"+SUMIFS(InTran!$S:$S,InTran!$G:$G,C173,InTran!$O:$O,$C$160,InTran!$C:$C,$H$160)","v":0},{"$f":"+SUMIFS(InTran!$M:$M,InTran!$G:$G,C173,InTran!$O:$O,$C$160,InTran!$C:$C,$H$160)","v":0},{"$f":"+IFERROR(H173/SUM($H$162:$H$183),0)","v":0},{"$f":"+SUMIFS(InTran!$R:$R,InTran!$G:$G,C173,InTran!$O:$O,$C$160,InTran!$C:$C,$L$160)","v":0},{"$f":"+SUMIFS(InTran!$S:$S,InTran!$G:$G,C173,InTran!$O:$O,$C$160,InTran!$C:$C,$L$160)","v":0},{"$f":"+SUMIFS(InTran!$M:$M,InTran!$G:$G,C173,InTran!$O:$O,$C$160,InTran!$C:$C,$L$160)","v":0},{"$f":"+IFERROR(L173/SUM($L$162:$L$183),0)","v":0},{"$f":"+SUMIFS(InTran!$R:$R,InTran!$G:$G,C173,InTran!$O:$O,$C$160,InTran!$C:$C,$P$160)","v":0},{"$f":"+SUMIFS(InTran!$S:$S,InTran!$G:$G,C173,InTran!$O:$O,$C$160,InTran!$C:$C,$P$160)","v":0},{"$f":"+SUMIFS(InTran!$M:$M,InTran!$G:$G,C173,InTran!$O:$O,$C$160,InTran!$C:$C,$P$160)","v":0},{"$f":"+IFERROR(P173/SUM($P$162:$P$183),0)","v":0},{"$f":"+SUMIFS(InTran!$R:$R,InTran!$G:$G,C173,InTran!$O:$O,$C$160,InTran!$C:$C,$T$160)","v":0},{"$f":"+SUMIFS(InTran!$S:$S,InTran!$G:$G,C173,InTran!$O:$O,$C$160,InTran!$C:$C,$T$160)","v":0},{"$f":"+SUMIFS(InTran!$M:$M,InTran!$G:$G,C173,InTran!$O:$O,$C$160,InTran!$C:$C,$T$160)","v":0},{"$f":"+IFERROR(T173/SUM($T$162:$T$183),0)","v":0},{"$f":"+SUMIFS(InTran!$R:$R,InTran!$G:$G,C173,InTran!$O:$O,$C$160,InTran!$C:$C,$X$160)","v":0},{"$f":"+SUMIFS(InTran!$S:$S,InTran!$G:$G,C173,InTran!$O:$O,$C$160,InTran!$C:$C,$X$160)","v":0},{"$f":"+SUMIFS(InTran!$M:$M,InTran!$G:$G,C173,InTran!$O:$O,$C$160,InTran!$C:$C,$X$160)","v":0},{"$f":"+IFERROR(X173/SUM($X$162:$X$183),0)","v":0},{"$f":"+SUMIFS(InTran!$R:$R,InTran!$G:$G,C173,InTran!$O:$O,$C$160)","v":6661175.4699999997},{"$f":"+SUMIFS(InTran!$S:$S,InTran!$G:$G,C173,InTran!$O:$O,$C$160)","v":13555.7},{"$f":"+SUMIFS(InTran!$M:$M,InTran!$G:$G,C173,InTran!$O:$O,$C$160)","v":561141.86},{"$f":"+IFERROR(AB173/SUM($AB$162:$AB$183),0)","v":1.3845806984387067E-2},{"$f":"+RANK(AB173,$AB$162:$AB$183)","v":12}]
[null,null,"CREDIT SUISSE SECURITIES (M) SDN BHD",{"$f":"+SUMIFS(InTran!$R:$R,InTran!$G:$G,C174,InTran!$O:$O,$C$160,InTran!$C:$C,$D$160)","v":1691312.91},{"$f":"+SUMIFS(InTran!$S:$S,InTran!$G:$G,C174,InTran!$O:$O,$C$160,InTran!$C:$C,$D$160)","v":3374},{"$f":"+SUMIFS(InTran!$M:$M,InTran!$G:$G,C174,InTran!$O:$O,$C$160,InTran!$C:$C,$D$160)","v":0},{"$f":"+IFERROR(D174/SUM($D$162:$D$183),0)","v":3.5338087537751285E-3},{"$f":"+SUMIFS(InTran!$R:$R,InTran!$G:$G,C174,InTran!$O:$O,$C$160,InTran!$C:$C,$H$160)","v":0},{"$f":"+SUMIFS(InTran!$S:$S,InTran!$G:$G,C174,InTran!$O:$O,$C$160,InTran!$C:$C,$H$160)","v":0},{"$f":"+SUMIFS(InTran!$M:$M,InTran!$G:$G,C174,InTran!$O:$O,$C$160,InTran!$C:$C,$H$160)","v":0},{"$f":"+IFERROR(H174/SUM($H$162:$H$183),0)","v":0},{"$f":"+SUMIFS(InTran!$R:$R,InTran!$G:$G,C174,InTran!$O:$O,$C$160,InTran!$C:$C,$L$160)","v":0},{"$f":"+SUMIFS(InTran!$S:$S,InTran!$G:$G,C174,InTran!$O:$O,$C$160,InTran!$C:$C,$L$160)","v":0},{"$f":"+SUMIFS(InTran!$M:$M,InTran!$G:$G,C174,InTran!$O:$O,$C$160,InTran!$C:$C,$L$160)","v":0},{"$f":"+IFERROR(L174/SUM($L$162:$L$183),0)","v":0},{"$f":"+SUMIFS(InTran!$R:$R,InTran!$G:$G,C174,InTran!$O:$O,$C$160,InTran!$C:$C,$P$160)","v":0},{"$f":"+SUMIFS(InTran!$S:$S,InTran!$G:$G,C174,InTran!$O:$O,$C$160,InTran!$C:$C,$P$160)","v":0},{"$f":"+SUMIFS(InTran!$M:$M,InTran!$G:$G,C174,InTran!$O:$O,$C$160,InTran!$C:$C,$P$160)","v":0},{"$f":"+IFERROR(P174/SUM($P$162:$P$183),0)","v":0},{"$f":"+SUMIFS(InTran!$R:$R,InTran!$G:$G,C174,InTran!$O:$O,$C$160,InTran!$C:$C,$T$160)","v":0},{"$f":"+SUMIFS(InTran!$S:$S,InTran!$G:$G,C174,InTran!$O:$O,$C$160,InTran!$C:$C,$T$160)","v":0},{"$f":"+SUMIFS(InTran!$M:$M,InTran!$G:$G,C174,InTran!$O:$O,$C$160,InTran!$C:$C,$T$160)","v":0},{"$f":"+IFERROR(T174/SUM($T$162:$T$183),0)","v":0},{"$f":"+SUMIFS(InTran!$R:$R,InTran!$G:$G,C174,InTran!$O:$O,$C$160,InTran!$C:$C,$X$160)","v":0},{"$f":"+SUMIFS(InTran!$S:$S,InTran!$G:$G,C174,InTran!$O:$O,$C$160,InTran!$C:$C,$X$160)","v":0},{"$f":"+SUMIFS(InTran!$M:$M,InTran!$G:$G,C174,InTran!$O:$O,$C$160,InTran!$C:$C,$X$160)","v":0},{"$f":"+IFERROR(X174/SUM($X$162:$X$183),0)","v":0},{"$f":"+SUMIFS(InTran!$R:$R,InTran!$G:$G,C174,InTran!$O:$O,$C$160)","v":1691312.91},{"$f":"+SUMIFS(InTran!$S:$S,InTran!$G:$G,C174,InTran!$O:$O,$C$160)","v":3374},{"$f":"+SUMIFS(InTran!$M:$M,InTran!$G:$G,C174,InTran!$O:$O,$C$160)","v":0},{"$f":"+IFERROR(AB174/SUM($AB$162:$AB$183),0)","v":3.5155344889994337E-3},{"$f":"+RANK(AB174,$AB$162:$AB$183)","v":13}]
[null,null,"CLSA LIMITED FOREIGN",{"$f":"+SUMIFS(InTran!$R:$R,InTran!$G:$G,C175,InTran!$O:$O,$C$160,InTran!$C:$C,$D$160)","v":0},{"$f":"+SUMIFS(InTran!$S:$S,InTran!$G:$G,C175,InTran!$O:$O,$C$160,InTran!$C:$C,$D$160)","v":0},{"$f":"+SUMIFS(InTran!$M:$M,InTran!$G:$G,C175,InTran!$O:$O,$C$160,InTran!$C:$C,$D$160)","v":0},{"$f":"+IFERROR(D175/SUM($D$162:$D$183),0)","v":0},{"$f":"+SUMIFS(InTran!$R:$R,InTran!$G:$G,C175,InTran!$O:$O,$C$160,InTran!$C:$C,$H$160)","v":0},{"$f":"+SUMIFS(InTran!$S:$S,InTran!$G:$G,C175,InTran!$O:$O,$C$160,InTran!$C:$C,$H$160)","v":0},{"$f":"+SUMIFS(InTran!$M:$M,InTran!$G:$G,C175,InTran!$O:$O,$C$160,InTran!$C:$C,$H$160)","v":0},{"$f":"+IFERROR(H175/SUM($H$162:$H$183),0)","v":0},{"$f":"+SUMIFS(InTran!$R:$R,InTran!$G:$G,C175,InTran!$O:$O,$C$160,InTran!$C:$C,$L$160)","v":0},{"$f":"+SUMIFS(InTran!$S:$S,InTran!$G:$G,C175,InTran!$O:$O,$C$160,InTran!$C:$C,$L$160)","v":0},{"$f":"+SUMIFS(InTran!$M:$M,InTran!$G:$G,C175,InTran!$O:$O,$C$160,InTran!$C:$C,$L$160)","v":0},{"$f":"+IFERROR(L175/SUM($L$162:$L$183),0)","v":0},{"$f":"+SUMIFS(InTran!$R:$R,InTran!$G:$G,C175,InTran!$O:$O,$C$160,InTran!$C:$C,$P$160)","v":0},{"$f":"+SUMIFS(InTran!$S:$S,InTran!$G:$G,C175,InTran!$O:$O,$C$160,InTran!$C:$C,$P$160)","v":0},{"$f":"+SUMIFS(InTran!$M:$M,InTran!$G:$G,C175,InTran!$O:$O,$C$160,InTran!$C:$C,$P$160)","v":0},{"$f":"+IFERROR(P175/SUM($P$162:$P$183),0)","v":0},{"$f":"+SUMIFS(InTran!$R:$R,InTran!$G:$G,C175,InTran!$O:$O,$C$160,InTran!$C:$C,$T$160)","v":0},{"$f":"+SUMIFS(InTran!$S:$S,InTran!$G:$G,C175,InTran!$O:$O,$C$160,InTran!$C:$C,$T$160)","v":0},{"$f":"+SUMIFS(InTran!$M:$M,InTran!$G:$G,C175,InTran!$O:$O,$C$160,InTran!$C:$C,$T$160)","v":0},{"$f":"+IFERROR(T175/SUM($T$162:$T$183),0)","v":0},{"$f":"+SUMIFS(InTran!$R:$R,InTran!$G:$G,C175,InTran!$O:$O,$C$160,InTran!$C:$C,$X$160)","v":145985.07656494298},{"$f":"+SUMIFS(InTran!$S:$S,InTran!$G:$G,C175,InTran!$O:$O,$C$160,InTran!$C:$C,$X$160)","v":262.27320632346982},{"$f":"+SUMIFS(InTran!$M:$M,InTran!$G:$G,C175,InTran!$O:$O,$C$160,InTran!$C:$C,$X$160)","v":0},{"$f":"+IFERROR(X175/SUM($X$162:$X$183),0)","v":1},{"$f":"+SUMIFS(InTran!$R:$R,InTran!$G:$G,C175,InTran!$O:$O,$C$160)","v":145985.07656494298},{"$f":"+SUMIFS(InTran!$S:$S,InTran!$G:$G,C175,InTran!$O:$O,$C$160)","v":262.27320632346982},{"$f":"+SUMIFS(InTran!$M:$M,InTran!$G:$G,C175,InTran!$O:$O,$C$160)","v":0},{"$f":"+IFERROR(AB175/SUM($AB$162:$AB$183),0)","v":3.0344211795987539E-4},{"$f":"+RANK(AB175,$AB$162:$AB$183)","v":14}]
[null,null,"AMINVESTMENT BANK BHD",{"$f":"+SUMIFS(InTran!$R:$R,InTran!$G:$G,C176,InTran!$O:$O,$C$160,InTran!$C:$C,$D$160)","v":0},{"$f":"+SUMIFS(InTran!$S:$S,InTran!$G:$G,C176,InTran!$O:$O,$C$160,InTran!$C:$C,$D$160)","v":0},{"$f":"+SUMIFS(InTran!$M:$M,InTran!$G:$G,C176,InTran!$O:$O,$C$160,InTran!$C:$C,$D$160)","v":0},{"$f":"+IFERROR(D176/SUM($D$162:$D$183),0)","v":0},{"$f":"+SUMIFS(InTran!$R:$R,InTran!$G:$G,C176,InTran!$O:$O,$C$160,InTran!$C:$C,$H$160)","v":0},{"$f":"+SUMIFS(InTran!$S:$S,InTran!$G:$G,C176,InTran!$O:$O,$C$160,InTran!$C:$C,$H$160)","v":0},{"$f":"+SUMIFS(InTran!$M:$M,InTran!$G:$G,C176,InTran!$O:$O,$C$160,InTran!$C:$C,$H$160)","v":0},{"$f":"+IFERROR(H176/SUM($H$162:$H$183),0)","v":0},{"$f":"+SUMIFS(InTran!$R:$R,InTran!$G:$G,C176,InTran!$O:$O,$C$160,InTran!$C:$C,$L$160)","v":0},{"$f":"+SUMIFS(InTran!$S:$S,InTran!$G:$G,C176,InTran!$O:$O,$C$160,InTran!$C:$C,$L$160)","v":0},{"$f":"+SUMIFS(InTran!$M:$M,InTran!$G:$G,C176,InTran!$O:$O,$C$160,InTran!$C:$C,$L$160)","v":0},{"$f":"+IFERROR(L176/SUM($L$162:$L$183),0)","v":0},{"$f":"+SUMIFS(InTran!$R:$R,InTran!$G:$G,C176,InTran!$O:$O,$C$160,InTran!$C:$C,$P$160)","v":0},{"$f":"+SUMIFS(InTran!$S:$S,InTran!$G:$G,C176,InTran!$O:$O,$C$160,InTran!$C:$C,$P$160)","v":0},{"$f":"+SUMIFS(InTran!$M:$M,InTran!$G:$G,C176,InTran!$O:$O,$C$160,InTran!$C:$C,$P$160)","v":0},{"$f":"+IFERROR(P176/SUM($P$162:$P$183),0)","v":0},{"$f":"+SUMIFS(InTran!$R:$R,InTran!$G:$G,C176,InTran!$O:$O,$C$160,InTran!$C:$C,$T$160)","v":0},{"$f":"+SUMIFS(InTran!$S:$S,InTran!$G:$G,C176,InTran!$O:$O,$C$160,InTran!$C:$C,$T$160)","v":0},{"$f":"+SUMIFS(InTran!$M:$M,InTran!$G:$G,C176,InTran!$O:$O,$C$160,InTran!$C:$C,$T$160)","v":0},{"$f":"+IFERROR(T176/SUM($T$162:$T$183),0)","v":0},{"$f":"+SUMIFS(InTran!$R:$R,InTran!$G:$G,C176,InTran!$O:$O,$C$160,InTran!$C:$C,$X$160)","v":0},{"$f":"+SUMIFS(InTran!$S:$S,InTran!$G:$G,C176,InTran!$O:$O,$C$160,InTran!$C:$C,$X$160)","v":0},{"$f":"+SUMIFS(InTran!$M:$M,InTran!$G:$G,C176,InTran!$O:$O,$C$160,InTran!$C:$C,$X$160)","v":0},{"$f":"+IFERROR(X176/SUM($X$162:$X$183),0)","v":0},{"$f":"+SUMIFS(InTran!$R:$R,InTran!$G:$G,C176,InTran!$O:$O,$C$160)","v":0},{"$f":"+SUMIFS(InTran!$S:$S,InTran!$G:$G,C176,InTran!$O:$O,$C$160)","v":0},{"$f":"+SUMIFS(InTran!$M:$M,InTran!$G:$G,C176,InTran!$O:$O,$C$160)","v":0},{"$f":"+IFERROR(AB176/SUM($AB$162:$AB$183),0)","v":0},{"$f":"+RANK(AB176,$AB$162:$AB$183)","v":15}]
[null,null,"CIMB INVESTMENT BANK BHD (FOREIGN)",{"$f":"+SUMIFS(InTran!$R:$R,InTran!$G:$G,C177,InTran!$O:$O,$C$160,InTran!$C:$C,$D$160)","v":0},{"$f":"+SUMIFS(InTran!$S:$S,InTran!$G:$G,C177,InTran!$O:$O,$C$160,InTran!$C:$C,$D$160)","v":0},{"$f":"+SUMIFS(InTran!$M:$M,InTran!$G:$G,C177,InTran!$O:$O,$C$160,InTran!$C:$C,$D$160)","v":0},{"$f":"+IFERROR(D177/SUM($D$162:$D$183),0)","v":0},{"$f":"+SUMIFS(InTran!$R:$R,InTran!$G:$G,C177,InTran!$O:$O,$C$160,InTran!$C:$C,$H$160)","v":0},{"$f":"+SUMIFS(InTran!$S:$S,InTran!$G:$G,C177,InTran!$O:$O,$C$160,InTran!$C:$C,$H$160)","v":0},{"$f":"+SUMIFS(InTran!$M:$M,InTran!$G:$G,C177,InTran!$O:$O,$C$160,InTran!$C:$C,$H$160)","v":0},{"$f":"+IFERROR(H177/SUM($H$162:$H$183),0)","v":0},{"$f":"+SUMIFS(InTran!$R:$R,InTran!$G:$G,C177,InTran!$O:$O,$C$160,InTran!$C:$C,$L$160)","v":0},{"$f":"+SUMIFS(InTran!$S:$S,InTran!$G:$G,C177,InTran!$O:$O,$C$160,InTran!$C:$C,$L$160)","v":0},{"$f":"+SUMIFS(InTran!$M:$M,InTran!$G:$G,C177,InTran!$O:$O,$C$160,InTran!$C:$C,$L$160)","v":0},{"$f":"+IFERROR(L177/SUM($L$162:$L$183),0)","v":0},{"$f":"+SUMIFS(InTran!$R:$R,InTran!$G:$G,C177,InTran!$O:$O,$C$160,InTran!$C:$C,$P$160)","v":0},{"$f":"+SUMIFS(InTran!$S:$S,InTran!$G:$G,C177,InTran!$O:$O,$C$160,InTran!$C:$C,$P$160)","v":0},{"$f":"+SUMIFS(InTran!$M:$M,InTran!$G:$G,C177,InTran!$O:$O,$C$160,InTran!$C:$C,$P$160)","v":0},{"$f":"+IFERROR(P177/SUM($P$162:$P$183),0)","v":0},{"$f":"+SUMIFS(InTran!$R:$R,InTran!$G:$G,C177,InTran!$O:$O,$C$160,InTran!$C:$C,$T$160)","v":0},{"$f":"+SUMIFS(InTran!$S:$S,InTran!$G:$G,C177,InTran!$O:$O,$C$160,InTran!$C:$C,$T$160)","v":0},{"$f":"+SUMIFS(InTran!$M:$M,InTran!$G:$G,C177,InTran!$O:$O,$C$160,InTran!$C:$C,$T$160)","v":0},{"$f":"+IFERROR(T177/SUM($T$162:$T$183),0)","v":0},{"$f":"+SUMIFS(InTran!$R:$R,InTran!$G:$G,C177,InTran!$O:$O,$C$160,InTran!$C:$C,$X$160)","v":0},{"$f":"+SUMIFS(InTran!$S:$S,InTran!$G:$G,C177,InTran!$O:$O,$C$160,InTran!$C:$C,$X$160)","v":0},{"$f":"+SUMIFS(InTran!$M:$M,InTran!$G:$G,C177,InTran!$O:$O,$C$160,InTran!$C:$C,$X$160)","v":0},{"$f":"+IFERROR(X177/SUM($X$162:$X$183),0)","v":0},{"$f":"+SUMIFS(InTran!$R:$R,InTran!$G:$G,C177,InTran!$O:$O,$C$160)","v":0},{"$f":"+SUMIFS(InTran!$S:$S,InTran!$G:$G,C177,InTran!$O:$O,$C$160)","v":0},{"$f":"+SUMIFS(InTran!$M:$M,InTran!$G:$G,C177,InTran!$O:$O,$C$160)","v":0},{"$f":"+IFERROR(AB177/SUM($AB$162:$AB$183),0)","v":0},{"$f":"+RANK(AB177,$AB$162:$AB$183)","v":15}]
[null,null,"CLSA LIMITED",{"$f":"+SUMIFS(InTran!$R:$R,InTran!$G:$G,C178,InTran!$O:$O,$C$160,InTran!$C:$C,$D$160)","v":0},{"$f":"+SUMIFS(InTran!$S:$S,InTran!$G:$G,C178,InTran!$O:$O,$C$160,InTran!$C:$C,$D$160)","v":0},{"$f":"+SUMIFS(InTran!$M:$M,InTran!$G:$G,C178,InTran!$O:$O,$C$160,InTran!$C:$C,$D$160)","v":0},{"$f":"+IFERROR(D178/SUM($D$162:$D$183),0)","v":0},{"$f":"+SUMIFS(InTran!$R:$R,InTran!$G:$G,C178,InTran!$O:$O,$C$160,InTran!$C:$C,$H$160)","v":0},{"$f":"+SUMIFS(InTran!$S:$S,InTran!$G:$G,C178,InTran!$O:$O,$C$160,InTran!$C:$C,$H$160)","v":0},{"$f":"+SUMIFS(InTran!$M:$M,InTran!$G:$G,C178,InTran!$O:$O,$C$160,InTran!$C:$C,$H$160)","v":0},{"$f":"+IFERROR(H178/SUM($H$162:$H$183),0)","v":0},{"$f":"+SUMIFS(InTran!$R:$R,InTran!$G:$G,C178,InTran!$O:$O,$C$160,InTran!$C:$C,$L$160)","v":0},{"$f":"+SUMIFS(InTran!$S:$S,InTran!$G:$G,C178,InTran!$O:$O,$C$160,InTran!$C:$C,$L$160)","v":0},{"$f":"+SUMIFS(InTran!$M:$M,InTran!$G:$G,C178,InTran!$O:$O,$C$160,InTran!$C:$C,$L$160)","v":0},{"$f":"+IFERROR(L178/SUM($L$162:$L$183),0)","v":0},{"$f":"+SUMIFS(InTran!$R:$R,InTran!$G:$G,C178,InTran!$O:$O,$C$160,InTran!$C:$C,$P$160)","v":0},{"$f":"+SUMIFS(InTran!$S:$S,InTran!$G:$G,C178,InTran!$O:$O,$C$160,InTran!$C:$C,$P$160)","v":0},{"$f":"+SUMIFS(InTran!$M:$M,InTran!$G:$G,C178,InTran!$O:$O,$C$160,InTran!$C:$C,$P$160)","v":0},{"$f":"+IFERROR(P178/SUM($P$162:$P$183),0)","v":0},{"$f":"+SUMIFS(InTran!$R:$R,InTran!$G:$G,C178,InTran!$O:$O,$C$160,InTran!$C:$C,$T$160)","v":0},{"$f":"+SUMIFS(InTran!$S:$S,InTran!$G:$G,C178,InTran!$O:$O,$C$160,InTran!$C:$C,$T$160)","v":0},{"$f":"+SUMIFS(InTran!$M:$M,InTran!$G:$G,C178,InTran!$O:$O,$C$160,InTran!$C:$C,$T$160)","v":0},{"$f":"+IFERROR(T178/SUM($T$162:$T$183),0)","v":0},{"$f":"+SUMIFS(InTran!$R:$R,InTran!$G:$G,C178,InTran!$O:$O,$C$160,InTran!$C:$C,$X$160)","v":0},{"$f":"+SUMIFS(InTran!$S:$S,InTran!$G:$G,C178,InTran!$O:$O,$C$160,InTran!$C:$C,$X$160)","v":0},{"$f":"+SUMIFS(InTran!$M:$M,InTran!$G:$G,C178,InTran!$O:$O,$C$160,InTran!$C:$C,$X$160)","v":0},{"$f":"+IFERROR(X178/SUM($X$162:$X$183),0)","v":0},{"$f":"+SUMIFS(InTran!$R:$R,InTran!$G:$G,C178,InTran!$O:$O,$C$160)","v":0},{"$f":"+SUMIFS(InTran!$S:$S,InTran!$G:$G,C178,InTran!$O:$O,$C$160)","v":0},{"$f":"+SUMIFS(InTran!$M:$M,InTran!$G:$G,C178,InTran!$O:$O,$C$160)","v":0},{"$f":"+IFERROR(AB178/SUM($AB$162:$AB$183),0)","v":0},{"$f":"+RANK(AB178,$AB$162:$AB$183)","v":15}]
[null,null,"MACQUARIE CAPITAL SECURITIES (MALAYSIA) SDN BHD (FOREIGN)",{"$f":"+SUMIFS(InTran!$R:$R,InTran!$G:$G,C179,InTran!$O:$O,$C$160,InTran!$C:$C,$D$160)","v":0},{"$f":"+SUMIFS(InTran!$S:$S,InTran!$G:$G,C179,InTran!$O:$O,$C$160,InTran!$C:$C,$D$160)","v":0},{"$f":"+SUMIFS(InTran!$M:$M,InTran!$G:$G,C179,InTran!$O:$O,$C$160,InTran!$C:$C,$D$160)","v":0},{"$f":"+IFERROR(D179/SUM($D$162:$D$183),0)","v":0},{"$f":"+SUMIFS(InTran!$R:$R,InTran!$G:$G,C179,InTran!$O:$O,$C$160,InTran!$C:$C,$H$160)","v":0},{"$f":"+SUMIFS(InTran!$S:$S,InTran!$G:$G,C179,InTran!$O:$O,$C$160,InTran!$C:$C,$H$160)","v":0},{"$f":"+SUMIFS(InTran!$M:$M,InTran!$G:$G,C179,InTran!$O:$O,$C$160,InTran!$C:$C,$H$160)","v":0},{"$f":"+IFERROR(H179/SUM($H$162:$H$183),0)","v":0},{"$f":"+SUMIFS(InTran!$R:$R,InTran!$G:$G,C179,InTran!$O:$O,$C$160,InTran!$C:$C,$L$160)","v":0},{"$f":"+SUMIFS(InTran!$S:$S,InTran!$G:$G,C179,InTran!$O:$O,$C$160,InTran!$C:$C,$L$160)","v":0},{"$f":"+SUMIFS(InTran!$M:$M,InTran!$G:$G,C179,InTran!$O:$O,$C$160,InTran!$C:$C,$L$160)","v":0},{"$f":"+IFERROR(L179/SUM($L$162:$L$183),0)","v":0},{"$f":"+SUMIFS(InTran!$R:$R,InTran!$G:$G,C179,InTran!$O:$O,$C$160,InTran!$C:$C,$P$160)","v":0},{"$f":"+SUMIFS(InTran!$S:$S,InTran!$G:$G,C179,InTran!$O:$O,$C$160,InTran!$C:$C,$P$160)","v":0},{"$f":"+SUMIFS(InTran!$M:$M,InTran!$G:$G,C179,InTran!$O:$O,$C$160,InTran!$C:$C,$P$160)","v":0},{"$f":"+IFERROR(P179/SUM($P$162:$P$183),0)","v":0},{"$f":"+SUMIFS(InTran!$R:$R,InTran!$G:$G,C179,InTran!$O:$O,$C$160,InTran!$C:$C,$T$160)","v":0},{"$f":"+SUMIFS(InTran!$S:$S,InTran!$G:$G,C179,InTran!$O:$O,$C$160,InTran!$C:$C,$T$160)","v":0},{"$f":"+SUMIFS(InTran!$M:$M,InTran!$G:$G,C179,InTran!$O:$O,$C$160,InTran!$C:$C,$T$160)","v":0},{"$f":"+IFERROR(T179/SUM($T$162:$T$183),0)","v":0},{"$f":"+SUMIFS(InTran!$R:$R,InTran!$G:$G,C179,InTran!$O:$O,$C$160,InTran!$C:$C,$X$160)","v":0},{"$f":"+SUMIFS(InTran!$S:$S,InTran!$G:$G,C179,InTran!$O:$O,$C$160,InTran!$C:$C,$X$160)","v":0},{"$f":"+SUMIFS(InTran!$M:$M,InTran!$G:$G,C179,InTran!$O:$O,$C$160,InTran!$C:$C,$X$160)","v":0},{"$f":"+IFERROR(X179/SUM($X$162:$X$183),0)","v":0},{"$f":"+SUMIFS(InTran!$R:$R,InTran!$G:$G,C179,InTran!$O:$O,$C$160)","v":0},{"$f":"+SUMIFS(InTran!$S:$S,InTran!$G:$G,C179,InTran!$O:$O,$C$160)","v":0},{"$f":"+SUMIFS(InTran!$M:$M,InTran!$G:$G,C179,InTran!$O:$O,$C$160)","v":0},{"$f":"+IFERROR(AB179/SUM($AB$162:$AB$183),0)","v":0},{"$f":"+RANK(AB179,$AB$162:$AB$183)","v":15}]
[null,null,"MAYBANK INVESTMENT BANK BHD (FOREIGN)",{"$f":"+SUMIFS(InTran!$R:$R,InTran!$G:$G,C180,InTran!$O:$O,$C$160,InTran!$C:$C,$D$160)","v":0},{"$f":"+SUMIFS(InTran!$S:$S,InTran!$G:$G,C180,InTran!$O:$O,$C$160,InTran!$C:$C,$D$160)","v":0},{"$f":"+SUMIFS(InTran!$M:$M,InTran!$G:$G,C180,InTran!$O:$O,$C$160,InTran!$C:$C,$D$160)","v":0},{"$f":"+IFERROR(D180/SUM($D$162:$D$183),0)","v":0},{"$f":"+SUMIFS(InTran!$R:$R,InTran!$G:$G,C180,InTran!$O:$O,$C$160,InTran!$C:$C,$H$160)","v":0},{"$f":"+SUMIFS(InTran!$S:$S,InTran!$G:$G,C180,InTran!$O:$O,$C$160,InTran!$C:$C,$H$160)","v":0},{"$f":"+SUMIFS(InTran!$M:$M,InTran!$G:$G,C180,InTran!$O:$O,$C$160,InTran!$C:$C,$H$160)","v":0},{"$f":"+IFERROR(H180/SUM($H$162:$H$183),0)","v":0},{"$f":"+SUMIFS(InTran!$R:$R,InTran!$G:$G,C180,InTran!$O:$O,$C$160,InTran!$C:$C,$L$160)","v":0},{"$f":"+SUMIFS(InTran!$S:$S,InTran!$G:$G,C180,InTran!$O:$O,$C$160,InTran!$C:$C,$L$160)","v":0},{"$f":"+SUMIFS(InTran!$M:$M,InTran!$G:$G,C180,InTran!$O:$O,$C$160,InTran!$C:$C,$L$160)","v":0},{"$f":"+IFERROR(L180/SUM($L$162:$L$183),0)","v":0},{"$f":"+SUMIFS(InTran!$R:$R,InTran!$G:$G,C180,InTran!$O:$O,$C$160,InTran!$C:$C,$P$160)","v":0},{"$f":"+SUMIFS(InTran!$S:$S,InTran!$G:$G,C180,InTran!$O:$O,$C$160,InTran!$C:$C,$P$160)","v":0},{"$f":"+SUMIFS(InTran!$M:$M,InTran!$G:$G,C180,InTran!$O:$O,$C$160,InTran!$C:$C,$P$160)","v":0},{"$f":"+IFERROR(P180/SUM($P$162:$P$183),0)","v":0},{"$f":"+SUMIFS(InTran!$R:$R,InTran!$G:$G,C180,InTran!$O:$O,$C$160,InTran!$C:$C,$T$160)","v":0},{"$f":"+SUMIFS(InTran!$S:$S,InTran!$G:$G,C180,InTran!$O:$O,$C$160,InTran!$C:$C,$T$160)","v":0},{"$f":"+SUMIFS(InTran!$M:$M,InTran!$G:$G,C180,InTran!$O:$O,$C$160,InTran!$C:$C,$T$160)","v":0},{"$f":"+IFERROR(T180/SUM($T$162:$T$183),0)","v":0},{"$f":"+SUMIFS(InTran!$R:$R,InTran!$G:$G,C180,InTran!$O:$O,$C$160,InTran!$C:$C,$X$160)","v":0},{"$f":"+SUMIFS(InTran!$S:$S,InTran!$G:$G,C180,InTran!$O:$O,$C$160,InTran!$C:$C,$X$160)","v":0},{"$f":"+SUMIFS(InTran!$M:$M,InTran!$G:$G,C180,InTran!$O:$O,$C$160,InTran!$C:$C,$X$160)","v":0},{"$f":"+IFERROR(X180/SUM($X$162:$X$183),0)","v":0},{"$f":"+SUMIFS(InTran!$R:$R,InTran!$G:$G,C180,InTran!$O:$O,$C$160)","v":0},{"$f":"+SUMIFS(InTran!$S:$S,InTran!$G:$G,C180,InTran!$O:$O,$C$160)","v":0},{"$f":"+SUMIFS(InTran!$M:$M,InTran!$G:$G,C180,InTran!$O:$O,$C$160)","v":0},{"$f":"+IFERROR(AB180/SUM($AB$162:$AB$183),0)","v":0},{"$f":"+RANK(AB180,$AB$162:$AB$183)","v":15}]
[null,null,"NOT APPLICABLE",{"$f":"+SUMIFS(InTran!$R:$R,InTran!$G:$G,C181,InTran!$O:$O,$C$160,InTran!$C:$C,$D$160)","v":0},{"$f":"+SUMIFS(InTran!$S:$S,InTran!$G:$G,C181,InTran!$O:$O,$C$160,InTran!$C:$C,$D$160)","v":0},{"$f":"+SUMIFS(InTran!$M:$M,InTran!$G:$G,C181,InTran!$O:$O,$C$160,InTran!$C:$C,$D$160)","v":0},{"$f":"+IFERROR(D181/SUM($D$162:$D$183),0)","v":0},{"$f":"+SUMIFS(InTran!$R:$R,InTran!$G:$G,C181,InTran!$O:$O,$C$160,InTran!$C:$C,$H$160)","v":0},{"$f":"+SUMIFS(InTran!$S:$S,InTran!$G:$G,C181,InTran!$O:$O,$C$160,InTran!$C:$C,$H$160)","v":0},{"$f":"+SUMIFS(InTran!$M:$M,InTran!$G:$G,C181,InTran!$O:$O,$C$160,InTran!$C:$C,$H$160)","v":0},{"$f":"+IFERROR(H181/SUM($H$162:$H$183),0)","v":0},{"$f":"+SUMIFS(InTran!$R:$R,InTran!$G:$G,C181,InTran!$O:$O,$C$160,InTran!$C:$C,$L$160)","v":0},{"$f":"+SUMIFS(InTran!$S:$S,InTran!$G:$G,C181,InTran!$O:$O,$C$160,InTran!$C:$C,$L$160)","v":0},{"$f":"+SUMIFS(InTran!$M:$M,InTran!$G:$G,C181,InTran!$O:$O,$C$160,InTran!$C:$C,$L$160)","v":0},{"$f":"+IFERROR(L181/SUM($L$162:$L$183),0)","v":0},{"$f":"+SUMIFS(InTran!$R:$R,InTran!$G:$G,C181,InTran!$O:$O,$C$160,InTran!$C:$C,$P$160)","v":0},{"$f":"+SUMIFS(InTran!$S:$S,InTran!$G:$G,C181,InTran!$O:$O,$C$160,InTran!$C:$C,$P$160)","v":0},{"$f":"+SUMIFS(InTran!$M:$M,InTran!$G:$G,C181,InTran!$O:$O,$C$160,InTran!$C:$C,$P$160)","v":0},{"$f":"+IFERROR(P181/SUM($P$162:$P$183),0)","v":0},{"$f":"+SUMIFS(InTran!$R:$R,InTran!$G:$G,C181,InTran!$O:$O,$C$160,InTran!$C:$C,$T$160)","v":0},{"$f":"+SUMIFS(InTran!$S:$S,InTran!$G:$G,C181,InTran!$O:$O,$C$160,InTran!$C:$C,$T$160)","v":0},{"$f":"+SUMIFS(InTran!$M:$M,InTran!$G:$G,C181,InTran!$O:$O,$C$160,InTran!$C:$C,$T$160)","v":0},{"$f":"+IFERROR(T181/SUM($T$162:$T$183),0)","v":0},{"$f":"+SUMIFS(InTran!$R:$R,InTran!$G:$G,C181,InTran!$O:$O,$C$160,InTran!$C:$C,$X$160)","v":0},{"$f":"+SUMIFS(InTran!$S:$S,InTran!$G:$G,C181,InTran!$O:$O,$C$160,InTran!$C:$C,$X$160)","v":0},{"$f":"+SUMIFS(InTran!$M:$M,InTran!$G:$G,C181,InTran!$O:$O,$C$160,InTran!$C:$C,$X$160)","v":0},{"$f":"+IFERROR(X181/SUM($X$162:$X$183),0)","v":0},{"$f":"+SUMIFS(InTran!$R:$R,InTran!$G:$G,C181,InTran!$O:$O,$C$160)","v":0},{"$f":"+SUMIFS(InTran!$S:$S,InTran!$G:$G,C181,InTran!$O:$O,$C$160)","v":0},{"$f":"+SUMIFS(InTran!$M:$M,InTran!$G:$G,C181,InTran!$O:$O,$C$160)","v":0},{"$f":"+IFERROR(AB181/SUM($AB$162:$AB$183),0)","v":0},{"$f":"+RANK(AB181,$AB$162:$AB$183)","v":15}]
[null,null,"TA SECURITIES HOLDINGS BHD",{"$f":"+SUMIFS(InTran!$R:$R,InTran!$G:$G,C182,InTran!$O:$O,$C$160,InTran!$C:$C,$D$160)","v":0},{"$f":"+SUMIFS(InTran!$S:$S,InTran!$G:$G,C182,InTran!$O:$O,$C$160,InTran!$C:$C,$D$160)","v":0},{"$f":"+SUMIFS(InTran!$M:$M,InTran!$G:$G,C182,InTran!$O:$O,$C$160,InTran!$C:$C,$D$160)","v":0},{"$f":"+IFERROR(D182/SUM($D$162:$D$183),0)","v":0},{"$f":"+SUMIFS(InTran!$R:$R,InTran!$G:$G,C182,InTran!$O:$O,$C$160,InTran!$C:$C,$H$160)","v":0},{"$f":"+SUMIFS(InTran!$S:$S,InTran!$G:$G,C182,InTran!$O:$O,$C$160,InTran!$C:$C,$H$160)","v":0},{"$f":"+SUMIFS(InTran!$M:$M,InTran!$G:$G,C182,InTran!$O:$O,$C$160,InTran!$C:$C,$H$160)","v":0},{"$f":"+IFERROR(H182/SUM($H$162:$H$183),0)","v":0},{"$f":"+SUMIFS(InTran!$R:$R,InTran!$G:$G,C182,InTran!$O:$O,$C$160,InTran!$C:$C,$L$160)","v":0},{"$f":"+SUMIFS(InTran!$S:$S,InTran!$G:$G,C182,InTran!$O:$O,$C$160,InTran!$C:$C,$L$160)","v":0},{"$f":"+SUMIFS(InTran!$M:$M,InTran!$G:$G,C182,InTran!$O:$O,$C$160,InTran!$C:$C,$L$160)","v":0},{"$f":"+IFERROR(L182/SUM($L$162:$L$183),0)","v":0},{"$f":"+SUMIFS(InTran!$R:$R,InTran!$G:$G,C182,InTran!$O:$O,$C$160,InTran!$C:$C,$P$160)","v":0},{"$f":"+SUMIFS(InTran!$S:$S,InTran!$G:$G,C182,InTran!$O:$O,$C$160,InTran!$C:$C,$P$160)","v":0},{"$f":"+SUMIFS(InTran!$M:$M,InTran!$G:$G,C182,InTran!$O:$O,$C$160,InTran!$C:$C,$P$160)","v":0},{"$f":"+IFERROR(P182/SUM($P$162:$P$183),0)","v":0},{"$f":"+SUMIFS(InTran!$R:$R,InTran!$G:$G,C182,InTran!$O:$O,$C$160,InTran!$C:$C,$T$160)","v":0},{"$f":"+SUMIFS(InTran!$S:$S,InTran!$G:$G,C182,InTran!$O:$O,$C$160,InTran!$C:$C,$T$160)","v":0},{"$f":"+SUMIFS(InTran!$M:$M,InTran!$G:$G,C182,InTran!$O:$O,$C$160,InTran!$C:$C,$T$160)","v":0},{"$f":"+IFERROR(T182/SUM($T$162:$T$183),0)","v":0},{"$f":"+SUMIFS(InTran!$R:$R,InTran!$G:$G,C182,InTran!$O:$O,$C$160,InTran!$C:$C,$X$160)","v":0},{"$f":"+SUMIFS(InTran!$S:$S,InTran!$G:$G,C182,InTran!$O:$O,$C$160,InTran!$C:$C,$X$160)","v":0},{"$f":"+SUMIFS(InTran!$M:$M,InTran!$G:$G,C182,InTran!$O:$O,$C$160,InTran!$C:$C,$X$160)","v":0},{"$f":"+IFERROR(X182/SUM($X$162:$X$183),0)","v":0},{"$f":"+SUMIFS(InTran!$R:$R,InTran!$G:$G,C182,InTran!$O:$O,$C$160)","v":0},{"$f":"+SUMIFS(InTran!$S:$S,InTran!$G:$G,C182,InTran!$O:$O,$C$160)","v":0},{"$f":"+SUMIFS(InTran!$M:$M,InTran!$G:$G,C182,InTran!$O:$O,$C$160)","v":0},{"$f":"+IFERROR(AB182/SUM($AB$162:$AB$183),0)","v":0},{"$f":"+RANK(AB182,$AB$162:$AB$183)","v":15}]
[null,null,"UBS SECURITIES MALAYSIA SDN BHD",{"$f":"+SUMIFS(InTran!$R:$R,InTran!$G:$G,C183,InTran!$O:$O,$C$160,InTran!$C:$C,$D$160)","v":0},{"$f":"+SUMIFS(InTran!$S:$S,InTran!$G:$G,C183,InTran!$O:$O,$C$160,InTran!$C:$C,$D$160)","v":0},{"$f":"+SUMIFS(InTran!$M:$M,InTran!$G:$G,C183,InTran!$O:$O,$C$160,InTran!$C:$C,$D$160)","v":0},{"$f":"+IFERROR(D183/SUM($D$162:$D$183),0)","v":0},{"$f":"+SUMIFS(InTran!$R:$R,InTran!$G:$G,C183,InTran!$O:$O,$C$160,InTran!$C:$C,$H$160)","v":0},{"$f":"+SUMIFS(InTran!$S:$S,InTran!$G:$G,C183,InTran!$O:$O,$C$160,InTran!$C:$C,$H$160)","v":0},{"$f":"+SUMIFS(InTran!$M:$M,InTran!$G:$G,C183,InTran!$O:$O,$C$160,InTran!$C:$C,$H$160)","v":0},{"$f":"+IFERROR(H183/SUM($H$162:$H$183),0)","v":0},{"$f":"+SUMIFS(InTran!$R:$R,InTran!$G:$G,C183,InTran!$O:$O,$C$160,InTran!$C:$C,$L$160)","v":0},{"$f":"+SUMIFS(InTran!$S:$S,InTran!$G:$G,C183,InTran!$O:$O,$C$160,InTran!$C:$C,$L$160)","v":0},{"$f":"+SUMIFS(InTran!$M:$M,InTran!$G:$G,C183,InTran!$O:$O,$C$160,InTran!$C:$C,$L$160)","v":0},{"$f":"+IFERROR(L183/SUM($L$162:$L$183),0)","v":0},{"$f":"+SUMIFS(InTran!$R:$R,InTran!$G:$G,C183,InTran!$O:$O,$C$160,InTran!$C:$C,$P$160)","v":0},{"$f":"+SUMIFS(InTran!$S:$S,InTran!$G:$G,C183,InTran!$O:$O,$C$160,InTran!$C:$C,$P$160)","v":0},{"$f":"+SUMIFS(InTran!$M:$M,InTran!$G:$G,C183,InTran!$O:$O,$C$160,InTran!$C:$C,$P$160)","v":0},{"$f":"+IFERROR(P183/SUM($P$162:$P$183),0)","v":0},{"$f":"+SUMIFS(InTran!$R:$R,InTran!$G:$G,C183,InTran!$O:$O,$C$160,InTran!$C:$C,$T$160)","v":0},{"$f":"+SUMIFS(InTran!$S:$S,InTran!$G:$G,C183,InTran!$O:$O,$C$160,InTran!$C:$C,$T$160)","v":0},{"$f":"+SUMIFS(InTran!$M:$M,InTran!$G:$G,C183,InTran!$O:$O,$C$160,InTran!$C:$C,$T$160)","v":0},{"$f":"+IFERROR(T183/SUM($T$162:$T$183),0)","v":0},{"$f":"+SUMIFS(InTran!$R:$R,InTran!$G:$G,C183,InTran!$O:$O,$C$160,InTran!$C:$C,$X$160)","v":0},{"$f":"+SUMIFS(InTran!$S:$S,InTran!$G:$G,C183,InTran!$O:$O,$C$160,InTran!$C:$C,$X$160)","v":0},{"$f":"+SUMIFS(InTran!$M:$M,InTran!$G:$G,C183,InTran!$O:$O,$C$160,InTran!$C:$C,$X$160)","v":0},{"$f":"+IFERROR(X183/SUM($X$162:$X$183),0)","v":0},{"$f":"+SUMIFS(InTran!$R:$R,InTran!$G:$G,C183,InTran!$O:$O,$C$160)","v":0},{"$f":"+SUMIFS(InTran!$S:$S,InTran!$G:$G,C183,InTran!$O:$O,$C$160)","v":0},{"$f":"+SUMIFS(InTran!$M:$M,InTran!$G:$G,C183,InTran!$O:$O,$C$160)","v":0},{"$f":"+IFERROR(AB183/SUM($AB$162:$AB$183),0)","v":0},{"$f":"+RANK(AB183,$AB$162:$AB$183)","v":15}]
[null,null,"Total",{"$f":"SUM(D162:D183)","v":478609066.8300001},{"$f":"SUM(E162:E183)","v":663028.78999999992},{"$f":"SUM(F162:F183)","v":21570822.469999999},{"$f":"SUM(G162:G183)","v":0.99999999999999967},{"$f":"SUM(H162:H183)","v":2341895.17},{"$f":"SUM(I162:I183)","v":4672},{"$f":"SUM(J162:J183)","v":0},{"$f":"SUM(K162:K183)","v":1},{"$f":"SUM(L162:L183)","v":0},{"$f":"SUM(M162:M183)","v":0},{"$f":"SUM(N162:N183)","v":0},{"$f":"SUM(O162:O183)","v":0},{"$f":"SUM(P162:P183)","v":0},{"$f":"SUM(Q162:Q183)","v":0},{"$f":"SUM(R162:R183)","v":0},{"$f":"SUM(S162:S183)","v":0},{"$f":"SUM(T162:T183)","v":0},{"$f":"SUM(U162:U183)","v":0},{"$f":"SUM(V162:V183)","v":0},{"$f":"SUM(W162:W183)","v":0},{"$f":"SUM(X162:X183)","v":145985.07656494298},{"$f":"SUM(Y162:Y183)","v":262.27320632346982},{"$f":"SUM(Z162:Z183)","v":0},{"$f":"SUM(AA162:AA183)","v":1},{"$f":"SUM(AB162:AB183)","v":481096947.07656509},{"$f":"SUM(AC162:AC183)","v":667963.06320632342},{"$f":"SUM(AD162:AD183)","v":21570822.469999999},{"$f":"SUM(AE162:AE183)","v":0.99999999999999978}]
[]
[null,null,"Total","YH-AUR-VCAM",null,null,null,"KWAP",null,null,null,"MEQESG",null,null,null,"YAMIR-VCAM",null,null,null,"VCAM-TABA",null,null,null,"ASEAN5ESG",null,null,null,"Total"]
[null,null,"Brokers","Trade Value (RM)","Brokerage Fees (RM)","Capital Gains (RM)","%","Trade Value (RM)","Brokerage Fees (RM)","Capital Gains (RM)","%","Trade Value (RM)","Brokerage Fees (RM)","Capital Gains (RM)","%","Trade Value (RM)","Brokerage Fees (RM)","Capital Gains (RM)","%","Trade Value (RM)","Brokerage Fees (RM)","Capital Gains (RM)","%","Trade Value (RM)","Brokerage Fees (RM)","Capital Gains (RM)","%","Trade Value (RM)","Brokerage Fees (RM)","Capital Gains (RM)","%","Trade Value Ranking"]
[null,null,"CIMB INVESTMENT BANK BHD",{"$f":"+SUMIFS($D$1:$D$187,$C$1:$C$187,C188)","v":106547468.73},{"$f":"+SUMIFS($E$1:$E$187,$C$1:$C$187,C188)","v":193735.74},{"$f":"+SUMIFS($F$1:$F$187,$C$1:$C$187,C188)","v":6376545},{"$f":"+IFERROR(D188/SUM($D$188:$D$209),0)","v":8.0530155925297289E-2},{"$f":"+SUMIFS($H$1:$H$187,$C$1:$C$187,C188)","v":103461589.94},{"$f":"+SUMIFS($I$1:$I$187,$C$1:$C$187,C188)","v":155895.34999999998},{"$f":"+SUMIFS($J$1:$J$187,$C$1:$C$187,C188)","v":2537749.7400000002},{"$f":"+IFERROR(H188/SUM($H$188:$H$209),0)","v":0.1308885882075729},{"$f":"+SUMIFS($L$1:$L$187,$C$1:$C$187,C188)","v":46753294.25},{"$f":"+SUMIFS($M$1:$M$187,$C$1:$C$187,C188)","v":99329.069999999992},{"$f":"+SUMIFS($N$1:$N$187,$C$1:$C$187,C188)","v":2184135.2999999993},{"$f":"+IFERROR(L188/SUM($L$188:$L$209),0)","v":0.17220927457536009},{"$f":"+SUMIFS($P$1:$P$187,$C$1:$C$187,C188)","v":6416560.3100000005},{"$f":"+SUMIFS($Q$1:$Q$187,$C$1:$C$187,C188)","v":13601.8},{"$f":"+SUMIFS($R$1:$R$187,$C$1:$C$187,C188)","v":149045.42000000001},{"$f":"+IFERROR(P188/SUM($P$188:$P$209),0)","v":8.9248523489135964E-2},{"$f":"+SUMIFS($T$1:$T$187,$C$1:$C$187,C188)","v":1450055.62},{"$f":"+SUMIFS($U$1:$U$187,$C$1:$C$187,C188)","v":3414.81},{"$f":"+SUMIFS($V$1:$V$187,$C$1:$C$187,C188)","v":33853.370000000003},{"$f":"+IFERROR(T188/SUM($T$188:$T$209),0)","v":4.7031637919604997E-2},{"$f":"+SUMIFS($X$1:$X$187,$C$1:$C$187,C188)","v":624476.38441511523},{"$f":"+SUMIFS($Y$1:$Y$187,$C$1:$C$187,C188)","v":1470.0508660823887},{"$f":"+SUMIFS($Z$1:$Z$187,$C$1:$C$187,C188)","v":0},{"$f":"+IFERROR(X188/SUM($X$188:$X$209),0)","v":5.0443883098094805E-2},{"$f":"+SUMIFS($AB$1:$AB$187,$C$1:$C$187,C188)","v":265253445.23441511},{"$f":"+SUMIFS($AC$1:$AC$187,$C$1:$C$187,C188)","v":467446.82086608239},{"$f":"+SUMIFS($AD$1:$AD$187,$C$1:$C$187,C188)","v":11281328.83},{"$f":"+IFERROR(AB188/SUM($AB$188:$AB$209),0)","v":0.10609592528276296},{"$f":"+RANK(AB188,$AB$188:$AB$209)","v":1}]
[null,null,"MACQUARIE CAPITAL SECURITIES (MALAYSIA) SDN BHD",{"$f":"+SUMIFS($D$1:$D$187,$C$1:$C$187,C189)","v":149802203.56999999},{"$f":"+SUMIFS($E$1:$E$187,$C$1:$C$187,C189)","v":226214.61},{"$f":"+SUMIFS($F$1:$F$187,$C$1:$C$187,C189)","v":8888070.3699999992},{"$f":"+IFERROR(D189/SUM($D$188:$D$209),0)","v":0.11322272556296351},{"$f":"+SUMIFS($H$1:$H$187,$C$1:$C$187,C189)","v":82094633.210000008},{"$f":"+SUMIFS($I$1:$I$187,$C$1:$C$187,C189)","v":150004.29},{"$f":"+SUMIFS($J$1:$J$187,$C$1:$C$187,C189)","v":3199704.4299999997},{"$f":"+IFERROR(H189/SUM($H$188:$H$209),0)","v":0.10385738945735198},{"$f":"+SUMIFS($L$1:$L$187,$C$1:$C$187,C189)","v":17075332.080000002},{"$f":"+SUMIFS($M$1:$M$187,$C$1:$C$187,C189)","v":35511.980000000003},{"$f":"+SUMIFS($N$1:$N$187,$C$1:$C$187,C189)","v":1079762.32},{"$f":"+IFERROR(L189/SUM($L$188:$L$209),0)","v":6.2894617326995625E-2},{"$f":"+SUMIFS($P$1:$P$187,$C$1:$C$187,C189)","v":9445355.4000000004},{"$f":"+SUMIFS($Q$1:$Q$187,$C$1:$C$187,C189)","v":20638.329999999998},{"$f":"+SUMIFS($R$1:$R$187,$C$1:$C$187,C189)","v":291917.76},{"$f":"+IFERROR(P189/SUM($P$188:$P$209),0)","v":0.13137631106909009},{"$f":"+SUMIFS($T$1:$T$187,$C$1:$C$187,C189)","v":549771.19999999995},{"$f":"+SUMIFS($U$1:$U$187,$C$1:$C$187,C189)","v":1240.76},{"$f":"+SUMIFS($V$1:$V$187,$C$1:$C$187,C189)","v":49584.950000000004},{"$f":"+IFERROR(T189/SUM($T$188:$T$209),0)","v":1.7831481537947308E-2},{"$f":"+SUMIFS($X$1:$X$187,$C$1:$C$187,C189)","v":1453268.4881343681},{"$f":"+SUMIFS($Y$1:$Y$187,$C$1:$C$187,C189)","v":3385.5747449312244},{"$f":"+SUMIFS($Z$1:$Z$187,$C$1:$C$187,C189)","v":4611.6899999999996},{"$f":"+IFERROR(X189/SUM($X$188:$X$209),0)","v":0.11739195837526475},{"$f":"+SUMIFS($AB$1:$AB$187,$C$1:$C$187,C189)","v":260420563.94813436},{"$f":"+SUMIFS($AC$1:$AC$187,$C$1:$C$187,C189)","v":436995.54474493122},{"$f":"+SUMIFS($AD$1:$AD$187,$C$1:$C$187,C189)","v":13513651.52},{"$f":"+IFERROR(AB189/SUM($AB$188:$AB$209),0)","v":0.1041628721177171},{"$f":"+RANK(AB189,$AB$188:$AB$209)","v":2}]
[null,null,"CLSA LIMITED",{"$f":"+SUMIFS($D$1:$D$187,$C$1:$C$187,C190)","v":208486335.16999996},{"$f":"+SUMIFS($E$1:$E$187,$C$1:$C$187,C190)","v":276527.92},{"$f":"+SUMIFS($F$1:$F$187,$C$1:$C$187,C190)","v":9949839.9399999976},{"$f":"+IFERROR(D190/SUM($D$188:$D$209),0)","v":0.15757706193921597},{"$f":"+SUMIFS($H$1:$H$187,$C$1:$C$187,C190)","v":15170323.490000002},{"$f":"+SUMIFS($I$1:$I$187,$C$1:$C$187,C190)","v":20420.54},{"$f":"+SUMIFS($J$1:$J$187,$C$1:$C$187,C190)","v":7712.88},{"$f":"+IFERROR(H190/SUM($H$188:$H$209),0)","v":1.9191878120274328E-2},{"$f":"+SUMIFS($L$1:$L$187,$C$1:$C$187,C190)","v":2060141.1400000001},{"$f":"+SUMIFS($M$1:$M$187,$C$1:$C$187,C190)","v":4136.51},{"$f":"+SUMIFS($N$1:$N$187,$C$1:$C$187,C190)","v":-4911.17},{"$f":"+IFERROR(L190/SUM($L$188:$L$209),0)","v":7.5882441426521592E-3},{"$f":"+SUMIFS($P$1:$P$187,$C$1:$C$187,C190)","v":1083629.76},{"$f":"+SUMIFS($Q$1:$Q$187,$C$1:$C$187,C190)","v":2445.08},{"$f":"+SUMIFS($R$1:$R$187,$C$1:$C$187,C190)","v":39279.51},{"$f":"+IFERROR(P190/SUM($P$188:$P$209),0)","v":1.5072305318811343E-2},{"$f":"+SUMIFS($T$1:$T$187,$C$1:$C$187,C190)","v":0},{"$f":"+SUMIFS($U$1:$U$187,$C$1:$C$187,C190)","v":0},{"$f":"+SUMIFS($V$1:$V$187,$C$1:$C$187,C190)","v":0},{"$f":"+IFERROR(T190/SUM($T$188:$T$209),0)","v":0},{"$f":"+SUMIFS($X$1:$X$187,$C$1:$C$187,C190)","v":2254893.9403067194},{"$f":"+SUMIFS($Y$1:$Y$187,$C$1:$C$187,C190)","v":5328.3338063666515},{"$f":"+SUMIFS($Z$1:$Z$187,$C$1:$C$187,C190)","v":-319.36},{"$f":"+IFERROR(X190/SUM($X$188:$X$209),0)","v":0.18214556893127143},{"$f":"+SUMIFS($AB$1:$AB$187,$C$1:$C$187,C190)","v":229055323.50030661},{"$f":"+SUMIFS($AC$1:$AC$187,$C$1:$C$187,C190)","v":308858.38380636665},{"$f":"+SUMIFS($AD$1:$AD$187,$C$1:$C$187,C190)","v":9991601.7999999989},{"$f":"+IFERROR(AB190/SUM($AB$188:$AB$209),0)","v":9.1617420713352549E-2},{"$f":"+RANK(AB190,$AB$188:$AB$209)","v":3}]
[null,null,"RHB INVESTMENT BANK BERHAD",{"$f":"+SUMIFS($D$1:$D$187,$C$1:$C$187,C191)","v":164508111.69},{"$f":"+SUMIFS($E$1:$E$187,$C$1:$C$187,C191)","v":193079.11},{"$f":"+SUMIFS($F$1:$F$187,$C$1:$C$187,C191)","v":7161728.3800000008},{"$f":"+IFERROR(D191/SUM($D$188:$D$209),0)","v":0.1243376688651618},{"$f":"+SUMIFS($H$1:$H$187,$C$1:$C$187,C191)","v":53745991.780000009},{"$f":"+SUMIFS($I$1:$I$187,$C$1:$C$187,C191)","v":100605.53},{"$f":"+SUMIFS($J$1:$J$187,$C$1:$C$187,C191)","v":1148900.98},{"$f":"+IFERROR(H191/SUM($H$188:$H$209),0)","v":6.7993706553124131E-2},{"$f":"+SUMIFS($L$1:$L$187,$C$1:$C$187,C191)","v":0},{"$f":"+SUMIFS($M$1:$M$187,$C$1:$C$187,C191)","v":0},{"$f":"+SUMIFS($N$1:$N$187,$C$1:$C$187,C191)","v":0},{"$f":"+IFERROR(L191/SUM($L$188:$L$209),0)","v":0},{"$f":"+SUMIFS($P$1:$P$187,$C$1:$C$187,C191)","v":7173726.3100000005},{"$f":"+SUMIFS($Q$1:$Q$187,$C$1:$C$187,C191)","v":15521.170000000002},{"$f":"+SUMIFS($R$1:$R$187,$C$1:$C$187,C191)","v":249439.34000000003},{"$f":"+IFERROR(P191/SUM($P$188:$P$209),0)","v":9.9780014548428317E-2},{"$f":"+SUMIFS($T$1:$T$187,$C$1:$C$187,C191)","v":393059.03},{"$f":"+SUMIFS($U$1:$U$187,$C$1:$C$187,C191)","v":881.55},{"$f":"+SUMIFS($V$1:$V$187,$C$1:$C$187,C191)","v":0},{"$f":"+IFERROR(T191/SUM($T$188:$T$209),0)","v":1.2748621311499181E-2},{"$f":"+SUMIFS($X$1:$X$187,$C$1:$C$187,C191)","v":0},{"$f":"+SUMIFS($Y$1:$Y$187,$C$1:$C$187,C191)","v":0},{"$f":"+SUMIFS($Z$1:$Z$187,$C$1:$C$187,C191)","v":0},{"$f":"+IFERROR(X191/SUM($X$188:$X$209),0)","v":0},{"$f":"+SUMIFS($AB$1:$AB$187,$C$1:$C$187,C191)","v":225820888.81},{"$f":"+SUMIFS($AC$1:$AC$187,$C$1:$C$187,C191)","v":310087.36},{"$f":"+SUMIFS($AD$1:$AD$187,$C$1:$C$187,C191)","v":8560068.7000000011},{"$f":"+IFERROR(AB191/SUM($AB$188:$AB$209),0)","v":9.0323713327454203E-2},{"$f":"+RANK(AB191,$AB$188:$AB$209)","v":4}]
[null,null,"AFFIN INVESTMENT BANK BERHAD",{"$f":"+SUMIFS($D$1:$D$187,$C$1:$C$187,C192)","v":104607863.11},{"$f":"+SUMIFS($E$1:$E$187,$C$1:$C$187,C192)","v":121291.93},{"$f":"+SUMIFS($F$1:$F$187,$C$1:$C$187,C192)","v":1642075.73},{"$f":"+IFERROR(D192/SUM($D$188:$D$209),0)","v":7.9064173252278575E-2},{"$f":"+SUMIFS($H$1:$H$187,$C$1:$C$187,C192)","v":99499216.249999985},{"$f":"+SUMIFS($I$1:$I$187,$C$1:$C$187,C192)","v":132270.76999999999},{"$f":"+SUMIFS($J$1:$J$187,$C$1:$C$187,C192)","v":4113308.9799999995},{"$f":"+IFERROR(H192/SUM($H$188:$H$209),0)","v":0.12587581488236402},{"$f":"+SUMIFS($L$1:$L$187,$C$1:$C$187,C192)","v":0},{"$f":"+SUMIFS($M$1:$M$187,$C$1:$C$187,C192)","v":0},{"$f":"+SUMIFS($N$1:$N$187,$C$1:$C$187,C192)","v":0},{"$f":"+IFERROR(L192/SUM($L$188:$L$209),0)","v":0},{"$f":"+SUMIFS($P$1:$P$187,$C$1:$C$187,C192)","v":5325479.7400000012},{"$f":"+SUMIFS($Q$1:$Q$187,$C$1:$C$187,C192)","v":11739.52},{"$f":"+SUMIFS($R$1:$R$187,$C$1:$C$187,C192)","v":141297.76},{"$f":"+IFERROR(P192/SUM($P$188:$P$209),0)","v":7.4072584173421066E-2},{"$f":"+SUMIFS($T$1:$T$187,$C$1:$C$187,C192)","v":0},{"$f":"+SUMIFS($U$1:$U$187,$C$1:$C$187,C192)","v":0},{"$f":"+SUMIFS($V$1:$V$187,$C$1:$C$187,C192)","v":0},{"$f":"+IFERROR(T192/SUM($T$188:$T$209),0)","v":0},{"$f":"+SUMIFS($X$1:$X$187,$C$1:$C$187,C192)","v":0},{"$f":"+SUMIFS($Y$1:$Y$187,$C$1:$C$187,C192)","v":0},{"$f":"+SUMIFS($Z$1:$Z$187,$C$1:$C$187,C192)","v":0},{"$f":"+IFERROR(X192/SUM($X$188:$X$209),0)","v":0},{"$f":"+SUMIFS($AB$1:$AB$187,$C$1:$C$187,C192)","v":209432559.09999999},{"$f":"+SUMIFS($AC$1:$AC$187,$C$1:$C$187,C192)","v":265302.21999999997},{"$f":"+SUMIFS($AD$1:$AD$187,$C$1:$C$187,C192)","v":5896682.4699999997},{"$f":"+IFERROR(AB192/SUM($AB$188:$AB$209),0)","v":8.3768718338096557E-2},{"$f":"+RANK(AB192,$AB$188:$AB$209)","v":5}]
[null,null,"KENANGA INVESTMENT BANK BHD",{"$f":"+SUMIFS($D$1:$D$187,$C$1:$C$187,C193)","v":70851561.810000002},{"$f":"+SUMIFS($E$1:$E$187,$C$1:$C$187,C193)","v":108231.44},{"$f":"+SUMIFS($F$1:$F$187,$C$1:$C$187,C193)","v":2005292.0599999996},{"$f":"+IFERROR(D193/SUM($D$188:$D$209),0)","v":5.3550660453218435E-2},{"$f":"+SUMIFS($H$1:$H$187,$C$1:$C$187,C193)","v":60630897.620000012},{"$f":"+SUMIFS($I$1:$I$187,$C$1:$C$187,C193)","v":112648.39},{"$f":"+SUMIFS($J$1:$J$187,$C$1:$C$187,C193)","v":2883720.0300000003},{"$f":"+IFERROR(H193/SUM($H$188:$H$209),0)","v":7.6703756397344364E-2},{"$f":"+SUMIFS($L$1:$L$187,$C$1:$C$187,C193)","v":55784008.68999999},{"$f":"+SUMIFS($M$1:$M$187,$C$1:$C$187,C193)","v":116108.40000000002},{"$f":"+SUMIFS($N$1:$N$187,$C$1:$C$187,C193)","v":1761717.7200000002},{"$f":"+IFERROR(L193/SUM($L$188:$L$209),0)","v":0.20547265863325728},{"$f":"+SUMIFS($P$1:$P$187,$C$1:$C$187,C193)","v":3953720.09},{"$f":"+SUMIFS($Q$1:$Q$187,$C$1:$C$187,C193)","v":8901.75},{"$f":"+SUMIFS($R$1:$R$187,$C$1:$C$187,C193)","v":118879.06999999999},{"$f":"+IFERROR(P193/SUM($P$188:$P$209),0)","v":5.49926538946275E-2},{"$f":"+SUMIFS($T$1:$T$187,$C$1:$C$187,C193)","v":12803898.160000002},{"$f":"+SUMIFS($U$1:$U$187,$C$1:$C$187,C193)","v":28846.859999999997},{"$f":"+SUMIFS($V$1:$V$187,$C$1:$C$187,C193)","v":553334.36999999988},{"$f":"+IFERROR(T193/SUM($T$188:$T$209),0)","v":0.4152863475820443},{"$f":"+SUMIFS($X$1:$X$187,$C$1:$C$187,C193)","v":98116.54},{"$f":"+SUMIFS($Y$1:$Y$187,$C$1:$C$187,C193)","v":219.95},{"$f":"+SUMIFS($Z$1:$Z$187,$C$1:$C$187,C193)","v":0},{"$f":"+IFERROR(X193/SUM($X$188:$X$209),0)","v":7.9256468255162801E-3},{"$f":"+SUMIFS($AB$1:$AB$187,$C$1:$C$187,C193)","v":204122202.91},{"$f":"+SUMIFS($AC$1:$AC$187,$C$1:$C$187,C193)","v":374956.78999999992},{"$f":"+SUMIFS($AD$1:$AD$187,$C$1:$C$187,C193)","v":7322943.2500000009},{"$f":"+IFERROR(AB193/SUM($AB$188:$AB$209),0)","v":8.1644685027007252E-2},{"$f":"+RANK(AB193,$AB$188:$AB$209)","v":6}]
[null,null,"CREDIT SUISSE SECURITIES (M) SDN BHD",{"$f":"+SUMIFS($D$1:$D$187,$C$1:$C$187,C194)","v":124863785.33},{"$f":"+SUMIFS($E$1:$E$187,$C$1:$C$187,C194)","v":194514.86000000002},{"$f":"+SUMIFS($F$1:$F$187,$C$1:$C$187,C194)","v":7548203.3100000005},{"$f":"+IFERROR(D194/SUM($D$188:$D$209),0)","v":9.4373899463803326E-2},{"$f":"+SUMIFS($H$1:$H$187,$C$1:$C$187,C194)","v":6566254.3799999999},{"$f":"+SUMIFS($I$1:$I$187,$C$1:$C$187,C194)","v":13204.5},{"$f":"+SUMIFS($J$1:$J$187,$C$1:$C$187,C194)","v":505130.31000000006},{"$f":"+IFERROR(H194/SUM($H$188:$H$209),0)","v":8.3069259433226142E-3},{"$f":"+SUMIFS($L$1:$L$187,$C$1:$C$187,C194)","v":47537209.620000005},{"$f":"+SUMIFS($M$1:$M$187,$C$1:$C$187,C194)","v":84523.66},{"$f":"+SUMIFS($N$1:$N$187,$C$1:$C$187,C194)","v":1921356.7499999998},{"$f":"+IFERROR(L194/SUM($L$188:$L$209),0)","v":0.17509671810980526},{"$f":"+SUMIFS($P$1:$P$187,$C$1:$C$187,C194)","v":836004.58},{"$f":"+SUMIFS($Q$1:$Q$187,$C$1:$C$187,C194)","v":1887.4099999999999},{"$f":"+SUMIFS($R$1:$R$187,$C$1:$C$187,C194)","v":34964.97},{"$f":"+IFERROR(P194/SUM($P$188:$P$209),0)","v":1.1628064070226941E-2},{"$f":"+SUMIFS($T$1:$T$187,$C$1:$C$187,C194)","v":1157142.3700000001},{"$f":"+SUMIFS($U$1:$U$187,$C$1:$C$187,C194)","v":2607.21},{"$f":"+SUMIFS($V$1:$V$187,$C$1:$C$187,C194)","v":41547.870000000003},{"$f":"+IFERROR(T194/SUM($T$188:$T$209),0)","v":3.7531181712377071E-2},{"$f":"+SUMIFS($X$1:$X$187,$C$1:$C$187,C194)","v":1262853.81},{"$f":"+SUMIFS($Y$1:$Y$187,$C$1:$C$187,C194)","v":2838.4500000000003},{"$f":"+SUMIFS($Z$1:$Z$187,$C$1:$C$187,C194)","v":73.080000000000041},{"$f":"+IFERROR(X194/SUM($X$188:$X$209),0)","v":0.10201066293529756},{"$f":"+SUMIFS($AB$1:$AB$187,$C$1:$C$187,C194)","v":182223250.09},{"$f":"+SUMIFS($AC$1:$AC$187,$C$1:$C$187,C194)","v":299576.08999999997},{"$f":"+SUMIFS($AD$1:$AD$187,$C$1:$C$187,C194)","v":10051276.289999999},{"$f":"+IFERROR(AB194/SUM($AB$188:$AB$209),0)","v":7.2885554075444323E-2},{"$f":"+RANK(AB194,$AB$188:$AB$209)","v":7}]
[null,null,"UBS SECURITIES MALAYSIA SDN BHD",{"$f":"+SUMIFS($D$1:$D$187,$C$1:$C$187,C195)","v":82091780.450000003},{"$f":"+SUMIFS($E$1:$E$187,$C$1:$C$187,C195)","v":95851.5},{"$f":"+SUMIFS($F$1:$F$187,$C$1:$C$187,C195)","v":3839986.47},{"$f":"+IFERROR(D195/SUM($D$188:$D$209),0)","v":6.2046184284079445E-2},{"$f":"+SUMIFS($H$1:$H$187,$C$1:$C$187,C195)","v":29585066.260000002},{"$f":"+SUMIFS($I$1:$I$187,$C$1:$C$187,C195)","v":59321.48},{"$f":"+SUMIFS($J$1:$J$187,$C$1:$C$187,C195)","v":1036020.5},{"$f":"+IFERROR(H195/SUM($H$188:$H$209),0)","v":3.7427875959035344E-2},{"$f":"+SUMIFS($L$1:$L$187,$C$1:$C$187,C195)","v":62115709.170000002},{"$f":"+SUMIFS($M$1:$M$187,$C$1:$C$187,C195)","v":117176.7},{"$f":"+SUMIFS($N$1:$N$187,$C$1:$C$187,C195)","v":3435603.2899999996},{"$f":"+IFERROR(L195/SUM($L$188:$L$209),0)","v":0.22879459912923125},{"$f":"+SUMIFS($P$1:$P$187,$C$1:$C$187,C195)","v":1398152.28},{"$f":"+SUMIFS($Q$1:$Q$187,$C$1:$C$187,C195)","v":3149.1},{"$f":"+SUMIFS($R$1:$R$187,$C$1:$C$187,C195)","v":33627.14},{"$f":"+IFERROR(P195/SUM($P$188:$P$209),0)","v":1.9447027780366798E-2},{"$f":"+SUMIFS($T$1:$T$187,$C$1:$C$187,C195)","v":5584974.75},{"$f":"+SUMIFS($U$1:$U$187,$C$1:$C$187,C195)","v":12539.369999999999},{"$f":"+SUMIFS($V$1:$V$187,$C$1:$C$187,C195)","v":44250.979999999996},{"$f":"+IFERROR(T195/SUM($T$188:$T$209),0)","v":0.18114512754492579},{"$f":"+SUMIFS($X$1:$X$187,$C$1:$C$187,C195)","v":238257.48},{"$f":"+SUMIFS($Y$1:$Y$187,$C$1:$C$187,C195)","v":534.46},{"$f":"+SUMIFS($Z$1:$Z$187,$C$1:$C$187,C195)","v":-181.76},{"$f":"+IFERROR(X195/SUM($X$188:$X$209),0)","v":1.9245935904563177E-2},{"$f":"+SUMIFS($AB$1:$AB$187,$C$1:$C$187,C195)","v":181013940.39000002},{"$f":"+SUMIFS($AC$1:$AC$187,$C$1:$C$187,C195)","v":288572.61},{"$f":"+SUMIFS($AD$1:$AD$187,$C$1:$C$187,C195)","v":8389306.620000001},{"$f":"+IFERROR(AB195/SUM($AB$188:$AB$209),0)","v":7.2401855055205272E-2},{"$f":"+RANK(AB195,$AB$188:$AB$209)","v":8}]
[null,null,"MAYBANK INVESTMENT BANK BHD",{"$f":"+SUMIFS($D$1:$D$187,$C$1:$C$187,C196)","v":105958943.88},{"$f":"+SUMIFS($E$1:$E$187,$C$1:$C$187,C196)","v":138325.32},{"$f":"+SUMIFS($F$1:$F$187,$C$1:$C$187,C196)","v":5687368.7599999998},{"$f":"+IFERROR(D196/SUM($D$188:$D$209),0)","v":8.0085340121587176E-2},{"$f":"+SUMIFS($H$1:$H$187,$C$1:$C$187,C196)","v":62430086.059999995},{"$f":"+SUMIFS($I$1:$I$187,$C$1:$C$187,C196)","v":93371.25999999998},{"$f":"+SUMIFS($J$1:$J$187,$C$1:$C$187,C196)","v":2320117.5199999996},{"$f":"+IFERROR(H196/SUM($H$188:$H$209),0)","v":7.897989805501221E-2},{"$f":"+SUMIFS($L$1:$L$187,$C$1:$C$187,C196)","v":26899.72},{"$f":"+SUMIFS($M$1:$M$187,$C$1:$C$187,C196)","v":60.75},{"$f":"+SUMIFS($N$1:$N$187,$C$1:$C$187,C196)","v":710.95},{"$f":"+IFERROR(L196/SUM($L$188:$L$209),0)","v":9.9081387564049683E-5},{"$f":"+SUMIFS($P$1:$P$187,$C$1:$C$187,C196)","v":3131393.23},{"$f":"+SUMIFS($Q$1:$Q$187,$C$1:$C$187,C196)","v":6725.4000000000005},{"$f":"+SUMIFS($R$1:$R$187,$C$1:$C$187,C196)","v":167833.93000000002},{"$f":"+IFERROR(P196/SUM($P$188:$P$209),0)","v":4.355483448130737E-2},{"$f":"+SUMIFS($T$1:$T$187,$C$1:$C$187,C196)","v":414236.12},{"$f":"+SUMIFS($U$1:$U$187,$C$1:$C$187,C196)","v":929.07},{"$f":"+SUMIFS($V$1:$V$187,$C$1:$C$187,C196)","v":0},{"$f":"+IFERROR(T196/SUM($T$188:$T$209),0)","v":1.3435486846402516E-2},{"$f":"+SUMIFS($X$1:$X$187,$C$1:$C$187,C196)","v":788590.14},{"$f":"+SUMIFS($Y$1:$Y$187,$C$1:$C$187,C196)","v":1772.92},{"$f":"+SUMIFS($Z$1:$Z$187,$C$1:$C$187,C196)","v":2119.7800000000002},{"$f":"+IFERROR(X196/SUM($X$188:$X$209),0)","v":6.3700645576417997E-2},{"$f":"+SUMIFS($AB$1:$AB$187,$C$1:$C$187,C196)","v":172750149.15000001},{"$f":"+SUMIFS($AC$1:$AC$187,$C$1:$C$187,C196)","v":241184.72000000003},{"$f":"+SUMIFS($AD$1:$AD$187,$C$1:$C$187,C196)","v":8178150.9399999995},{"$f":"+IFERROR(AB196/SUM($AB$188:$AB$209),0)","v":6.9096508437834964E-2},{"$f":"+RANK(AB196,$AB$188:$AB$209)","v":9}]
[null,null,"KAF-SEAGROATT & CAMPBELL SECURITIES SDN BHD",{"$f":"+SUMIFS($D$1:$D$187,$C$1:$C$187,C197)","v":57699576.739999995},{"$f":"+SUMIFS($E$1:$E$187,$C$1:$C$187,C197)","v":78528.41},{"$f":"+SUMIFS($F$1:$F$187,$C$1:$C$187,C197)","v":5092546.0199999996},{"$f":"+IFERROR(D197/SUM($D$188:$D$209),0)","v":4.3610195221724213E-2},{"$f":"+SUMIFS($H$1:$H$187,$C$1:$C$187,C197)","v":99626333.920000017},{"$f":"+SUMIFS($I$1:$I$187,$C$1:$C$187,C197)","v":133146.27000000002},{"$f":"+SUMIFS($J$1:$J$187,$C$1:$C$187,C197)","v":4814273.68},{"$f":"+IFERROR(H197/SUM($H$188:$H$209),0)","v":0.12603663062443979},{"$f":"+SUMIFS($L$1:$L$187,$C$1:$C$187,C197)","v":0},{"$f":"+SUMIFS($M$1:$M$187,$C$1:$C$187,C197)","v":0},{"$f":"+SUMIFS($N$1:$N$187,$C$1:$C$187,C197)","v":0},{"$f":"+IFERROR(L197/SUM($L$188:$L$209),0)","v":0},{"$f":"+SUMIFS($P$1:$P$187,$C$1:$C$187,C197)","v":8069023.9099999992},{"$f":"+SUMIFS($Q$1:$Q$187,$C$1:$C$187,C197)","v":17699.78},{"$f":"+SUMIFS($R$1:$R$187,$C$1:$C$187,C197)","v":281632.49},{"$f":"+IFERROR(P197/SUM($P$188:$P$209),0)","v":0.11223279065010995},{"$f":"+SUMIFS($T$1:$T$187,$C$1:$C$187,C197)","v":0},{"$f":"+SUMIFS($U$1:$U$187,$C$1:$C$187,C197)","v":0},{"$f":"+SUMIFS($V$1:$V$187,$C$1:$C$187,C197)","v":0},{"$f":"+IFERROR(T197/SUM($T$188:$T$209),0)","v":0},{"$f":"+SUMIFS($X$1:$X$187,$C$1:$C$187,C197)","v":0},{"$f":"+SUMIFS($Y$1:$Y$187,$C$1:$C$187,C197)","v":0},{"$f":"+SUMIFS($Z$1:$Z$187,$C$1:$C$187,C197)","v":0},{"$f":"+IFERROR(X197/SUM($X$188:$X$209),0)","v":0},{"$f":"+SUMIFS($AB$1:$AB$187,$C$1:$C$187,C197)","v":165394934.56999999},{"$f":"+SUMIFS($AC$1:$AC$187,$C$1:$C$187,C197)","v":229374.46000000002},{"$f":"+SUMIFS($AD$1:$AD$187,$C$1:$C$187,C197)","v":10188452.189999999},{"$f":"+IFERROR(AB197/SUM($AB$188:$AB$209),0)","v":6.6154573806868205E-2},{"$f":"+RANK(AB197,$AB$188:$AB$209)","v":10}]
[null,null,"NOMURA SECURITIES MALAYSIA SDN BHD",{"$f":"+SUMIFS($D$1:$D$187,$C$1:$C$187,C198)","v":69399686.210000008},{"$f":"+SUMIFS($E$1:$E$187,$C$1:$C$187,C198)","v":84049.62},{"$f":"+SUMIFS($F$1:$F$187,$C$1:$C$187,C198)","v":3398658.5700000003},{"$f":"+IFERROR(D198/SUM($D$188:$D$209),0)","v":5.245331135759216E-2},{"$f":"+SUMIFS($H$1:$H$187,$C$1:$C$187,C198)","v":29519405.500000004},{"$f":"+SUMIFS($I$1:$I$187,$C$1:$C$187,C198)","v":53803.979999999996},{"$f":"+SUMIFS($J$1:$J$187,$C$1:$C$187,C198)","v":1897955.6999999997},{"$f":"+IFERROR(H198/SUM($H$188:$H$209),0)","v":3.7344808956275961E-2},{"$f":"+SUMIFS($L$1:$L$187,$C$1:$C$187,C198)","v":25482484.560000002},{"$f":"+SUMIFS($M$1:$M$187,$C$1:$C$187,C198)","v":53611.640000000007},{"$f":"+SUMIFS($N$1:$N$187,$C$1:$C$187,C198)","v":1340091.95},{"$f":"+IFERROR(L198/SUM($L$188:$L$209),0)","v":9.3861197394778537E-2},{"$f":"+SUMIFS($P$1:$P$187,$C$1:$C$187,C198)","v":5762268.3999999985},{"$f":"+SUMIFS($Q$1:$Q$187,$C$1:$C$187,C198)","v":12648.96},{"$f":"+SUMIFS($R$1:$R$187,$C$1:$C$187,C198)","v":331943.27},{"$f":"+IFERROR(P198/SUM($P$188:$P$209),0)","v":8.0147917544954192E-2},{"$f":"+SUMIFS($T$1:$T$187,$C$1:$C$187,C198)","v":911612.85000000009},{"$f":"+SUMIFS($U$1:$U$187,$C$1:$C$187,C198)","v":2045.7700000000002},{"$f":"+SUMIFS($V$1:$V$187,$C$1:$C$187,C198)","v":5597.33},{"$f":"+IFERROR(T198/SUM($T$188:$T$209),0)","v":2.9567586851640341E-2},{"$f":"+SUMIFS($X$1:$X$187,$C$1:$C$187,C198)","v":426751.26},{"$f":"+SUMIFS($Y$1:$Y$187,$C$1:$C$187,C198)","v":956.64},{"$f":"+SUMIFS($Z$1:$Z$187,$C$1:$C$187,C198)","v":0},{"$f":"+IFERROR(X198/SUM($X$188:$X$209),0)","v":3.4472065251221387E-2},{"$f":"+SUMIFS($AB$1:$AB$187,$C$1:$C$187,C198)","v":131502208.77999999},{"$f":"+SUMIFS($AC$1:$AC$187,$C$1:$C$187,C198)","v":207116.61},{"$f":"+SUMIFS($AD$1:$AD$187,$C$1:$C$187,C198)","v":6974246.8200000003},{"$f":"+IFERROR(AB198/SUM($AB$188:$AB$209),0)","v":5.2598180223112148E-2},{"$f":"+RANK(AB198,$AB$188:$AB$209)","v":11}]
[null,null,"TA SECURITIES HOLDINGS BHD",{"$f":"+SUMIFS($D$1:$D$187,$C$1:$C$187,C199)","v":0},{"$f":"+SUMIFS($E$1:$E$187,$C$1:$C$187,C199)","v":0},{"$f":"+SUMIFS($F$1:$F$187,$C$1:$C$187,C199)","v":0},{"$f":"+IFERROR(D199/SUM($D$188:$D$209),0)","v":0},{"$f":"+SUMIFS($H$1:$H$187,$C$1:$C$187,C199)","v":53395133.520000003},{"$f":"+SUMIFS($I$1:$I$187,$C$1:$C$187,C199)","v":86122.12999999999},{"$f":"+SUMIFS($J$1:$J$187,$C$1:$C$187,C199)","v":2903207.5599999996},{"$f":"+IFERROR(H199/SUM($H$188:$H$209),0)","v":6.754983803787129E-2},{"$f":"+SUMIFS($L$1:$L$187,$C$1:$C$187,C199)","v":14656072.25},{"$f":"+SUMIFS($M$1:$M$187,$C$1:$C$187,C199)","v":31938.79},{"$f":"+SUMIFS($N$1:$N$187,$C$1:$C$187,C199)","v":271010.47000000003},{"$f":"+IFERROR(L199/SUM($L$188:$L$209),0)","v":5.3983609300355673E-2},{"$f":"+SUMIFS($P$1:$P$187,$C$1:$C$187,C199)","v":3318871.5800000005},{"$f":"+SUMIFS($Q$1:$Q$187,$C$1:$C$187,C199)","v":7225.18},{"$f":"+SUMIFS($R$1:$R$187,$C$1:$C$187,C199)","v":112745.1},{"$f":"+IFERROR(P199/SUM($P$188:$P$209),0)","v":4.6162487977153575E-2},{"$f":"+SUMIFS($T$1:$T$187,$C$1:$C$187,C199)","v":6947704.7800000003},{"$f":"+SUMIFS($U$1:$U$187,$C$1:$C$187,C199)","v":15675.469999999998},{"$f":"+SUMIFS($V$1:$V$187,$C$1:$C$187,C199)","v":-499501.72},{"$f":"+IFERROR(T199/SUM($T$188:$T$209),0)","v":0.22534441512337913},{"$f":"+SUMIFS($X$1:$X$187,$C$1:$C$187,C199)","v":33750.9},{"$f":"+SUMIFS($Y$1:$Y$187,$C$1:$C$187,C199)","v":75.66},{"$f":"+SUMIFS($Z$1:$Z$187,$C$1:$C$187,C199)","v":0},{"$f":"+IFERROR(X199/SUM($X$188:$X$209),0)","v":2.7263264016782235E-3},{"$f":"+SUMIFS($AB$1:$AB$187,$C$1:$C$187,C199)","v":78351533.030000001},{"$f":"+SUMIFS($AC$1:$AC$187,$C$1:$C$187,C199)","v":141037.23000000001},{"$f":"+SUMIFS($AD$1:$AD$187,$C$1:$C$187,C199)","v":2787461.4099999992},{"$f":"+IFERROR(AB199/SUM($AB$188:$AB$209),0)","v":3.133900254073789E-2},{"$f":"+RANK(AB199,$AB$188:$AB$209)","v":12}]
[null,null,"HONG LEONG INVESTMENT BANK BHD",{"$f":"+SUMIFS($D$1:$D$187,$C$1:$C$187,C200)","v":40176801.659999996},{"$f":"+SUMIFS($E$1:$E$187,$C$1:$C$187,C200)","v":52862.25},{"$f":"+SUMIFS($F$1:$F$187,$C$1:$C$187,C200)","v":2154400.2599999998},{"$f":"+IFERROR(D200/SUM($D$188:$D$209),0)","v":3.0366222124510744E-2},{"$f":"+SUMIFS($H$1:$H$187,$C$1:$C$187,C200)","v":25358403.150000002},{"$f":"+SUMIFS($I$1:$I$187,$C$1:$C$187,C200)","v":51125.090000000004},{"$f":"+SUMIFS($J$1:$J$187,$C$1:$C$187,C200)","v":1744924.57},{"$f":"+IFERROR(H200/SUM($H$188:$H$209),0)","v":3.2080751798100292E-2},{"$f":"+SUMIFS($L$1:$L$187,$C$1:$C$187,C200)","v":0},{"$f":"+SUMIFS($M$1:$M$187,$C$1:$C$187,C200)","v":0},{"$f":"+SUMIFS($N$1:$N$187,$C$1:$C$187,C200)","v":0},{"$f":"+IFERROR(L200/SUM($L$188:$L$209),0)","v":0},{"$f":"+SUMIFS($P$1:$P$187,$C$1:$C$187,C200)","v":4988881.4399999995},{"$f":"+SUMIFS($Q$1:$Q$187,$C$1:$C$187,C200)","v":10261.370000000001},{"$f":"+SUMIFS($R$1:$R$187,$C$1:$C$187,C200)","v":12695.9},{"$f":"+IFERROR(P200/SUM($P$188:$P$209),0)","v":6.93908076712762E-2},{"$f":"+SUMIFS($T$1:$T$187,$C$1:$C$187,C200)","v":0},{"$f":"+SUMIFS($U$1:$U$187,$C$1:$C$187,C200)","v":0},{"$f":"+SUMIFS($V$1:$V$187,$C$1:$C$187,C200)","v":0},{"$f":"+IFERROR(T200/SUM($T$188:$T$209),0)","v":0},{"$f":"+SUMIFS($X$1:$X$187,$C$1:$C$187,C200)","v":0},{"$f":"+SUMIFS($Y$1:$Y$187,$C$1:$C$187,C200)","v":0},{"$f":"+SUMIFS($Z$1:$Z$187,$C$1:$C$187,C200)","v":0},{"$f":"+IFERROR(X200/SUM($X$188:$X$209),0)","v":0},{"$f":"+SUMIFS($AB$1:$AB$187,$C$1:$C$187,C200)","v":70524086.25},{"$f":"+SUMIFS($AC$1:$AC$187,$C$1:$C$187,C200)","v":114248.70999999999},{"$f":"+SUMIFS($AD$1:$AD$187,$C$1:$C$187,C200)","v":3912020.73},{"$f":"+IFERROR(AB200/SUM($AB$188:$AB$209),0)","v":2.8208184737441227E-2},{"$f":"+RANK(AB200,$AB$188:$AB$209)","v":13}]
[null,null,"MIDF AMANAH INVESTMENT BANK BHD",{"$f":"+SUMIFS($D$1:$D$187,$C$1:$C$187,C201)","v":6661175.4699999997},{"$f":"+SUMIFS($E$1:$E$187,$C$1:$C$187,C201)","v":13555.7},{"$f":"+SUMIFS($F$1:$F$187,$C$1:$C$187,C201)","v":561141.86},{"$f":"+IFERROR(D201/SUM($D$188:$D$209),0)","v":5.0346151404517319E-3},{"$f":"+SUMIFS($H$1:$H$187,$C$1:$C$187,C201)","v":30812374.57},{"$f":"+SUMIFS($I$1:$I$187,$C$1:$C$187,C201)","v":57426.830000000009},{"$f":"+SUMIFS($J$1:$J$187,$C$1:$C$187,C201)","v":2399705.0500000003},{"$f":"+IFERROR(H201/SUM($H$188:$H$209),0)","v":3.898053576335965E-2},{"$f":"+SUMIFS($L$1:$L$187,$C$1:$C$187,C201)","v":0},{"$f":"+SUMIFS($M$1:$M$187,$C$1:$C$187,C201)","v":0},{"$f":"+SUMIFS($N$1:$N$187,$C$1:$C$187,C201)","v":0},{"$f":"+IFERROR(L201/SUM($L$188:$L$209),0)","v":0},{"$f":"+SUMIFS($P$1:$P$187,$C$1:$C$187,C201)","v":5650216.9699999997},{"$f":"+SUMIFS($Q$1:$Q$187,$C$1:$C$187,C201)","v":12734.92},{"$f":"+SUMIFS($R$1:$R$187,$C$1:$C$187,C201)","v":193892.93999999997},{"$f":"+IFERROR(P201/SUM($P$188:$P$209),0)","v":7.8589383969455681E-2},{"$f":"+SUMIFS($T$1:$T$187,$C$1:$C$187,C201)","v":619038.22},{"$f":"+SUMIFS($U$1:$U$187,$C$1:$C$187,C201)","v":1388.63},{"$f":"+SUMIFS($V$1:$V$187,$C$1:$C$187,C201)","v":0},{"$f":"+IFERROR(T201/SUM($T$188:$T$209),0)","v":2.0078113570179315E-2},{"$f":"+SUMIFS($X$1:$X$187,$C$1:$C$187,C201)","v":0},{"$f":"+SUMIFS($Y$1:$Y$187,$C$1:$C$187,C201)","v":0},{"$f":"+SUMIFS($Z$1:$Z$187,$C$1:$C$187,C201)","v":0},{"$f":"+IFERROR(X201/SUM($X$188:$X$209),0)","v":0},{"$f":"+SUMIFS($AB$1:$AB$187,$C$1:$C$187,C201)","v":43742805.229999997},{"$f":"+SUMIFS($AC$1:$AC$187,$C$1:$C$187,C201)","v":85106.08},{"$f":"+SUMIFS($AD$1:$AD$187,$C$1:$C$187,C201)","v":3154739.8499999992},{"$f":"+IFERROR(AB201/SUM($AB$188:$AB$209),0)","v":1.7496222871824167E-2},{"$f":"+RANK(AB201,$AB$188:$AB$209)","v":14}]
[null,null,"AMINVESTMENT BANK BHD",{"$f":"+SUMIFS($D$1:$D$187,$C$1:$C$187,C202)","v":0},{"$f":"+SUMIFS($E$1:$E$187,$C$1:$C$187,C202)","v":0},{"$f":"+SUMIFS($F$1:$F$187,$C$1:$C$187,C202)","v":0},{"$f":"+IFERROR(D202/SUM($D$188:$D$209),0)","v":0},{"$f":"+SUMIFS($H$1:$H$187,$C$1:$C$187,C202)","v":26006152.560000002},{"$f":"+SUMIFS($I$1:$I$187,$C$1:$C$187,C202)","v":46470.38},{"$f":"+SUMIFS($J$1:$J$187,$C$1:$C$187,C202)","v":1350107},{"$f":"+IFERROR(H202/SUM($H$188:$H$209),0)","v":3.2900215386822987E-2},{"$f":"+SUMIFS($L$1:$L$187,$C$1:$C$187,C202)","v":0},{"$f":"+SUMIFS($M$1:$M$187,$C$1:$C$187,C202)","v":0},{"$f":"+SUMIFS($N$1:$N$187,$C$1:$C$187,C202)","v":0},{"$f":"+IFERROR(L202/SUM($L$188:$L$209),0)","v":0},{"$f":"+SUMIFS($P$1:$P$187,$C$1:$C$187,C202)","v":4188702.38},{"$f":"+SUMIFS($Q$1:$Q$187,$C$1:$C$187,C202)","v":8939.5299999999988},{"$f":"+SUMIFS($R$1:$R$187,$C$1:$C$187,C202)","v":146479.38000000003},{"$f":"+IFERROR(P202/SUM($P$188:$P$209),0)","v":5.8261044031304318E-2},{"$f":"+SUMIFS($T$1:$T$187,$C$1:$C$187,C202)","v":0},{"$f":"+SUMIFS($U$1:$U$187,$C$1:$C$187,C202)","v":0},{"$f":"+SUMIFS($V$1:$V$187,$C$1:$C$187,C202)","v":0},{"$f":"+IFERROR(T202/SUM($T$188:$T$209),0)","v":0},{"$f":"+SUMIFS($X$1:$X$187,$C$1:$C$187,C202)","v":0},{"$f":"+SUMIFS($Y$1:$Y$187,$C$1:$C$187,C202)","v":0},{"$f":"+SUMIFS($Z$1:$Z$187,$C$1:$C$187,C202)","v":0},{"$f":"+IFERROR(X202/SUM($X$188:$X$209),0)","v":0},{"$f":"+SUMIFS($AB$1:$AB$187,$C$1:$C$187,C202)","v":30194854.940000005},{"$f":"+SUMIFS($AC$1:$AC$187,$C$1:$C$187,C202)","v":55409.91},{"$f":"+SUMIFS($AD$1:$AD$187,$C$1:$C$187,C202)","v":1496586.3800000001},{"$f":"+IFERROR(AB202/SUM($AB$188:$AB$209),0)","v":1.2077321260830373E-2},{"$f":"+RANK(AB202,$AB$188:$AB$209)","v":15}]
[null,null,"ALLIANCE INVESTMENT BANK BERHAD",{"$f":"+SUMIFS($D$1:$D$187,$C$1:$C$187,C203)","v":13394303.419999998},{"$f":"+SUMIFS($E$1:$E$187,$C$1:$C$187,C203)","v":21067.53},{"$f":"+SUMIFS($F$1:$F$187,$C$1:$C$187,C203)","v":1092200.8900000001},{"$f":"+IFERROR(D203/SUM($D$188:$D$209),0)","v":1.0123613031640555E-2},{"$f":"+SUMIFS($H$1:$H$187,$C$1:$C$187,C203)","v":11213130.5},{"$f":"+SUMIFS($I$1:$I$187,$C$1:$C$187,C203)","v":22602.12},{"$f":"+SUMIFS($J$1:$J$187,$C$1:$C$187,C203)","v":489840.18},{"$f":"+IFERROR(H203/SUM($H$188:$H$209),0)","v":1.418565886512488E-2},{"$f":"+SUMIFS($L$1:$L$187,$C$1:$C$187,C203)","v":0},{"$f":"+SUMIFS($M$1:$M$187,$C$1:$C$187,C203)","v":0},{"$f":"+SUMIFS($N$1:$N$187,$C$1:$C$187,C203)","v":0},{"$f":"+IFERROR(L203/SUM($L$188:$L$209),0)","v":0},{"$f":"+SUMIFS($P$1:$P$187,$C$1:$C$187,C203)","v":282180.42},{"$f":"+SUMIFS($Q$1:$Q$187,$C$1:$C$187,C203)","v":637.27},{"$f":"+SUMIFS($R$1:$R$187,$C$1:$C$187,C203)","v":20436.96},{"$f":"+IFERROR(P203/SUM($P$188:$P$209),0)","v":3.924873238282436E-3},{"$f":"+SUMIFS($T$1:$T$187,$C$1:$C$187,C203)","v":0},{"$f":"+SUMIFS($U$1:$U$187,$C$1:$C$187,C203)","v":0},{"$f":"+SUMIFS($V$1:$V$187,$C$1:$C$187,C203)","v":0},{"$f":"+IFERROR(T203/SUM($T$188:$T$209),0)","v":0},{"$f":"+SUMIFS($X$1:$X$187,$C$1:$C$187,C203)","v":0},{"$f":"+SUMIFS($Y$1:$Y$187,$C$1:$C$187,C203)","v":0},{"$f":"+SUMIFS($Z$1:$Z$187,$C$1:$C$187,C203)","v":0},{"$f":"+IFERROR(X203/SUM($X$188:$X$209),0)","v":0},{"$f":"+SUMIFS($AB$1:$AB$187,$C$1:$C$187,C203)","v":24889614.339999996},{"$f":"+SUMIFS($AC$1:$AC$187,$C$1:$C$187,C203)","v":44306.92},{"$f":"+SUMIFS($AD$1:$AD$187,$C$1:$C$187,C203)","v":1602478.0300000003},{"$f":"+IFERROR(AB203/SUM($AB$188:$AB$209),0)","v":9.9553340805799695E-3},{"$f":"+RANK(AB203,$AB$188:$AB$209)","v":16}]
[null,null,"BIMB SECURITIES SDN BHD",{"$f":"+SUMIFS($D$1:$D$187,$C$1:$C$187,C204)","v":18025808.559999999},{"$f":"+SUMIFS($E$1:$E$187,$C$1:$C$187,C204)","v":18979.810000000001},{"$f":"+SUMIFS($F$1:$F$187,$C$1:$C$187,C204)","v":1205569.06},{"$f":"+IFERROR(D204/SUM($D$188:$D$209),0)","v":1.3624173256474871E-2},{"$f":"+SUMIFS($H$1:$H$187,$C$1:$C$187,C204)","v":1340396.54},{"$f":"+SUMIFS($I$1:$I$187,$C$1:$C$187,C204)","v":2687.75},{"$f":"+SUMIFS($J$1:$J$187,$C$1:$C$187,C204)","v":71048.679999999993},{"$f":"+IFERROR(H204/SUM($H$188:$H$209),0)","v":1.6957269926033338E-3},{"$f":"+SUMIFS($L$1:$L$187,$C$1:$C$187,C204)","v":0},{"$f":"+SUMIFS($M$1:$M$187,$C$1:$C$187,C204)","v":0},{"$f":"+SUMIFS($N$1:$N$187,$C$1:$C$187,C204)","v":0},{"$f":"+IFERROR(L204/SUM($L$188:$L$209),0)","v":0},{"$f":"+SUMIFS($P$1:$P$187,$C$1:$C$187,C204)","v":871255.77},{"$f":"+SUMIFS($Q$1:$Q$187,$C$1:$C$187,C204)","v":1960.23},{"$f":"+SUMIFS($R$1:$R$187,$C$1:$C$187,C204)","v":25891.040000000001},{"$f":"+IFERROR(P204/SUM($P$188:$P$209),0)","v":1.2118376092048333E-2},{"$f":"+SUMIFS($T$1:$T$187,$C$1:$C$187,C204)","v":0},{"$f":"+SUMIFS($U$1:$U$187,$C$1:$C$187,C204)","v":0},{"$f":"+SUMIFS($V$1:$V$187,$C$1:$C$187,C204)","v":0},{"$f":"+IFERROR(T204/SUM($T$188:$T$209),0)","v":0},{"$f":"+SUMIFS($X$1:$X$187,$C$1:$C$187,C204)","v":0},{"$f":"+SUMIFS($Y$1:$Y$187,$C$1:$C$187,C204)","v":0},{"$f":"+SUMIFS($Z$1:$Z$187,$C$1:$C$187,C204)","v":0},{"$f":"+IFERROR(X204/SUM($X$188:$X$209),0)","v":0},{"$f":"+SUMIFS($AB$1:$AB$187,$C$1:$C$187,C204)","v":20237460.869999997},{"$f":"+SUMIFS($AC$1:$AC$187,$C$1:$C$187,C204)","v":23627.79},{"$f":"+SUMIFS($AD$1:$AD$187,$C$1:$C$187,C204)","v":1302508.78},{"$f":"+IFERROR(AB204/SUM($AB$188:$AB$209),0)","v":8.0945683268274608E-3},{"$f":"+RANK(AB204,$AB$188:$AB$209)","v":17}]
[null,null,"MACQUARIE CAPITAL SECURITIES (MALAYSIA) SDN BHD (FOREIGN)",{"$f":"+SUMIFS($D$1:$D$187,$C$1:$C$187,C205)","v":0},{"$f":"+SUMIFS($E$1:$E$187,$C$1:$C$187,C205)","v":0},{"$f":"+SUMIFS($F$1:$F$187,$C$1:$C$187,C205)","v":0},{"$f":"+IFERROR(D205/SUM($D$188:$D$209),0)","v":0},{"$f":"+SUMIFS($H$1:$H$187,$C$1:$C$187,C205)","v":0},{"$f":"+SUMIFS($I$1:$I$187,$C$1:$C$187,C205)","v":0},{"$f":"+SUMIFS($J$1:$J$187,$C$1:$C$187,C205)","v":0},{"$f":"+IFERROR(H205/SUM($H$188:$H$209),0)","v":0},{"$f":"+SUMIFS($L$1:$L$187,$C$1:$C$187,C205)","v":0},{"$f":"+SUMIFS($M$1:$M$187,$C$1:$C$187,C205)","v":0},{"$f":"+SUMIFS($N$1:$N$187,$C$1:$C$187,C205)","v":0},{"$f":"+IFERROR(L205/SUM($L$188:$L$209),0)","v":0},{"$f":"+SUMIFS($P$1:$P$187,$C$1:$C$187,C205)","v":0},{"$f":"+SUMIFS($Q$1:$Q$187,$C$1:$C$187,C205)","v":0},{"$f":"+SUMIFS($R$1:$R$187,$C$1:$C$187,C205)","v":0},{"$f":"+IFERROR(P205/SUM($P$188:$P$209),0)","v":0},{"$f":"+SUMIFS($T$1:$T$187,$C$1:$C$187,C205)","v":0},{"$f":"+SUMIFS($U$1:$U$187,$C$1:$C$187,C205)","v":0},{"$f":"+SUMIFS($V$1:$V$187,$C$1:$C$187,C205)","v":0},{"$f":"+IFERROR(T205/SUM($T$188:$T$209),0)","v":0},{"$f":"+SUMIFS($X$1:$X$187,$C$1:$C$187,C205)","v":3401259.205603268},{"$f":"+SUMIFS($Y$1:$Y$187,$C$1:$C$187,C205)","v":8482.1259304628948},{"$f":"+SUMIFS($Z$1:$Z$187,$C$1:$C$187,C205)","v":1755.54},{"$f":"+IFERROR(X205/SUM($X$188:$X$209),0)","v":0.27474653331280913},{"$f":"+SUMIFS($AB$1:$AB$187,$C$1:$C$187,C205)","v":3401259.205603268},{"$f":"+SUMIFS($AC$1:$AC$187,$C$1:$C$187,C205)","v":8482.1259304628948},{"$f":"+SUMIFS($AD$1:$AD$187,$C$1:$C$187,C205)","v":1755.54},{"$f":"+IFERROR(AB205/SUM($AB$188:$AB$209),0)","v":1.3604337626080137E-3},{"$f":"+RANK(AB205,$AB$188:$AB$209)","v":18}]
[null,null,"CLSA LIMITED FOREIGN",{"$f":"+SUMIFS($D$1:$D$187,$C$1:$C$187,C206)","v":0},{"$f":"+SUMIFS($E$1:$E$187,$C$1:$C$187,C206)","v":0},{"$f":"+SUMIFS($F$1:$F$187,$C$1:$C$187,C206)","v":0},{"$f":"+IFERROR(D206/SUM($D$188:$D$209),0)","v":0},{"$f":"+SUMIFS($H$1:$H$187,$C$1:$C$187,C206)","v":0},{"$f":"+SUMIFS($I$1:$I$187,$C$1:$C$187,C206)","v":0},{"$f":"+SUMIFS($J$1:$J$187,$C$1:$C$187,C206)","v":0},{"$f":"+IFERROR(H206/SUM($H$188:$H$209),0)","v":0},{"$f":"+SUMIFS($L$1:$L$187,$C$1:$C$187,C206)","v":0},{"$f":"+SUMIFS($M$1:$M$187,$C$1:$C$187,C206)","v":0},{"$f":"+SUMIFS($N$1:$N$187,$C$1:$C$187,C206)","v":0},{"$f":"+IFERROR(L206/SUM($L$188:$L$209),0)","v":0},{"$f":"+SUMIFS($P$1:$P$187,$C$1:$C$187,C206)","v":0},{"$f":"+SUMIFS($Q$1:$Q$187,$C$1:$C$187,C206)","v":0},{"$f":"+SUMIFS($R$1:$R$187,$C$1:$C$187,C206)","v":0},{"$f":"+IFERROR(P206/SUM($P$188:$P$209),0)","v":0},{"$f":"+SUMIFS($T$1:$T$187,$C$1:$C$187,C206)","v":0},{"$f":"+SUMIFS($U$1:$U$187,$C$1:$C$187,C206)","v":0},{"$f":"+SUMIFS($V$1:$V$187,$C$1:$C$187,C206)","v":0},{"$f":"+IFERROR(T206/SUM($T$188:$T$209),0)","v":0},{"$f":"+SUMIFS($X$1:$X$187,$C$1:$C$187,C206)","v":1326056.0158453693},{"$f":"+SUMIFS($Y$1:$Y$187,$C$1:$C$187,C206)","v":3421.7987353292256},{"$f":"+SUMIFS($Z$1:$Z$187,$C$1:$C$187,C206)","v":0},{"$f":"+IFERROR(X206/SUM($X$188:$X$209),0)","v":0.10711600360593249},{"$f":"+SUMIFS($AB$1:$AB$187,$C$1:$C$187,C206)","v":1326056.0158453693},{"$f":"+SUMIFS($AC$1:$AC$187,$C$1:$C$187,C206)","v":3421.7987353292256},{"$f":"+SUMIFS($AD$1:$AD$187,$C$1:$C$187,C206)","v":0},{"$f":"+IFERROR(AB206/SUM($AB$188:$AB$209),0)","v":5.3039514662497976E-4},{"$f":"+RANK(AB206,$AB$188:$AB$209)","v":19}]
[null,null,"MAYBANK INVESTMENT BANK BHD (FOREIGN)",{"$f":"+SUMIFS($D$1:$D$187,$C$1:$C$187,C207)","v":0},{"$f":"+SUMIFS($E$1:$E$187,$C$1:$C$187,C207)","v":0},{"$f":"+SUMIFS($F$1:$F$187,$C$1:$C$187,C207)","v":0},{"$f":"+IFERROR(D207/SUM($D$188:$D$209),0)","v":0},{"$f":"+SUMIFS($H$1:$H$187,$C$1:$C$187,C207)","v":0},{"$f":"+SUMIFS($I$1:$I$187,$C$1:$C$187,C207)","v":0},{"$f":"+SUMIFS($J$1:$J$187,$C$1:$C$187,C207)","v":0},{"$f":"+IFERROR(H207/SUM($H$188:$H$209),0)","v":0},{"$f":"+SUMIFS($L$1:$L$187,$C$1:$C$187,C207)","v":0},{"$f":"+SUMIFS($M$1:$M$187,$C$1:$C$187,C207)","v":0},{"$f":"+SUMIFS($N$1:$N$187,$C$1:$C$187,C207)","v":0},{"$f":"+IFERROR(L207/SUM($L$188:$L$209),0)","v":0},{"$f":"+SUMIFS($P$1:$P$187,$C$1:$C$187,C207)","v":0},{"$f":"+SUMIFS($Q$1:$Q$187,$C$1:$C$187,C207)","v":0},{"$f":"+SUMIFS($R$1:$R$187,$C$1:$C$187,C207)","v":0},{"$f":"+IFERROR(P207/SUM($P$188:$P$209),0)","v":0},{"$f":"+SUMIFS($T$1:$T$187,$C$1:$C$187,C207)","v":0},{"$f":"+SUMIFS($U$1:$U$187,$C$1:$C$187,C207)","v":0},{"$f":"+SUMIFS($V$1:$V$187,$C$1:$C$187,C207)","v":0},{"$f":"+IFERROR(T207/SUM($T$188:$T$209),0)","v":0},{"$f":"+SUMIFS($X$1:$X$187,$C$1:$C$187,C207)","v":372790.79754068842},{"$f":"+SUMIFS($Y$1:$Y$187,$C$1:$C$187,C207)","v":743.97125454545449},{"$f":"+SUMIFS($Z$1:$Z$187,$C$1:$C$187,C207)","v":0},{"$f":"+IFERROR(X207/SUM($X$188:$X$209),0)","v":3.0113253087706109E-2},{"$f":"+SUMIFS($AB$1:$AB$187,$C$1:$C$187,C207)","v":372790.79754068842},{"$f":"+SUMIFS($AC$1:$AC$187,$C$1:$C$187,C207)","v":743.97125454545449},{"$f":"+SUMIFS($AD$1:$AD$187,$C$1:$C$187,C207)","v":0},{"$f":"+IFERROR(AB207/SUM($AB$188:$AB$209),0)","v":1.4910865556157121E-4},{"$f":"+RANK(AB207,$AB$188:$AB$209)","v":20}]
[null,null,"CIMB INVESTMENT BANK BHD (FOREIGN)",{"$f":"+SUMIFS($D$1:$D$187,$C$1:$C$187,C208)","v":0},{"$f":"+SUMIFS($E$1:$E$187,$C$1:$C$187,C208)","v":0},{"$f":"+SUMIFS($F$1:$F$187,$C$1:$C$187,C208)","v":0},{"$f":"+IFERROR(D208/SUM($D$188:$D$209),0)","v":0},{"$f":"+SUMIFS($H$1:$H$187,$C$1:$C$187,C208)","v":0},{"$f":"+SUMIFS($I$1:$I$187,$C$1:$C$187,C208)","v":0},{"$f":"+SUMIFS($J$1:$J$187,$C$1:$C$187,C208)","v":0},{"$f":"+IFERROR(H208/SUM($H$188:$H$209),0)","v":0},{"$f":"+SUMIFS($L$1:$L$187,$C$1:$C$187,C208)","v":0},{"$f":"+SUMIFS($M$1:$M$187,$C$1:$C$187,C208)","v":0},{"$f":"+SUMIFS($N$1:$N$187,$C$1:$C$187,C208)","v":0},{"$f":"+IFERROR(L208/SUM($L$188:$L$209),0)","v":0},{"$f":"+SUMIFS($P$1:$P$187,$C$1:$C$187,C208)","v":0},{"$f":"+SUMIFS($Q$1:$Q$187,$C$1:$C$187,C208)","v":0},{"$f":"+SUMIFS($R$1:$R$187,$C$1:$C$187,C208)","v":0},{"$f":"+IFERROR(P208/SUM($P$188:$P$209),0)","v":0},{"$f":"+SUMIFS($T$1:$T$187,$C$1:$C$187,C208)","v":0},{"$f":"+SUMIFS($U$1:$U$187,$C$1:$C$187,C208)","v":0},{"$f":"+SUMIFS($V$1:$V$187,$C$1:$C$187,C208)","v":0},{"$f":"+IFERROR(T208/SUM($T$188:$T$209),0)","v":0},{"$f":"+SUMIFS($X$1:$X$187,$C$1:$C$187,C208)","v":98560.59554342489},{"$f":"+SUMIFS($Y$1:$Y$187,$C$1:$C$187,C208)","v":245.49883747797708},{"$f":"+SUMIFS($Z$1:$Z$187,$C$1:$C$187,C208)","v":0},{"$f":"+IFERROR(X208/SUM($X$188:$X$209),0)","v":7.9615166942264733E-3},{"$f":"+SUMIFS($AB$1:$AB$187,$C$1:$C$187,C208)","v":98560.59554342489},{"$f":"+SUMIFS($AC$1:$AC$187,$C$1:$C$187,C208)","v":245.49883747797708},{"$f":"+SUMIFS($AD$1:$AD$187,$C$1:$C$187,C208)","v":0},{"$f":"+IFERROR(AB208/SUM($AB$188:$AB$209),0)","v":3.9422212108719887E-5},{"$f":"+RANK(AB208,$AB$188:$AB$209)","v":21}]
[null,null,"NOT APPLICABLE",{"$f":"+SUMIFS($D$1:$D$187,$C$1:$C$187,C209)","v":0},{"$f":"+SUMIFS($E$1:$E$187,$C$1:$C$187,C209)","v":0},{"$f":"+SUMIFS($F$1:$F$187,$C$1:$C$187,C209)","v":0},{"$f":"+IFERROR(D209/SUM($D$188:$D$209),0)","v":0},{"$f":"+SUMIFS($H$1:$H$187,$C$1:$C$187,C209)","v":0},{"$f":"+SUMIFS($I$1:$I$187,$C$1:$C$187,C209)","v":0},{"$f":"+SUMIFS($J$1:$J$187,$C$1:$C$187,C209)","v":0},{"$f":"+IFERROR(H209/SUM($H$188:$H$209),0)","v":0},{"$f":"+SUMIFS($L$1:$L$187,$C$1:$C$187,C209)","v":0},{"$f":"+SUMIFS($M$1:$M$187,$C$1:$C$187,C209)","v":0},{"$f":"+SUMIFS($N$1:$N$187,$C$1:$C$187,C209)","v":0},{"$f":"+IFERROR(L209/SUM($L$188:$L$209),0)","v":0},{"$f":"+SUMIFS($P$1:$P$187,$C$1:$C$187,C209)","v":0},{"$f":"+SUMIFS($Q$1:$Q$187,$C$1:$C$187,C209)","v":0},{"$f":"+SUMIFS($R$1:$R$187,$C$1:$C$187,C209)","v":0},{"$f":"+IFERROR(P209/SUM($P$188:$P$209),0)","v":0},{"$f":"+SUMIFS($T$1:$T$187,$C$1:$C$187,C209)","v":0},{"$f":"+SUMIFS($U$1:$U$187,$C$1:$C$187,C209)","v":0},{"$f":"+SUMIFS($V$1:$V$187,$C$1:$C$187,C209)","v":0},{"$f":"+IFERROR(T209/SUM($T$188:$T$209),0)","v":0},{"$f":"+SUMIFS($X$1:$X$187,$C$1:$C$187,C209)","v":0},{"$f":"+SUMIFS($Y$1:$Y$187,$C$1:$C$187,C209)","v":0},{"$f":"+SUMIFS($Z$1:$Z$187,$C$1:$C$187,C209)","v":0},{"$f":"+IFERROR(X209/SUM($X$188:$X$209),0)","v":0},{"$f":"+SUMIFS($AB$1:$AB$187,$C$1:$C$187,C209)","v":0},{"$f":"+SUMIFS($AC$1:$AC$187,$C$1:$C$187,C209)","v":0},{"$f":"+SUMIFS($AD$1:$AD$187,$C$1:$C$187,C209)","v":0},{"$f":"+IFERROR(AB209/SUM($AB$188:$AB$209),0)","v":0},{"$f":"+RANK(AB209,$AB$188:$AB$209)","v":22}]
[null,null,"Total",{"$f":"SUM(D188:D209)","v":1323075405.8000002},{"$f":"SUM(E188:E209)","v":1816815.75},{"$f":"SUM(F188:F209)","v":66603626.679999992},{"$f":"SUM(G188:G209)","v":1},{"$f":"SUM(H188:H209)","v":790455389.25},{"$f":"SUM(I188:I209)","v":1291126.6600000001},{"$f":"SUM(J188:J209)","v":33423427.789999995},{"$f":"SUM(K188:K209)","v":1.0000000000000002},{"$f":"SUM(L188:L209)","v":271491151.48000002},{"$f":"SUM(M188:M209)","v":542397.5},{"$f":"SUM(N188:N209)","v":11989477.579999998},{"$f":"SUM(O188:O209)","v":1},{"$f":"SUM(P188:P209)","v":71895422.569999993},{"$f":"SUM(Q188:Q209)","v":156716.80000000002},{"$f":"SUM(R188:R209)","v":2352001.98},{"$f":"SUM(S188:S209)","v":1},{"$f":"SUM(T188:T209)","v":30831493.100000005},{"$f":"SUM(U188:U209)","v":69569.5},{"$f":"SUM(V188:V209)","v":228667.14999999991},{"$f":"SUM(W188:W209)","v":0.99999999999999978},{"$f":"SUM(X188:X209)","v":12379625.557388956},{"$f":"SUM(Y188:Y209)","v":29475.43417519582},{"$f":"SUM(Z188:Z209)","v":8058.97},{"$f":"SUM(AA188:AA209)","v":0.99999999999999978},{"$f":"SUM(AB188:AB209)","v":2500128487.7573891},{"$f":"SUM(AC188:AC209)","v":3906101.6441751956},{"$f":"SUM(AD188:AD209)","v":114605260.15000001},{"$f":"SUM(AE188:AE209)","v":0.99999999999999978}]

{"sheet":"InTranDist","index":2,"n_rows":36,"n_cols":17,"rows_kept":36,"cut":false,"hidden":false,"merged":[]}
["(Will not refresh)","(Will not refresh)",null,{"$f":"COUNTA(A:A)-2","v":7},{"$f":"COUNTA(C:C)-1","v":22},null,null,"AHMAD",null,"AISHAH",null,"ANOUK",null,"NIK.FAIZ",null,"SHAN"]
["DistinctDealer","FundCode","DistinctCPName",null,null,null,"TOTAL","Trade Value","Brokerage Fees","Trade Value","Brokerage Fees","Trade Value","Brokerage Fees","Trade Value","Brokerage Fees","Trade Value","Brokerage Fees"]
["alex.lee","YH-AUR-VCAM","AFFIN INVESTMENT BANK BERHAD",null,null,null,"AFFIN INVESTMENT BANK BERHAD",3288851.55,3285.16,169700138.93000001,230900.64,30313691.539999999,37592.07,10759447.5,10747.500000000004,0,0]
["angie","KWAP","ALLIANCE INVESTMENT BANK BERHAD",null,null,null,"AMINVESTMENT BANK BHD",1609906.72,3611.73,-1609906.7199999988,-3611.7299999999996,0,0,0,0,0,0]
["anouk","MEQESG","AMINVESTMENT BANK BHD",null,null,null,"BIMB SECURITIES SDN BHD",833691.91,1870.3899999999994,62364590.470000006,73695.409999999989,0,0,0,0,0,0]
["khairul.anwar","YAMIR-VCAM","BIMB SECURITIES SDN BHD",null,null,null,"CIMB INVESTMENT BANK BHD",8300529.8399999999,16647.509999999998,106632073.70999999,152570.32,46825451.79999999,61218.680000000008,0,0,0,0]
["nik.faiz","VCAM-TABA","CIMB INVESTMENT BANK BHD",null,null,null,"HONG LEONG INVESTMENT BANK BHD",0,0,136990182.19999999,175084.75,36683447.350000009,68507.62,717023.25,1608.75,2278979.17,4547.1000000000004]
["shan","ASEAN5ESG","CIMB INVESTMENT BANK BHD (FOREIGN)",null,null,null,"KAF-SEAGROATT & CAMPBELL SECURITIES SDN BHD",2319331.77,4627.62,130587293.48999995,204419.55,27585851.140000001,35409.39,0,0,0,0]
["soonchong",null,"CLSA LIMITED",null,null,null,"KENANGA INVESTMENT BANK BHD",3384117.69,7307.869999999999,101892578.23999999,134209.06,21204136.180000007,35693.26,5473620.8099999987,10921.32,35580812.850000001,39576.870000000003]
[null,null,"CLSA LIMITED FOREIGN",null,null,null,"MAYBANK INVESTMENT BANK",11570011.48,22226.46,104114021.26000001,138066.41,26521991.690000001,42228.539999999986,0,0,4778163.6399999997,9533.6]
[null,null,"CREDIT SUISSE SECURITIES (M) SDN BHD",null,null,null,"RHB INVESTMENT BANK BERHAD",10701943.060000001,17952.559999999998,118389472.98999999,171616.81,38621943.080000006,64998.400000000001,3298907.66,3295.47,0,0]
[null,null,"HONG LEONG INVESTMENT BANK BHD",null,null,null,"TA SECURITIES HOLDINGS BHD",0,0,0,0,0,0,0,0,0,0]
[null,null,"KAF-SEAGROATT & CAMPBELL SECURITIES SDN BHD"]
[null,null,"KENANGA INVESTMENT BANK BHD",null,null,null,"KHAZANAH","AHMAD",null,"AISHAH",null,"ANOUK",null,"NIK.FAIZ",null,"SHAN"]
[null,null,"MACQUARIE CAPITAL SECURITIES (MALAYSIA) SDN BHD",null,null,null,"AFFIN INVESTMENT BANK BERHAD",3288851.55,3285.16,169700138.93000001,230900.64,0,0,0,0,0,0]
[null,null,"MACQUARIE CAPITAL SECURITIES (MALAYSIA) SDN BHD (FOREIGN)",null,null,null,"AMINVESTMENT BANK BHD",1609906.7199999988,3611.7299999999959,-1609906.7199999988,-3611.7299999999996,0,0,0,0,0,0]
[null,null,"MAYBANK INVESTMENT BANK BHD",null,null,null,"BIMB SECURITIES SDN BHD",833691.91000000015,1870.3899999999994,62364590.470000006,73695.409999999989,0,0,0,0,0,0]
[null,null,"MAYBANK INVESTMENT BANK BHD (FOREIGN)",null,null,null,"CIMB INVESTMENT BANK BHD",8300529.8399999999,16647.509999999998,106632073.70999999,152570.32,0,0,0,0,0,0]
[null,null,"MIDF AMANAH INVESTMENT BANK BHD",null,null,null,"HONG LEONG INVESTMENT BANK BHD",0,0,136990182.19999999,175084.75,0,0,0,0,0,0]
[null,null,"NOMURA SECURITIES MALAYSIA SDN BHD",null,null,null,"KAF-SEAGROATT & CAMPBELL SECURITIES SDN BHD",2319331.77,4627.62,113519718.25999996,183171.25,0,0,0,0,0,0]
[null,null,"Not Applicable",null,null,null,"KENANGA INVESTMENT BANK BHD",3126945.6699999995,6727.2999999999993,101892578.24000001,134209.06000000003,0,0,0,0,33361705.43,35128.019999999997]
[null,null,"RHB INVESTMENT BANK BERHAD",null,null,null,"MAYBANK INVESTMENT BANK",11570011.48,22226.460000000003,104114021.26000001,138066.40999999995,0,0,0,0,0,0]
[null,null,"TA SECURITIES HOLDINGS BHD",null,null,null,"RHB INVESTMENT BANK BERHAD",10701943.060000001,17952.560000000001,118389472.98999999,171616.81,0,0,3298907.66,3295.47,0,0]
[null,null,"UBS SECURITIES MALAYSIA SDN BHD",null,null,null,"TA SECURITIES HOLDINGS BHD",0,0,0,0,0,0,0,0,0,0]
[]
[null,null,null,null,null,null,"KWAP","AHMAD",null,"AISHAH",null,"ANOUK",null,"NIK.FAIZ",null,"SHAN"]
[null,null,null,null,null,null,"AFFIN INVESTMENT BANK BERHAD",0,0,0,0,30313691.539999999,37592.07,10759447.5,10747.500000000004,0,0]
[null,null,null,null,null,null,"AMINVESTMENT BANK BHD",0,0,0,0,0,0,0,0,0,0]
[null,null,null,null,null,null,"BIMB SECURITIES SDN BHD",0,0,0,0,0,0,0,0,0,0]
[null,null,null,null,null,null,"CIMB INVESTMENT BANK BHD",0,0,0,0,46825451.79999999,61218.680000000008,0,0,0,0]
[null,null,null,null,null,null,"HONG LEONG INVESTMENT BANK BHD",0,0,0,0,36683447.350000009,68507.62,717023.25,1608.75,2278979.17,4547.1000000000004]
[null,null,null,null,null,null,"KAF-SEAGROATT & CAMPBELL SECURITIES SDN BHD",0,0,17067575.229999989,21248.299999999988,27585851.140000001,35409.39,0,0,0,0]
[null,null,null,null,null,null,"KENANGA INVESTMENT BANK BHD",257172.02000000048,580.56999999999971,0,0,21204136.180000007,35693.26,5473620.8099999987,10921.32,2219107.4200000018,4448.8500000000004]
[null,null,null,null,null,null,"MAYBANK INVESTMENT BANK",0,0,0,0,26521991.690000001,42228.539999999986,0,0,4778163.6399999997,9533.6]
[null,null,null,null,null,null,"RHB INVESTMENT BANK BERHAD",0,0,0,0,38621943.080000006,64998.400000000001,0,0,0,0]
[null,null,null,null,null,null,"TA SECURITIES HOLDINGS BHD",0,0,0,0,0,0,0,0,0,0]

{"sheet":"Reference","index":3,"n_rows":5,"n_cols":4,"rows_kept":5,"cut":false,"hidden":false,"merged":[]}
["Fund Code",null,"Font Name","Font Size"]
["KHAZANAH",null,"Calibri",24]
["KWAP"]
["MEQESG"]
["YAMIR-VCAM"]

{"sheet":"InTran","index":4,"n_rows":1370,"n_cols":19,"rows_kept":1370,"cut":false,"hidden":false,"merged":[]}
[null,null,null,null,null,null,null,null,null,null,null,null,null,null,null,null,null,{"$f":"IFERROR(IF(H1<>\"MYR\",IF(H1=\"USD\",K1*P1,K1/P1*Q1),K1),0)","v":0},{"$f":"IFERROR(IF(H1<>\"MYR\",IF(H1=\"USD\",L1*P1,L1/P1*Q1),L1),0)","v":0}]
["qEventTrxID","qTrnCode","qFundCode","TradeDate","valuedate","qCPCode","CPName","SettCurrency","qStockCode","qIssuerCode","ABSSCNetProceed","BrokerageFee","TranGains","DealerKeyInDate","DealerKeyInBy","ToUSD","ToMYR","MYRTradeValue","MYRBrokerage"]
["EQT*170100001","SP","KWAP","2017-01-03","2017-01-03","BR:MACQUARIE","MACQUARIE CAPITAL SECURITIES (MALAYSIA) SDN BHD","MYR",4197,"SIME",81299.95,182.25,0,"2017-01-03T08:37:10","nik.faiz",0,0,81299.95,182.25]
["EQT*170100003","SP","MEQESG","2017-01-03","2017-01-03","BR:MACQUARIE","MACQUARIE CAPITAL SECURITIES (MALAYSIA) SDN BHD","MYR",5210,"BAB",370197.41,830.25,0,"2017-01-03T14:36:54","angie",0,0,370197.41,830.25]
["EQT*170100004","SP","MEQESG","2017-01-03","2017-01-03","BR:MACQUARIE","MACQUARIE CAPITAL SECURITIES (MALAYSIA) SDN BHD","MYR",1023,"CIMB",910915.04,2043.59,0,"2017-01-03T14:41:26","angie",0,0,910915.04,2043.59]
["EQT*170100007","SS","YAMIR-VCAM","2017-01-04","2017-01-04","BR:AFFINV","AFFIN INVESTMENT BANK BERHAD","MYR",4197,"SIME",416480.66,940.07,42860.72,"2017-01-04T09:11:53","nik.faiz",0,0,416480.66,940.07]
["EQT*170100008","SS","MEQESG","2017-01-04","2017-01-04","BR:CIMBINV","CIMB INVESTMENT BANK BHD","MYR",5139,"AEONCR",1342936.12,2692.84,271978.69,"2017-01-04T09:25:59","angie",0,0,1342936.12,2692.84]
["EQT*170100009","SP","MEQESG","2017-01-04","2017-01-04","BR:CIMBINV","CIMB INVESTMENT BANK BHD","MYR",1023,"CIMB",1155008.58,2304,0,"2017-01-04T10:17:37","angie",0,0,1155008.58,2304]
["EQT*170100010","SP","MEQESG","2017-01-04","2017-01-04","BR:CIMBINV","CIMB INVESTMENT BANK BHD","MYR",5014,"AIRPORT",1252304.21,2498.12,0,"2017-01-04T10:55:59","angie",0,0,1252304.21,2498.12]
["EQT*170100011","SP","YH-AUR-VCAM","2017-01-04","2017-01-04","BR:CREDITSUISSEMY","CREDIT SUISSE SECURITIES (M) SDN BHD","MYR",5210,"BAB",1302567.45,2598.4,0,"2017-01-04T17:10:13","alex.lee",0,0,1302567.45,2598.4]
["EQT*170100012","SS","YAMIR-VCAM","2017-01-05","2017-01-05","BR:AFFINV","AFFIN INVESTMENT BANK BERHAD","MYR",4197,"SIME",255148.91,576.09,30976.94,"2017-01-05T08:33:44","nik.faiz",0,0,255148.91,576.09]
["EQT*170100014","SS","YAMIR-VCAM","2017-01-05","2017-01-05","BR:CIMBINV","CIMB INVESTMENT BANK BHD","MYR",5398,"GAMUDA",660737.14,1491.14,3978.99,"2017-01-05T08:41:55","nik.faiz",0,0,660737.14,1491.14]
["EQT*170100015","SP","MEQESG","2017-01-05","2017-01-05","BR:TASEC","TA SECURITIES HOLDINGS BHD","MYR",8567,"SALCON",141773.79999999999,317.81,0,"2017-01-05T09:49:52","angie",0,0,141773.79999999999,317.81]
["EQT*170100018","SS","YAMIR-VCAM","2017-01-06","2017-01-06","BR:MACQUARIE","MACQUARIE CAPITAL SECURITIES (MALAYSIA) SDN BHD","MYR",5218,"SENERGY",1224117.81,2454.62,2648.34,"2017-01-06T08:57:13","nik.faiz",0,0,1224117.81,2454.62]
["EQT*170100019","SS","YAMIR-VCAM","2017-01-06","2017-01-06","BR:MACQUARIE","MACQUARIE CAPITAL SECURITIES (MALAYSIA) SDN BHD","MYR",5398,"GAMUDA",979883.64,2211.17,6908.59,"2017-01-06T08:57:45","nik.faiz",0,0,979883.64,2211.17]
["EQT*170100020","SS","YAMIR-VCAM","2017-01-06","2017-01-06","BR:MACQUARIE","MACQUARIE CAPITAL SECURITIES (MALAYSIA) SDN BHD","MYR",4197,"SIME",596731.12,1346.74,73663.199999999997,"2017-01-06T08:58:05","nik.faiz",0,0,596731.12,1346.74]
["EQT*170100021","SP","YH-AUR-VCAM","2017-01-06","2017-01-06","BR:CREDITSUISSEMY","CREDIT SUISSE SECURITIES (M) SDN BHD","MYR",5070,"PRTASCO",2498475.98,4984.3999999999996,0,"2017-01-06T09:20:39","alex.lee",0,0,2498475.98,4984.3999999999996]
["EQT*170100023","SS","VCAM-TABA","2017-01-06","2017-01-06","BR:TASEC","TA SECURITIES HOLDINGS BHD","MYR",5218,"SENERGY",61022.44,137.81,7137.72,"2017-01-06T16:06:55","angie",0,0,61022.44,137.81]
["EQT*170100024","SS","VCAM-TABA","2017-01-06","2017-01-06","BR:TASEC","TA SECURITIES HOLDINGS BHD","MYR",5703,"MUHIBAH",54408.58,122.88,4143.6000000000004,"2017-01-06T16:07:41","angie",0,0,54408.58,122.88]
["EQT*170100025","SS","MEQESG","2017-01-06","2017-01-06","BR:MACQUARIE","MACQUARIE CAPITAL SECURITIES (MALAYSIA) SDN BHD","MYR",5183,"PCHEM",720207.46,1625.31,43542.09,"2017-01-06T16:14:22","angie",0,0,720207.46,1625.31]
["EQT*170100026","SP","MEQESG","2017-01-06","2017-01-06","BR:MACQUARIE","MACQUARIE CAPITAL SECURITIES (MALAYSIA) SDN BHD","MYR",5014,"AIRPORT",604358.64,1355.69,0,"2017-01-06T16:14:47","angie",0,0,604358.64,1355.69]
["EQT*170100027","SS","YAMIR-VCAM","2017-01-09","2017-01-09","BR:KAFSEC","KAF-SEAGROATT & CAMPBELL SECURITIES SDN BHD","MYR",5218,"SENERGY",736206.1,1661.4,3324.42,"2017-01-09T08:33:01","nik.faiz",0,0,736206.1,1661.4]
["EQT*170100028","SS","YAMIR-VCAM","2017-01-09","2017-01-09","BR:KAFSEC","KAF-SEAGROATT & CAMPBELL SECURITIES SDN BHD","MYR",5398,"GAMUDA",492065.8,1110.5999999999999,5578.28,"2017-01-09T08:33:20","nik.faiz",0,0,492065.8,1110.5999999999999]
["EQT*170100029","SP","VCAM-TABA","2017-01-09","2017-01-09","BR:KENANGAINV","KENANGA INVESTMENT BANK BHD","MYR",7052,"PADINI",81382.77,182.43,0,"2017-01-09T10:14:52","angie",0,0,81382.77,182.43]
["EQT*170100031","SS","MEQESG","2017-01-09","2017-01-09","BR:KENANGAINV","KENANGA INVESTMENT BANK BHD","MYR",5183,"PCHEM",1436667.79,2880.76,83422.44,"2017-01-09T15:10:56","angie",0,0,1436667.79,2880.76]
["EQT*170100033","SS","VCAM-TABA","2017-01-10","2017-01-10","BR:KENANGAINV","KENANGA INVESTMENT BANK BHD","MYR",5225,"IHH",95644.51,216,-19.95,"2017-01-10T09:33:18","angie",0,0,95644.51,216]
["EQT*170100034","SP","MEQESG","2017-01-10","2017-01-10","BR:MACQUARIE","MACQUARIE CAPITAL SECURITIES (MALAYSIA) SDN BHD","MYR",5014,"AIRPORT",440938.66,988.99,0,"2017-01-10T10:43:40","angie",0,0,440938.66,988.99]
["EQT*170100035","SP","KWAP","2017-01-10","2017-01-10","BR:KENANGAINV","KENANGA INVESTMENT BANK BHD","MYR",5210,"BAB",1279310.8899999999,2552,0,"2017-01-10T10:58:12","angie",0,0,1279310.8899999999,2552]
["EQT*170100036","SP","KWAP","2017-01-10","2017-01-10","BR:KENANGAINV","KENANGA INVESTMENT BANK BHD","MYR",5099,"AIRASIA",4377518.04,8734,0,"2017-01-10T10:58:38","angie",0,0,4377518.04,8734]
["EQT*170100038","SS","YH-AUR-VCAM","2017-01-10","2017-01-10","BR:CIMBINV","CIMB INVESTMENT BANK BHD","MYR",5110,"UOAREIT",1735557.88,3480,82348.990000000005,"2017-01-10T11:55:02","soonchong",0,0,1735557.88,3480]
["EQT*170100039","SP","VCAM-TABA","2017-01-10","2017-01-10","BR:KENANGAINV","KENANGA INVESTMENT BANK BHD","MYR",7052,"PADINI",96877.9,217.17,0,"2017-01-10T14:56:43","angie",0,0,96877.9,217.17]
["EQT*170100041","SS","YH-AUR-VCAM","2017-01-10","2017-01-10","BR:CIMBINV","CIMB INVESTMENT BANK BHD","MYR",5110,"UOAREIT",3471362.4,6960,164944.63,"2017-01-10T17:00:21","alex.lee",0,0,3471362.4,6960]
["EQT*170100043","SS","YAMIR-VCAM","2017-01-11","2017-01-11","BR:AFFINV","AFFIN INVESTMENT BANK BERHAD","MYR",5398,"GAMUDA",192334.18,434.36,2604.0500000000002,"2017-01-11T08:49:49","nik.faiz",0,0,192334.18,434.36]
["EQT*170100044","SS","YH-AUR-VCAM","2017-01-11","2017-01-11","BR:CREDITSUISSEMY","CREDIT SUISSE SECURITIES (M) SDN BHD","MYR",7100,"UCHITEC",198978.95,449.37,46576.44,"2017-01-11T09:17:05","alex.lee",0,0,198978.95,449.37]
["EQT*170100045","SP","MEQESG","2017-01-11","2017-01-11","BR:NOMURASECMY","NOMURA SECURITIES MALAYSIA SDN BHD","MYR",6033,"PETGAS",747538.4,1676.98,0,"2017-01-11T09:53:55","angie",0,0,747538.4,1676.98]
["EQT*170100046","SP","MEQESG","2017-01-11","2017-01-11","BR:NOMURASECMY","NOMURA SECURITIES MALAYSIA SDN BHD","MYR",5014,"AIRPORT",986520.09,2213.2399999999998,0,"2017-01-11T09:55:01","angie",0,0,986520.09,2213.2399999999998]
["EQT*170100047","SS","VCAM-TABA","2017-01-11","2017-01-11","BR:TASEC","TA SECURITIES HOLDINGS BHD","MYR",5703,"MUHIBAH",12090.73,40,1163.56,"2017-01-11T10:12:46","angie",0,0,12090.73,40]
["EQT*170100048","SP","YH-AUR-VCAM","2017-01-11","2017-01-11","BR:CREDITSUISSEMY","CREDIT SUISSE SECURITIES (M) SDN BHD","MYR",6033,"PETGAS",2070956.23,4131.4399999999996,0,"2017-01-11T15:21:31","alex.lee",0,0,2070956.23,4131.4399999999996]
["EQT*170100049","SP","MEQESG","2017-01-11","2017-01-11","BR:KENANGAINV","KENANGA INVESTMENT BANK BHD","MYR",6033,"PETGAS",1037121.87,2068.8000000000002,0,"2017-01-11T16:45:28","angie",0,0,1037121.87,2068.8000000000002]
["EQT*170100051","SS","YAMIR-VCAM","2017-01-12","2017-01-12","BR:AFFINV","AFFIN INVESTMENT BANK BERHAD","MYR",5398,"GAMUDA",300325.46999999997,678.02,3568.08,"2017-01-12T08:22:51","nik.faiz",0,0,300325.46999999997,678.02]
["EQT*170100053","SS","MEQESG","2017-01-12","2017-01-12","BR:NOMURASECMY","NOMURA SECURITIES MALAYSIA SDN BHD","MYR",5148,"UEM",781680.85,1764,63466.9,"2017-01-12T09:31:56","angie",0,0,781680.85,1764]
["EQT*170100054","SS","VCAM-TABA","2017-01-12","2017-01-12","BR:NOMURASECMY","NOMURA SECURITIES MALAYSIA SDN BHD","MYR",5148,"UEM",73646.19,166.32,5597.33,"2017-01-12T09:31:56","angie",0,0,73646.19,166.32]
["EQT*170100057","SS","MEQESG","2017-01-12","2017-01-12","BR:CIMBINV","CIMB INVESTMENT BANK BHD","MYR",5183,"PCHEM",358826.92,810,20591.04,"2017-01-12T14:49:41","angie",0,0,358826.92,810]
["EQT*170100059","SS","YH-AUR-VCAM","2017-01-12","2017-01-12","BR:CREDITSUISSEMY","CREDIT SUISSE SECURITIES (M) SDN BHD","MYR",5005,"UNISEM",2513656.2400000002,5040,111930.08,"2017-01-12T15:30:39","alex.lee",0,0,2513656.2400000002,5040]
["EQT*170100060","SS","YAMIR-VCAM","2017-01-13","2017-01-13","BR:AFFINV","AFFIN INVESTMENT BANK BERHAD","MYR",1171,"MBSB",1051230.3500000001,2108,12047.42,"2017-01-13T08:46:44","nik.faiz",0,0,1051230.3500000001,2108]
["EQT*170100061","SS","YH-AUR-VCAM","2017-01-13","2017-01-13","BR:CIMBINV","CIMB INVESTMENT BANK BHD","MYR",5110,"UOAREIT",1765484.74,3540,112275.85,"2017-01-13T09:22:01","alex.lee",0,0,1765484.74,3540]
["EQT*170100063","SS","YAMIR-VCAM","2017-01-13","2017-01-13","BR:AFFINV","AFFIN INVESTMENT BANK BERHAD","MYR",5398,"GAMUDA",246132.35,555.75,2888.59,"2017-01-13T09:34:09","nik.faiz",0,0,246132.35,555.75]
["EQT*170100064","SS","MEQESG","2017-01-13","2017-01-13","BR:CIMBINV","CIMB INVESTMENT BANK BHD","MYR",5204,"PRESBHD",103803.36,234.43,8905.73,"2017-01-13T09:39:28","angie",0,0,103803.36,234.43]
["EQT*170100065","SP","KWAP","2017-01-13","2017-01-13","BR:MACQUARIE","MACQUARIE CAPITAL SECURITIES (MALAYSIA) SDN BHD","MYR",4197,"SIME",853500.26,1914.75,0,"2017-01-13T10:39:05","khairul.anwar",0,0,853500.26,1914.75]
["EQT*170100066","SS","YAMIR-VCAM","2017-01-13","2017-01-13","BR:CIMBINV","CIMB INVESTMENT BANK BHD","MYR",1171,"MBSB",1044845.95,2095.1999999999998,5663.02,"2017-01-13T11:44:03","nik.faiz",0,0,1044845.95,2095.1999999999998]
["EQT*170100067","SS","YAMIR-VCAM","2017-01-13","2017-01-13","BR:TASEC","TA SECURITIES HOLDINGS BHD","MYR",1171,"MBSB",1053225.47,2112,14042.54,"2017-01-13T12:17:01","nik.faiz",0,0,1053225.47,2112]
["EQT*170100068","SP","KWAP","2017-01-13","2017-01-13","BR:HLGINV","HONG LEONG INVESTMENT BANK BHD","MYR",5210,"BAB",626889.38,1406.25,0,"2017-01-13T16:32:24","nik.faiz",0,0,626889.38,1406.25]
["EQT*170100069","SS","YAMIR-VCAM","2017-01-13","2017-01-13","BR:HLGINV","HONG LEONG INVESTMENT BANK BHD","MYR",1171,"MBSB",841518.67,1899,10172.33,"2017-01-13T16:35:47","nik.faiz",0,0,841518.67,1899]
["EQT*170100070","SS","YAMIR-VCAM","2017-01-16","2017-01-16","BR:KENANGAINV","KENANGA INVESTMENT BANK BHD","MYR",1171,"MBSB",642338.5,1449.63,18828.740000000002,"2017-01-16T09:02:39","nik.faiz",0,0,642338.5,1449.63]
["EQT*170100071","SP","KWAP","2017-01-16","2017-01-16","BR:NOMURASECMY","NOMURA SECURITIES MALAYSIA SDN BHD","MYR",5210,"BAB",1231795.32,2457.1999999999998,0,"2017-01-16T10:02:25","anouk",0,0,1231795.32,2457.1999999999998]
["EQT*170100072","SS","MEQESG","2017-01-16","2017-01-16","BR:KENANGAINV","KENANGA INVESTMENT BANK BHD","MYR",5148,"UEM",908415.34,2049.9299999999998,60848.94,"2017-01-16T11:16:46","angie",0,0,908415.34,2049.9299999999998]
["EQT*170100073","SS","VCAM-TABA","2017-01-16","2017-01-16","BR:KENANGAINV","KENANGA INVESTMENT BANK BHD","MYR",5148,"UEM",191211.24,431.82,11809.7,"2017-01-16T11:16:46","angie",0,0,191211.24,431.82]
["EQT*170100074","SS","MEQESG","2017-01-16","2017-01-16","BR:UBSSECMY","UBS SECURITIES MALAYSIA SDN BHD","MYR",5183,"PCHEM",1425356,2858.08,71404.17,"2017-01-16T12:06:17","angie",0,0,1425356,2858.08]
["EQT*170100075","SP","VCAM-TABA","2017-01-16","2017-01-16","BR:KENANGAINV","KENANGA INVESTMENT BANK BHD","MYR",5248,"BAUTO",41151.83,92.25,0,"2017-01-16T14:35:55","angie",0,0,41151.83,92.25]
["EQT*170100076","SP","VCAM-TABA","2017-01-16","2017-01-16","BR:KENANGAINV","KENANGA INVESTMENT BANK BHD","MYR",4588,"UMW",92642.49,207.68,0,"2017-01-16T14:36:28","angie",0,0,92642.49,207.68]
["EQT*170100077","SS","YH-AUR-VCAM","2017-01-16","2017-01-16","BR:CIMBINV","CIMB INVESTMENT BANK BHD","MYR",5110,"UOAREIT",1765484.74,3540,112275.85,"2017-01-16T16:40:30","soonchong",0,0,1765484.74,3540]
["EQT*170100078","SS","YH-AUR-VCAM","2017-01-16","2017-01-16","BR:CIMBINV","CIMB INVESTMENT BANK BHD","MYR",5123,"MQREIT",2553558.7200000002,5120,33016.14,"2017-01-16T16:41:46","alex.lee",0,0,2553558.7200000002,5120]
["EQT*170100079","SS","YAMIR-VCAM","2017-01-17","2017-01-17","BR:UBSSECMY","UBS SECURITIES MALAYSIA SDN BHD","MYR",1171,"MBSB",540883.48,1220.74,21292.02,"2017-01-17T08:42:48","nik.faiz",0,0,540883.48,1220.74]
["EQT*170100081","SP","VCAM-TABA","2017-01-17","2017-01-17","BR:KENANGAINV","KENANGA INVESTMENT BANK BHD","MYR",5218,"SENERGY",121407.96,272.16000000000003,0,"2017-01-17T09:43:32","angie",0,0,121407.96,272.16000000000003]
["EQT*170100082","SS","YH-AUR-VCAM","2017-01-17","2017-01-17","BR:CREDITSUISSEMY","CREDIT SUISSE SECURITIES (M) SDN BHD","MYR",7100,"UCHITEC",527060.65,1189.55,121109.56,"2017-01-17T09:59:23","alex.lee",0,0,527060.65,1189.55]
["EQT*170100083","SS","YH-AUR-VCAM","2017-01-17","2017-01-17","BR:CIMBINV","CIMB INVESTMENT BANK BHD","MYR",5123,"MQREIT",1276679.3600000001,2560,16408.07,"2017-01-17T10:22:25","soonchong",0,0,1276679.3600000001,2560]
["EQT*170100084","SS","YH-AUR-VCAM","2017-01-17","2017-01-17","BR:CIMBINV","CIMB INVESTMENT BANK BHD","MYR",5110,"UOAREIT",1825338.46,3660,172129.58,"2017-01-17T10:34:47","soonchong",0,0,1825338.46,3660]
["EQT*170100086","SP","VCAM-TABA","2017-01-17","2017-01-17","BR:KENANGAINV","KENANGA INVESTMENT BANK BHD","MYR",7052,"PADINI",172691.77,387.12,0,"2017-01-17T10:48:07","angie",0,0,172691.77,387.12]
["EQT*170100087","SS","VCAM-TABA","2017-01-17","2017-01-17","BR:KENANGAINV","KENANGA INVESTMENT BANK BHD","MYR",6033,"PETGAS",140338.54,316.94,-9979.8799999999992,"2017-01-17T11:07:43","angie",0,0,140338.54,316.94]
["EQT*170100088","SP","YH-AUR-VCAM","2017-01-17","2017-01-17","BR:CREDITSUISSEMY","CREDIT SUISSE SECURITIES (M) SDN BHD","MYR",7052,"PADINI",2433217.27,4854.2,0,"2017-01-17T11:51:58","alex.lee",0,0,2433217.27,4854.2]
["EQT*170100089","SS","YAMIR-VCAM","2017-01-17","2017-01-17","BR:UBSSECMY","UBS SECURITIES MALAYSIA SDN BHD","MYR",7022,"GTRONIC",386801.09,873.11,12335.12,"2017-01-17T12:00:20","nik.faiz",0,0,386801.09,873.11]
["EQT*170100091","SP","KWAP","2017-01-17","2017-01-17","BR:AFFINV","AFFIN INVESTMENT BANK BERHAD","MYR",6033,"PETGAS",6032726.5800000001,6025.08,0,"2017-01-17T12:12:53","nik.faiz",0,0,6032726.5800000001,6025.08]
["EQT*170100092","SS","YAMIR-VCAM","2017-01-18","2017-01-18","BR:MIDFINV","MIDF AMANAH INVESTMENT BANK BHD","MYR",1171,"MBSB",538988.62,1216.46,19397.16,"2017-01-18T08:35:51","nik.faiz",0,0,538988.62,1216.46]
["EQT*170100093","SS","YAMIR-VCAM","2017-01-18","2017-01-18","BR:MIDFINV","MIDF AMANAH INVESTMENT BANK BHD","MYR",7022,"GTRONIC",312751.8,706.05,13179.03,"2017-01-18T08:36:16","nik.faiz",0,0,312751.8,706.05]
["EQT*170100095","SS","YAMIR-VCAM","2017-01-18","2017-01-18","BR:MIDFINV","MIDF AMANAH INVESTMENT BANK BHD","MYR",5398,"GAMUDA",122792.85,277.31,1170.97,"2017-01-18T08:37:12","nik.faiz",0,0,122792.85,277.31]
["EQT*170100096","SP","YH-AUR-VCAM","2017-01-18","2017-01-18","BR:CREDITSUISSEMY","CREDIT SUISSE SECURITIES (M) SDN BHD","MYR",6033,"PETGAS",7049077.7800000003,7040.36,0,"2017-01-18T09:02:17","alex.lee",0,0,7049077.7800000003,7040.36]
["EQT*170100098","SS","YH-AUR-VCAM","2017-01-18","2017-01-18","BR:KENANGAINV","KENANGA INVESTMENT BANK BHD","MYR",7022,"GTRONIC",3909731.08,7838.6,46925.64,"2017-01-18T09:08:34","soonchong",0,0,3909731.08,7838.6]
["EQT*170100099","SP","KWAP","2017-01-18","2017-01-18","BR:CIMBINV","CIMB INVESTMENT BANK BHD","MYR",6033,"PETGAS",3270412.11,6524.52,0,"2017-01-18T09:09:56","nik.faiz",0,0,3270412.11,6524.52]
["EQT*170100100","SS","MEQESG","2017-01-18","2017-01-18","BR:CREDITSUISSEMY","CREDIT SUISSE SECURITIES (M) SDN BHD","MYR",5148,"UEM",646358.65,1458.7,54180.03,"2017-01-18T10:02:07","angie",0,0,646358.65,1458.7]
["EQT*170100101","SP","MEQESG","2017-01-18","2017-01-18","BR:CREDITSUISSEMY","CREDIT SUISSE SECURITIES (M) SDN BHD","MYR",5210,"BAB",709361.7,1591.31,0,"2017-01-18T10:09:00","angie",0,0,709361.7,1591.31]
["EQT*170100102","SP","MEQESG","2017-01-18","2017-01-18","BR:CREDITSUISSEMY","CREDIT SUISSE SECURITIES (M) SDN BHD","MYR",8567,"SALCON",111502.28,249.95,0,"2017-01-18T10:09:33","angie",0,0,111502.28,249.95]
["EQT*170100103","SS","KWAP","2017-01-18","2017-01-18","BR:MAYBANKINV","MAYBANK INVESTMENT BANK BHD","MYR",4197,"SIME",2306442.62,4624.5600000000004,255275.27,"2017-01-18T10:30:36","anouk",0,0,2306442.62,4624.5600000000004]
["EQT*170100104","SS","KWAP","2017-01-18","2017-01-18","BR:MAYBANKINV","MAYBANK INVESTMENT BANK BHD","MYR",5099,"AIRASIA",1773884.21,3556.84,137261.97,"2017-01-18T10:31:03","anouk",0,0,1773884.21,3556.84]
["EQT*170100105","SP","KWAP","2017-01-18","2017-01-18","BR:MAYBANKINV","MAYBANK INVESTMENT BANK BHD","MYR",5210,"BAB",572339.31999999995,1283.8399999999999,0,"2017-01-18T10:31:19","anouk",0,0,572339.31999999995,1283.8399999999999]
["EQT*170100106","SP","KWAP","2017-01-18","2017-01-18","BR:MACQUARIE","MACQUARIE CAPITAL SECURITIES (MALAYSIA) SDN BHD","MYR",7052,"PADINI",654347.67000000004,1467.86,0,"2017-01-18T11:33:23","anouk",0,0,654347.67000000004,1467.86]
["EQT*170100107","SP","YH-AUR-VCAM","2017-01-18","2017-01-18","BR:CREDITSUISSEMY","CREDIT SUISSE SECURITIES (M) SDN BHD","MYR",7052,"PADINI",241851.43,542.25,0,"2017-01-18T14:17:15","alex.lee",0,0,241851.43,542.25]
["EQT*170100108","SP","YH-AUR-VCAM","2017-01-18","2017-01-18","BR:CREDITSUISSEMY","CREDIT SUISSE SECURITIES (M) SDN BHD","MYR",5248,"BAUTO",61499.62,137.86000000000001,0,"2017-01-18T14:19:28","alex.lee",0,0,61499.62,137.86000000000001]
["EQT*170100109","SS","YH-AUR-VCAM","2017-01-18","2017-01-18","BR:CREDITSUISSEMY","CREDIT SUISSE SECURITIES (M) SDN BHD","MYR",7100,"UCHITEC",230978.43,521.55999999999995,53972.82,"2017-01-18T14:44:48","alex.lee",0,0,230978.43,521.55999999999995]
["EQT*170100110","SP","MEQESG","2017-01-18","2017-01-18","BR:CREDITSUISSEMY","CREDIT SUISSE SECURITIES (M) SDN BHD","MYR",6033,"PETGAS",2019110.13,4028,0,"2017-01-18T15:57:42","angie",0,0,2019110.13,4028]
["EQT*170100111","SS","YH-AUR-VCAM","2017-01-18","2017-01-18","BR:HLGINV","HONG LEONG INVESTMENT BANK BHD","MYR",5099,"AIRASIA",3797669.16,7614,263664.15999999997,"2017-01-18T16:59:51","anouk",0,0,3797669.16,7614]
["EQT*170100114","SP","KWAP","2017-01-19","2017-01-19","BR:KAFSEC","KAF-SEAGROATT & CAMPBELL SECURITIES SDN BHD","MYR",7052,"PADINI",1305734.6100000001,2604.7199999999998,0,"2017-01-19T09:23:32","anouk",0,0,1305734.6100000001,2604.7199999999998]
["EQT*170100115","SS","YH-AUR-VCAM","2017-01-19","2017-01-19","BR:CREDITSUISSEMY","CREDIT SUISSE SECURITIES (M) SDN BHD","MYR",5099,"AIRASIA",5242575.6399999997,5249.4,530568.98,"2017-01-19T09:31:46","alex.lee",0,0,5242575.6399999997,5249.4]
["EQT*170100116","SS","YH-AUR-VCAM","2017-01-19","2017-01-19","BR:CREDITSUISSEMY","CREDIT SUISSE SECURITIES (M) SDN BHD","MYR",5099,"AIRASIA",2618100.9900000002,5249.4,262097.66,"2017-01-19T09:33:10","nik.faiz",0,0,2618100.9900000002,5249.4]
["EQT*170100117","SS","YH-AUR-VCAM","2017-01-19","2017-01-19","BR:CREDITSUISSEMY","CREDIT SUISSE SECURITIES (M) SDN BHD","MYR",5099,"AIRASIA",7864493.4500000002,7874.1,796483.46,"2017-01-19T10:19:17","anouk",0,0,7864493.4500000002,7874.1]
["EQT*170100118","SS","KWAP","2017-01-19","2017-01-19","BR:NOMURASECMY","NOMURA SECURITIES MALAYSIA SDN BHD","MYR",5099,"AIRASIA",1133647.92,2273.2399999999998,138347.79999999999,"2017-01-19T10:29:02","anouk",0,0,1133647.92,2273.2399999999998]
["EQT*170100119","SS","YH-AUR-VCAM","2017-01-19","2017-01-19","BR:MACQUARIE","MACQUARIE CAPITAL SECURITIES (MALAYSIA) SDN BHD","MYR",7100,"UCHITEC",342430.66,773.01,78630.8,"2017-01-19T10:40:26","alex.lee",0,0,342430.66,773.01]
["EQT*170100120","SP","KWAP","2017-01-19","2017-01-19","BR:KAFSEC","KAF-SEAGROATT & CAMPBELL SECURITIES SDN BHD","MYR",6033,"PETGAS",403687.67999999999,905.4,0,"2017-01-19T10:43:20","anouk",0,0,403687.67999999999,905.4]
["EQT*170100121","SP","KWAP","2017-01-19","2017-01-19","BR:NOMURASECMY","NOMURA SECURITIES MALAYSIA SDN BHD","MYR",5210,"BAB",227855.7,510.84,0,"2017-01-19T10:46:05","anouk",0,0,227855.7,510.84]
["EQT*170100123","SP","MEQESG","2017-01-19","2017-01-19","BR:CREDITSUISSEMY","CREDIT SUISSE SECURITIES (M) SDN BHD","MYR",6033,"PETGAS",2418854.34,4825.54,0,"2017-01-19T11:34:19","angie",0,0,2418854.34,4825.54]
["EQT*170100124","SP","MEQESG","2017-01-19","2017-01-19","BR:CREDITSUISSEMY","CREDIT SUISSE SECURITIES (M) SDN BHD","MYR",5210,"BAB",370197.41,830.25,0,"2017-01-19T11:47:57","angie",0,0,370197.41,830.25]
["EQT*170100125","SS","MEQESG","2017-01-19","2017-01-19","BR:CREDITSUISSEMY","CREDIT SUISSE SECURITIES (M) SDN BHD","MYR",5148,"UEM",282394.08,637.55999999999995,22938.75,"2017-01-19T11:48:21","angie",0,0,282394.08,637.55999999999995]
["EQT*170100127","SP","YH-AUR-VCAM","2017-01-19","2017-01-19","BR:CREDITSUISSEMY","CREDIT SUISSE SECURITIES (M) SDN BHD","MYR",6033,"PETGAS",3853945.51,7689.07,0,"2017-01-19T11:59:29","alex.lee",0,0,3853945.51,7689.07]
["EQT*170100128","SS","YH-AUR-VCAM","2017-01-19","2017-01-19","BR:HLGINV","HONG LEONG INVESTMENT BANK BHD","MYR",5123,"MQREIT",2653314.92,5320,132772.35,"2017-01-19T15:20:25","angie",0,0,2653314.92,5320]
["EQT*170100129","SS","YAMIR-VCAM","2017-01-19","2017-01-19","BR:MIDFINV","MIDF AMANAH INVESTMENT BANK BHD","MYR",7022,"GTRONIC",470125.26,1061.0999999999999,20766.099999999999,"2017-01-19T15:38:15","nik.faiz",0,0,470125.26,1061.0999999999999]
["EQT*170100130","SP","YH-AUR-VCAM","2017-01-19","2017-01-19","BR:CREDITSUISSEMY","CREDIT SUISSE SECURITIES (M) SDN BHD","MYR",7052,"PADINI",1691312.91,3374,0,"2017-01-19T17:07:47","soonchong",0,0,1691312.91,3374]
["EQT*170100131","SP","YH-AUR-VCAM","2017-01-20","2017-01-20","BR:CREDITSUISSEMY","CREDIT SUISSE SECURITIES (M) SDN BHD","MYR",5255,"ICON",940334.34,2109.6,0,"2017-01-20T09:13:25","alex.lee",0,0,940334.34,2109.6]
["EQT*170100132","SS","YH-AUR-VCAM","2017-01-20","2017-01-20","BR:KENANGAINV","KENANGA INVESTMENT BANK BHD","MYR",5099,"AIRASIA",1564520.88,3137.09,149976.48000000001,"2017-01-20T09:32:33","soonchong",0,0,1564520.88,3137.09]
["EQT*170100133","SS","YH-AUR-VCAM","2017-01-20","2017-01-20","BR:KENANGAINV","KENANGA INVESTMENT BANK BHD","MYR",7022,"GTRONIC",1579040.1,3166.2,27351.16,"2017-01-20T09:33:02","soonchong",0,0,1579040.1,3166.2]
["EQT*170100134","SS","YH-AUR-VCAM","2017-01-20","2017-01-20","BR:HLGINV","HONG LEONG INVESTMENT BANK BHD","MYR",7100,"UCHITEC",475550.55,1073.3399999999999,109237.79,"2017-01-20T09:38:16","soonchong",0,0,475550.55,1073.3399999999999]
["EQT*170100136","SP","KWAP","2017-01-20","2017-01-20","BR:MACQUARIE","MACQUARIE CAPITAL SECURITIES (MALAYSIA) SDN BHD","MYR",7052,"PADINI",1289648.56,2572.63,0,"2017-01-20T09:41:49","anouk",0,0,1289648.56,2572.63]
["EQT*170100137","SP","YH-AUR-VCAM","2017-01-20","2017-01-20","BR:CREDITSUISSEMY","CREDIT SUISSE SECURITIES (M) SDN BHD","MYR",5210,"BAB",1238210.93,2470,0,"2017-01-20T10:50:13","alex.lee",0,0,1238210.93,2470]
["EQT*170100138","SP","MEQESG","2017-01-20","2017-01-20","BR:TASEC","TA SECURITIES HOLDINGS BHD","MYR",5210,"BAB",154319.6,345.94,0,"2017-01-20T11:00:09","angie",0,0,154319.6,345.94]
["EQT*170100139","SP","MEQESG","2017-01-20","2017-01-20","BR:TASEC","TA SECURITIES HOLDINGS BHD","MYR",8567,"SALCON",178910.81,401.06,0,"2017-01-20T11:00:33","angie",0,0,178910.81,401.06]
["EQT*170100140","SS","VCAM-TABA","2017-01-20","2017-01-20","BR:TASEC","TA SECURITIES HOLDINGS BHD","MYR",5225,"IHH",150639.31,340.2,-2423.83,"2017-01-20T11:01:17","angie",0,0,150639.31,340.2]
["EQT*170100141","SP","VCAM-TABA","2017-01-20","2017-01-20","BR:TASEC","TA SECURITIES HOLDINGS BHD","MYR",5255,"ICON",150913.82,338.3,0,"2017-01-20T11:03:08","angie",0,0,150913.82,338.3]
["EQT*170100142","SP","YH-AUR-VCAM","2017-01-20","2017-01-20","BR:CREDITSUISSEMY","CREDIT SUISSE SECURITIES (M) SDN BHD","MYR",5255,"ICON",940334.34,2109.6,0,"2017-01-20T11:15:36","angie",0,0,940334.34,2109.6]
["EQT*170100143","SP","YH-AUR-VCAM","2017-01-20","2017-01-20","BR:CREDITSUISSEMY","CREDIT SUISSE SECURITIES (M) SDN BHD","MYR",6033,"PETGAS",3028565.2,6042,0,"2017-01-20T16:08:06","alex.lee",0,0,3028565.2,6042]
["EQT*170100144","SP","KWAP","2017-01-20","2017-01-20","BR:MACQUARIE","MACQUARIE CAPITAL SECURITIES (MALAYSIA) SDN BHD","MYR",6033,"PETGAS",3861141.69,7703.43,0,"2017-01-20T17:17:29","khairul.anwar",0,0,3861141.69,7703.43]
["EQT*170100145","SS","YAMIR-VCAM","2017-01-23","2017-01-23","BR:BIMBSEC","BIMB SECURITIES SDN BHD","MYR",5398,"GAMUDA",221050.34,499.16,2130.9499999999998,"2017-01-23T09:16:51","nik.faiz",0,0,221050.34,499.16]
["EQT*170100146","SS","YAMIR-VCAM","2017-01-23","2017-01-23","BR:BIMBSEC","BIMB SECURITIES SDN BHD","MYR",4197,"SIME",173208.07,391.17,23760.09,"2017-01-23T09:17:15","nik.faiz",0,0,173208.07,391.17]
["EQT*170100148","SP","MEQESG","2017-01-23","2017-01-23","BR:TASEC","TA SECURITIES HOLDINGS BHD","MYR",8567,"SALCON",124545.4,279.19,0,"2017-01-23T09:46:40","angie",0,0,124545.4,279.19]
["EQT*170100149","SP","YH-AUR-VCAM","2017-01-23","2017-01-23","BR:CREDITSUISSEMY","CREDIT SUISSE SECURITIES (M) SDN BHD","MYR",5255,"ICON",923890,2072.6999999999998,0,"2017-01-23T10:03:26","alex.lee",0,0,923890,2072.6999999999998]
["EQT*170100150","SS","YH-AUR-VCAM","2017-01-23","2017-01-23","BR:CREDITSUISSEMY","CREDIT SUISSE SECURITIES (M) SDN BHD","MYR",7100,"UCHITEC",315297.51,711.79,71043.44,"2017-01-23T10:03:46","alex.lee",0,0,315297.51,711.79]
["EQT*170100151","SS","KWAP","2017-01-23","2017-01-23","BR:MIDFINV","MIDF AMANAH INVESTMENT BANK BHD","MYR",4197,"SIME",219205.34,495,29843.51,"2017-01-23T10:35:23","nik.faiz",0,0,219205.34,495]
["EQT*170100152","SS","VCAM-TABA","2017-01-23","2017-01-23","BR:KENANGAINV","KENANGA INVESTMENT BANK BHD","MYR",4863,"TM",72928.14,164.7,-5203.91,"2017-01-23T11:46:55","angie",0,0,72928.14,164.7]
["EQT*170100153","SS","VCAM-TABA","2017-01-23","2017-01-23","BR:KENANGAINV","KENANGA INVESTMENT BANK BHD","MYR",5225,"IHH",75439.33,170.37,-1092.24,"2017-01-23T11:47:21","angie",0,0,75439.33,170.37]
["EQT*170100154","SP","VCAM-TABA","2017-01-23","2017-01-23","BR:KENANGAINV","KENANGA INVESTMENT BANK BHD","MYR",5255,"ICON",138511.01,310.5,0,"2017-01-23T11:49:28","angie",0,0,138511.01,310.5]
["EQT*170100155","SS","YH-AUR-VCAM","2017-01-23","2017-01-23","BR:CIMBINV","CIMB INVESTMENT BANK BHD","MYR",5123,"MQREIT",1316581.8400000001,2640,56310.55,"2017-01-23T16:59:14","soonchong",0,0,1316581.8400000001,2640]
["EQT*170100156","SP","YH-AUR-VCAM","2017-01-24","2017-01-24","BR:MACQUARIE","MACQUARIE CAPITAL SECURITIES (MALAYSIA) SDN BHD","MYR",5255,"ICON",466456.9,1046.25,0,"2017-01-24T09:17:44","alex.lee",0,0,466456.9,1046.25]
["EQT*170100157","SP","YH-AUR-VCAM","2017-01-24","2017-01-24","BR:CREDITSUISSEMY","CREDIT SUISSE SECURITIES (M) SDN BHD","MYR",6033,"PETGAS",1919669.3,3829.6,0,"2017-01-24T10:14:02","alex.lee",0,0,1919669.3,3829.6]
["EQT*170100159","SP","KWAP","2017-01-24","2017-01-24","BR:MACQUARIE","MACQUARIE CAPITAL SECURITIES (MALAYSIA) SDN BHD","MYR",5210,"BAB",874617.19,1962.14,0,"2017-01-24T10:34:34","anouk",0,0,874617.19,1962.14]
["EQT*170100160","SS","YH-AUR-VCAM","2017-01-24","2017-01-24","BR:CREDITSUISSEMY","CREDIT SUISSE SECURITIES (M) SDN BHD","MYR",5005,"UNISEM",1001352.25,2008,40661.79,"2017-01-24T10:34:57","alex.lee",0,0,1001352.25,2008]
["EQT*170100161","SS","KWAP","2017-01-24","2017-01-24","BR:CREDITSUISSEMY","CREDIT SUISSE SECURITIES (M) SDN BHD","MYR",5099,"AIRASIA",4939243.88,9902,263180.34000000003,"2017-01-24T10:40:32","anouk",0,0,4939243.88,9902]
["EQT*170100162","SS","YH-AUR-VCAM","2017-01-24","2017-01-24","BR:CIMBINV","CIMB INVESTMENT BANK BHD","MYR",5123,"MQREIT",1326557.46,2660,66286.17,"2017-01-24T12:13:36","soonchong",0,0,1326557.46,2660]
["EQT*170100164","SS","YH-AUR-VCAM","2017-01-24","2017-01-24","BR:MACQUARIE","MACQUARIE CAPITAL SECURITIES (MALAYSIA) SDN BHD","MYR",7022,"GTRONIC",1622623.37,3253.58,43894.79,"2017-01-24T15:08:17","alex.lee",0,0,1622623.37,3253.58]
["EQT*170100165","SP","KWAP","2017-01-24","2017-01-24","BR:MACQUARIE","MACQUARIE CAPITAL SECURITIES (MALAYSIA) SDN BHD","MYR",7052,"PADINI",1092081.24,2178.4499999999998,0,"2017-01-24T15:09:50","anouk",0,0,1092081.24,2178.4499999999998]
["EQT*170100166","SS","VCAM","2017-01-24","2017-01-24","N/A","Not Applicable","MYR","ISMMF","IVCAP",15060804.140000001,0,-15905.89,"2017-01-24","zuleika",0,0,15060804.140000001,0]
["EQT*170100170","SS","KWAP","2017-01-25","2017-01-25","BR:AFFINV","AFFIN INVESTMENT BANK BERHAD","MYR",4197,"SIME",15410474.58,15428.09,1971844.16,"2017-01-25T09:29:51","anouk",4.4370000000000003,4.4370000000000003,15410474.58,15428.09]
["EQT*170100171","SP","KWAP","2017-01-25","2017-01-25","BR:AFFINV","AFFIN INVESTMENT BANK BERHAD","MYR",7052,"PADINI",2658054.1,5302.78,0,"2017-01-25T09:34:07","anouk",4.4370000000000003,4.4370000000000003,2658054.1,5302.78]
["EQT*170100172","SS","YH-AUR-VCAM","2017-01-25","2017-01-25","BR:CREDITSUISSEMY","CREDIT SUISSE SECURITIES (M) SDN BHD","MYR",5005,"UNISEM",1252937.3899999999,2512.4,52074.31,"2017-01-25T09:47:23","alex.lee",4.4370000000000003,4.4370000000000003,1252937.3899999999,2512.4]
["EQT*170100173","SP","MEQESG","2017-01-25","2017-01-25","BR:TASEC","TA SECURITIES HOLDINGS BHD","MYR",8567,"SALCON",77892.58,174.61,0,"2017-01-25T10:56:21","angie",4.4370000000000003,4.4370000000000003,77892.58,174.61]
["EQT*170100174","SS","YH-AUR-VCAM","2017-01-25","2017-01-25","BR:CREDITSUISSEMY","CREDIT SUISSE SECURITIES (M) SDN BHD","MYR",5123,"MQREIT",2633363.6800000002,5280,112821.11,"2017-01-25T11:14:56","alex.lee",4.4370000000000003,4.4370000000000003,2633363.6800000002,5280]
["EQT*170100175","SP","YH-AUR-VCAM","2017-01-25","2017-01-25","BR:CREDITSUISSEMY","CREDIT SUISSE SECURITIES (M) SDN BHD","MYR",5255,"ICON",932713.79,2092.5,0,"2017-01-25T11:18:48","alex.lee",4.4370000000000003,4.4370000000000003,932713.79,2092.5]
["EQT*170100176","SP","YH-AUR-VCAM","2017-01-25","2017-01-25","BR:CREDITSUISSEMY","CREDIT SUISSE SECURITIES (M) SDN BHD","MYR",5218,"SENERGY",3412476.48,6808,0,"2017-01-25T11:20:04","alex.lee",4.4370000000000003,4.4370000000000003,3412476.48,6808]
["EQT*170100177","SS","YH-AUR-VCAM","2017-01-25","2017-01-25","BR:CREDITSUISSEMY","CREDIT SUISSE SECURITIES (M) SDN BHD","MYR",5123,"MQREIT",1190302.46,2386.8200000000002,50891.19,"2017-01-25T11:34:35","angie",4.4370000000000003,4.4370000000000003,1190302.46,2386.8200000000002]
["EQT*170100178","SS","MEQESG","2017-01-25","2017-01-25","BR:NOMURASECMY","NOMURA SECURITIES MALAYSIA SDN BHD","MYR",1023,"CIMB",987682.51,2228.7600000000002,96424.11,"2017-01-25T11:49:50","angie",4.4370000000000003,4.4370000000000003,987682.51,2228.7600000000002]
["EQT*170100179","SS","KWAP","2017-01-25","2017-01-25","BR:AFFINV","AFFIN INVESTMENT BANK BERHAD","MYR",7022,"GTRONIC",7585064.3899999997,7594.37,37446.959999999999,"2017-01-25T15:05:18","anouk",4.4370000000000003,4.4370000000000003,7585064.3899999997,7594.37]
["EQT*170100180","SS","YH-AUR-VCAM","2017-01-26","2017-01-26","BR:CREDITSUISSEMY","CREDIT SUISSE SECURITIES (M) SDN BHD","MYR",5005,"UNISEM",3666861.76,7351.83,168747.61,"2017-01-26T09:17:49","alex.lee",4.4370000000000003,4.4370000000000003,3666861.76,7351.83]
["EQT*170100181","SP","MEQESG","2017-01-26","2017-01-26","BR:CIMBINV","CIMB INVESTMENT BANK BHD","MYR",8567,"SALCON",144647.64000000001,324.25,0,"2017-01-26T09:36:03","angie",4.4370000000000003,4.4370000000000003,144647.64000000001,324.25]
["EQT*170100182","SS","MEQESG","2017-01-26","2017-01-26","BR:KENANGAINV","KENANGA INVESTMENT BANK BHD","MYR",1023,"CIMB",997860.78,2001,106364.11,"2017-01-26T09:36:32","angie",4.4370000000000003,4.4370000000000003,997860.78,2001]
["EQT*170100183","SS","VCAM-TABA","2017-01-26","2017-01-26","BR:KENANGAINV","KENANGA INVESTMENT BANK BHD","MYR",4588,"UMW",312682.99,705.89,42449.73,"2017-01-26T09:37:21","angie",4.4370000000000003,4.4370000000000003,312682.99,705.89]
["EQT*170100185","SS","YH-AUR-VCAM","2017-01-26","2017-01-26","BR:CREDITSUISSEMY","CREDIT SUISSE SECURITIES (M) SDN BHD","MYR",7022,"GTRONIC",4071287.86,8162.4,208482.42,"2017-01-26T11:22:04","alex.lee",4.4370000000000003,4.4370000000000003,4071287.86,8162.4]
["EQT*170100187","SP","KWAP","2017-01-26","2017-01-26","BR:AFFINV","AFFIN INVESTMENT BANK BERHAD","MYR",5255,"ICON",1398601.01,2790,0,"2017-01-26T12:26:59","anouk",4.4370000000000003,4.4370000000000003,1398601.01,2790]
["EQT*170100189","SS","KWAP","2017-01-26","2017-01-26","BR:MAYBANKINV","MAYBANK INVESTMENT BANK BHD","MYR",4197,"SIME",6577134.5,6585.38,896279.57,"2017-01-26T12:35:06","anouk",4.4370000000000003,4.4370000000000003,6577134.5,6585.38]
["EQT*170100190","SP","YH-AUR-VCAM","2017-01-26","2017-01-26","BR:CREDITSUISSEMY","CREDIT SUISSE SECURITIES (M) SDN BHD","MYR",5255,"ICON",932713.79,2092.5,0,"2017-01-26T14:53:46","alex.lee",4.4370000000000003,4.4370000000000003,932713.79,2092.5]
["EQT*170100191","SS","KWAP","2017-01-26","2017-01-26","BR:AFFINV","AFFIN INVESTMENT BANK BERHAD","MYR",7022,"GTRONIC",3579080.56,7175.89,122036.32,"2017-01-26T14:59:58","anouk",4.4370000000000003,4.4370000000000003,3579080.56,7175.89]
["EQT*170100192","SP","VCAM-TABA","2017-01-26","2017-01-26","BR:KENANGAINV","KENANGA INVESTMENT BANK BHD","MYR",5070,"PRTASCO",55866.45,125.24,0,"2017-01-26T15:07:38","angie",4.4370000000000003,4.4370000000000003,55866.45,125.24]
["EQT*170100193","SS","YAMIR-VCAM","2017-01-26","2017-01-26","BR:NOMURASECMY","NOMURA SECURITIES MALAYSIA SDN BHD","MYR",1015,"AMMB",643455.48,1452.15,3660.2,"2017-01-26T16:15:35","nik.faiz",4.4370000000000003,4.4370000000000003,643455.48,1452.15]
["EQT*170100195","SP","KWAP","2017-01-26","2017-01-26","BR:AFFINV","AFFIN INVESTMENT BANK BERHAD","MYR",7081,"PHARMA",10535.74,40,0,"2017-01-26T16:26:59","anouk",4.4370000000000003,4.4370000000000003,10535.74,40]
["EQT*170100196","SP","KWAP","2017-01-26","2017-01-26","BR:AFFINV","AFFIN INVESTMENT BANK BERHAD","MYR",7052,"PADINI",624673.41,1401.28,0,"2017-01-26T16:30:31","anouk",4.4370000000000003,4.4370000000000003,624673.41,1401.28]
["EQT*170100197","SS","KWAP","2017-01-26","2017-01-26","BR:MAYBANKINV","MAYBANK INVESTMENT BANK BHD","MYR",5180,"CMMT",1707127.36,3423,181358.61,"2017-01-26T16:36:51","anouk",4.4370000000000003,4.4370000000000003,1707127.36,3423]
["EQT*170100198","SS","KWAP","2017-01-26","2017-01-26","BR:KAFSEC","KAF-SEAGROATT & CAMPBELL SECURITIES SDN BHD","MYR",5099,"AIRASIA",5133649.47,5140.3599999999997,276388.46999999997,"2017-01-26T17:01:48","anouk",4.4370000000000003,4.4370000000000003,5133649.47,5140.3599999999997]
["EQT*170100199","SS","YAMIR-VCAM","2017-01-27","2017-01-27","BR:NOMURASECMY","NOMURA SECURITIES MALAYSIA SDN BHD","MYR",4197,"SIME",183860.18,415.22,34412.199999999997,"2017-01-27T09:09:16","nik.faiz",4.4370000000000003,4.4370000000000003,183860.18,415.22]
["EQT*170100200","SS","MEQESG","2017-01-27","2017-01-27","BR:UBSSECMY","UBS SECURITIES MALAYSIA SDN BHD","MYR",4197,"SIME",3220887.79,6457.92,599681.64,"2017-01-27T09:22:28","angie",4.4370000000000003,4.4370000000000003,3220887.79,6457.92]
["EQT*170100201","SS","VCAM-TABA","2017-01-27","2017-01-27","BR:UBSSECMY","UBS SECURITIES MALAYSIA SDN BHD","MYR",4197,"SIME",82721.97,186.82,8699.34,"2017-01-27T09:22:28","angie",4.4370000000000003,4.4370000000000003,82721.97,186.82]
["EQT*170100202","SS","VCAM-TABA","2017-01-27","2017-01-27","BR:KENANGAINV","KENANGA INVESTMENT BANK BHD","MYR",4588,"UMW",86979.01,196.43,13279.03,"2017-01-27T09:22:48","angie",4.4370000000000003,4.4370000000000003,86979.01,196.43]
["EQT*170100203","SS","KWAP","2017-01-27","2017-01-27","BR:AFFINV","AFFIN INVESTMENT BANK BERHAD","MYR",4197,"SIME",4601162.1399999997,9224.4,813925.52,"2017-01-27T09:29:14","anouk",4.4370000000000003,4.4370000000000003,4601162.1399999997,9224.4]
["EQT*170100204","SS","YH-AUR-VCAM","2017-01-27","2017-01-27","BR:CREDITSUISSEMY","CREDIT SUISSE SECURITIES (M) SDN BHD","MYR",4197,"SIME",12335067.109999999,12349.42,546688.79,"2017-01-27T09:47:15","alex.lee",4.4370000000000003,4.4370000000000003,12335067.109999999,12349.42]
["EQT*170100205","SS","YAMIR-VCAM","2017-01-31","2017-01-31","BR:CREDITSUISSEMY","CREDIT SUISSE SECURITIES (M) SDN BHD","MYR",4197,"SIME",180578.08,407.81,31130.11,"2017-01-31T08:51:57","nik.faiz",4.4279999999999999,4.4279999999999999,180578.08,407.81]
["EQT*170100206","SS","KWAP","2017-01-31","2017-01-31","BR:CIMBINV","CIMB INVESTMENT BANK BHD","MYR",5099,"AIRASIA",2556950.4300000002,5126.8,218918.66,"2017-01-31T10:35:33","khairul.anwar",4.4279999999999999,4.4279999999999999,2556950.4300000002,5126.8]
["EQT*170100207","SS","MEQESG","2017-01-31","2017-01-31","BR:KENANGAINV","KENANGA INVESTMENT BANK BHD","MYR",4197,"SIME",3147357.5,6310.5,525971.64,"2017-01-31T10:44:16","angie",4.4279999999999999,4.4279999999999999,3147357.5,6310.5]
["EQT*170100208","SS","VCAM-TABA","2017-01-31","2017-01-31","BR:KENANGAINV","KENANGA INVESTMENT BANK BHD","MYR",4197,"SIME",80833.69,182.55,6811.06,"2017-01-31T10:44:16","angie",4.4279999999999999,4.4279999999999999,80833.69,182.55]
["EQT*170100209","SS","YAMIR-VCAM","2017-01-31","2017-01-31","BR:CREDITSUISSEMY","CREDIT SUISSE SECURITIES (M) SDN BHD","MYR",1015,"AMMB",460152.29,1038.5999999999999,3155.66,"2017-01-31T14:46:13","nik.faiz",4.4279999999999999,4.4279999999999999,460152.29,1038.5999999999999]
["EQT*170100210","SS","YAMIR-VCAM","2017-01-31","2017-01-31","BR:CREDITSUISSEMY","CREDIT SUISSE SECURITIES (M) SDN BHD","MYR",5398,"GAMUDA",195274.21,441,679.2,"2017-01-31T14:50:05","nik.faiz",4.4279999999999999,4.4279999999999999,195274.21,441]
["EQT*170100211","SS","MEQESG","2017-01-31","2017-01-31","BR:UBSSECMY","UBS SECURITIES MALAYSIA SDN BHD","MYR",1023,"CIMB",2235381.3199999998,4482.09,229239.26,"2017-01-31T15:06:51","angie",4.4279999999999999,4.4279999999999999,2235381.3199999998,4482.09]
["EQT*170100212","SS","YH-AUR-VCAM","2017-01-31","2017-01-31","BR:MAYBANKINV","MAYBANK INVESTMENT BANK BHD","MYR",5099,"AIRASIA",6169725.3799999999,6177.53,499296.56,"2017-01-31T15:10:38","anouk",4.4279999999999999,4.4279999999999999,6169725.3799999999,6177.53]
["EQT*170100215","SS","VCAM-TABA","2017-01-31","2017-01-31","BR:KENANGAINV","KENANGA INVESTMENT BANK BHD","MYR",5703,"MUHIBAH",52604.28,118.8,4524.7299999999996,"2017-01-31T17:06:24","angie",4.4279999999999999,4.4279999999999999,52604.28,118.8]
["EQT*170200002","SS","YH-AUR-VCAM","2017-02-02","2017-02-02","BR:CREDITSUISSEMY","CREDIT SUISSE SECURITIES (M) SDN BHD","MYR",5005,"UNISEM",1269646.55,2545.9,68783.47,"2017-02-02T11:21:37","alex.lee",4.4279999999999999,4.4279999999999999,1269646.55,2545.9]
["EQT*170200003","SP","YH-AUR-VCAM","2017-02-02","2017-02-02","BR:CREDITSUISSEMY","CREDIT SUISSE SECURITIES (M) SDN BHD","MYR",5255,"ICON",922686.76,2070,0,"2017-02-02T12:03:53","alex.lee",4.4279999999999999,4.4279999999999999,922686.76,2070]
["EQT*170200004","SS","YAMIR-VCAM","2017-02-02","2017-02-02","BR:MAYBANKINV","MAYBANK INVESTMENT BANK BHD","MYR",4197,"SIME",180030.57,406.58,30582.59,"2017-02-02T15:16:24","nik.faiz",4.4279999999999999,4.4279999999999999,180030.57,406.58]
["EQT*170200005","SS","YAMIR-VCAM","2017-02-02","2017-02-02","BR:MAYBANKINV","MAYBANK INVESTMENT BANK BHD","MYR",5398,"GAMUDA",146455.65,330.75,509.39,"2017-02-02T15:16:49","nik.faiz",4.4279999999999999,4.4279999999999999,146455.65,330.75]
["EQT*170200006","SS","MEQESG","2017-02-02","2017-02-02","BR:KENANGAINV","KENANGA INVESTMENT BANK BHD","MYR",4197,"SIME",919387.61,2074.6799999999998,155833.16,"2017-02-02T16:42:48","angie",4.4279999999999999,4.4279999999999999,919387.61,2074.6799999999998]
["EQT*170200007","SS","YH-AUR-VCAM","2017-02-02","2017-02-02","BR:CREDITSUISSEMY","CREDIT SUISSE SECURITIES (M) SDN BHD","MYR",7022,"GTRONIC",408531.87,922.14,33453.46,"2017-02-02T16:44:05","alex.lee",4.4279999999999999,4.4279999999999999,408531.87,922.14]
["EQT*170200008","SS","YH-AUR-VCAM","2017-02-03","2017-02-03","BR:CREDITSUISSEMY","CREDIT SUISSE SECURITIES (M) SDN BHD","MYR",7022,"GTRONIC",4310978.63,8642.7999999999993,448173.2,"2017-02-03T09:27:08","alex.lee",4.4279999999999999,4.4279999999999999,4310978.63,8642.7999999999993]
["EQT*170200009","SS","YH-AUR-VCAM","2017-02-03","2017-02-03","BR:MACQUARIE","MACQUARIE CAPITAL SECURITIES (MALAYSIA) SDN BHD","MYR",5005,"UNISEM",1282165.95,2571,81302.87,"2017-02-03T09:53:04","alex.lee",4.4279999999999999,4.4279999999999999,1282165.95,2571]
["EQT*170200010","SP","VCAM-TABA","2017-02-03","2017-02-03","BR:TASEC","TA SECURITIES HOLDINGS BHD","MYR",7052,"PADINI",28846.7,64.67,0,"2017-02-03T10:05:38","angie",4.4279999999999999,4.4279999999999999,28846.7,64.67]
["EQT*170200011","SS","KWAP","2017-02-03","2017-02-03","BR:AFFINV","AFFIN INVESTMENT BANK BERHAD","MYR",5099,"AIRASIA",1780788.29,3570.68,151647.75,"2017-02-03T10:08:08","khairul.anwar",4.4279999999999999,4.4279999999999999,1780788.29,3570.68]
["EQT*170200012","SP","KWAP","2017-02-03","2017-02-03","BR:MAYBANKINV","MAYBANK INVESTMENT BANK BHD","MYR",5255,"ICON",577307.72,1294.99,0,"2017-02-03T10:16:57","angie",4.4279999999999999,4.4279999999999999,577307.72,1294.99]
["EQT*170200014","SP","MEQESG","2017-02-03","2017-02-03","BR:MACQUARIE","MACQUARIE CAPITAL SECURITIES (MALAYSIA) SDN BHD","MYR",5210,"BAB",123274.99,276.35000000000002,0,"2017-02-03T10:58:16","alex.lee",4.4279999999999999,4.4279999999999999,123274.99,276.35000000000002]
["EQT*170200016","SP","ASEAN5ESG","2017-02-03","2017-02-03","BR:MACQUARIE","MACQUARIE CAPITAL SECURITIES (MALAYSIA) SDN BHD","MYR",5347,"TENAGA",40349.660000000003,90.45,0,"2017-02-03T11:40:01","alex.lee",4.4260000000000002,4.4260000000000002,40349.660000000003,90.45]
["EQT*170200017","SP","MEQESG","2017-02-03","2017-02-03","BR:TASEC","TA SECURITIES HOLDINGS BHD","MYR",8567,"SALCON",234832.5,526.5,0,"2017-02-03T16:11:09","angie",4.4279999999999999,4.4279999999999999,234832.5,526.5]
["EQT*170200018","SS","YAMIR-VCAM","2017-02-03","2017-02-03","BR:CIMBINV","CIMB INVESTMENT BANK BHD","MYR",1961,"IOICORP",550511.38,1242.46,1460.09,"2017-02-03T16:39:01","nik.faiz",4.4279999999999999,4.4279999999999999,550511.38,1242.46]
["EQT*170200019","SP","ASEAN5ESG","2017-02-03","2017-02-03","BR:CREDITSUISSEMY","CREDIT SUISSE SECURITIES (M) SDN BHD","MYR",4863,"TM",30162.23,67.61,0,"2017-02-03T16:42:41","alex.lee",4.4260000000000002,4.4260000000000002,30162.23,67.61]
["EQT*170200021","SS","MEQESG","2017-02-03","2017-02-03","BR:NOMURASECMY","NOMURA SECURITIES MALAYSIA SDN BHD","MYR",4197,"SIME",1623032.89,3254.4,274999.7,"2017-02-03T16:49:21","angie",4.4279999999999999,4.4279999999999999,1623032.89,3254.4]
["EQT*170200022","SP","ASEAN5ESG","2017-02-03","2017-02-03","BR:MACQUARIE","MACQUARIE CAPITAL SECURITIES (MALAYSIA) SDN BHD","MYR",5183,"PCHEM",21439.73,48.06,0,"2017-02-03T16:59:24","alex.lee",4.4260000000000002,4.4260000000000002,21439.73,48.06]
["EQT*170200023","SP","ASEAN5ESG","2017-02-03","2017-02-03","BR:MACQUARIE","MACQUARIE CAPITAL SECURITIES (MALAYSIA) SDN BHD","MYR",5210,"BAB",36982.589999999997,82.9,0,"2017-02-03T17:01:12","alex.lee",4.4260000000000002,4.4260000000000002,36982.589999999997,82.9]
["EQT*170200024","SP","MEQESG","2017-02-06","2017-02-06","BR:TASEC","TA SECURITIES HOLDINGS BHD","MYR",8567,"SALCON",44037.599999999999,98.72,0,"2017-02-06T09:42:46","angie",4.4279999999999999,4.4279999999999999,44037.599999999999,98.72]
["EQT*170200025","SS","MEQESG","2017-02-06","2017-02-06","BR:CIMBINV","CIMB INVESTMENT BANK BHD","MYR",1023,"CIMB",997362,2000,105864.11,"2017-02-06T09:43:07","angie",4.4279999999999999,4.4279999999999999,997362,2000]
["EQT*170200026","SS","KWAP","2017-02-06","2017-02-06","BR:KAFSEC","KAF-SEAGROATT & CAMPBELL SECURITIES SDN BHD","MYR",5099,"AIRASIA",1568745.56,3145.56,165926.5,"2017-02-06T10:42:41","khairul.anwar",4.4279999999999999,4.4279999999999999,1568745.56,3145.56]
["EQT*170200027","SP","MEQESG","2017-02-06","2017-02-06","BR:MACQUARIE","MACQUARIE CAPITAL SECURITIES (MALAYSIA) SDN BHD","MYR",5210,"BAB",222739.92,499.37,0,"2017-02-06T11:16:01","angie",4.4279999999999999,4.4279999999999999,222739.92,499.37]
["EQT*170200028","SS","YH-AUR-VCAM","2017-02-06","2017-02-06","BR:MACQUARIE","MACQUARIE CAPITAL SECURITIES (MALAYSIA) SDN BHD","MYR",5099,"AIRASIA",2608125.37,5229.3999999999996,252122.04,"2017-02-06T11:21:34","alex.lee",4.4279999999999999,4.4279999999999999,2608125.37,5229.3999999999996]
["EQT*170200029","SS","YAMIR-VCAM","2017-02-06","2017-02-06","BR:NOMURASECMY","NOMURA SECURITIES MALAYSIA SDN BHD","MYR",1961,"IOICORP",463044.45,1045.1300000000001,5501.71,"2017-02-06T11:43:24","nik.faiz",4.4279999999999999,4.4279999999999999,463044.45,1045.1300000000001]
["EQT*170200031","SS","MEQESG","2017-02-06","2017-02-06","BR:CREDITSUISSEMY","CREDIT SUISSE SECURITIES (M) SDN BHD","MYR",5148,"UEM",566264.69999999995,1278,53333.5,"2017-02-06T14:36:55","angie",4.4279999999999999,4.4279999999999999,566264.69999999995,1278]
["EQT*170200032","SP","YH-AUR-VCAM","2017-02-06","2017-02-06","BR:MACQUARIE","MACQUARIE CAPITAL SECURITIES (MALAYSIA) SDN BHD","MYR",5218,"SENERGY",2737306.84,5460.9,0,"2017-02-06T14:56:24","alex.lee",4.4279999999999999,4.4279999999999999,2737306.84,5460.9]
["EQT*170200033","SP","MEQESG","2017-02-06","2017-02-06","BR:CREDITSUISSEMY","CREDIT SUISSE SECURITIES (M) SDN BHD","MYR",5000,"HUMEIND",782308.34,1755,0,"2017-02-06T14:58:23","angie",4.4279999999999999,4.4279999999999999,782308.34,1755]
["EQT*170200034","SP","VCAM-TABA","2017-02-06","2017-02-06","BR:TASEC","TA SECURITIES HOLDINGS BHD","MYR",8567,"SALCON",20551.349999999999,46.07,0,"2017-02-06T15:01:33","angie",4.4279999999999999,4.4279999999999999,20551.349999999999,46.07]
["EQT*170200035","SP","ASEAN5ESG","2017-02-06","2017-02-06","BR:CREDITSUISSEMY","CREDIT SUISSE SECURITIES (M) SDN BHD","MYR",1155,"MAYBANK",74163.73,166.25,0,"2017-02-06T15:12:01","alex.lee",4.4249999999999998,4.4249999999999998,74163.73,166.25]
["EQT*170200036","SP","KWAP","2017-02-06","2017-02-06","BR:MAYBANKINV","MAYBANK INVESTMENT BANK BHD","MYR",5255,"ICON",1383564.44,2760,0,"2017-02-06T15:41:42","anouk",4.4279999999999999,4.4279999999999999,1383564.44,2760]
["EQT*170200037","SS","YH-AUR-VCAM","2017-02-06","2017-02-06","BR:MACQUARIE","MACQUARIE CAPITAL SECURITIES (MALAYSIA) SDN BHD","MYR",5005,"UNISEM",1231789.07,2470,90969.15,"2017-02-06T15:55:18","alex.lee",4.4279999999999999,4.4279999999999999,1231789.07,2470]
["EQT*170200038","SP","KWAP","2017-02-06","2017-02-06","BR:MAYBANKINV","MAYBANK INVESTMENT BANK BHD","MYR",7250,"UZMA",435573.65,976.95,0,"2017-02-06T15:55:55","khairul.anwar",4.4279999999999999,4.4279999999999999,435573.65,976.95]
["EQT*170200039","SP","ASEAN5ESG","2017-02-06","2017-02-06","BR:MACQUARIE","MACQUARIE CAPITAL SECURITIES (MALAYSIA) SDN BHD","MYR",5210,"BAB",86419.73,193.73,0,"2017-02-06T16:17:18","alex.lee",4.4249999999999998,4.4249999999999998,86419.73,193.73]
["EQT*170200041","SP","MEQESG","2017-02-07","2017-02-07","BR:TASEC","TA SECURITIES HOLDINGS BHD","MYR",8567,"SALCON",29359.07,65.81,0,"2017-02-07T09:55:48","angie",4.4279999999999999,4.4279999999999999,29359.07,65.81]
["EQT*170200043","SS","MEQESG","2017-02-07","2017-02-07","BR:CIMBINV","CIMB INVESTMENT BANK BHD","MYR",5014,"AIRPORT",67797.05,153.11000000000001,6310.82,"2017-02-07T10:09:36","angie",4.4279999999999999,4.4279999999999999,67797.05,153.11000000000001]
["EQT*170200044","SP","ASEAN5ESG","2017-02-07","2017-02-07","BR:CREDITSUISSEMY","CREDIT SUISSE SECURITIES (M) SDN BHD","MYR",5347,"TENAGA",40409.83,90.59,0,"2017-02-07T10:19:57","alex.lee",4.4340000000000002,4.4340000000000002,40409.83,90.59]
["EQT*170200045","SP","KWAP","2017-02-07","2017-02-07","BR:MACQUARIE","MACQUARIE CAPITAL SECURITIES (MALAYSIA) SDN BHD","MYR",7052,"PADINI",962955.31,2160.36,0,"2017-02-07T10:38:54","khairul.anwar",4.4279999999999999,4.4279999999999999,962955.31,2160.36]
["EQT*170200047","SS","YH-AUR-VCAM","2017-02-07","2017-02-07","BR:MACQUARIE","MACQUARIE CAPITAL SECURITIES (MALAYSIA) SDN BHD","MYR",5005,"UNISEM",1324811.72,2656.5,123948.64,"2017-02-07T11:07:19","alex.lee",4.4279999999999999,4.4279999999999999,1324811.72,2656.5]
["EQT*170200048","SP","KWAP","2017-02-08","2017-02-08","BR:KAFSEC","KAF-SEAGROATT & CAMPBELL SECURITIES SDN BHD","MYR",7052,"PADINI",1198664.76,2391.1,0,"2017-02-08T09:14:21","nik.faiz",4.4279999999999999,4.4279999999999999,1198664.76,2391.1]
["EQT*170200049","SP","KWAP","2017-02-08","2017-02-08","BR:KAFSEC","KAF-SEAGROATT & CAMPBELL SECURITIES SDN BHD","MYR",5347,"TENAGA",671609.93,1506.6,0,"2017-02-08T09:14:37","nik.faiz",4.4279999999999999,4.4279999999999999,671609.93,1506.6]
["EQT*170200050","SP","KWAP","2017-02-08","2017-02-08","BR:KAFSEC","KAF-SEAGROATT & CAMPBELL SECURITIES SDN BHD","MYR",5210,"BAB",626789.11,1406.03,0,"2017-02-08T09:15:46","nik.faiz",4.4279999999999999,4.4279999999999999,626789.11,1406.03]
["EQT*170200051","SS","KWAP","2017-02-08","2017-02-08","BR:KAFSEC","KAF-SEAGROATT & CAMPBELL SECURITIES SDN BHD","MYR",7022,"GTRONIC",640917.36,1446.42,50306.16,"2017-02-08T09:28:43","nik.faiz",4.4279999999999999,4.4279999999999999,640917.36,1446.42]
["EQT*170200053","SS","YAMIR-VCAM","2017-02-08","2017-02-08","BR:MIDFINV","MIDF AMANAH INVESTMENT BANK BHD","MYR",1961,"IOICORP",138185.1,312.07,922.28,"2017-02-08T09:46:19","nik.faiz",4.4279999999999999,4.4279999999999999,138185.1,312.07]
["EQT*170200054","SP","YAMIR-VCAM","2017-02-08","2017-02-08","BR:MIDFINV","MIDF AMANAH INVESTMENT BANK BHD","MYR",5210,"BAB",311037.93,697.5,0,"2017-02-08T09:48:06","nik.faiz",4.4279999999999999,4.4279999999999999,311037.93,697.5]
["EQT*170200055","SS","KWAP","2017-02-08","2017-02-08","BR:KAFSEC","KAF-SEAGROATT & CAMPBELL SECURITIES SDN BHD","MYR",5180,"CMMT",115077.78,259.89,11470.82,"2017-02-08T10:14:27","nik.faiz",4.4279999999999999,4.4279999999999999,115077.78,259.89]
["EQT*170200056","SS","YAMIR-VCAM","2017-02-08","2017-02-08","BR:MIDFINV","MIDF AMANAH INVESTMENT BANK BHD","MYR",5218,"SENERGY",323606.38,730.54,9514.23,"2017-02-08T10:28:03","nik.faiz",4.4279999999999999,4.4279999999999999,323606.38,730.54]
["EQT*170200057","SP","MEQESG","2017-02-08","2017-02-08","BR:TASEC","TA SECURITIES HOLDINGS BHD","MYR",8567,"SALCON",81188.649999999994,182,0,"2017-02-08T10:33:43","angie",4.4279999999999999,4.4279999999999999,81188.649999999994,182]
["EQT*170200058","SP","KWAP","2017-02-08","2017-02-08","BR:KAFSEC","KAF-SEAGROATT & CAMPBELL SECURITIES SDN BHD","MYR",5255,"ICON",1383564.44,2760,0,"2017-02-08T10:37:57","anouk",4.4279999999999999,4.4279999999999999,1383564.44,2760]
["EQT*170200059","SP","MEQESG","2017-02-08","2017-02-08","BR:CREDITSUISSEMY","CREDIT SUISSE SECURITIES (M) SDN BHD","MYR",5000,"HUMEIND",1112585.3999999999,2219.36,0,"2017-02-08T10:44:39","angie",4.4279999999999999,4.4279999999999999,1112585.3999999999,2219.36]
["EQT*170200060","SS","MEQESG","2017-02-08","2017-02-08","BR:CREDITSUISSEMY","CREDIT SUISSE SECURITIES (M) SDN BHD","MYR",5148,"UEM",574492.4,1296.56,61583.49,"2017-02-08T11:37:29","angie",4.4279999999999999,4.4279999999999999,574492.4,1296.56]
["EQT*170200061","SS","YH-AUR-VCAM","2017-02-08","2017-02-08","BR:MACQUARIE","MACQUARIE CAPITAL SECURITIES (MALAYSIA) SDN BHD","MYR",7022,"GTRONIC",2133634.9900000002,4278.1000000000004,202232.27,"2017-02-08T11:41:10","alex.lee",4.4279999999999999,4.4279999999999999,2133634.9900000002,4278.1000000000004]
["EQT*170200062","SP","MEQESG","2017-02-08","2017-02-08","BR:CREDITSUISSEMY","CREDIT SUISSE SECURITIES (M) SDN BHD","MYR",1368,"EDGENTA",253617.94,568.65,0,"2017-02-08T11:46:02","angie",4.4279999999999999,4.4279999999999999,253617.94,568.65]
["EQT*170200063","SP","VCAM-TABA","2017-02-08","2017-02-08","BR:CREDITSUISSEMY","CREDIT SUISSE SECURITIES (M) SDN BHD","MYR",1368,"EDGENTA",114266.23,256.14999999999998,0,"2017-02-08T11:46:02","angie",4.4279999999999999,4.4279999999999999,114266.23,256.14999999999998]
["EQT*170200064","SP","VCAM-TABA","2017-02-08","2017-02-08","BR:TASEC","TA SECURITIES HOLDINGS BHD","MYR",8567,"SALCON",23687.79,53.1,0,"2017-02-08T14:53:19","angie",4.4279999999999999,4.4279999999999999,23687.79,53.1]
["EQT*170200065","SS","KWAP","2017-02-10","2017-02-10","BR:NOMURASECMY","NOMURA SECURITIES MALAYSIA SDN BHD","MYR",4197,"SIME",4166983.11,8354.2000000000007,661668.38,"2017-02-10T09:07:51","nik.faiz",4.4279999999999999,4.4279999999999999,4166983.11,8354.2000000000007]
["EQT*170200066","SS","YAMIR-VCAM","2017-02-10","2017-02-10","BR:TASEC","TA SECURITIES HOLDINGS BHD","MYR",5218,"SENERGY",275547.63,622.11,13804.17,"2017-02-10T09:10:35","nik.faiz",4.4279999999999999,4.4279999999999999,275547.63,622.11]
["EQT*170200067","SP","KWAP","2017-02-10","2017-02-10","BR:HLGINV","HONG LEONG INVESTMENT BANK BHD","MYR",5210,"BAB",227987.16,511.14,0,"2017-02-10T09:13:38","nik.faiz",4.4279999999999999,4.4279999999999999,227987.16,511.14]
["EQT*170200069","SS","KWAP","2017-02-10","2017-02-10","BR:HLGINV","HONG LEONG INVESTMENT BANK BHD","MYR",7022,"GTRONIC",1503819.24,3015.39,125726.43,"2017-02-10T09:26:46","nik.faiz",4.4279999999999999,4.4279999999999999,1503819.24,3015.39]
["EQT*170200070","SS","MEQESG","2017-02-10","2017-02-10","BR:CIMBINV","CIMB INVESTMENT BANK BHD","MYR",1023,"CIMB",2551613.46,5116.1000000000004,322710.28999999998,"2017-02-10T09:28:06","angie",4.4279999999999999,4.4279999999999999,2551613.46,5116.1000000000004]
["EQT*170200071","SS","YH-AUR-VCAM","2017-02-10","2017-02-10","BR:MACQUARIE","MACQUARIE CAPITAL SECURITIES (MALAYSIA) SDN BHD","MYR",5005,"UNISEM",1322517.33,2651.9,121654.25,"2017-02-10T09:31:26","alex.lee",4.4279999999999999,4.4279999999999999,1322517.33,2651.9]
["EQT*170200072","SS","YAMIR-VCAM","2017-02-10","2017-02-10","BR:TASEC","TA SECURITIES HOLDINGS BHD","MYR",1961,"IOICORP",692422.76,1562.63,6108.65,"2017-02-10T09:40:25","nik.faiz",4.4279999999999999,4.4279999999999999,692422.76,1562.63]
["EQT*170200074","SP","KWAP","2017-02-10","2017-02-10","BR:CREDITSUISSEMY","CREDIT SUISSE SECURITIES (M) SDN BHD","MYR",7052,"PADINI",169423.27,379.8,0,"2017-02-10T10:11:17","khairul.anwar",4.4279999999999999,4.4279999999999999,169423.27,379.8]
["EQT*170200075","SP","MEQESG","2017-02-10","2017-02-10","BR:UBSSECMY","UBS SECURITIES MALAYSIA SDN BHD","MYR",1368,"EDGENTA",674016.42,1512,0,"2017-02-10T10:14:33","angie",4.4279999999999999,4.4279999999999999,674016.42,1512]
["EQT*170200076","SS","YH-AUR-VCAM","2017-02-10","2017-02-10","BR:CREDITSUISSEMY","CREDIT SUISSE SECURITIES (M) SDN BHD","MYR",7022,"GTRONIC",2064035.09,4138.5600000000004,209888.48,"2017-02-10T10:14:34","alex.lee",4.4279999999999999,4.4279999999999999,2064035.09,4138.5600000000004]
["EQT*170200077","SP","MEQESG","2017-02-10","2017-02-10","BR:CREDITSUISSEMY","CREDIT SUISSE SECURITIES (M) SDN BHD","MYR",5000,"HUMEIND",715452,1604.98,0,"2017-02-10T10:48:50","angie",4.4279999999999999,4.4279999999999999,715452,1604.98]
["EQT*170200078","SS","YH-AUR-VCAM","2017-02-10","2017-02-10","BR:MACQUARIE","MACQUARIE CAPITAL SECURITIES (MALAYSIA) SDN BHD","MYR",5099,"AIRASIA",2672567.86,5358.6,316564.53000000003,"2017-02-10T14:24:11","alex.lee",4.4279999999999999,4.4279999999999999,2672567.86,5358.6]
["EQT*170200079","SS","YAMIR-VCAM","2017-02-10","2017-02-10","BR:TASEC","TA SECURITIES HOLDINGS BHD","MYR",4197,"SIME",180030.57,406.58,30582.6,"2017-02-10T15:08:39","nik.faiz",4.4279999999999999,4.4279999999999999,180030.57,406.58]
["EQT*170200080","SS","YAMIR-VCAM","2017-02-13","2017-02-13","BR:RHBINV","RHB INVESTMENT BANK BERHAD","MYR",5218,"SENERGY",277492.36,626.5,15748.9,"2017-02-13T09:02:07","nik.faiz",4.4279999999999999,4.4279999999999999,277492.36,626.5]
["EQT*170200082","SS","YAMIR-VCAM","2017-02-13","2017-02-13","BR:RHBINV","RHB INVESTMENT BANK BERHAD","MYR",8567,"SALCON",95345.32,215.33,5448.06,"2017-02-13T09:05:02","nik.faiz",4.4279999999999999,4.4279999999999999,95345.32,215.33]
["EQT*170200083","SS","KWAP","2017-02-13","2017-02-13","BR:RHBINV","RHB INVESTMENT BANK BERHAD","MYR",4197,"SIME",2588395.91,5189.84,412249.75,"2017-02-13T09:08:06","nik.faiz",4.4279999999999999,4.4279999999999999,2588395.91,5189.84]
["EQT*170200084","SP","MEQESG","2017-02-13","2017-02-13","BR:CREDITSUISSEMY","CREDIT SUISSE SECURITIES (M) SDN BHD","MYR",5000,"HUMEIND",122910.85,275.52999999999997,0,"2017-02-13T09:24:46","alex.lee",4.4279999999999999,4.4279999999999999,122910.85,275.52999999999997]
["EQT*170200085","SS","YH-AUR-VCAM","2017-02-13","2017-02-13","BR:CIMBINV","CIMB INVESTMENT BANK BHD","MYR",5185,"AFFIN",639344.62,1442.88,31211.69,"2017-02-13T09:38:10","soonchong",4.4279999999999999,4.4279999999999999,639344.62,1442.88]
["EQT*170200086","SS","YAMIR-VCAM","2017-02-13","2017-02-13","BR:RHBINV","RHB INVESTMENT BANK BERHAD","MYR",1961,"IOICORP",465677.31,1051.07,8134.57,"2017-02-13T10:00:54","nik.faiz",4.4279999999999999,4.4279999999999999,465677.31,1051.07]
["EQT*170200087","SS","MEQESG","2017-02-13","2017-02-13","BR:CREDITSUISSEMY","CREDIT SUISSE SECURITIES (M) SDN BHD","MYR",1023,"CIMB",1030800.28,2067.04,139384.10999999999,"2017-02-13T10:17:16","alex.lee",4.4279999999999999,4.4279999999999999,1030800.28,2067.04]
["EQT*170200088","SP","KWAP","2017-02-13","2017-02-13","BR:TASEC","TA SECURITIES HOLDINGS BHD","MYR",5210,"BAB",203247.37,455.63,0,"2017-02-13T10:37:33","khairul.anwar",4.4279999999999999,4.4279999999999999,203247.37,455.63]
["EQT*170200089","SP","ASEAN5ESG","2017-02-13","2017-02-13","BR:CREDITSUISSEMY","CREDIT SUISSE SECURITIES (M) SDN BHD","MYR",1155,"MAYBANK",41954.98,94.05,0,"2017-02-13T15:23:27","alex.lee",4.4470000000000001,4.4470000000000001,41954.98,94.05]
["EQT*170200090","SS","MEQESG","2017-02-13","2017-02-13","BR:CREDITSUISSEMY","CREDIT SUISSE SECURITIES (M) SDN BHD","MYR",8567,"SALCON",357156.45,806.23,33820.22,"2017-02-13T16:38:25","alex.lee",4.4279999999999999,4.4279999999999999,357156.45,806.23]
["EQT*170200091","SS","VCAM-TABA","2017-02-13","2017-02-13","BR:CREDITSUISSEMY","CREDIT SUISSE SECURITIES (M) SDN BHD","MYR",8567,"SALCON",21419.39,48.37,1694.28,"2017-02-13T16:38:25","alex.lee",4.4279999999999999,4.4279999999999999,21419.39,48.37]
["EQT*170200092","SS","YH-AUR-VCAM","2017-02-14","2017-02-14","BR:CIMBINV","CIMB INVESTMENT BANK BHD","MYR",5185,"AFFIN",183825.26,415.15,8824.68,"2017-02-14T08:55:43","soonchong",4.4279999999999999,4.4279999999999999,183825.26,415.15]
["EQT*170200093","SS","YAMIR-VCAM","2017-02-14","2017-02-14","BR:RHBINV","RHB INVESTMENT BANK BERHAD","MYR",8567,"SALCON",95390.19,215.43,5492.93,"2017-02-14T09:06:08","nik.faiz",4.4279999999999999,4.4279999999999999,95390.19,215.43]
["EQT*170200094","SS","YAMIR-VCAM","2017-02-14","2017-02-14","BR:RHBINV","RHB INVESTMENT BANK BERHAD","MYR",5218,"SENERGY",187104.38,422.55,12608.74,"2017-02-14T09:06:51","nik.faiz",4.4279999999999999,4.4279999999999999,187104.38,422.55]
["EQT*170200096","SS","YH-AUR-VCAM","2017-02-14","2017-02-14","BR:MACQUARIE","MACQUARIE CAPITAL SECURITIES (MALAYSIA) SDN BHD","MYR",5005,"UNISEM",2427378.36,4867.0200000000004,264143.62,"2017-02-14T10:09:57","alex.lee",4.4279999999999999,4.4279999999999999,2427378.36,4867.0200000000004]
["EQT*170200097","SS","YH-AUR-VCAM","2017-02-14","2017-02-14","BR:MACQUARIE","MACQUARIE CAPITAL SECURITIES (MALAYSIA) SDN BHD","MYR",7022,"GTRONIC",1567753.59,3143.57,208046.07999999999,"2017-02-14T10:51:19","alex.lee",4.4279999999999999,4.4279999999999999,1567753.59,3143.57]
["EQT*170200098","SS","MEQESG","2017-02-14","2017-02-14","BR:CREDITSUISSEMY","CREDIT SUISSE SECURITIES (M) SDN BHD","MYR",4197,"SIME",2478902.1800000002,4970.32,456860.55,"2017-02-14T11:00:49","alex.lee",4.4279999999999999,4.4279999999999999,2478902.1800000002,4970.32]
["EQT*170200099","SS","VCAM-TABA","2017-02-14","2017-02-14","BR:CREDITSUISSEMY","CREDIT SUISSE SECURITIES (M) SDN BHD","MYR",4197,"SIME",55020.52,124.26,5672.1,"2017-02-14T11:00:49","alex.lee",4.4279999999999999,4.4279999999999999,55020.52,124.26]
["EQT*170200101","SP","KWAP","2017-02-14","2017-02-14","BR:CIMBINV","CIMB INVESTMENT BANK BHD","MYR",5347,"TENAGA",20302756.800000001,20280,0,"2017-02-14T12:18:04","anouk",4.4279999999999999,4.4279999999999999,20302756.800000001,20280]
["EQT*170200103","SP","KWAP","2017-02-14","2017-02-14","BR:RHBINV","RHB INVESTMENT BANK BERHAD","MYR",4863,"TM",3808186.22,7597.75,0,"2017-02-14T12:31:23","nik.faiz",4.4279999999999999,4.4279999999999999,3808186.22,7597.75]
["EQT*170200105","SP","KWAP","2017-02-14","2017-02-14","BR:RHBINV","RHB INVESTMENT BANK BERHAD","MYR",1155,"MAYBANK",8329578.6699999999,8319.5,0,"2017-02-14T12:36:17","nik.faiz",4.4279999999999999,4.4279999999999999,8329578.6699999999,8319.5]
["EQT*170200107","SP","KWAP","2017-02-14","2017-02-14","BR:MIDFINV","MIDF AMANAH INVESTMENT BANK BHD","MYR",1066,"RHBBANK",5126186.67,5119.5,0,"2017-02-14T14:39:08","nik.faiz",4.4279999999999999,4.4279999999999999,5126186.67,5119.5]
["EQT*170200108","SP","ASEAN5ESG","2017-02-14","2017-02-14","BR:CREDITSUISSEMY","CREDIT SUISSE SECURITIES (M) SDN BHD","MYR",3794,"LMCEMNT",47706.48,106.94,0,"2017-02-14T14:49:24","alex.lee",4.4480000000000004,4.4480000000000004,47706.48,106.94]
["EQT*170200109","SS","KWAP","2017-02-14","2017-02-14","BR:CIMBINV","CIMB INVESTMENT BANK BHD","MYR",4197,"SIME",919806.47,2075.63,162359.15,"2017-02-14T14:50:03","khairul.anwar",4.4279999999999999,4.4279999999999999,919806.47,2075.63]
["EQT*170200110","SS","MEQESG","2017-02-14","2017-02-14","BR:CREDITSUISSEMY","CREDIT SUISSE SECURITIES (M) SDN BHD","MYR",1023,"CIMB",4545788.5199999996,9113.42,616363.67000000004,"2017-02-14T14:57:01","alex.lee",4.4279999999999999,4.4279999999999999,4545788.5199999996,9113.42]
["EQT*170200111","SP","VCAM-TABA","2017-02-14","2017-02-14","BR:MIDFINV","MIDF AMANAH INVESTMENT BANK BHD","MYR",4863,"TM",619038.22,1388.63,0,"2017-02-14T14:57:05","nik.faiz",4.4279999999999999,4.4279999999999999,619038.22,1388.63]
["EQT*170200112","SP","KWAP","2017-02-14","2017-02-14","BR:RHBINV","RHB INVESTMENT BANK BERHAD","MYR",5255,"ICON",1199115.8500000001,2392,0,"2017-02-14T15:03:08","anouk",4.4279999999999999,4.4279999999999999,1199115.8500000001,2392]
["EQT*170200113","SS","YH-AUR-VCAM","2017-02-14","2017-02-14","BR:NOMURASECMY","NOMURA SECURITIES MALAYSIA SDN BHD","MYR",4197,"SIME",18390623.920000002,18411.400000000001,730132.06,"2017-02-14T15:13:17","alex.lee",4.4279999999999999,4.4279999999999999,18390623.920000002,18411.400000000001]
["EQT*170200114","SP","KWAP","2017-02-15","2017-02-15","BR:CIMBINV","CIMB INVESTMENT BANK BHD","MYR",1155,"MAYBANK",5852315.5499999998,5844.86,0,"2017-02-15T09:06:56","nik.faiz",4.4279999999999999,4.4279999999999999,5852315.5499999998,5844.86]
["EQT*170200115","SS","VCAM-TABA","2017-02-15","2017-02-15","BR:CIMBINV","CIMB INVESTMENT BANK BHD","MYR",4197,"SIME",352147.23,794.93,33882.83,"2017-02-15T09:09:36","nik.faiz",4.4279999999999999,4.4279999999999999,352147.23,794.93]
["EQT*170200116","SP","KWAP","2017-02-15","2017-02-15","BR:CIMBINV","CIMB INVESTMENT BANK BHD","MYR",4863,"TM",6184507.2999999998,6176.7,0,"2017-02-15T09:10:53","nik.faiz",4.4279999999999999,4.4279999999999999,6184507.2999999998,6176.7]
["EQT*170200117","SP","KWAP","2017-02-15","2017-02-15","BR:UBSSECMY","UBS SECURITIES MALAYSIA SDN BHD","MYR",1066,"RHBBANK",2572405.79,5131.8999999999996,0,"2017-02-15T09:12:36","nik.faiz",4.4279999999999999,4.4279999999999999,2572405.79,5131.8999999999996]
["EQT*170200118","SP","KWAP","2017-02-15","2017-02-15","BR:UBSSECMY","UBS SECURITIES MALAYSIA SDN BHD","MYR",5347,"TENAGA",3523104.52,7028.79,0,"2017-02-15T09:14:04","nik.faiz",4.4279999999999999,4.4279999999999999,3523104.52,7028.79]
["EQT*170200119","SP","ASEAN5ESG","2017-02-15","2017-02-15","BR:CREDITSUISSEMY","CREDIT SUISSE SECURITIES (M) SDN BHD","MYR",5183,"PCHEM",43330.7,97.13,0,"2017-02-15T09:22:40","alex.lee",4.4470000000000001,4.4470000000000001,43330.7,97.13]
["EQT*170200120","SS","YH-AUR-VCAM","2017-02-15","2017-02-15","BR:CIMBINV","CIMB INVESTMENT BANK BHD","MYR",5185,"AFFIN",59777.82,135,3097.47,"2017-02-15T09:26:17","soonchong",4.4279999999999999,4.4279999999999999,59777.82,135]
["EQT*170200121","SS","YH-AUR-VCAM","2017-02-15","2017-02-15","BR:CREDITSUISSEMY","CREDIT SUISSE SECURITIES (M) SDN BHD","MYR",7022,"GTRONIC",828782.63,1870.27,103734.05,"2017-02-15T09:31:06","alex.lee",4.4279999999999999,4.4279999999999999,828782.63,1870.27]
["EQT*170200122","SS","YAMIR-VCAM","2017-02-15","2017-02-15","BR:AMINVBANK","AMINVESTMENT BANK BHD","MYR",8567,"SALCON",125533.42,283.5,5670.41,"2017-02-15T09:34:56","nik.faiz",4.4279999999999999,4.4279999999999999,125533.42,283.5]
["EQT*170200124","SS","YAMIR-VCAM","2017-02-15","2017-02-15","BR:AMINVBANK","AMINVESTMENT BANK BHD","MYR",1961,"IOICORP",94049.84,212.4,2541.29,"2017-02-15T09:42:50","nik.faiz",4.4279999999999999,4.4279999999999999,94049.84,212.4]
["EQT*170200126","SP","KWAP","2017-02-15","2017-02-15","BR:CIMBINV","CIMB INVESTMENT BANK BHD","MYR",5703,"MUHIBAH",614781.73,1379.08,0,"2017-02-15T09:45:13","anouk",4.4279999999999999,4.4279999999999999,614781.73,1379.08]
["EQT*170200127","SS","YAMIR-VCAM","2017-02-15","2017-02-15","BR:AMINVBANK","AMINVESTMENT BANK BHD","MYR",5218,"SENERGY",38057.74,85.95,3158.61,"2017-02-15T10:03:22","nik.faiz",4.4279999999999999,4.4279999999999999,38057.74,85.95]
["EQT*170200128","SS","KWAP","2017-02-15","2017-02-15","BR:TASEC","TA SECURITIES HOLDINGS BHD","MYR",7022,"GTRONIC",1282016.25,2570.6999999999998,140955.41,"2017-02-15T10:33:05","khairul.anwar",4.4279999999999999,4.4279999999999999,1282016.25,2570.6999999999998]
["EQT*170200129","SS","MEQESG","2017-02-15","2017-02-15","BR:CREDITSUISSEMY","CREDIT SUISSE SECURITIES (M) SDN BHD","MYR",5148,"UEM",580725.49,1310.6300000000001,67833.5,"2017-02-15T10:37:45","alex.lee",4.4279999999999999,4.4279999999999999,580725.49,1310.6300000000001]
["EQT*170200131","SP","ASEAN5ESG","2017-02-15","2017-02-15","BR:CREDITSUISSEMY","CREDIT SUISSE SECURITIES (M) SDN BHD","MYR",3794,"LMCEMNT",26872.57,60.24,0,"2017-02-15T14:35:53","alex.lee",4.4470000000000001,4.4470000000000001,26872.57,60.24]
["EQT*170200134","SS","MEQESG","2017-02-15","2017-02-15","BR:CREDITSUISSEMY","CREDIT SUISSE SECURITIES (M) SDN BHD","MYR",5204,"PRESBHD",2872404.47,5759.25,250368.12,"2017-02-15T17:02:21","alex.lee",4.4279999999999999,4.4279999999999999,2872404.47,5759.25]
["EQT*170200135","SS","YH-AUR-VCAM","2017-02-16","2017-02-16","BR:CIMBINV","CIMB INVESTMENT BANK BHD","MYR",5185,"AFFIN",240312.13,542.62,14299.23,"2017-02-16T15:04:21","soonchong",4.4279999999999999,4.4279999999999999,240312.13,542.62]
["EQT*170200136","SS","YH-AUR-VCAM","2017-02-17","2017-02-17","BR:CIMBINV","CIMB INVESTMENT BANK BHD","MYR",5185,"AFFIN",695799.12,1570.24,45628.27,"2017-02-17T09:14:54","soonchong",4.4279999999999999,4.4279999999999999,695799.12,1570.24]
["EQT*170200137","SS","YAMIR-VCAM","2017-02-17","2017-02-17","BR:AMINVBANK","AMINVESTMENT BANK BHD","MYR",5218,"SENERGY",335992.8,758.48,21900.65,"2017-02-17T09:30:11","nik.faiz",4.4279999999999999,4.4279999999999999,335992.8,758.48]
["EQT*170200138","SP","KWAP","2017-02-17","2017-02-17","BR:AMINVBANK","AMINVESTMENT BANK BHD","MYR",4863,"TM",2378332.23,4744.7,0,"2017-02-17T09:43:35","nik.faiz",4.4279999999999999,4.4279999999999999,2378332.23,4744.7]
["EQT*170200139","SS","KWAP","2017-02-17","2017-02-17","BR:TASEC","TA SECURITIES HOLDINGS BHD","MYR",7022,"GTRONIC",1307513.99,2621.82,126291.59,"2017-02-17T09:47:30","khairul.anwar",4.4279999999999999,4.4279999999999999,1307513.99,2621.82]
["EQT*170200140","SS","KWAP","2017-02-17","2017-02-17","BR:TASEC","TA SECURITIES HOLDINGS BHD","MYR",4197,"SIME",2668931.15,5351.31,457184.96,"2017-02-17T09:47:55","khairul.anwar",4.4279999999999999,4.4279999999999999,2668931.15,5351.31]
["EQT*170200141","SS","YH-AUR-VCAM","2017-02-17","2017-02-17","BR:CIMBINV","CIMB INVESTMENT BANK BHD","MYR",3417,"E&O",898065.41,2026.58,25352.43,"2017-02-17T16:05:41","soonchong",4.4279999999999999,4.4279999999999999,898065.41,2026.58]
["EQT*170200143","SS","KWAP","2017-02-20","2017-02-20","BR:TASEC","TA SECURITIES HOLDINGS BHD","MYR",4197,"SIME",5548329.5899999999,5555.48,943049.86,"2017-02-20T12:09:33","khairul.anwar",4.4279999999999999,4.4279999999999999,5548329.5899999999,5555.48]
["EQT*170200145","SS","YAMIR-VCAM","2017-02-20","2017-02-20","BR:ALLIANCEINV","ALLIANCE INVESTMENT BANK BERHAD","MYR",5218,"SENERGY",186635.65,421.49,12140.01,"2017-02-20T14:36:23","nik.faiz",4.4279999999999999,4.4279999999999999,186635.65,421.49]
["EQT*170200146","SS","MEQESG","2017-02-20","2017-02-20","BR:CREDITSUISSEMY","CREDIT SUISSE SECURITIES (M) SDN BHD","MYR",5148,"UEM",582121.71,1313.78,69233.490000000005,"2017-02-20T15:27:35","alex.lee",4.4279999999999999,4.4279999999999999,582121.71,1313.78]
["EQT*170200147","SP","KWAP","2017-02-20","2017-02-20","BR:TASEC","TA SECURITIES HOLDINGS BHD","MYR",5225,"IHH",1241218.24,2476,0,"2017-02-20T15:46:58","khairul.anwar",4.4279999999999999,4.4279999999999999,1241218.24,2476]
["EQT*170200156","SP","ASEAN5ESG","2017-02-20","2017-02-20","BR:CIMBINV","CIMB INVESTMENT BANK BHD","THB","TH0015010000","SIAMCOMMBANK",616257.84,1535,0,"2017-02-20T15:54:29","alex.lee",35.026000000000003,4.4560000000000004,78400.186576828637,195.28236167418487]
["EQT*170200157","SS","MEQESG","2017-02-21","2017-02-21","BR:MACQUARIE","MACQUARIE CAPITAL SECURITIES (MALAYSIA) SDN BHD","MYR",4197,"SIME",2467078.06,4946.62,445007.55,"2017-02-21T09:35:35","alex.lee",4.4279999999999999,4.4279999999999999,2467078.06,4946.62]
["EQT*170200158","SS","YH-AUR-VCAM","2017-02-21","2017-02-21","BR:MACQUARIE","MACQUARIE CAPITAL SECURITIES (MALAYSIA) SDN BHD","MYR",4197,"SIME",9149429.9800000004,9160.4,319184.05,"2017-02-21T09:35:35","alex.lee",4.4279999999999999,4.4279999999999999,9149429.9800000004,9160.4]
["EQT*170200159","SS","YH-AUR-VCAM","2017-02-21","2017-02-21","BR:CREDITSUISSEMY","CREDIT SUISSE SECURITIES (M) SDN BHD","MYR",7052,"PADINI",747482.52,1686.85,54887.88,"2017-02-21T09:43:35","alex.lee",4.4279999999999999,4.4279999999999999,747482.52,1686.85]
["EQT*170200160","SP","VCAM-TABA","2017-02-21","2017-02-21","BR:CREDITSUISSEMY","CREDIT SUISSE SECURITIES (M) SDN BHD","MYR",5070,"PRTASCO",107948.72,241.99,0,"2017-02-21T10:04:18","alex.lee",4.4279999999999999,4.4279999999999999,107948.72,241.99]
["EQT*170200161","SS","VCAM-TABA","2017-02-21","2017-02-21","BR:CREDITSUISSEMY","CREDIT SUISSE SECURITIES (M) SDN BHD","MYR",7052,"PADINI",128798.75,290.88,13633.85,"2017-02-21T11:52:27","alex.lee",4.4279999999999999,4.4279999999999999,128798.75,290.88]
["EQT*170200163","SS","YH-AUR-VCAM","2017-02-21","2017-02-21","BR:CIMBINV","CIMB INVESTMENT BANK BHD","MYR",5099,"AIRASIA",2689127.39,5391.8,333124.06,"2017-02-21T15:04:18","alex.lee",4.4279999999999999,4.4279999999999999,2689127.39,5391.8]
["EQT*170200164","SS","YAMIR-VCAM","2017-02-22","2017-02-22","BR:ALLIANCEINV","ALLIANCE INVESTMENT BANK BERHAD","MYR",5218,"SENERGY",95544.77,215.78,8296.9500000000007,"2017-02-22T09:04:23","nik.faiz",4.4279999999999999,4.4279999999999999,95544.77,215.78]
["EQT*170200165","SS","YH-AUR-VCAM","2017-02-22","2017-02-22","BR:MACQUARIE","MACQUARIE CAPITAL SECURITIES (MALAYSIA) SDN BHD","MYR",7052,"PADINI",2559361.2799999998,5131.63,169909.78,"2017-02-22T09:12:13","alex.lee",4.4279999999999999,4.4279999999999999,2559361.2799999998,5131.63]
["EQT*170200166","SS","MEQESG","2017-02-22","2017-02-22","BR:CREDITSUISSEMY","CREDIT SUISSE SECURITIES (M) SDN BHD","MYR",5148,"UEM",291509.36,658.13,35166.75,"2017-02-22T09:29:31","alex.lee",4.4279999999999999,4.4279999999999999,291509.36,658.13]
["EQT*170200167","SS","YH-AUR-VCAM","2017-02-22","2017-02-22","BR:CIMBINV","CIMB INVESTMENT BANK BHD","MYR",5185,"AFFIN",50222.73,113.42,2989.1,"2017-02-22T09:31:08","soonchong",4.4279999999999999,4.4279999999999999,50222.73,113.42]
["EQT*170200168","SS","VCAM-TABA","2017-02-22","2017-02-22","BR:CREDITSUISSEMY","CREDIT SUISSE SECURITIES (M) SDN BHD","MYR",7052,"PADINI",54796.33,123.75,5789.99,"2017-02-22T16:18:37","alex.lee",4.4279999999999999,4.4279999999999999,54796.33,123.75]
["EQT*170200170","SS","YAMIR-VCAM","2017-02-23","2017-02-23","BR:AFFINV","AFFIN INVESTMENT BANK BERHAD","MYR",1961,"IOICORP",233167.5,526.5,4396.13,"2017-02-23T09:09:42","nik.faiz",4.4279999999999999,4.4279999999999999,233167.5,526.5]
["EQT*170200171","SS","YH-AUR-VCAM","2017-02-23","2017-02-23","BR:CIMBINV","CIMB INVESTMENT BANK BHD","MYR",5185,"AFFIN",200007.37,451.69,10364.36,"2017-02-23T09:53:08","soonchong",4.4279999999999999,4.4279999999999999,200007.37,451.69]
["EQT*170200172","SS","YH-AUR-VCAM","2017-02-23","2017-02-23","BR:CREDITSUISSEMY","CREDIT SUISSE SECURITIES (M) SDN BHD","MYR",7052,"PADINI",1405963.4,2819.2,123380.74,"2017-02-23T09:55:12","alex.lee",4.4279999999999999,4.4279999999999999,1405963.4,2819.2]
["EQT*170200173","SS","KWAP","2017-02-23","2017-02-23","BR:KAFSEC","KAF-SEAGROATT & CAMPBELL SECURITIES SDN BHD","MYR",7022,"GTRONIC",480083.29,1083.57,46180.93,"2017-02-23T10:56:53","khairul.anwar",4.4279999999999999,4.4279999999999999,480083.29,1083.57]
["EQT*170200174","SS","VCAM-TABA","2017-02-23","2017-02-23","BR:CREDITSUISSEMY","CREDIT SUISSE SECURITIES (M) SDN BHD","MYR",7052,"PADINI",42130.69,95.15,5375.93,"2017-02-23T10:58:59","alex.lee",4.4279999999999999,4.4279999999999999,42130.69,95.15]
["EQT*170200175","SS","MEQESG","2017-02-23","2017-02-23","BR:MACQUARIE","MACQUARIE CAPITAL SECURITIES (MALAYSIA) SDN BHD","MYR",4197,"SIME",669365.09,1510.6,123738.72,"2017-02-23T11:21:10","alex.lee",4.4279999999999999,4.4279999999999999,669365.09,1510.6]
["EQT*170200176","SS","YH-AUR-VCAM","2017-02-23","2017-02-23","BR:UBSSECMY","UBS SECURITIES MALAYSIA SDN BHD","MYR",4197,"SIME",1760850.72,3530.71,71624.67,"2017-02-23T11:35:19","alex.lee",4.4279999999999999,4.4279999999999999,1760850.72,3530.71]
["EQT*170200177","SP","ASEAN5ESG","2017-02-23","2017-02-23","BR:CREDITSUISSEMY","CREDIT SUISSE SECURITIES (M) SDN BHD","MYR",5183,"PCHEM",37039.75,83.03,0,"2017-02-23T15:27:05","alex.lee",4.4470000000000001,4.4470000000000001,37039.75,83.03]
["EQT*170200179","SP","ASEAN5ESG","2017-02-23","2017-02-23","BR:CREDITSUISSEMY","CREDIT SUISSE SECURITIES (M) SDN BHD","MYR",6888,"AXIATA",45166.64,101.25,0,"2017-02-23T16:13:35","alex.lee",4.4470000000000001,4.4470000000000001,45166.64,101.25]
["EQT*170200180","SS","VCAM-TABA","2017-02-24","2017-02-24","BR:KENANGAINV","KENANGA INVESTMENT BANK BHD","MYR",7052,"PADINI",206290.24,465.86,27417.1,"2017-02-24T09:17:27","angie",4.4279999999999999,4.4279999999999999,206290.24,465.86]
["EQT*170200181","SS","YH-AUR-VCAM","2017-02-24","2017-02-24","BR:CIMBINV","CIMB INVESTMENT BANK BHD","MYR",5127,"ARREIT",937259.18,2115,32046.91,"2017-02-24T09:31:19","soonchong",4.4279999999999999,4.4279999999999999,937259.18,2115]
["EQT*170200182","SS","YH-AUR-VCAM","2017-02-24","2017-02-24","BR:CIMBINV","CIMB INVESTMENT BANK BHD","MYR",5185,"AFFIN",467282.96,1054.69,24467.72,"2017-02-24T09:32:23","soonchong",4.4279999999999999,4.4279999999999999,467282.96,1054.69]
["EQT*170200183","SS","KWAP","2017-02-24","2017-02-24","BR:AFFINV","AFFIN INVESTMENT BANK BERHAD","MYR",7052,"PADINI",467513.05,1055.21,64650.86,"2017-02-24T10:50:56","nik.faiz",4.4279999999999999,4.4279999999999999,467513.05,1055.21]
["EQT*170200184","SS","YAMIR-VCAM","2017-02-24","2017-02-24","BR:AFFINV","AFFIN INVESTMENT BANK BERHAD","MYR",1961,"IOICORP",607696.4,1371.47,12890.84,"2017-02-24T10:53:13","nik.faiz",4.4279999999999999,4.4279999999999999,607696.4,1371.47]
["EQT*170200185","SS","YAMIR-VCAM","2017-02-24","2017-02-24","BR:AFFINV","AFFIN INVESTMENT BANK BERHAD","MYR",5218,"SENERGY",94448.75,213.3,7200.93,"2017-02-24T10:54:32","nik.faiz",4.4279999999999999,4.4279999999999999,94448.75,213.3]
["EQT*170200186","SP","KWAP","2017-02-24","2017-02-24","BR:CIMBINV","CIMB INVESTMENT BANK BHD","MYR",5225,"IHH",5949358.3099999996,5941.8,0,"2017-02-24T14:54:41","anouk",4.4279999999999999,4.4279999999999999,5949358.3099999996,5941.8]
["EQT*170200187","SP","MEQESG","2017-02-24","2017-02-24","BR:CREDITSUISSEMY","CREDIT SUISSE SECURITIES (M) SDN BHD","MYR",6888,"AXIATA",2695633.5,5377.76,0,"2017-02-24T15:01:39","angie",4.4279999999999999,4.4279999999999999,2695633.5,5377.76]
["EQT*170200188","SP","VCAM-TABA","2017-02-24","2017-02-24","BR:CREDITSUISSEMY","CREDIT SUISSE SECURITIES (M) SDN BHD","MYR",6888,"AXIATA",94730.12,212.36,0,"2017-02-24T15:03:34","angie",4.4279999999999999,4.4279999999999999,94730.12,212.36]
["EQT*170200189","SP","ASEAN5ESG","2017-02-24","2017-02-24","BR:CREDITSUISSEMY","CREDIT SUISSE SECURITIES (M) SDN BHD","MYR",6888,"AXIATA",30172.36,67.64,0,"2017-02-24T15:04:21","alex.lee",4.4370000000000003,4.4370000000000003,30172.36,67.64]
["EQT*170200190","SS","MEQESG","2017-02-24","2017-02-24","BR:CREDITSUISSEMY","CREDIT SUISSE SECURITIES (M) SDN BHD","MYR",5183,"PCHEM",1109263.51,2224.35,93948.13,"2017-02-24T15:14:12","angie",4.4279999999999999,4.4279999999999999,1109263.51,2224.35]
["EQT*170200191","SS","MEQESG","2017-02-24","2017-02-24","BR:CREDITSUISSEMY","CREDIT SUISSE SECURITIES (M) SDN BHD","MYR",1023,"CIMB",761236.26,1717.88,92898.09,"2017-02-24T15:17:19","angie",4.4279999999999999,4.4279999999999999,761236.26,1717.88]
["EQT*170200192","SS","VCAM-TABA","2017-02-24","2017-02-24","BR:KENANGAINV","KENANGA INVESTMENT BANK BHD","MYR",5703,"MUHIBAH",62517.38,141.19,7881.53,"2017-02-24T15:19:20","angie",4.4279999999999999,4.4279999999999999,62517.38,141.19]
["EQT*170200193","SS","KWAP","2017-02-24","2017-02-24","BR:AFFINV","AFFIN INVESTMENT BANK BERHAD","MYR",7022,"GTRONIC",729936.73,1647.26,66483.48,"2017-02-24T15:46:43","anouk",4.4279999999999999,4.4279999999999999,729936.73,1647.26]
["EQT*170200194","SS","VCAM-TABA","2017-02-24","2017-02-24","BR:KENANGAINV","KENANGA INVESTMENT BANK BHD","MYR",4863,"TM",182322.35,411.75,-4342.32,"2017-02-24T15:56:18","angie",4.4279999999999999,4.4279999999999999,182322.35,411.75]
["EQT*170200195","SP","VCAM-TABA","2017-02-24","2017-02-24","BR:KENANGAINV","KENANGA INVESTMENT BANK BHD","MYR",5225,"IHH",70942.05,159.03,0,"2017-02-24T16:45:08","angie",4.4279999999999999,4.4279999999999999,70942.05,159.03]
["EQT*170200196","SS","YAMIR-VCAM","2017-02-27","2017-02-27","BR:KAFSEC","KAF-SEAGROATT & CAMPBELL SECURITIES SDN BHD","MYR",5218,"SENERGY",285121.69,643.71,23378.23,"2017-02-27T09:17:35","nik.faiz",4.4279999999999999,4.4279999999999999,285121.69,643.71]
["EQT*170200197","SS","YAMIR-VCAM","2017-02-27","2017-02-27","BR:KAFSEC","KAF-SEAGROATT & CAMPBELL SECURITIES SDN BHD","MYR",1015,"AMMB",462655.5,1044.25,5658.87,"2017-02-27T09:17:57","nik.faiz",4.4279999999999999,4.4279999999999999,462655.5,1044.25]
["EQT*170200199","SS","YAMIR-VCAM","2017-02-27","2017-02-27","BR:KAFSEC","KAF-SEAGROATT & CAMPBELL SECURITIES SDN BHD","MYR",1961,"IOICORP",702789.67,1586.01,16475.57,"2017-02-27T09:19:48","nik.faiz",4.4279999999999999,4.4279999999999999,702789.67,1586.01]
["EQT*170200200","SP","MEQESG","2017-02-27","2017-02-27","BR:KENANGAINV","KENANGA INVESTMENT BANK BHD","MYR",1368,"EDGENTA",497286.42,1115.43,0,"2017-02-27T09:52:05","angie",4.4279999999999999,4.4279999999999999,497286.42,1115.43]
["EQT*170200201","SP","VCAM-TABA","2017-02-27","2017-02-27","BR:KENANGAINV","KENANGA INVESTMENT BANK BHD","MYR",1368,"EDGENTA",63833.91,143.1,0,"2017-02-27T09:52:05","angie",4.4279999999999999,4.4279999999999999,63833.91,143.1]
["EQT*170200202","SS","VCAM-TABA","2017-02-27","2017-02-27","BR:KENANGAINV","KENANGA INVESTMENT BANK BHD","MYR",4863,"TM",151934.78,343.13,-3619.11,"2017-02-27T09:52:45","angie",4.4279999999999999,4.4279999999999999,151934.78,343.13]
["EQT*170200203","SP","VCAM-TABA","2017-02-27","2017-02-27","BR:KENANGAINV","KENANGA INVESTMENT BANK BHD","MYR",6888,"AXIATA",56629.52,126.95,0,"2017-02-27T09:53:12","angie",4.4279999999999999,4.4279999999999999,56629.52,126.95]
["EQT*170200204","SP","VCAM-TABA","2017-02-27","2017-02-27","BR:KENANGAINV","KENANGA INVESTMENT BANK BHD","MYR",5225,"IHH",70219.100000000006,157.41,0,"2017-02-27T09:53:34","angie",4.4279999999999999,4.4279999999999999,70219.100000000006,157.41]
["EQT*170200205","SP","VCAM-TABA","2017-02-27","2017-02-27","BR:KENANGAINV","KENANGA INVESTMENT BANK BHD","MYR",5070,"PRTASCO",65763.11,147.41999999999999,0,"2017-02-27T09:54:45","angie",4.4279999999999999,4.4279999999999999,65763.11,147.41999999999999]
["EQT*170200206","SP","ASEAN5ESG","2017-02-27","2017-02-27","BR:CREDITSUISSEMY","CREDIT SUISSE SECURITIES (M) SDN BHD","MYR",1066,"RHBBANK",24459.88,54.83,0,"2017-02-27T10:29:56","alex.lee",4.4370000000000003,4.4370000000000003,24459.88,54.83]
["EQT*170200207","SS","YH-AUR-VCAM","2017-02-27","2017-02-27","BR:CLSALIMITED","CLSA LIMITED","MYR",4197,"SIME",4914149.2,9851.7000000000007,189967.63,"2017-02-27T10:33:59","alex.lee",4.4279999999999999,4.4279999999999999,4914149.2,9851.7000000000007]
["EQT*170200208","SS","KWAP","2017-02-27","2017-02-27","BR:AFFINV","AFFIN INVESTMENT BANK BERHAD","MYR",7022,"GTRONIC",564010.11,1272.9100000000001,46240.95,"2017-02-27T10:47:47","khairul.anwar",4.4279999999999999,4.4279999999999999,564010.11,1272.9100000000001]
["EQT*170200209","SS","KWAP","2017-02-27","2017-02-27","BR:AFFINV","AFFIN INVESTMENT BANK BERHAD","MYR",7052,"PADINI",53099.93,119.92,7148.84,"2017-02-27T10:51:02","khairul.anwar",4.4279999999999999,4.4279999999999999,53099.93,119.92]
["EQT*170200210","SS","MEQESG","2017-02-27","2017-02-27","BR:UBSSECMY","UBS SECURITIES MALAYSIA SDN BHD","MYR",1023,"CIMB",1007098.2,2019.52,115624.11,"2017-02-27T10:58:33","angie",4.4279999999999999,4.4279999999999999,1007098.2,2019.52]
["EQT*170200211","SP","MEQESG","2017-02-27","2017-02-27","BR:KENANGAINV","KENANGA INVESTMENT BANK BHD","MYR",6888,"AXIATA",1530516.84,3053.19,0,"2017-02-27T10:59:08","angie",4.4279999999999999,4.4279999999999999,1530516.84,3053.19]
["EQT*170200213","SS","YH-AUR-VCAM","2017-02-27","2017-02-27","BR:CIMBINV","CIMB INVESTMENT BANK BHD","MYR",7277,"DIALOG",1372812.15,2752.74,79862.61,"2017-02-27T14:25:59","soonchong",4.4279999999999999,4.4279999999999999,1372812.15,2752.74]
["EQT*170200214","SS","YH-AUR-VCAM","2017-02-27","2017-02-27","BR:CIMBINV","CIMB INVESTMENT BANK BHD","MYR",5185,"AFFIN",828396.39,1869.39,45026.71,"2017-02-27T14:26:16","soonchong",4.4279999999999999,4.4279999999999999,828396.39,1869.39]
["EQT*170200215","SS","YH-AUR-VCAM","2017-02-27","2017-02-27","BR:CLSALIMITED","CLSA LIMITED","MYR",7052,"PADINI",106943.85,241.52,8954.5300000000007,"2017-02-27T15:02:12","alex.lee",4.4279999999999999,4.4279999999999999,106943.85,241.52]
["EQT*170200216","SS","MEQESG","2017-02-27","2017-02-27","BR:UBSSECMY","UBS SECURITIES MALAYSIA SDN BHD","MYR",4197,"SIME",1370943.98,2748.99,247661.42,"2017-02-27T15:09:03","angie",4.4279999999999999,4.4279999999999999,1370943.98,2748.99]
["EQT*170200217","SP","ASEAN5ESG","2017-02-27","2017-02-27","BR:CREDITSUISSEMY","CREDIT SUISSE SECURITIES (M) SDN BHD","MYR",5246,"WPRTS",22884.63,51.3,0,"2017-02-27T15:41:41","alex.lee",4.4370000000000003,4.4370000000000003,22884.63,51.3]
["EQT*170200218","SP","KWAP","2017-02-27","2017-02-27","BR:MAYBANKINV","MAYBANK INVESTMENT BANK BHD","MYR",5225,"IHH",2341895.17,4672,0,"2017-02-27T17:10:50","soonchong",4.4279999999999999,4.4279999999999999,2341895.17,4672]
["EQT*170200219","SS","YAMIR-VCAM","2017-02-28","2017-02-28","BR:CIMBINV","CIMB INVESTMENT BANK BHD","MYR",1961,"IOICORP",701203.95,1582.44,14889.85,"2017-02-28T09:08:32","nik.faiz",4.4279999999999999,4.4279999999999999,701203.95,1582.44]
["EQT*170200220","SS","YAMIR-VCAM","2017-02-28","2017-02-28","BR:CIMBINV","CIMB INVESTMENT BANK BHD","MYR",5218,"SENERGY",472269.44,1065.94,36030.35,"2017-02-28T09:08:49","nik.faiz",4.4279999999999999,4.4279999999999999,472269.44,1065.94]
["EQT*170200221","SS","YAMIR-VCAM","2017-02-28","2017-02-28","BR:CIMBINV","CIMB INVESTMENT BANK BHD","MYR",5398,"GAMUDA",536553.21,1210.97,1416.94,"2017-02-28T09:09:12","nik.faiz",4.4279999999999999,4.4279999999999999,536553.21,1210.97]
["EQT*170200223","SS","YH-AUR-VCAM","2017-02-28","2017-02-28","BR:CLSALIMITED","CLSA LIMITED","MYR",7052,"PADINI",1396686.06,2800.6,114103.4,"2017-02-28T09:19:50","alex.lee",4.4279999999999999,4.4279999999999999,1396686.06,2800.6]
["EQT*170200224","SS","YH-AUR-VCAM","2017-02-28","2017-02-28","BR:AFFINV","AFFIN INVESTMENT BANK BERHAD","MYR",7277,"DIALOG",1341321.3700000001,2689.6,52399.71,"2017-02-28T09:34:00","soonchong",4.4279999999999999,4.4279999999999999,1341321.3700000001,2689.6]
["EQT*170200226","SS","YH-AUR-VCAM","2017-02-28","2017-02-28","BR:AFFINV","AFFIN INVESTMENT BANK BERHAD","MYR",5185,"AFFIN",449082.29,1013.63,23507.32,"2017-02-28T09:36:48","soonchong",4.4279999999999999,4.4279999999999999,449082.29,1013.63]
["EQT*170200227","SP","YH-AUR-VCAM","2017-02-28","2017-02-28","BR:CLSALIMITED","CLSA LIMITED","MYR",6033,"PETGAS",3998977.23,7978.52,0,"2017-02-28T09:48:59","alex.lee",4.4279999999999999,4.4279999999999999,3998977.23,7978.52]
["EQT*170200228","SS","YH-AUR-VCAM","2017-02-28","2017-02-28","BR:CLSALIMITED","CLSA LIMITED","MYR",4197,"SIME",4182744.18,8385.7900000000009,134959.45000000001,"2017-02-28T09:53:35","anouk",4.4279999999999999,4.4279999999999999,4182744.18,8385.7900000000009]
["EQT*170200229","SS","YH-AUR-VCAM","2017-02-28","2017-02-28","BR:MAYBANKINV","MAYBANK INVESTMENT BANK BHD","MYR",3417,"E&O",1081961,2169.61,69530.17,"2017-02-28T09:57:38","soonchong",4.4279999999999999,4.4279999999999999,1081961,2169.61]
["EQT*170200230","SS","VCAM-TABA","2017-02-28","2017-02-28","BR:KENANGAINV","KENANGA INVESTMENT BANK BHD","MYR",5218,"SENERGY",20712.8,46.78,3327.4,"2017-02-28T11:48:02","angie",4.4279999999999999,4.4279999999999999,20712.8,46.78]
["EQT*170200231","SP","VCAM-TABA","2017-02-28","2017-02-28","BR:KENANGAINV","KENANGA INVESTMENT BANK BHD","MYR",5070,"PRTASCO",35983.410000000003,80.66,0,"2017-02-28T12:57:25","angie",4.4279999999999999,4.4279999999999999,35983.410000000003,80.66]
["EQT*170200232","SS","MEQESG","2017-02-28","2017-02-28","BR:UBSSECMY","UBS SECURITIES MALAYSIA SDN BHD","MYR",5183,"PCHEM",1084349.4099999999,2174.4,68973.13,"2017-02-28T14:42:35","angie",4.4279999999999999,4.4279999999999999,1084349.4099999999,2174.4]
["EQT*170200233","SS","MEQESG","2017-02-28","2017-02-28","BR:UBSSECMY","UBS SECURITIES MALAYSIA SDN BHD","MYR",1155,"MAYBANK",1715606.64,3440,78467.78,"2017-02-28T14:43:08","angie",4.4279999999999999,4.4279999999999999,1715606.64,3440]
["EQT*170200234","SP","MEQESG","2017-02-28","2017-02-28","BR:KENANGAINV","KENANGA INVESTMENT BANK BHD","MYR",1368,"EDGENTA",50045.58,112.19,0,"2017-02-28T14:47:29","angie",4.4279999999999999,4.4279999999999999,50045.58,112.19]
["EQT*170200238","SP","VCAM-TABA","2017-02-28","2017-02-28","BR:KENANGAINV","KENANGA INVESTMENT BANK BHD","MYR",5205,"SENDAI",79872.100000000006,179.05,0,"2017-02-28T15:44:34","angie",4.4279999999999999,4.4279999999999999,79872.100000000006,179.05]
["EQT*170200239","SP","YH-AUR-VCAM","2017-02-28","2017-02-28","BR:CLSALIMITED","CLSA LIMITED","MYR",5205,"SENDAI",1559793.04,3111.6,0,"2017-02-28T16:06:09","anouk",4.4279999999999999,4.4279999999999999,1559793.04,3111.6]
["EQT*170200240","SP","YH-AUR-VCAM","2017-02-28","2017-02-28","BR:CLSALIMITED","CLSA LIMITED","MYR",5255,"ICON",379453.36,851.02,0,"2017-02-28T17:24:57","alex.lee",4.4279999999999999,4.4279999999999999,379453.36,851.02]
["EQT*170200242","SP","ASEAN5ESG","2017-02-28","2017-02-28","BR:CLSALIMITED","CLSA LIMITED","MYR",6033,"PETGAS",100101.08,224.4,0,"2017-02-28T17:31:41","khairul.anwar",4.4379999999999997,4.4379999999999997,100101.08,224.4]
["EQT*170300001","SP","VCAM-TABA","2017-03-01","2017-03-01","BR:KENANGAINV","KENANGA INVESTMENT BANK BHD","MYR",5205,"SENDAI",244217.8,547.55999999999995,0,"2017-03-01T09:38:27","angie",4.4279999999999999,4.4279999999999999,244217.8,547.55999999999995]
["EQT*170300002","SP","VCAM-TABA","2017-03-01","2017-03-01","BR:KENANGAINV","KENANGA INVESTMENT BANK BHD","MYR",5070,"PRTASCO",59580.45,133.56,0,"2017-03-01T09:40:03","angie",4.4279999999999999,4.4279999999999999,59580.45,133.56]
["EQT*170300003","SP","YH-AUR-VCAM","2017-03-01","2017-03-01","BR:CLSALIMITED","CLSA LIMITED","MYR",5205,"SENDAI",1120925.68,2236,0,"2017-03-01T09:42:18","angie",4.4279999999999999,4.4279999999999999,1120925.68,2236]
["EQT*170300004","SP","YH-AUR-VCAM","2017-03-01","2017-03-01","BR:CLSALIMITED","CLSA LIMITED","MYR",5205,"SENDAI",784915.37,1760.85,0,"2017-03-01T09:42:27","alex.lee",4.4279999999999999,4.4279999999999999,784915.37,1760.85]
["EQT*170300007","SS","KWAP","2017-03-01","2017-03-01","BR:CREDITSUISSEMY","CREDIT SUISSE SECURITIES (M) SDN BHD","MYR",7052,"PADINI",1457587.23,2922.7,241949.97,"2017-03-01T10:47:36","khairul.anwar",4.4279999999999999,4.4279999999999999,1457587.23,2922.7]
["EQT*170300009","SS","YH-AUR-VCAM","2017-03-01","2017-03-01","BR:CIMBINV","CIMB INVESTMENT BANK BHD","MYR",5185,"AFFIN",1270095.45,2546.8000000000002,89254.82,"2017-03-01T11:10:16","soonchong",4.4279999999999999,4.4279999999999999,1270095.45,2546.8000000000002]
["EQT*170300010","SS","YH-AUR-VCAM","2017-03-01","2017-03-01","BR:AFFINV","AFFIN INVESTMENT BANK BERHAD","MYR",7277,"DIALOG",1346109.68,2699.2,57188.03,"2017-03-01T11:13:23","soonchong",4.4279999999999999,4.4279999999999999,1346109.68,2699.2]
["EQT*170300011","SS","MEQESG","2017-03-01","2017-03-01","BR:UBSSECMY","UBS SECURITIES MALAYSIA SDN BHD","MYR",1023,"CIMB",1013163.37,2031.68,121704.11,"2017-03-01T11:18:55","angie",4.4279999999999999,4.4279999999999999,1013163.37,2031.68]
["EQT*170300013","SP","MEQESG","2017-03-01","2017-03-01","BR:TASEC","TA SECURITIES HOLDINGS BHD","MYR",5000,"HUMEIND",290262.77,650.88,0,"2017-03-01T14:47:36","angie",4.4279999999999999,4.4279999999999999,290262.77,650.88]
["EQT*170300014","SP","MEQESG","2017-03-01","2017-03-01","BR:TASEC","TA SECURITIES HOLDINGS BHD","MYR",1368,"EDGENTA",40710.639999999999,91.26,0,"2017-03-01T15:04:19","angie",4.4279999999999999,4.4279999999999999,40710.639999999999,91.26]
["EQT*170300015","SP","VCAM-TABA","2017-03-01","2017-03-01","BR:TASEC","TA SECURITIES HOLDINGS BHD","MYR",1368,"EDGENTA",37579.199999999997,84.24,0,"2017-03-01T15:04:19","angie",4.4279999999999999,4.4279999999999999,37579.199999999997,84.24]
["EQT*170300017","SS","YH-AUR-VCAM","2017-03-01","2017-03-01","BR:CLSALIMITED","CLSA LIMITED","MYR",4197,"SIME",7831435.1699999999,7841.01,180910.1,"2017-03-01T16:36:49","alex.lee",4.4279999999999999,4.4279999999999999,7831435.1699999999,7841.01]
["EQT*170300018","SS","YH-AUR-VCAM","2017-03-01","2017-03-01","BR:CLSALIMITED","CLSA LIMITED","MYR",7052,"PADINI",2912780.8,5840.2,347615.48,"2017-03-01T17:14:14","alex.lee",4.4279999999999999,4.4279999999999999,2912780.8,5840.2]
["EQT*170300019","SS","YH-AUR-VCAM","2017-03-02","2017-03-02","BR:CIMBINV","CIMB INVESTMENT BANK BHD","MYR",5185,"AFFIN",1291543.03,2589.8000000000002,110702.39,"2017-03-02T09:27:23","soonchong",4.4279999999999999,4.4279999999999999,1291543.03,2589.8000000000002]
["EQT*170300022","SS","YH-AUR-VCAM","2017-03-02","2017-03-02","BR:CLSALIMITED","CLSA LIMITED","MYR",4197,"SIME",18212413.02,18233,551921.16,"2017-03-02T09:29:23","angie",4.4279999999999999,4.4279999999999999,18212413.02,18233]
["EQT*170300023","SS","YH-AUR-VCAM","2017-03-02","2017-03-02","BR:CLSALIMITED","CLSA LIMITED","MYR",7052,"PADINI",2985203.8,5985.4,420038.48,"2017-03-02T09:29:46","angie",4.4279999999999999,4.4279999999999999,2985203.8,5985.4]
["EQT*170300024","SP","YH-AUR-VCAM","2017-03-02","2017-03-02","BR:CLSALIMITED","CLSA LIMITED","MYR",5205,"SENDAI",967206.29,2169.9,0,"2017-03-02T09:30:11","angie",4.4279999999999999,4.4279999999999999,967206.29,2169.9]
["EQT*170300025","SP","YH-AUR-VCAM","2017-03-02","2017-03-02","BR:MAYBANKINV","MAYBANK INVESTMENT BANK BHD","MYR",5255,"ICON",942740.82,2115,0,"2017-03-02T09:42:10","angie",4.4279999999999999,4.4279999999999999,942740.82,2115]
["EQT*170300026","SS","MEQESG","2017-03-02","2017-03-02","BR:UBSSECMY","UBS SECURITIES MALAYSIA SDN BHD","MYR",1155,"MAYBANK",1748725.7,3506.4,111667.77,"2017-03-02T10:09:52","angie",4.4279999999999999,4.4279999999999999,1748725.7,3506.4]
["EQT*170300028","SS","VCAM-TABA","2017-03-02","2017-03-02","BR:CIMBINV","CIMB INVESTMENT BANK BHD","MYR",5248,"BAUTO",100625.99,227.25,-11151.97,"2017-03-02T11:51:38","angie",4.4279999999999999,4.4279999999999999,100625.99,227.25]
["EQT*170300029","SS","YAMIR-VCAM","2017-03-02","2017-03-02","BR:KAFSEC","KAF-SEAGROATT & CAMPBELL SECURITIES SDN BHD","MYR",1015,"AMMB",1946482.38,3902.88,118495.86,"2017-03-02T12:07:11","khairul.anwar",4.4279999999999999,4.4279999999999999,1946482.38,3902.88]
["EQT*170300030","SS","KWAP","2017-03-02","2017-03-02","BR:KAFSEC","KAF-SEAGROATT & CAMPBELL SECURITIES SDN BHD","MYR",7052,"PADINI",1222530.31,2451.44,225221.5,"2017-03-02T12:07:39","khairul.anwar",4.4279999999999999,4.4279999999999999,1222530.31,2451.44]
["EQT*170300031","SS","YH-AUR-VCAM","2017-03-02","2017-03-02","BR:CIMBINV","CIMB INVESTMENT BANK BHD","MYR",7277,"DIALOG",753756.53,1701,28738.1,"2017-03-02T15:16:48","soonchong",4.4279999999999999,4.4279999999999999,753756.53,1701]
["EQT*170300032","SS","YH-AUR-VCAM","2017-03-03","2017-03-03","BR:CLSALIMITED","CLSA LIMITED","MYR",4197,"SIME",11869327.029999999,11883.18,341440.97,"2017-03-03T09:18:08","alex.lee",4.4279999999999999,4.4279999999999999,11869327.029999999,11883.18]
["EQT*170300033","SS","YH-AUR-VCAM","2017-03-03","2017-03-03","BR:CIMBINV","CIMB INVESTMENT BANK BHD","MYR",7277,"DIALOG",750166.27,1692.9,25147.84,"2017-03-03T09:19:33","soonchong",4.4279999999999999,4.4279999999999999,750166.27,1692.9]
["EQT*170300034","SP","YH-AUR-VCAM","2017-03-03","2017-03-03","BR:CLSALIMITED","CLSA LIMITED","MYR",5255,"ICON",942740.82,2115,0,"2017-03-03T09:28:30","alex.lee",4.4279999999999999,4.4279999999999999,942740.82,2115]
["EQT*170300036","SP","MEQESG","2017-03-03","2017-03-03","BR:TASEC","TA SECURITIES HOLDINGS BHD","MYR",5000,"HUMEIND",69004.84,154.69,0,"2017-03-03T09:38:10","angie",4.4279999999999999,4.4279999999999999,69004.84,154.69]
["EQT*170300038","SP","YH-AUR-VCAM","2017-03-03","2017-03-03","BR:CLSALIMITED","CLSA LIMITED","MYR",5205,"SENDAI",415913.19,932.83,0,"2017-03-03T09:46:05","alex.lee",4.4279999999999999,4.4279999999999999,415913.19,932.83]
["EQT*170300039","SS","YH-AUR-VCAM","2017-03-03","2017-03-03","BR:CLSALIMITED","CLSA LIMITED","MYR",7052,"PADINI",2256360.0499999998,4524.1499999999996,332486.06,"2017-03-03T10:21:55","alex.lee",4.4279999999999999,4.4279999999999999,2256360.0499999998,4524.1499999999996]
["EQT*170300042","SS","VCAM-TABA","2017-03-03","2017-03-03","BR:TASEC","TA SECURITIES HOLDINGS BHD","MYR",5248,"BAUTO",250370.87,565.30999999999995,-29074.03,"2017-03-03T11:04:37","angie",4.4279999999999999,4.4279999999999999,250370.87,565.30999999999995]
["EQT*170300043","SP","VCAM-TABA","2017-03-03","2017-03-03","BR:TASEC","TA SECURITIES HOLDINGS BHD","MYR",5225,"IHH",99246.78,222.48,0,"2017-03-03T11:05:04","angie",4.4279999999999999,4.4279999999999999,99246.78,222.48]
["EQT*170300045","SP","VCAM-TABA","2017-03-03","2017-03-03","BR:TASEC","TA SECURITIES HOLDINGS BHD","MYR",5264,"MALAKOFF CORP",218588.71,490.05,0,"2017-03-03T11:58:38","angie",4.4279999999999999,4.4279999999999999,218588.71,490.05]
["EQT*170300046","SS","ASEAN5ESG","2017-03-03","2017-03-03","BR:CLSALIMITED","CLSA LIMITED","MYR",3794,"LMCEMNT",71653.8,161.82,-535.27,"2017-03-03T10:59:41","alex.lee",4.452,4.452,71653.8,161.82]
["EQT*170300047","SS","MEQESG","2017-03-03","2017-03-03","BR:CIMBINV","CIMB INVESTMENT BANK BHD","MYR",5148,"UEM",59279.17,133.88,8033.35,"2017-03-03T14:39:35","angie",4.4279999999999999,4.4279999999999999,59279.17,133.88]
["EQT*170300048","SS","ASEAN5ESG","2017-03-03","2017-03-03","BR:CLSALIMITED","CLSA LIMITED","MYR",5246,"WPRTS",23672.97,53.46,215.91,"2017-03-03T10:50:09","alex.lee",4.452,4.452,23672.97,53.46]
["EQT*170300051","SS","YH-AUR-VCAM","2017-03-03","2017-03-03","BR:CIMBINV","CIMB INVESTMENT BANK BHD","MYR",5185,"AFFIN",1355087.74,2717.2,174247.11,"2017-03-03T17:42:40","alex.lee",4.4279999999999999,4.4279999999999999,1355087.74,2717.2]
["EQT*170300052","SS","YH-AUR-VCAM","2017-03-06","2017-03-06","BR:CLSALIMITED","CLSA LIMITED","MYR",4197,"SIME",18215809.420000002,18236.400000000001,555317.56000000006,"2017-03-06T09:19:17","alex.lee",4.4279999999999999,4.4279999999999999,18215809.420000002,18236.400000000001]
["EQT*170300053","SS","YH-AUR-VCAM","2017-03-06","2017-03-06","BR:CLSALIMITED","CLSA LIMITED","MYR",7052,"PADINI",2937320.83,5889.4,372155.52,"2017-03-06T09:22:33","alex.lee",4.4279999999999999,4.4279999999999999,2937320.83,5889.4]
["EQT*170300054","SP","YH-AUR-VCAM","2017-03-06","2017-03-06","BR:CLSALIMITED","CLSA LIMITED","MYR",5205,"SENDAI",1143342.28,2280.7199999999998,0,"2017-03-06T09:33:02","alex.lee",4.4279999999999999,4.4279999999999999,1143342.28,2280.7199999999998]
["EQT*170300056","SP","MEQESG","2017-03-06","2017-03-06","BR:TASEC","TA SECURITIES HOLDINGS BHD","MYR",1368,"EDGENTA",523491.6,1174.23,0,"2017-03-06T09:58:27","angie",4.4279999999999999,4.4279999999999999,523491.6,1174.23]
["EQT*170300057","SP","VCAM-TABA","2017-03-06","2017-03-06","BR:TASEC","TA SECURITIES HOLDINGS BHD","MYR",5264,"MALAKOFF CORP",79143.649999999994,177.42,0,"2017-03-06T10:11:06","angie",4.4279999999999999,4.4279999999999999,79143.649999999994,177.42]
["EQT*170300058","SS","MEQESG","2017-03-06","2017-03-06","BR:UBSSECMY","UBS SECURITIES MALAYSIA SDN BHD","MYR",5148,"UEM",130415.17,294.52999999999997,17673.37,"2017-03-06T10:11:30","angie",4.4279999999999999,4.4279999999999999,130415.17,294.52999999999997]
["EQT*170300059","SS","VCAM-TABA","2017-03-06","2017-03-06","BR:TASEC","TA SECURITIES HOLDINGS BHD","MYR",4863,"TM",62268.05,140.63,46.49,"2017-03-06T10:16:37","angie",4.4279999999999999,4.4279999999999999,62268.05,140.63]
["EQT*170300060","SS","MEQESG","2017-03-06","2017-03-06","BR:TASEC","TA SECURITIES HOLDINGS BHD","MYR",1023,"CIMB",699357.96,1578.27,120265.67,"2017-03-06T11:58:09","angie",4.4279999999999999,4.4279999999999999,699357.96,1578.27]
["EQT*170300061","SS","MEQESG","2017-03-06","2017-03-06","BR:UBSSECMY","UBS SECURITIES MALAYSIA SDN BHD","MYR",5014,"AIRPORT",573171.98,1293.58,54464.7,"2017-03-06T14:38:04","angie",4.4279999999999999,4.4279999999999999,573171.98,1293.58]
["EQT*170300062","SP","YH-AUR-VCAM","2017-03-06","2017-03-06","BR:MACQUARIE","MACQUARIE CAPITAL SECURITIES (MALAYSIA) SDN BHD","MYR",5255,"ICON",942740.82,2115,0,"2017-03-06T15:09:13","alex.lee",4.4279999999999999,4.4279999999999999,942740.82,2115]
["EQT*170300063","SP","ASEAN5ESG","2017-03-06","2017-03-06","BR:CREDITSUISSEMY","CREDIT SUISSE SECURITIES (M) SDN BHD","MYR",5183,"PCHEM",37188.15,83.36,0,"2017-03-06T15:20:38","alex.lee",4.4459999999999997,4.4459999999999997,37188.15,83.36]
["EQT*170300065","SS","MEQESG","2017-03-06","2017-03-06","BR:NOMURASECMY","NOMURA SECURITIES MALAYSIA SDN BHD","MYR",1155,"MAYBANK",879415.95,1984.5,61233.89,"2017-03-06T16:24:22","angie",4.4279999999999999,4.4279999999999999,879415.95,1984.5]
["EQT*170300067","SP","ASEAN5ESG","2017-03-06","2017-03-06","BR:CREDITSUISSEMY","CREDIT SUISSE SECURITIES (M) SDN BHD","MYR",1066,"RHBBANK",30834.04,69.12,0,"2017-03-06T16:52:37","alex.lee",4.4459999999999997,4.4459999999999997,30834.04,69.12]
["EQT*170300068","SP","YH-AUR-VCAM","2017-03-07","2017-03-07","BR:NOMURASECMY","NOMURA SECURITIES MALAYSIA SDN BHD","MYR",5255,"ICON",942740.82,2115,0,"2017-03-07T09:42:00","angie",4.4279999999999999,4.4279999999999999,942740.82,2115]
["EQT*170300069","SS","VCAM-TABA","2017-03-07","2017-03-07","BR:KENANGAINV","KENANGA INVESTMENT BANK BHD","MYR",5218,"SENERGY",55332.87,124.96,12659.61,"2017-03-07T09:43:13","angie",4.4279999999999999,4.4279999999999999,55332.87,124.96]
["EQT*170300070","SS","MEQESG","2017-03-07","2017-03-07","BR:KENANGAINV","KENANGA INVESTMENT BANK BHD","MYR",5014,"AIRPORT",143494.20000000001,324.06,14376.22,"2017-03-07T09:55:31","angie",4.4279999999999999,4.4279999999999999,143494.20000000001,324.06]
["EQT*170300072","SS","YH-AUR-VCAM","2017-03-07","2017-03-07","BR:NOMURASECMY","NOMURA SECURITIES MALAYSIA SDN BHD","MYR",4197,"SIME",4418933.28,8859.17,130082.83,"2017-03-07T09:58:25","angie",4.4279999999999999,4.4279999999999999,4418933.28,8859.17]
["EQT*170300073","SS","MEQESG","2017-03-07","2017-03-07","BR:KENANGAINV","KENANGA INVESTMENT BANK BHD","MYR",5148,"UEM",362028.24,817.22,54410.1,"2017-03-07T10:08:27","angie",4.4279999999999999,4.4279999999999999,362028.24,817.22]
["EQT*170300074","SP","KWAP","2017-03-07","2017-03-07","BR:AFFINV","AFFIN INVESTMENT BANK BERHAD","MYR",5248,"BAUTO",1016421.53,2027.5,0,"2017-03-07T11:02:34","anouk",4.4279999999999999,4.4279999999999999,1016421.53,2027.5]
["EQT*170300075","SS","YH-AUR-VCAM","2017-03-07","2017-03-07","BR:MACQUARIE","MACQUARIE CAPITAL SECURITIES (MALAYSIA) SDN BHD","MYR",7052,"PADINI",1247882.8500000001,2502.27,179234.98,"2017-03-07T11:04:12","angie",4.4279999999999999,4.4279999999999999,1247882.8500000001,2502.27]
["EQT*170300076","SS","MEQESG","2017-03-07","2017-03-07","BR:KENANGAINV","KENANGA INVESTMENT BANK BHD","MYR",4197,"SIME",545520.92000000004,1231.2,96466.57,"2017-03-07T11:11:48","angie",4.4279999999999999,4.4279999999999999,545520.92000000004,1231.2]
["EQT*170300078","SS","MEQESG","2017-03-07","2017-03-07","BR:KENANGAINV","KENANGA INVESTMENT BANK BHD","MYR",1023,"CIMB",540634.16,1220.18,95232.06,"2017-03-07T11:34:35","angie",4.4279999999999999,4.4279999999999999,540634.16,1220.18]
["EQT*170300079","SS","YH-AUR-VCAM","2017-03-08","2017-03-08","BR:MACQUARIE","MACQUARIE CAPITAL SECURITIES (MALAYSIA) SDN BHD","MYR",7052,"PADINI",37832.35,85.44,5254.75,"2017-03-08T09:05:00","anouk",4.4279999999999999,4.4279999999999999,37832.35,85.44]
["EQT*170300081","SS","YH-AUR-VCAM","2017-03-08","2017-03-08","BR:MAYBANKINV","MAYBANK INVESTMENT BANK BHD","MYR",4197,"SIME",20717338.18,20740.580000000002,645173.69999999995,"2017-03-08T09:05:29","anouk",4.4279999999999999,4.4279999999999999,20717338.18,20740.580000000002]
["EQT*170300082","SP","KWAP","2017-03-08","2017-03-08","BR:MAYBANKINV","MAYBANK INVESTMENT BANK BHD","MYR",5255,"ICON",95291.64,213.62,0,"2017-03-08T09:48:45","anouk",4.4279999999999999,4.4279999999999999,95291.64,213.62]
["EQT*170300083","SP","KWAP","2017-03-08","2017-03-08","BR:MAYBANKINV","MAYBANK INVESTMENT BANK BHD","MYR",5248,"BAUTO",1621663.52,3235.04,0,"2017-03-08T10:28:58","anouk",4.4279999999999999,4.4279999999999999,1621663.52,3235.04]
["EQT*170300085","SS","YH-AUR-VCAM","2017-03-09","2017-03-09","BR:MACQUARIE","MACQUARIE CAPITAL SECURITIES (MALAYSIA) SDN BHD","MYR",4197,"SIME",18182844.399999999,18203.400000000001,522352.54,"2017-03-09T09:14:32","angie",4.4279999999999999,4.4279999999999999,18182844.399999999,18203.400000000001]
["EQT*170300087","SP","KWAP","2017-03-09","2017-03-09","BR:AFFINV","AFFIN INVESTMENT BANK BERHAD","MYR",5248,"BAUTO",1430979.76,2854.6,0,"2017-03-09T11:28:06","khairul.anwar",4.4279999999999999,4.4279999999999999,1430979.76,2854.6]
["EQT*170300088","SS","KWAP","2017-03-09","2017-03-09","BR:AFFINV","AFFIN INVESTMENT BANK BERHAD","MYR",7052,"PADINI",1301932.6299999999,2610.63,207859.09,"2017-03-09T11:28:40","khairul.anwar",4.4279999999999999,4.4279999999999999,1301932.6299999999,2610.63]
["EQT*170300089","SP","KWAP","2017-03-09","2017-03-09","BR:MAYBANKINV","MAYBANK INVESTMENT BANK BHD","MYR",5255,"ICON",131946.34,295.77999999999997,0,"2017-03-09T17:07:13","khairul.anwar",4.4279999999999999,4.4279999999999999,131946.34,295.77999999999997]
["EQT*170300091","SP","MEQESG","2017-03-10","2017-03-10","BR:KENANGAINV","KENANGA INVESTMENT BANK BHD","MYR",5000,"HUMEIND",32846.46,73.63,0,"2017-03-10T10:30:08","angie",4.4279999999999999,4.4279999999999999,32846.46,73.63]
["EQT*170300093","SS","MEQESG","2017-03-10","2017-03-10","BR:CIMBINV","CIMB INVESTMENT BANK BHD","MYR",5148,"UEM",363015.56,819.45,55400.09,"2017-03-10T11:30:34","angie",4.4279999999999999,4.4279999999999999,363015.56,819.45]
["EQT*170300094","SS","KWAP","2017-03-10","2017-03-10","BR:RHBINV","RHB INVESTMENT BANK BERHAD","MYR",7052,"PADINI",560671.86,1265.3800000000001,92408.39,"2017-03-10T11:36:25","anouk",4.4279999999999999,4.4279999999999999,560671.86,1265.3800000000001]
["EQT*170300095","SS","MEQESG","2017-03-10","2017-03-10","BR:CIMBINV","CIMB INVESTMENT BANK BHD","MYR",1155,"MAYBANK",790709.37,1784.37,54363.5,"2017-03-10T11:54:14","angie",4.4279999999999999,4.4279999999999999,790709.37,1784.37]
["EQT*170300096","SS","YH-AUR-VCAM","2017-03-10","2017-03-10","BR:MACQUARIE","MACQUARIE CAPITAL SECURITIES (MALAYSIA) SDN BHD","MYR",4197,"SIME",11282546.470000001,11295.78,333041.52,"2017-03-10T15:42:48","angie",4.4279999999999999,4.4279999999999999,11282546.470000001,11295.78]
["EQT*170300097","SP","KWAP","2017-03-10","2017-03-10","BR:MAYBANKINV","MAYBANK INVESTMENT BANK BHD","MYR",5255,"ICON",101425.14,227.36,0,"2017-03-10T16:13:02","khairul.anwar",4.4279999999999999,4.4279999999999999,101425.14,227.36]
["EQT*170300098","SS","MEQESG","2017-03-10","2017-03-10","BR:CIMBINV","CIMB INVESTMENT BANK BHD","MYR",4197,"SIME",908337.56,2049.75,159777.60999999999,"2017-03-10T16:28:33","angie",4.4279999999999999,4.4279999999999999,908337.56,2049.75]
["EQT*170300099","SS","YH-AUR-VCAM","2017-03-13","2017-03-13","BR:MACQUARIE","MACQUARIE CAPITAL SECURITIES (MALAYSIA) SDN BHD","MYR",4197,"SIME",182322.35,411.75,5717.43,"2017-03-13T09:31:47","angie",4.4279999999999999,4.4279999999999999,182322.35,411.75]
["EQT*170300100","SS","MEQESG","2017-03-13","2017-03-13","BR:KENANGAINV","KENANGA INVESTMENT BANK BHD","MYR",5148,"UEM",241789.31,545.95000000000005,38940.19,"2017-03-13T09:32:13","angie",4.4279999999999999,4.4279999999999999,241789.31,545.95000000000005]
["EQT*170300101","SS","KWAP","2017-03-13","2017-03-13","BR:AFFINV","AFFIN INVESTMENT BANK BERHAD","MYR",7052,"PADINI",610973.56999999995,1378.87,108915.38,"2017-03-13T09:45:47","anouk",4.4279999999999999,4.4279999999999999,610973.56999999995,1378.87]
["EQT*170300102","SP","KWAP","2017-03-13","2017-03-13","BR:AFFINV","AFFIN INVESTMENT BANK BERHAD","MYR",5248,"BAUTO",1208418.48,2410.56,0,"2017-03-13T09:47:25","anouk",4.4279999999999999,4.4279999999999999,1208418.48,2410.56]
["EQT*170300104","SP","VCAM-TABA","2017-03-13","2017-03-13","BR:KENANGAINV","KENANGA INVESTMENT BANK BHD","MYR",5218,"SENERGY",53899.16,120.83,0,"2017-03-13T10:42:16","angie",4.4279999999999999,4.4279999999999999,53899.16,120.83]
["EQT*170300106","SP","KWAP","2017-03-13","2017-03-13","BR:AFFINV","AFFIN INVESTMENT BANK BERHAD","MYR",5225,"IHH",2926517.01,5838.4,0,"2017-03-13T11:37:19","anouk",4.4279999999999999,4.4279999999999999,2926517.01,5838.4]
["EQT*170300108","SP","KWAP","2017-03-13","2017-03-13","BR:MAYBANKINV","MAYBANK INVESTMENT BANK BHD","MYR",5255,"ICON",164213.25,368.12,0,"2017-03-13T14:34:06","anouk",4.4279999999999999,4.4279999999999999,164213.25,368.12]
["EQT*170300111","SS","YH-AUR-VCAM","2017-03-14","2017-03-14","BR:CLSALIMITED","CLSA LIMITED","MYR",4197,"SIME",18207817.899999999,18228.400000000001,547326.04,"2017-03-14T09:48:33","alex.lee",4.4279999999999999,4.4279999999999999,18207817.899999999,18228.400000000001]
["EQT*170300112","SS","YH-AUR-VCAM","2017-03-14","2017-03-14","BR:CLSALIMITED","CLSA LIMITED","MYR",7052,"PADINI",1090198.8999999999,2186.13,121335.96,"2017-03-14T09:50:01","alex.lee",4.4279999999999999,4.4279999999999999,1090198.8999999999,2186.13]
["EQT*170300113","SS","KWAP","2017-03-14","2017-03-14","BR:HLGINV","HONG LEONG INVESTMENT BANK BHD","MYR",7052,"PADINI",576237.67000000004,1300.5,89982.76,"2017-03-14T10:26:18","anouk",4.4279999999999999,4.4279999999999999,576237.67000000004,1300.5]
["EQT*170300115","SP","YAMIR-VCAM","2017-03-14","2017-03-14","BR:AFFINV","AFFIN INVESTMENT BANK BERHAD","MYR",7100,"UCHITEC",902632.7,2025,0,"2017-03-14T16:45:13","nik.faiz",4.4279999999999999,4.4279999999999999,902632.7,2025]
["EQT*170300116","SP","KWAP","2017-03-14","2017-03-14","BR:MAYBANKINV","MAYBANK INVESTMENT BANK BHD","MYR",5255,"ICON",125011.66,280.24,0,"2017-03-14T17:33:10","nik.faiz",4.4279999999999999,4.4279999999999999,125011.66,280.24]
["EQT*170300117","SS","KWAP","2017-03-15","2017-03-15","BR:RHBINV","RHB INVESTMENT BANK BERHAD","MYR",7052,"PADINI",66847.63,150.97,11171.44,"2017-03-15T09:19:10","anouk",4.4279999999999999,4.4279999999999999,66847.63,150.97]
["EQT*170300118","SS","YH-AUR-VCAM","2017-03-15","2017-03-15","BR:CIMBINV","CIMB INVESTMENT BANK BHD","MYR",5185,"AFFIN",54992.800000000003,124.2,9412.35,"2017-03-15T09:39:09","soonchong",4.4279999999999999,4.4279999999999999,54992.800000000003,124.2]
["EQT*170300119","SP","KWAP","2017-03-15","2017-03-15","BR:CIMBINV","CIMB INVESTMENT BANK BHD","MYR",5210,"BAB",902239.65,2024.12,0,"2017-03-15T09:43:24","anouk",4.4279999999999999,4.4279999999999999,902239.65,2024.12]
["EQT*170300120","SP","YH-AUR-VCAM","2017-03-15","2017-03-15","BR:MACQUARIE","MACQUARIE CAPITAL SECURITIES (MALAYSIA) SDN BHD","MYR",5205,"SENDAI",286479.93,642.39,0,"2017-03-15T09:51:09","alex.lee",4.4279999999999999,4.4279999999999999,286479.93,642.39]
["EQT*170300121","SP","ASEAN5ESG","2017-03-15","2017-03-15","BR:CREDITSUISSEMY","CREDIT SUISSE SECURITIES (M) SDN BHD","MYR",5246,"WPRTS",38342.26,85.95,0,"2017-03-15T10:10:26","alex.lee",4.4459999999999997,4.4459999999999997,38342.26,85.95]
["EQT*170300122","SP","KWAP","2017-03-15","2017-03-15","BR:MAYBANKINV","MAYBANK INVESTMENT BANK BHD","MYR",5255,"ICON",803350.85,1802.22,0,"2017-03-15T11:29:59","anouk",4.4279999999999999,4.4279999999999999,803350.85,1802.22]
["EQT*170300123","SS","KWAP","2017-03-15","2017-03-15","BR:MAYBANKINV","MAYBANK INVESTMENT BANK BHD","MYR",7052,"PADINI",1730590.02,3470.04,271825.31,"2017-03-15T11:30:18","anouk",4.4279999999999999,4.4279999999999999,1730590.02,3470.04]
["EQT*170300125","SS","YH-AUR-VCAM","2017-03-16","2017-03-16","BR:MACQUARIE","MACQUARIE CAPITAL SECURITIES (MALAYSIA) SDN BHD","MYR",4197,"SIME",9203272.8399999999,9214.2999999999993,373026.91,"2017-03-16T09:22:27","alex.lee",4.4279999999999999,4.4279999999999999,9203272.8399999999,9214.2999999999993]
["EQT*170300126","SP","YH-AUR-VCAM","2017-03-16","2017-03-16","BR:MACQUARIE","MACQUARIE CAPITAL SECURITIES (MALAYSIA) SDN BHD","MYR",5218,"SENERGY",3748787.95,7479.2,0,"2017-03-16T09:36:07","alex.lee",4.4279999999999999,4.4279999999999999,3748787.95,7479.2]
["EQT*170300127","SS","YH-AUR-VCAM","2017-03-16","2017-03-16","BR:CLSALIMITED","CLSA LIMITED","MYR",5398,"GAMUDA",1673065.61,3354.71,9365.5,"2017-03-16T15:35:49","alex.lee",4.4279999999999999,4.4279999999999999,1673065.61,3354.71]
["EQT*170300128","SS","YAMIR-VCAM","2017-03-17","2017-03-17","BR:CIMBINV","CIMB INVESTMENT BANK BHD","MYR",1155,"MAYBANK",1162265.97,2330.61,58092.47,"2017-03-17T09:12:46","nik.faiz",4.4279999999999999,4.4279999999999999,1162265.97,2330.61]
["EQT*170300129","SS","YAMIR-VCAM","2017-03-17","2017-03-17","BR:CIMBINV","CIMB INVESTMENT BANK BHD","MYR",3336,"IJM",1288173.27,2583.04,27513.71,"2017-03-17T09:14:13","nik.faiz",4.4279999999999999,4.4279999999999999,1288173.27,2583.04]
["EQT*170300130","SP","KWAP","2017-03-17","2017-03-17","BR:MIDFINV","MIDF AMANAH INVESTMENT BANK BHD","MYR",5132,"DELEUM",225816.95,506.27,0,"2017-03-17T09:27:17","nik.faiz",4.4279999999999999,4.4279999999999999,225816.95,506.27]
["EQT*170300131","SS","YH-AUR-VCAM","2017-03-17","2017-03-17","BR:AFFINV","AFFIN INVESTMENT BANK BERHAD","MYR",5398,"GAMUDA",5147776.2300000004,5154.5,39700.959999999999,"2017-03-17T10:21:49","soonchong",4.4279999999999999,4.4279999999999999,5147776.2300000004,5154.5]
["EQT*170300132","SS","MEQESG","2017-03-17","2017-03-17","BR:MACQUARIE","MACQUARIE CAPITAL SECURITIES (MALAYSIA) SDN BHD","MYR",4197,"SIME",320851.03000000003,724.32,65003.12,"2017-03-17T10:25:13","angie",4.4279999999999999,4.4279999999999999,320851.03000000003,724.32]
["EQT*170300133","SS","YH-AUR-VCAM","2017-03-17","2017-03-17","BR:CIMBINV","CIMB INVESTMENT BANK BHD","MYR",5185,"AFFIN",1124974.76,2255.85,193055.33,"2017-03-17T10:25:18","soonchong",4.4279999999999999,4.4279999999999999,1124974.76,2255.85]
["EQT*170300134","SS","KWAP","2017-03-17","2017-03-17","BR:CIMBINV","CIMB INVESTMENT BANK BHD","MYR",7052,"PADINI",582221.44999999995,1314,95966.54,"2017-03-17T10:31:46","khairul.anwar",4.4279999999999999,4.4279999999999999,582221.44999999995,1314]
["EQT*170300135","SS","YH-AUR-VCAM","2017-03-17","2017-03-17","BR:CLSALIMITED","CLSA LIMITED","MYR",4197,"SIME",8451300.7799999993,8461.5300000000007,504079.44,"2017-03-17T10:32:15","angie",4.4279999999999999,4.4279999999999999,8451300.7799999993,8461.5300000000007]
["EQT*170300137","SS","YH-AUR-VCAM","2017-03-17","2017-03-17","BR:CLSALIMITED","CLSA LIMITED","MYR",7277,"DIALOG",825063.26,1861.88,19487.22,"2017-03-17T10:41:51","angie",4.4279999999999999,4.4279999999999999,825063.26,1861.88]
["EQT*170300139","SS","YH-AUR-VCAM","2017-03-17","2017-03-17","BR:UBSSECMY","UBS SECURITIES MALAYSIA SDN BHD","MYR",5168,"HARTALEGA",3656265.77,7330.59,66521.81,"2017-03-17T10:57:04","angie",4.4279999999999999,4.4279999999999999,3656265.77,7330.59]
["EQT*170300140","SP","YAMIR-VCAM","2017-03-17","2017-03-17","BR:MIDFINV","MIDF AMANAH INVESTMENT BANK BHD","MYR",5248,"BAUTO",408099.58,915.3,0,"2017-03-17T11:00:51","nik.faiz",4.4279999999999999,4.4279999999999999,408099.58,915.3]
["EQT*170300141","SS","KWAP","2017-03-17","2017-03-17","BR:AFFINV","AFFIN INVESTMENT BANK BERHAD","MYR",1023,"CIMB",870926.25,1965.35,30138.11,"2017-03-17T11:05:29","khairul.anwar",4.4279999999999999,4.4279999999999999,870926.25,1965.35]
["EQT*170300142","SS","YH-AUR-VCAM","2017-03-17","2017-03-17","BR:AFFINV","AFFIN INVESTMENT BANK BERHAD","MYR",4197,"SIME",9351215.8599999994,9362.4,520969.93,"2017-03-17T11:54:52","anouk",4.4279999999999999,4.4279999999999999,9351215.8599999994,9362.4]
["EQT*170300143","SS","KWAP","2017-03-17","2017-03-17","BR:KENANGAINV","KENANGA INVESTMENT BANK BHD","MYR",1295,"PBBANK",4002633.71,8024.8,103357.57,"2017-03-17T11:59:56","anouk",4.4279999999999999,4.4279999999999999,4002633.71,8024.8]
["EQT*170300144","SP","KWAP","2017-03-20","2017-03-20","BR:MIDFINV","MIDF AMANAH INVESTMENT BANK BHD","MYR",5132,"DELEUM",383191.99,859.41,0,"2017-03-20T09:08:29","nik.faiz",4.4279999999999999,4.4279999999999999,383191.99,859.41]
["EQT*170300145","SS","KWAP","2017-03-20","2017-03-20","BR:MIDFINV","MIDF AMANAH INVESTMENT BANK BHD","MYR",7052,"PADINI",1526556.22,3060.98,245031.42,"2017-03-20T09:10:14","nik.faiz",4.4279999999999999,4.4279999999999999,1526556.22,3060.98]
["EQT*170300146","SS","YAMIR-VCAM","2017-03-20","2017-03-20","BR:RHBINV","RHB INVESTMENT BANK BERHAD","MYR",1155,"MAYBANK",939502.1,2120.06,47669.66,"2017-03-20T09:12:47","nik.faiz",4.4279999999999999,4.4279999999999999,939502.1,2120.06]
["EQT*170300147","SP","YAMIR-VCAM","2017-03-20","2017-03-20","BR:RHBINV","RHB INVESTMENT BANK BERHAD","MYR",5248,"BAUTO",613042.05000000005,1375.18,0,"2017-03-20T09:14:50","nik.faiz",4.4279999999999999,4.4279999999999999,613042.05000000005,1375.18]
["EQT*170300149","SP","YAMIR-VCAM","2017-03-20","2017-03-20","BR:RHBINV","RHB INVESTMENT BANK BERHAD","MYR",3816,"MISC",172113.68,385.83,0,"2017-03-20T09:39:49","nik.faiz",4.4279999999999999,4.4279999999999999,172113.68,385.83]
["EQT*170300150","SS","MEQESG","2017-03-20","2017-03-20","BR:MACQUARIE","MACQUARIE CAPITAL SECURITIES (MALAYSIA) SDN BHD","MYR",1155,"MAYBANK",4475978.09,8973.5,382919.44,"2017-03-20T10:00:10","alex.lee",4.4279999999999999,4.4279999999999999,4475978.09,8973.5]
["EQT*170300151","SS","MEQESG","2017-03-20","2017-03-20","BR:MACQUARIE","MACQUARIE CAPITAL SECURITIES (MALAYSIA) SDN BHD","MYR",6888,"AXIATA",1131591.05,2269.11,-11432.83,"2017-03-20T10:00:50","alex.lee",4.4279999999999999,4.4279999999999999,1131591.05,2269.11]
["EQT*170300152","SS","VCAM-TABA","2017-03-20","2017-03-20","BR:MACQUARIE","MACQUARIE CAPITAL SECURITIES (MALAYSIA) SDN BHD","MYR",6888,"AXIATA",112528.64,254.13,10918.72,"2017-03-20T10:00:50","alex.lee",4.4279999999999999,4.4279999999999999,112528.64,254.13]
["EQT*170300153","SP","KWAP","2017-03-20","2017-03-20","BR:CIMBINV","CIMB INVESTMENT BANK BHD","MYR",5248,"BAUTO",1022185.54,2039,0,"2017-03-20T11:58:57","khairul.anwar",4.4279999999999999,4.4279999999999999,1022185.54,2039]
["EQT*170300156","SS","ASEAN5ESG","2017-03-20","2017-03-20","BR:MACQUARIE","MACQUARIE CAPITAL SECURITIES (MALAYSIA) SDN BHD","MYR",5210,"BAB",57911.87,130.79,2022.51,"2017-03-20T15:52:52","alex.lee",4.4249999999999998,4.4249999999999998,57911.87,130.79]
["EQT*170300157","SS","ASEAN5ESG","2017-03-20","2017-03-20","BR:MACQUARIE","MACQUARIE CAPITAL SECURITIES (MALAYSIA) SDN BHD","MYR",6888,"AXIATA",25290.37,57.12,747.69,"2017-03-20T15:53:19","alex.lee",4.4249999999999998,4.4249999999999998,25290.37,57.12]
["EQT*170300158","SS","YAMIR-VCAM","2017-03-21","2017-03-21","BR:CLSALIMITED","CLSA LIMITED","MYR",1155,"MAYBANK",581850.94999999995,1313.16,29764.2,"2017-03-21T09:04:52","nik.faiz",4.4279999999999999,4.4279999999999999,581850.94999999995,1313.16]
["EQT*170300159","SP","KWAP","2017-03-21","2017-03-21","BR:CLSALIMITED","CLSA LIMITED","MYR",5132,"DELEUM",172356.16,386.37,0,"2017-03-21T09:05:17","nik.faiz",4.4279999999999999,4.4279999999999999,172356.16,386.37]
["EQT*170300160","SP","YAMIR-VCAM","2017-03-21","2017-03-21","BR:CLSALIMITED","CLSA LIMITED","MYR",5248,"BAUTO",41151.81,92.25,0,"2017-03-21T09:12:47","nik.faiz",4.4279999999999999,4.4279999999999999,41151.81,92.25]
["EQT*170300161","SS","YAMIR-VCAM","2017-03-21","2017-03-21","BR:CLSALIMITED","CLSA LIMITED","MYR",3336,"IJM",460627,1039.67,9515.31,"2017-03-21T09:28:56","nik.faiz",4.4279999999999999,4.4279999999999999,460627,1039.67]
["EQT*170300162","SS","MEQESG","2017-03-21","2017-03-21","BR:MACQUARIE","MACQUARIE CAPITAL SECURITIES (MALAYSIA) SDN BHD","MYR",1155,"MAYBANK",528467.14,1192.73,46668.76,"2017-03-21T10:35:06","angie",4.4279999999999999,4.4279999999999999,528467.14,1192.73]
["EQT*170300163","SS","MEQESG","2017-03-21","2017-03-21","BR:MACQUARIE","MACQUARIE CAPITAL SECURITIES (MALAYSIA) SDN BHD","MYR",6888,"AXIATA",3785769.44,7590.15,-59151.24,"2017-03-21T10:35:32","angie",4.4279999999999999,4.4279999999999999,3785769.44,7590.15]
["EQT*170300164","SS","VCAM-TABA","2017-03-21","2017-03-21","BR:MACQUARIE","MACQUARIE CAPITAL SECURITIES (MALAYSIA) SDN BHD","MYR",6888,"AXIATA",417643.78,942.7,38666.230000000003,"2017-03-21T10:35:32","angie",4.4279999999999999,4.4279999999999999,417643.78,942.7]
["EQT*170300165","SS","MEQESG","2017-03-21","2017-03-21","BR:TASEC","TA SECURITIES HOLDINGS BHD","MYR",8567,"SALCON",296894.77,670.28,32396.080000000002,"2017-03-21T10:36:22","angie",4.4279999999999999,4.4279999999999999,296894.77,670.28]
["EQT*170300166","SS","VCAM-TABA","2017-03-21","2017-03-21","BR:TASEC","TA SECURITIES HOLDINGS BHD","MYR",8567,"SALCON",32976.519999999997,74.48,3089.99,"2017-03-21T10:36:22","angie",4.4279999999999999,4.4279999999999999,32976.519999999997,74.48]
["EQT*170300167","SS","YH-AUR-VCAM","2017-03-21","2017-03-21","BR:CLSALIMITED","CLSA LIMITED","MYR",4197,"SIME",3462442.58,6942.12,167877.82,"2017-03-21T10:40:32","alex.lee",4.4279999999999999,4.4279999999999999,3462442.58,6942.12]
["EQT*170300168","SS","YH-AUR-VCAM","2017-03-21","2017-03-21","BR:CLSALIMITED","CLSA LIMITED","MYR",1155,"MAYBANK",1610463.61,3229.2,32814.370000000003,"2017-03-21T10:53:47","alex.lee",4.4279999999999999,4.4279999999999999,1610463.61,3229.2]
["EQT*170300169","SP","VCAM-TABA","2017-03-21","2017-03-21","BR:TASEC","TA SECURITIES HOLDINGS BHD","MYR",5271,5271,80296.240000000005,180,0,"2017-03-21T11:28:37","angie",4.4279999999999999,4.4279999999999999,80296.240000000005,180]
["EQT*170300170","SS","MEQESG","2017-03-21","2017-03-21","BR:MACQUARIE","MACQUARIE CAPITAL SECURITIES (MALAYSIA) SDN BHD","MYR",5014,"AIRPORT",303600.06,685.4,43466.71,"2017-03-21T11:44:15","angie",4.4279999999999999,4.4279999999999999,303600.06,685.4]
["EQT*170300171","SP","YH-AUR-VCAM","2017-03-21","2017-03-21","BR:MACQUARIE","MACQUARIE CAPITAL SECURITIES (MALAYSIA) SDN BHD","MYR",5255,"ICON",952767.85,2137.5,0,"2017-03-21T11:52:37","alex.lee",4.4279999999999999,4.4279999999999999,952767.85,2137.5]
["EQT*170300173","SP","ASEAN5ESG","2017-03-21","2017-03-21","BR:CIMBINV","CIMB INVESTMENT BANK BHD","THB","TH0015010000","SIAMCOMMBANK",478754.62,1192.5,0,"2017-03-21T15:37:48","alex.lee",34.665999999999997,4.423,61083.819427104369,152.1498730744822]
["EQT*170300174","SP","YAMIR-VCAM","2017-03-22","2017-03-22","BR:KENANGAINV","KENANGA INVESTMENT BANK BHD","MYR",5218,"SENERGY",55606.76,124.65,0,"2017-03-22T09:11:34","nik.faiz",4.4279999999999999,4.4279999999999999,55606.76,124.65]
["EQT*170300175","SP","KWAP","2017-03-22","2017-03-22","BR:KENANGAINV","KENANGA INVESTMENT BANK BHD","MYR",5132,"DELEUM",480239.06,1077.18,0,"2017-03-22T09:14:11","nik.faiz",4.4279999999999999,4.4279999999999999,480239.06,1077.18]
["EQT*170300176","SP","YAMIR-VCAM","2017-03-22","2017-03-22","BR:KENANGAINV","KENANGA INVESTMENT BANK BHD","MYR",5248,"BAUTO",260817.2,584.80999999999995,0,"2017-03-22T09:21:48","nik.faiz",4.4279999999999999,4.4279999999999999,260817.2,584.80999999999995]
["EQT*170300177","SS","KWAP","2017-03-22","2017-03-22","BR:KENANGAINV","KENANGA INVESTMENT BANK BHD","MYR",7052,"PADINI",1744275.74,3497.48,283322.88,"2017-03-22T09:50:43","nik.faiz",4.4279999999999999,4.4279999999999999,1744275.74,3497.48]
["EQT*170300178","SP","KWAP","2017-03-22","2017-03-22","BR:KENANGAINV","KENANGA INVESTMENT BANK BHD","MYR",5249,"IOIPROP",100370.3,225,0,"2017-03-22T10:10:22","nik.faiz",4.4279999999999999,4.4279999999999999,100370.3,225]
["EQT*170300179","SP","ASEAN5ESG","2017-03-22","2017-03-22","BR:MACQUARIE","MACQUARIE CAPITAL SECURITIES (MALAYSIA) SDN BHD","MYR",4863,"TM",31937.01,71.59,0,"2017-03-22T10:11:38","alex.lee",4.4249999999999998,4.4249999999999998,31937.01,71.59]
["EQT*170300180","SS","MEQESG","2017-03-22","2017-03-22","BR:CIMBINV","CIMB INVESTMENT BANK BHD","MYR",6888,"AXIATA",5053376.4000000004,5060,-78968.31,"2017-03-22T10:12:27","alex.lee",4.4279999999999999,4.4279999999999999,5053376.4000000004,5060]
["EQT*170300181","SP","ASEAN5ESG","2017-03-22","2017-03-22","BR:MACQUARIE","MACQUARIE CAPITAL SECURITIES (MALAYSIA) SDN BHD","MYR",5183,"PCHEM",22507.71,50.45,0,"2017-03-22T10:48:34","alex.lee",4.4249999999999998,4.4249999999999998,22507.71,50.45]
["EQT*170300182","SP","VCAM-TABA","2017-03-22","2017-03-22","BR:CIMBINV","CIMB INVESTMENT BANK BHD","MYR",5271,5271,78791.19,176.63,0,"2017-03-22T14:27:11","alex.lee",4.4279999999999999,4.4279999999999999,78791.19,176.63]
["EQT*170300184","SP","ASEAN5ESG","2017-03-22","2017-03-22","BR:MACQUARIE","MACQUARIE CAPITAL SECURITIES (MALAYSIA) SDN BHD","PHP","PHY0488F1004","AYALALAND",354022.07,882.39,0,"2017-03-22T14:28:09","alex.lee",50.29,4.4249999999999998,31150.281561940745,77.641196062835547]
["EQT*170300185","SS","MEQESG","2017-03-23","2017-03-23","BR:CIMBINV","CIMB INVESTMENT BANK BHD","MYR",1155,"MAYBANK",897766.22,2025.9,79633.89,"2017-03-23T09:57:18","angie",4.4279999999999999,4.4279999999999999,897766.22,2025.9]
["EQT*170300186","SS","MEQESG","2017-03-23","2017-03-23","BR:CIMBINV","CIMB INVESTMENT BANK BHD","MYR",5014,"AIRPORT",148690.68,335.8,22678.78,"2017-03-23T09:57:51","angie",4.4279999999999999,4.4279999999999999,148690.68,335.8]
["EQT*170300190","SP","MEQESG","2017-03-23","2017-03-23","BR:CIMBINV","CIMB INVESTMENT BANK BHD","MYR",5000,"HUMEIND",545590.22,1223.82,0,"2017-03-23T10:21:29","angie",4.4279999999999999,4.4279999999999999,545590.22,1223.82]
["EQT*170300191","SS","MEQESG","2017-03-23","2017-03-23","BR:CIMBINV","CIMB INVESTMENT BANK BHD","MYR",4197,"SIME",944768.82,2131.94,196307.61,"2017-03-23T10:23:57","angie",4.4279999999999999,4.4279999999999999,944768.82,2131.94]
["EQT*170300193","SS","YH-AUR-VCAM","2017-03-23","2017-03-23","BR:CLSALIMITED","CLSA LIMITED","MYR",5398,"GAMUDA",5230788.1399999997,5237.6000000000004,122712.88,"2017-03-23T10:41:18","alex.lee",4.4279999999999999,4.4279999999999999,5230788.1399999997,5237.6000000000004]
["EQT*170300195","SS","KWAP","2017-03-23","2017-03-23","BR:KAFSEC","KAF-SEAGROATT & CAMPBELL SECURITIES SDN BHD","MYR",5398,"GAMUDA",3678312.73,7374.78,145281.29,"2017-03-23T11:09:03","khairul.anwar",4.4279999999999999,4.4279999999999999,3678312.73,7374.78]
["EQT*170300196","SS","YAMIR-VCAM","2017-03-23","2017-03-23","BR:KENANGAINV","KENANGA INVESTMENT BANK BHD","MYR",3336,"IJM",419799.02,947.56,19113.71,"2017-03-23T11:15:06","nik.faiz",4.4279999999999999,4.4279999999999999,419799.02,947.56]
["EQT*170300197","SS","YH-AUR-VCAM","2017-03-23","2017-03-23","BR:CLSALIMITED","CLSA LIMITED","MYR",4197,"SIME",18824763.239999998,18846,1164271.3799999999,"2017-03-23T11:51:00","alex.lee",4.4279999999999999,4.4279999999999999,18824763.239999998,18846]
["EQT*170300198","SP","YH-AUR-VCAM","2017-03-23","2017-03-23","BR:CIMBINV","CIMB INVESTMENT BANK BHD","MYR",5255,"ICON",540448.86,1212.28,0,"2017-03-23T15:07:06","alex.lee",4.4279999999999999,4.4279999999999999,540448.86,1212.28]
["EQT*170300199","SP","YH-AUR-VCAM","2017-03-23","2017-03-23","BR:CIMBINV","CIMB INVESTMENT BANK BHD","MYR",5205,"SENDAI",194217.03,435.38,0,"2017-03-23T15:12:57","alex.lee",4.4279999999999999,4.4279999999999999,194217.03,435.38]
["EQT*170300201","SS","YAMIR-VCAM","2017-03-24","2017-03-24","BR:TASEC","TA SECURITIES HOLDINGS BHD","MYR",1155,"MAYBANK",179831.1,406.13,9958.25,"2017-03-24T09:07:26","nik.faiz",4.4279999999999999,4.4279999999999999,179831.1,406.13]
["EQT*170300202","SS","YAMIR-VCAM","2017-03-24","2017-03-24","BR:TASEC","TA SECURITIES HOLDINGS BHD","MYR",3336,"IJM",282844.61,638.58000000000004,9588.1299999999992,"2017-03-24T09:08:04","nik.faiz",4.4279999999999999,4.4279999999999999,282844.61,638.58000000000004]
["EQT*170300203","SP","YAMIR-VCAM","2017-03-24","2017-03-24","BR:TASEC","TA SECURITIES HOLDINGS BHD","MYR",3816,"MISC",37750.639999999999,84.62,0,"2017-03-24T09:27:23","nik.faiz",4.4279999999999999,4.4279999999999999,37750.639999999999,84.62]
["EQT*170300205","SP","VCAM-TABA","2017-03-24","2017-03-24","BR:CIMBINV","CIMB INVESTMENT BANK BHD","MYR",5271,5271,78288.83,175.5,0,"2017-03-24T09:50:53","angie",4.4279999999999999,4.4279999999999999,78288.83,175.5]
["EQT*170300206","SS","MEQESG","2017-03-24","2017-03-24","BR:NOMURASECMY","NOMURA SECURITIES MALAYSIA SDN BHD","MYR",5014,"AIRPORT",1068592.8999999999,2142.81,145317.28,"2017-03-24T10:48:51","angie",4.4279999999999999,4.4279999999999999,1068592.8999999999,2142.81]
["EQT*170300207","SS","YH-AUR-VCAM","2017-03-24","2017-03-24","BR:KAFSEC","KAF-SEAGROATT & CAMPBELL SECURITIES SDN BHD","MYR",5127,"ARREIT",932272.69,2103.75,27060.42,"2017-03-24T17:09:02","soonchong",4.4279999999999999,4.4279999999999999,932272.69,2103.75]
["EQT*170300209","SS","KWAP","2017-03-27","2017-03-27","BR:CIMBINV","CIMB INVESTMENT BANK BHD","MYR",5398,"GAMUDA",131102.31,296.08,4922.62,"2017-03-27T09:04:33","khairul.anwar",4.4279999999999999,4.4279999999999999,131102.31,296.08]
["EQT*170300211","SP","VCAM-TABA","2017-03-27","2017-03-27","BR:TASEC","TA SECURITIES HOLDINGS BHD","MYR",5271,5271,78008.08,174.87,0,"2017-03-27T09:28:36","angie",4.4279999999999999,4.4279999999999999,78008.08,174.87]
["EQT*170300212","SS","KWAP","2017-03-27","2017-03-27","BR:AFFINV","AFFIN INVESTMENT BANK BERHAD","MYR",1023,"CIMB",5655337.6399999997,5662.6,156108.5,"2017-03-27T09:35:47","khairul.anwar",4.4279999999999999,4.4279999999999999,5655337.6399999997,5662.6]
["EQT*170300213","SS","MEQESG","2017-03-27","2017-03-27","BR:UBSSECMY","UBS SECURITIES MALAYSIA SDN BHD","MYR",5014,"AIRPORT",540609.94999999995,1220.1199999999999,67501.429999999993,"2017-03-27T10:03:11","angie",4.4279999999999999,4.4279999999999999,540609.94999999995,1220.1199999999999]
["EQT*170300214","SS","MEQESG","2017-03-27","2017-03-27","BR:UBSSECMY","UBS SECURITIES MALAYSIA SDN BHD","MYR",1155,"MAYBANK",43886.93,99.11,3833.46,"2017-03-27T10:03:35","angie",4.4279999999999999,4.4279999999999999,43886.93,99.11]
["EQT*170300216","SS","VCAM-TABA","2017-03-27","2017-03-27","BR:TASEC","TA SECURITIES HOLDINGS BHD","MYR",5225,"IHH",77839.81,175.79,99.94,"2017-03-27T10:31:57","angie",4.4279999999999999,4.4279999999999999,77839.81,175.79]
["EQT*170300217","SS","VCAM-TABA","2017-03-27","2017-03-27","BR:TASEC","TA SECURITIES HOLDINGS BHD","MYR",4863,"TM",146196.35,330.17,3086.77,"2017-03-27T10:32:17","angie",4.4279999999999999,4.4279999999999999,146196.35,330.17]
["EQT*170300222","SP","YH-AUR-VCAM","2017-03-27","2017-03-27","BR:MACQUARIE","MACQUARIE CAPITAL SECURITIES (MALAYSIA) SDN BHD","MYR",5255,"ICON",952767.85,2137.5,0,"2017-03-27T14:45:42","alex.lee",4.4279999999999999,4.4279999999999999,952767.85,2137.5]
["EQT*170300224","SP","YAMIR-VCAM","2017-03-27","2017-03-27","BR:MIDFINV","MIDF AMANAH INVESTMENT BANK BHD","MYR",5248,"BAUTO",108192.36,242.53,0,"2017-03-27T15:50:18","nik.faiz",4.4279999999999999,4.4279999999999999,108192.36,242.53]
["EQT*170300227","SS","ASEAN5ESG","2017-03-27","2017-03-27","BR:MACQUARIE","MACQUARIE CAPITAL SECURITIES (MALAYSIA) SDN BHD","MYR",5183,"PCHEM",60427.05,136.47,485.45,"2017-03-27T14:54:14","alex.lee",4.4089999999999998,4.4089999999999998,60427.05,136.47]
["EQT*170300228","SP","ASEAN5ESG","2017-03-27","2017-03-27","BR:MACQUARIE","MACQUARIE CAPITAL SECURITIES (MALAYSIA) SDN BHD","PHP","PHY0488F1004","AYALALAND",204461.45,509.61,0,"2017-03-27T12:12:28","alex.lee",50.125,4.4089999999999998,17984.449537157107,44.825346433915215]
["EQT*170300231","SS","MEQESG","2017-03-27","2017-03-27","BR:CREDITSUISSEMY","CREDIT SUISSE SECURITIES (M) SDN BHD","MYR",6033,"PETGAS",12777505.130000001,12792.33,-700605.92,"2017-03-27T17:31:07","khairul.anwar",4.4279999999999999,4.4279999999999999,12777505.130000001,12792.33]
["EQT*170300232","SS","YAMIR-VCAM","2017-03-28","2017-03-28","BR:KENANGAINV","KENANGA INVESTMENT BANK BHD","MYR",1155,"MAYBANK",223892.64,505.58,11551.58,"2017-03-28T08:49:42","nik.faiz",4.4279999999999999,4.4279999999999999,223892.64,505.58]
["EQT*170300233","SS","YAMIR-VCAM","2017-03-28","2017-03-28","BR:KENANGAINV","KENANGA INVESTMENT BANK BHD","MYR",3336,"IJM",237021.01,535.19000000000005,6354.38,"2017-03-28T08:50:08","nik.faiz",4.4279999999999999,4.4279999999999999,237021.01,535.19000000000005]
["EQT*170300234","SS","YH-AUR-VCAM","2017-03-28","2017-03-28","BR:AFFINV","AFFIN INVESTMENT BANK BERHAD","MYR",1961,"IOICORP",3236057.17,6488.33,27231.68,"2017-03-28T09:19:53","soonchong",4.4279999999999999,4.4279999999999999,3236057.17,6488.33]
["EQT*170300235","SS","YH-AUR-VCAM","2017-03-28","2017-03-28","BR:CLSALIMITED","CLSA LIMITED","MYR",1155,"MAYBANK",1795411.6,3600,36605.32,"2017-03-28T09:20:58","alex.lee",4.4279999999999999,4.4279999999999999,1795411.6,3600]
["EQT*170300236","SS","KWAP","2017-03-28","2017-03-28","BR:TASEC","TA SECURITIES HOLDINGS BHD","MYR",5398,"GAMUDA",366180.98,826.59,12877.84,"2017-03-28T09:38:28","khairul.anwar",4.4279999999999999,4.4279999999999999,366180.98,826.59]
["EQT*170300237","SP","YAMIR-VCAM","2017-03-28","2017-03-28","BR:KENANGAINV","KENANGA INVESTMENT BANK BHD","MYR",5248,"BAUTO",121451.08,272.25,0,"2017-03-28T09:39:11","nik.faiz",4.4279999999999999,4.4279999999999999,121451.08,272.25]
["EQT*170300238","SP","VCAM-TABA","2017-03-28","2017-03-28","BR:TASEC","TA SECURITIES HOLDINGS BHD","MYR",5271,5271,127069.2,284.85000000000002,0,"2017-03-28T09:47:26","angie",4.4279999999999999,4.4279999999999999,127069.2,284.85000000000002]
["EQT*170300239","SS","VCAM-TABA","2017-03-28","2017-03-28","BR:TASEC","TA SECURITIES HOLDINGS BHD","MYR",5225,"IHH",59976.28,135.44999999999999,176.37,"2017-03-28T09:48:30","angie",4.4279999999999999,4.4279999999999999,59976.28,135.44999999999999]
["EQT*170300241","SS","VCAM-TABA","2017-03-28","2017-03-28","BR:TASEC","TA SECURITIES HOLDINGS BHD","MYR",4863,"TM",146654.12,331.2,3544.55,"2017-03-28T10:39:37","angie",4.4279999999999999,4.4279999999999999,146654.12,331.2]
["EQT*170300242","SS","MEQESG","2017-03-28","2017-03-28","BR:CIMBINV","CIMB INVESTMENT BANK BHD","MYR",1155,"MAYBANK",313948.55,708.75,27731.86,"2017-03-28T10:40:16","angie",4.4279999999999999,4.4279999999999999,313948.55,708.75]
["EQT*170300244","SP","VCAM-TABA","2017-03-28","2017-03-28","BR:TASEC","TA SECURITIES HOLDINGS BHD","MYR",5255,"ICON",252154.2,565.37,0,"2017-03-28T10:49:51","angie",4.4279999999999999,4.4279999999999999,252154.2,565.37]
["EQT*170300245","SS","KWAP","2017-03-28","2017-03-28","BR:TASEC","TA SECURITIES HOLDINGS BHD","MYR",6084,"STAR",569256.57999999996,1284.75,34244.54,"2017-03-28T10:55:46","khairul.anwar",4.4279999999999999,4.4279999999999999,569256.57999999996,1284.75]
["EQT*170300247","SS","MEQESG","2017-03-28","2017-03-28","BR:TASEC","TA SECURITIES HOLDINGS BHD","MYR",4863,"TM",1276679.3600000001,2560,-68166.75,"2017-03-28T12:24:13","angie",4.4279999999999999,4.4279999999999999,1276679.3600000001,2560]
["EQT*170300248","SS","ASEAN5ESG","2017-03-28","2017-03-28","BR:CREDITSUISSEMY","CREDIT SUISSE SECURITIES (M) SDN BHD","MYR",5246,"WPRTS",40050.339999999997,90.45,453.31,"2017-03-28T09:59:16","alex.lee",4.4119999999999999,4.4119999999999999,40050.339999999997,90.45]
["EQT*170300249","SP","YAMIR-VCAM","2017-03-29","2017-03-29","BR:KENANGAINV","KENANGA INVESTMENT BANK BHD","MYR",5248,"BAUTO",43778.79,98.14,0,"2017-03-29T09:09:27","nik.faiz",4.4279999999999999,4.4279999999999999,43778.79,98.14]
["EQT*170300250","SS","YAMIR-VCAM","2017-03-29","2017-03-29","BR:KENANGAINV","KENANGA INVESTMENT BANK BHD","MYR",3336,"IJM",182712.29,412.63,5197.8,"2017-03-29T09:09:57","nik.faiz",4.4279999999999999,4.4279999999999999,182712.29,412.63]
["EQT*170300251","SS","YH-AUR-VCAM","2017-03-29","2017-03-29","BR:AFFINV","AFFIN INVESTMENT BANK BERHAD","MYR",1961,"IOICORP",1176923.1599999999,2360,13462.14,"2017-03-29T09:14:49","soonchong",4.4279999999999999,4.4279999999999999,1176923.1599999999,2360]
["EQT*170300252","SS","YH-AUR-VCAM","2017-03-29","2017-03-29","BR:CLSALIMITED","CLSA LIMITED","MYR",5398,"GAMUDA",5276439.7,5283.3,168364.43,"2017-03-29T09:18:13","alex.lee",4.4279999999999999,4.4279999999999999,5276439.7,5283.3]
["EQT*170300253","SS","YH-AUR-VCAM","2017-03-29","2017-03-29","BR:CLSALIMITED","CLSA LIMITED","MYR",1155,"MAYBANK",1285457.8999999999,2577.6,26152.6,"2017-03-29T09:18:35","alex.lee",4.4279999999999999,4.4279999999999999,1285457.8999999999,2577.6]
["EQT*170300255","SS","YAMIR-VCAM","2017-03-29","2017-03-29","BR:KENANGAINV","KENANGA INVESTMENT BANK BHD","MYR",1155,"MAYBANK",44833.36,101.25,2365.15,"2017-03-29T10:03:45","nik.faiz",4.4279999999999999,4.4279999999999999,44833.36,101.25]
["EQT*170300256","SS","VCAM-TABA","2017-03-29","2017-03-29","BR:TASEC","TA SECURITIES HOLDINGS BHD","MYR",5225,"IHH",49180.57,111.07,144.65,"2017-03-29T10:27:58","angie",4.4279999999999999,4.4279999999999999,49180.57,111.07]
["EQT*170300257","SS","MEQESG","2017-03-29","2017-03-29","BR:NOMURASECMY","NOMURA SECURITIES MALAYSIA SDN BHD","MYR",6888,"AXIATA",1019348.26,2044.08,-5753.66,"2017-03-29T10:28:51","angie",4.4279999999999999,4.4279999999999999,1019348.26,2044.08]
["EQT*170300258","SS","MEQESG","2017-03-29","2017-03-29","BR:CIMBINV","CIMB INVESTMENT BANK BHD","MYR",5014,"AIRPORT",708209.98,1598.24,92938.19,"2017-03-29T10:29:27","angie",4.4279999999999999,4.4279999999999999,708209.98,1598.24]
["EQT*170300259","SP","MEQESG","2017-03-29","2017-03-29","BR:KENANGAINV","KENANGA INVESTMENT BANK BHD","MYR",5000,"HUMEIND",28390.34,63.64,0,"2017-03-29T10:32:06","angie",4.4279999999999999,4.4279999999999999,28390.34,63.64]
["EQT*170300260","SS","KWAP","2017-03-29","2017-03-29","BR:AFFINV","AFFIN INVESTMENT BANK BERHAD","MYR",5398,"GAMUDA",3132045.67,6279.8,142596.35,"2017-03-29T11:35:31","khairul.anwar",4.4279999999999999,4.4279999999999999,3132045.67,6279.8]
["EQT*170300261","SP","YH-AUR-VCAM","2017-03-29","2017-03-29","BR:KENANGAINV","KENANGA INVESTMENT BANK BHD","MYR",4677,"YTL",1493832.62,2980,0,"2017-03-29T12:22:41","soonchong",4.4279999999999999,4.4279999999999999,1493832.62,2980]
["EQT*170300262","SP","YH-AUR-VCAM","2017-03-29","2017-03-29","BR:KENANGAINV","KENANGA INVESTMENT BANK BHD","MYR",6084,"STAR",262932.19,589.54999999999995,0,"2017-03-29T12:28:02","soonchong",4.4279999999999999,4.4279999999999999,262932.19,589.54999999999995]
["EQT*170300263","SP","YH-AUR-VCAM","2017-03-29","2017-03-29","BR:MACQUARIE","MACQUARIE CAPITAL SECURITIES (MALAYSIA) SDN BHD","MYR",5255,"ICON",952767.85,2137.5,0,"2017-03-29T14:55:47","alex.lee",4.4279999999999999,4.4279999999999999,952767.85,2137.5]
["EQT*170300264","SP","YH-AUR-VCAM","2017-03-29","2017-03-29","BR:AFFINV","AFFIN INVESTMENT BANK BERHAD","MYR",4677,"YTL",1493832.62,2980,0,"2017-03-29T15:01:57","soonchong",4.4279999999999999,4.4279999999999999,1493832.62,2980]
["EQT*170300265","SS","MEQESG","2017-03-29","2017-03-29","BR:KENANGAINV","KENANGA INVESTMENT BANK BHD","MYR",5204,"PRESBHD",234164.79,528.75,24659.45,"2017-03-29T15:42:54","angie",4.4279999999999999,4.4279999999999999,234164.79,528.75]
["EQT*170300266","SP","ASEAN5ESG","2017-03-29","2017-03-29","BR:CREDITSUISSEMY","CREDIT SUISSE SECURITIES (M) SDN BHD","MYR",3816,"MISC",58639.32,131.44999999999999,0,"2017-03-29T15:48:39","alex.lee",4.4169999999999998,4.4169999999999998,58639.32,131.44999999999999]
["EQT*170300267","SP","YAMIR-VCAM","2017-03-30","2017-03-30","BR:AFFINV","AFFIN INVESTMENT BANK BERHAD","MYR",5218,"SENERGY",323067.36,724.49,0,"2017-03-30T09:06:32","nik.faiz",4.4279999999999999,4.4279999999999999,323067.36,724.49]
["EQT*170300268","SS","YAMIR-VCAM","2017-03-30","2017-03-30","BR:AFFINV","AFFIN INVESTMENT BANK BERHAD","MYR",1155,"MAYBANK",177788.65,401.51,7915.8,"2017-03-30T09:10:23","nik.faiz",4.4279999999999999,4.4279999999999999,177788.65,401.51]
["EQT*170300269","SS","YAMIR-VCAM","2017-03-30","2017-03-30","BR:AFFINV","AFFIN INVESTMENT BANK BERHAD","MYR",3336,"IJM",525026.46,1184.96,13948.26,"2017-03-30T09:11:56","nik.faiz",4.4279999999999999,4.4279999999999999,525026.46,1184.96]
["EQT*170300270","SP","YH-AUR-VCAM","2017-03-30","2017-03-30","BR:KAFSEC","KAF-SEAGROATT & CAMPBELL SECURITIES SDN BHD","MYR",4677,"YTL",747213.74,1676.25,0,"2017-03-30T09:19:08","soonchong",4.4279999999999999,4.4279999999999999,747213.74,1676.25]
["EQT*170300271","SP","YH-AUR-VCAM","2017-03-30","2017-03-30","BR:HLGINV","HONG LEONG INVESTMENT BANK BHD","MYR",4677,"YTL",1494835.06,2982,0,"2017-03-30T09:21:37","soonchong",4.4279999999999999,4.4279999999999999,1494835.06,2982]
["EQT*170300272","SP","YH-AUR-VCAM","2017-03-30","2017-03-30","BR:AFFINV","AFFIN INVESTMENT BANK BERHAD","MYR",6084,"STAR",311840.09000000003,699.3,0,"2017-03-30T09:25:38","soonchong",4.4279999999999999,4.4279999999999999,311840.09000000003,699.3]
["EQT*170300273","SP","KWAP","2017-03-30","2017-03-30","BR:CIMBINV","CIMB INVESTMENT BANK BHD","MYR",5248,"BAUTO",1410279.42,2813.3,0,"2017-03-30T09:48:06","khairul.anwar",4.4279999999999999,4.4279999999999999,1410279.42,2813.3]
["EQT*170300274","SS","YH-AUR-VCAM","2017-03-30","2017-03-30","BR:CLSALIMITED","CLSA LIMITED","MYR",5398,"GAMUDA",5295219.7699999996,5302.1,187144.51,"2017-03-30T10:00:24","alex.lee",4.4279999999999999,4.4279999999999999,5295219.7699999996,5302.1]
["EQT*170300276","SS","MEQESG","2017-03-30","2017-03-30","BR:KENANGAINV","KENANGA INVESTMENT BANK BHD","MYR",6888,"AXIATA",773009.33,1744.44,4459.75,"2017-03-30T10:22:09","angie",4.4279999999999999,4.4279999999999999,773009.33,1744.44]
["EQT*170300278","SP","KWAP","2017-03-30","2017-03-30","BR:CIMBINV","CIMB INVESTMENT BANK BHD","MYR",5255,"ICON",476483.93,1068.75,0,"2017-03-30T11:08:16","khairul.anwar",4.4279999999999999,4.4279999999999999,476483.93,1068.75]
["EQT*170300279","SP","KWAP","2017-03-30","2017-03-30","BR:AFFINV","AFFIN INVESTMENT BANK BERHAD","MYR",1295,"PBBANK",19951384.739999998,19929,0,"2017-03-30T11:39:58","nik.faiz",4.4279999999999999,4.4279999999999999,19951384.739999998,19929]
["EQT*170300280","SP","KWAP","2017-03-30","2017-03-30","BR:AFFINV","AFFIN INVESTMENT BANK BERHAD","MYR",5132,"DELEUM",521204.47999999998,1169.0999999999999,0,"2017-03-30T11:40:30","nik.faiz",4.4279999999999999,4.4279999999999999,521204.47999999998,1169.0999999999999]
["EQT*170300282","SP","KWAP","2017-03-30","2017-03-30","BR:AFFINV","AFFIN INVESTMENT BANK BERHAD","MYR",5225,"IHH",6004716.9299999997,5997.1,0,"2017-03-30T11:53:48","nik.faiz",4.4279999999999999,4.4279999999999999,6004716.9299999997,5997.1]
["EQT*170300283","SP","KWAP","2017-03-30","2017-03-30","BR:CLSALIMITED","CLSA LIMITED","MYR",1295,"PBBANK",9980526.8200000003,9968.7000000000007,0,"2017-03-30T12:01:35","nik.faiz",4.4279999999999999,4.4279999999999999,9980526.8200000003,9968.7000000000007]
["EQT*170300284","SP","KWAP","2017-03-30","2017-03-30","BR:CLSALIMITED","CLSA LIMITED","MYR",5225,"IHH",4810473.96,9598.08,0,"2017-03-30T12:01:54","nik.faiz",4.4279999999999999,4.4279999999999999,4810473.96,9598.08]
["EQT*170300285","SS","MEQESG","2017-03-30","2017-03-30","BR:KENANGAINV","KENANGA INVESTMENT BANK BHD","MYR",8567,"SALCON",204744.53,462.38,28497.39,"2017-03-30T14:49:50","angie",4.4279999999999999,4.4279999999999999,204744.53,462.38]
["EQT*170300286","SS","VCAM-TABA","2017-03-30","2017-03-30","BR:KENANGAINV","KENANGA INVESTMENT BANK BHD","MYR",8567,"SALCON",20473.45,46.24,2541.5300000000002,"2017-03-30T14:49:50","angie",4.4279999999999999,4.4279999999999999,20473.45,46.24]
["EQT*170300287","SP","VCAM-TABA","2017-03-30","2017-03-30","BR:TASEC","TA SECURITIES HOLDINGS BHD","MYR",5271,5271,77586.95,173.93,0,"2017-03-30T15:04:25","angie",4.4279999999999999,4.4279999999999999,77586.95,173.93]
["EQT*170300288","SS","MEQESG","2017-03-30","2017-03-30","BR:KENANGAINV","KENANGA INVESTMENT BANK BHD","MYR",4863,"TM",190904.06,431.13,-9262.85,"2017-03-30T16:04:30","angie",4.4279999999999999,4.4279999999999999,190904.06,431.13]
["EQT*170300290","SP","KWAP","2017-03-30","2017-03-30","BR:KAFSEC","KAF-SEAGROATT & CAMPBELL SECURITIES SDN BHD","MYR",5132,"DELEUM",1071617.3700000001,2137.62,0,"2017-03-30T16:22:18","angie",4.4279999999999999,4.4279999999999999,1071617.3700000001,2137.62]
["EQT*170300291","SP","YH-AUR-VCAM","2017-03-31","2017-03-31","BR:AFFINV","AFFIN INVESTMENT BANK BERHAD","MYR",6084,"STAR",265520.23,595.36,0,"2017-03-31T09:05:00","soonchong",4.4279999999999999,4.4279999999999999,265520.23,595.36]
["EQT*170300292","SS","YAMIR-VCAM","2017-03-31","2017-03-31","BR:TASEC","TA SECURITIES HOLDINGS BHD","MYR",1155,"MAYBANK",267224.18,603.34,12414.91,"2017-03-31T09:10:01","nik.faiz",4.4279999999999999,4.4279999999999999,267224.18,603.34]
["EQT*170300293","SP","KWAP","2017-03-31","2017-03-31","BR:MACQUARIE","MACQUARIE CAPITAL SECURITIES (MALAYSIA) SDN BHD","MYR",5255,"ICON",63314.52,141.93,0,"2017-03-31T09:50:37","khairul.anwar",4.4279999999999999,4.4279999999999999,63314.52,141.93]
["EQT*170300294","SP","KWAP","2017-03-31","2017-03-31","BR:MACQUARIE","MACQUARIE CAPITAL SECURITIES (MALAYSIA) SDN BHD","MYR",5248,"BAUTO",749018.6,1680.3,0,"2017-03-31T09:51:19","khairul.anwar",4.4279999999999999,4.4279999999999999,749018.6,1680.3]
["EQT*170300296","SS","MEQESG","2017-03-31","2017-03-31","BR:KENANGAINV","KENANGA INVESTMENT BANK BHD","MYR",8567,"SALCON",13939.15,40,2199.83,"2017-03-31T09:52:02","angie",4.4279999999999999,4.4279999999999999,13939.15,40]
["EQT*170300297","SS","VCAM-TABA","2017-03-31","2017-03-31","BR:KENANGAINV","KENANGA INVESTMENT BANK BHD","MYR",8567,"SALCON",20922.23,47.25,2990.31,"2017-03-31T09:52:02","angie",4.4279999999999999,4.4279999999999999,20922.23,47.25]
["EQT*170300298","SP","VCAM-TABA","2017-03-31","2017-03-31","BR:KENANGAINV","KENANGA INVESTMENT BANK BHD","MYR",5218,"SENERGY",466456.9,1046.25,0,"2017-03-31T09:58:05","angie",4.4279999999999999,4.4279999999999999,466456.9,1046.25]
["EQT*170300299","SP","VCAM-TABA","2017-03-31","2017-03-31","BR:UBSSECMY","UBS SECURITIES MALAYSIA SDN BHD","MYR",5255,"ICON",524112.33,1175.6300000000001,0,"2017-03-31T10:01:16","angie",4.4279999999999999,4.4279999999999999,524112.33,1175.6300000000001]
["EQT*170300300","SS","MEQESG","2017-03-31","2017-03-31","BR:KENANGAINV","KENANGA INVESTMENT BANK BHD","MYR",4863,"TM",958431.79,2162.77,-49895.06,"2017-03-31T10:53:37","angie",4.4279999999999999,4.4279999999999999,958431.79,2162.77]
["EQT*170300303","SS","KWAP","2017-03-31","2017-03-31","BR:MACQUARIE","MACQUARIE CAPITAL SECURITIES (MALAYSIA) SDN BHD","MYR",1023,"CIMB",1893086.88,3795.83,23348.97,"2017-03-31T16:37:17","khairul.anwar",4.4279999999999999,4.4279999999999999,1893086.88,3795.83]
["EQT*170300304","SS","KWAP","2017-03-31","2017-03-31","BR:AFFINV","AFFIN INVESTMENT BANK BERHAD","MYR",5398,"GAMUDA",7460273.7400000002,7469.45,186266.71,"2017-03-31T16:57:30","anouk",4.4279999999999999,4.4279999999999999,7460273.7400000002,7469.45]
["EQT*170300305","SS","YAMIR-VCAM","2017-03-31","2017-03-31","BR:TASEC","TA SECURITIES HOLDINGS BHD","MYR",3336,"IJM",172857.03,390.38,2497.63,"2017-03-31T17:09:50","nik.faiz",4.4279999999999999,4.4279999999999999,172857.03,390.38]
["EQT*170400001","SS","YAMIR-VCAM","2017-04-03","2017-04-03","BR:NOMURASECMY","NOMURA SECURITIES MALAYSIA SDN BHD","MYR",1155,"MAYBANK",670118.21,1512.3,33095.040000000001,"2017-04-03T09:33:17","nik.faiz",4.4279999999999999,4.4279999999999999,670118.21,1512.3]
["EQT*170400003","SP","VCAM-TABA","2017-04-03","2017-04-03","BR:KENANGAINV","KENANGA INVESTMENT BANK BHD","MYR",5205,"SENDAI",450980.17,1011.52,0,"2017-04-03T10:55:11","angie",4.4279999999999999,4.4279999999999999,450980.17,1011.52]
["EQT*170400004","SP","VCAM-TABA","2017-04-03","2017-04-03","BR:MAYBANKINV","MAYBANK INVESTMENT BANK BHD","MYR",5070,"PRTASCO",414236.12,929.07,0,"2017-04-03T11:18:40","angie",4.4279999999999999,4.4279999999999999,414236.12,929.07]
["EQT*170400005","SP","YH-AUR-VCAM","2017-04-03","2017-04-03","BR:AFFINV","AFFIN INVESTMENT BANK BERHAD","MYR",6084,"STAR",287775.21999999997,645.29999999999995,0,"2017-04-03T11:27:30","soonchong",4.4279999999999999,4.4279999999999999,287775.21999999997,645.29999999999995]
["EQT*170400006","SP","KWAP","2017-04-03","2017-04-03","BR:KENANGAINV","KENANGA INVESTMENT BANK BHD","MYR",7081,"PHARMA",142108.69,318.56,0,"2017-04-03T11:30:54","anouk",4.4279999999999999,4.4279999999999999,142108.69,318.56]
["EQT*170400007","SP","VCAM-TABA","2017-04-03","2017-04-03","BR:KENANGAINV","KENANGA INVESTMENT BANK BHD","MYR",5271,5271,31316.33,70.2,0,"2017-04-03T11:54:10","angie",4.4279999999999999,4.4279999999999999,31316.33,70.2]
["EQT*170400009","SP","ASEAN5ESG","2017-04-03","2017-04-03","BR:MACQUARIE","MACQUARIE CAPITAL SECURITIES (MALAYSIA) SDN BHD","PHP","PHY0488F1004","AYALALAND",665004.38,1657.5,0,"2017-04-03T15:17:49","alex.lee",50.125,4.4260000000000002,58719.389244488782,146.35600997506236]
["EQT*170400010","SP","YAMIR-VCAM","2017-04-04","2017-04-04","BR:NOMURASECMY","NOMURA SECURITIES MALAYSIA SDN BHD","MYR",5248,"BAUTO",243279.27,545.45000000000005,0,"2017-04-04T09:00:23","nik.faiz",4.4279999999999999,4.4279999999999999,243279.27,545.45000000000005]
["EQT*170400011","SS","VCAM-TABA","2017-04-04","2017-04-04","BR:TASEC","TA SECURITIES HOLDINGS BHD","MYR",5225,"IHH",130531.85,294.79000000000002,168.06,"2017-04-04T09:17:20","angie",4.4279999999999999,4.4279999999999999,130531.85,294.79000000000002]
["EQT*170400012","SP","VCAM-TABA","2017-04-04","2017-04-04","BR:KENANGAINV","KENANGA INVESTMENT BANK BHD","MYR",5271,5271,361195.64,810.05,0,"2017-04-04T09:31:51","angie",4.4279999999999999,4.4279999999999999,361195.64,810.05]
["EQT*170400013","SP","YH-AUR-VCAM","2017-04-04","2017-04-04","BR:AFFINV","AFFIN INVESTMENT BANK BERHAD","MYR",6084,"STAR",39265.74,88.02,0,"2017-04-04T09:47:08","soonchong",4.4279999999999999,4.4279999999999999,39265.74,88.02]
["EQT*170400014","SS","KWAP","2017-04-04","2017-04-04","BR:MACQUARIE","MACQUARIE CAPITAL SECURITIES (MALAYSIA) SDN BHD","MYR",5218,"SENERGY",1591988.75,3192.16,19967.71,"2017-04-04T12:19:37","khairul.anwar",4.4279999999999999,4.4279999999999999,1591988.75,3192.16]
["EQT*170400015","SS","YAMIR-VCAM","2017-04-04","2017-04-04","BR:NOMURASECMY","NOMURA SECURITIES MALAYSIA SDN BHD","MYR",5218,"SENERGY",197924.01,446.99,19187.97,"2017-04-04T12:22:22","nik.faiz",4.4279999999999999,4.4279999999999999,197924.01,446.99]
["EQT*170400016","SS","MEQESG","2017-04-04","2017-04-04","BR:KENANGAINV","KENANGA INVESTMENT BANK BHD","MYR",8567,"SALCON",211506.2,477.63,35277.39,"2017-04-04T14:37:43","angie",4.4279999999999999,4.4279999999999999,211506.2,477.63]
["EQT*170400017","SS","VCAM-TABA","2017-04-04","2017-04-04","BR:KENANGAINV","KENANGA INVESTMENT BANK BHD","MYR",8567,"SALCON",14090.09,40,2135.48,"2017-04-04T14:37:43","angie",4.4279999999999999,4.4279999999999999,14090.09,40]
["EQT*170400018","SP","ASEAN5ESG","2017-04-04","2017-04-04","BR:MACQUARIE","MACQUARIE CAPITAL SECURITIES (MALAYSIA) SDN BHD","MYR",1066,"RHBBANK",27193.24,60.96,0,"2017-04-04T15:09:12","alex.lee",4.43,4.43,27193.24,60.96]
["EQT*170400020","SP","YH-AUR-VCAM","2017-04-04","2017-04-04","BR:MACQUARIE","MACQUARIE CAPITAL SECURITIES (MALAYSIA) SDN BHD","MYR",5255,"ICON",476483.93,1068.75,0,"2017-04-04T16:14:03","alex.lee",4.4279999999999999,4.4279999999999999,476483.93,1068.75]
["EQT*170400021","SP","MEQESG","2017-04-04","2017-04-04","BR:KENANGAINV","KENANGA INVESTMENT BANK BHD","MYR",5000,"HUMEIND",13962.92,40,0,"2017-04-04T16:16:13","angie",4.4279999999999999,4.4279999999999999,13962.92,40]
["EQT*170400022","SP","ASEAN5ESG","2017-04-04","2017-04-04","BR:MACQUARIE","MACQUARIE CAPITAL SECURITIES (MALAYSIA) SDN BHD","THB","TH0015010000","SIAMCOMMBANK",648426.38,1616.88,0,"2017-04-04T15:10:19","alex.lee",34.414000000000001,4.43,83469.775771488334,208.13559597838088]
["EQT*170400024","SS","MEQESG","2017-04-05","2017-04-05","BR:CLSALIMITED","CLSA LIMITED","MYR",4863,"TM",101217.38,228.59,-4911.17,"2017-04-05T10:05:54","angie",4.4279999999999999,4.4279999999999999,101217.38,228.59]
["EQT*170400025","SP","ASEAN5ESG","2017-04-05","2017-04-05","BR:CLSALIMITED","CLSA LIMITED","MYR",5014,"AIRPORT",91236.6,204.52,0,"2017-04-05T10:06:31","alex.lee",4.4295,4.4295,91236.6,204.52]
["EQT*170400026","SS","KWAP","2017-04-05","2017-04-05","BR:CLSALIMITED","CLSA LIMITED","MYR",5218,"SENERGY",206966.55,467.39,7712.88,"2017-04-05T10:28:03","khairul.anwar",4.4279999999999999,4.4279999999999999,206966.55,467.39]
["EQT*170400027","SS","YH-AUR-VCAM","2017-04-05","2017-04-05","BR:CLSALIMITED","CLSA LIMITED","MYR",5218,"SENERGY",408691.77,922.5,11314.13,"2017-04-05T10:51:53","alex.lee",4.4279999999999999,4.4279999999999999,408691.77,922.5]
["EQT*170400028","SP","YH-AUR-VCAM","2017-04-05","2017-04-05","BR:CLSALIMITED","CLSA LIMITED","MYR",5205,"SENDAI",99626.3,223.33,0,"2017-04-05T12:07:20","alex.lee",4.4279999999999999,4.4279999999999999,99626.3,223.33]
["EQT*170400029","SS","YAMIR-VCAM","2017-04-05","2017-04-05","BR:NOMURASECMY","NOMURA SECURITIES MALAYSIA SDN BHD","MYR",5210,"BAB",810004.09,1827.9,73003.69,"2017-04-05T15:28:39","nik.faiz",4.4279999999999999,4.4279999999999999,810004.09,1827.9]
["EQT*170400030","SS","MEQESG","2017-04-05","2017-04-05","BR:KENANGAINV","KENANGA INVESTMENT BANK BHD","MYR",5210,"BAB",970369.44,2189.6999999999998,72823.850000000006,"2017-04-05T15:33:11","angie",4.4279999999999999,4.4279999999999999,970369.44,2189.6999999999998]
["EQT*170400031","SP","YAMIR-VCAM","2017-04-05","2017-04-05","BR:NOMURASECMY","NOMURA SECURITIES MALAYSIA SDN BHD","MYR",5248,"BAUTO",206756.82,463.5,0,"2017-04-05T15:39:19","nik.faiz",4.4279999999999999,4.4279999999999999,206756.82,463.5]
["EQT*170400033","SS","KWAP","2017-04-05","2017-04-05","BR:RHBINV","RHB INVESTMENT BANK BERHAD","MYR",5148,"UEM",1316681.6000000001,2640.2,-19557.830000000002,"2017-04-05T15:59:27","anouk",4.4279999999999999,4.4279999999999999,1316681.6000000001,2640.2]
["EQT*170400035","SP","MEQESG","2017-04-05","2017-04-05","BR:TASEC","TA SECURITIES HOLDINGS BHD","MYR",5000,"HUMEIND",100105.60000000001,224.41,0,"2017-04-05T16:37:00","angie",4.4279999999999999,4.4279999999999999,100105.60000000001,224.41]
["EQT*170400036","SP","ASEAN5ESG","2017-04-05","2017-04-05","BR:MACQUARIE","MACQUARIE CAPITAL SECURITIES (MALAYSIA) SDN BHD","IDR","ID1000111602","PERUSAHAANGAS",438707826,1093500,0,"2017-04-05T16:09:10","alex.lee",13320,4.4295,145890.11375878379,363.63800675675674]
["EQT*170400037","SS","YAMIR-VCAM","2017-04-06","2017-04-06","BR:KENANGAINV","KENANGA INVESTMENT BANK BHD","MYR",5218,"SENERGY",79205.11,178.88,7710.69,"2017-04-06T09:10:29","nik.faiz",4.4279999999999999,4.4279999999999999,79205.11,178.88]
["EQT*170400039","SP","VCAM-TABA","2017-04-06","2017-04-06","BR:KENANGAINV","KENANGA INVESTMENT BANK BHD","MYR",5070,"PRTASCO",55203.67,123.75,0,"2017-04-06T09:51:43","angie",4.4279999999999999,4.4279999999999999,55203.67,123.75]
["EQT*170400040","SS","MEQESG","2017-04-06","2017-04-06","BR:UBSSECMY","UBS SECURITIES MALAYSIA SDN BHD","MYR",4863,"TM",526372.81999999995,1188,-28118.78,"2017-04-06T10:33:09","angie",4.4279999999999999,4.4279999999999999,526372.81999999995,1188]
["EQT*170400041","SS","MEQESG","2017-04-06","2017-04-06","BR:KENANGAINV","KENANGA INVESTMENT BANK BHD","MYR",8567,"SALCON",352494.08000000002,795.71,58645.65,"2017-04-06T10:50:48","angie",4.4279999999999999,4.4279999999999999,352494.08000000002,795.71]
["EQT*170400042","SS","VCAM-TABA","2017-04-06","2017-04-06","BR:KENANGAINV","KENANGA INVESTMENT BANK BHD","MYR",8567,"SALCON",35233.410000000003,79.569999999999993,5346.88,"2017-04-06T10:50:48","angie",4.4279999999999999,4.4279999999999999,35233.410000000003,79.569999999999993]
["EQT*170400043","SP","YH-AUR-VCAM","2017-04-06","2017-04-06","BR:MACQUARIE","MACQUARIE CAPITAL SECURITIES (MALAYSIA) SDN BHD","MYR",5255,"ICON",488010,1094.6099999999999,0,"2017-04-06T11:52:10","alex.lee",4.4279999999999999,4.4279999999999999,488010,1094.6099999999999]
["EQT*170400044","SP","ASEAN5ESG","2017-04-06","2017-04-06","BR:MACQUARIE","MACQUARIE CAPITAL SECURITIES (MALAYSIA) SDN BHD","MYR",5014,"AIRPORT",49181.45,110.25,0,"2017-04-06T16:31:36","alex.lee",4.4349999999999996,4.4349999999999996,49181.45,110.25]
["EQT*170400046","SS","YH-AUR-VCAM","2017-04-07","2017-04-07","BR:CLSALIMITED","CLSA LIMITED","MYR",4197,"SIME",9307761.9700000007,9318.9,477516.04,"2017-04-07T09:55:59","alex.lee",4.4279999999999999,4.4279999999999999,9307761.9700000007,9318.9]
["EQT*170400047","SP","KWAP","2017-04-07","2017-04-07","BR:CIMBINV","CIMB INVESTMENT BANK BHD","MYR",5248,"BAUTO",1016221.04,2027.1,0,"2017-04-07T09:58:14","khairul.anwar",4.4279999999999999,4.4279999999999999,1016221.04,2027.1]
["EQT*170400050","SP","MEQESG","2017-04-07","2017-04-07","BR:TASEC","TA SECURITIES HOLDINGS BHD","MYR",5000,"HUMEIND",118510.61,265.66000000000003,0,"2017-04-07T10:21:02","angie",4.4279999999999999,4.4279999999999999,118510.61,265.66000000000003]
["EQT*170400051","SP","YH-AUR-VCAM","2017-04-07","2017-04-07","BR:MACQUARIE","MACQUARIE CAPITAL SECURITIES (MALAYSIA) SDN BHD","MYR",5255,"ICON",84052.87,188.42,0,"2017-04-07T10:42:12","alex.lee",4.4279999999999999,4.4279999999999999,84052.87,188.42]
["EQT*170400052","SP","KWAP","2017-04-07","2017-04-07","BR:RHBINV","RHB INVESTMENT BANK BERHAD","MYR",5255,"ICON",962794.88,2160,0,"2017-04-07T10:44:13","anouk",4.4279999999999999,4.4279999999999999,962794.88,2160]
["EQT*170400053","SS","KWAP","2017-04-07","2017-04-07","BR:RHBINV","RHB INVESTMENT BANK BERHAD","MYR",5148,"UEM",611034.24,1379,-34636.65,"2017-04-07T10:44:35","anouk",4.4279999999999999,4.4279999999999999,611034.24,1379]
["EQT*170400054","SS","KWAP","2017-04-07","2017-04-07","BR:RHBINV","RHB INVESTMENT BANK BERHAD","MYR",1155,"MAYBANK",3037551.86,6090.35,83110.05,"2017-04-07T10:44:58","anouk",4.4279999999999999,4.4279999999999999,3037551.86,6090.35]
["EQT*170400055","SP","KWAP","2017-04-07","2017-04-07","BR:KENANGAINV","KENANGA INVESTMENT BANK BHD","MYR",7081,"PHARMA",2456022.7400000002,4899.7,0,"2017-04-07T11:02:29","anouk",4.4279999999999999,4.4279999999999999,2456022.7400000002,4899.7]
["EQT*170400056","SP","ASEAN5ESG","2017-04-07","2017-04-07","BR:CLSALIMITED","CLSA LIMITED","MYR",5210,"BAB",91752.6,205.68,0,"2017-04-07T11:14:52","alex.lee",4.4335000000000004,4.4335000000000004,91752.6,205.68]
["EQT*170400057","SP","ASEAN5ESG","2017-04-07","2017-04-07","BR:CLSALIMITED","CLSA LIMITED","MYR",5183,"PCHEM",77231,173.13,0,"2017-04-07T11:27:14","alex.lee",4.4335000000000004,4.4335000000000004,77231,173.13]
["EQT*170400058","SP","MEQESG","2017-04-07","2017-04-07","BR:KENANGAINV","KENANGA INVESTMENT BANK BHD","MYR",3816,"MISC",2197854.86,4384.62,0,"2017-04-07T11:54:08","angie",4.4279999999999999,4.4279999999999999,2197854.86,4384.62]
["EQT*170400059","SP","VCAM-TABA","2017-04-07","2017-04-07","BR:KENANGAINV","KENANGA INVESTMENT BANK BHD","MYR",3816,"MISC",146696.06,328.85,0,"2017-04-07T11:54:08","angie",4.4279999999999999,4.4279999999999999,146696.06,328.85]
["EQT*170400060","SS","YAMIR-VCAM","2017-04-10","2017-04-10","BR:KAFSEC","KAF-SEAGROATT & CAMPBELL SECURITIES SDN BHD","MYR",1155,"MAYBANK",223942.49,505.69,11601.43,"2017-04-10T08:49:52","nik.faiz",4.4279999999999999,4.4279999999999999,223942.49,505.69]
["EQT*170400061","SS","YAMIR-VCAM","2017-04-10","2017-04-10","BR:KAFSEC","KAF-SEAGROATT & CAMPBELL SECURITIES SDN BHD","MYR",5218,"SENERGY",120899.99,273.04000000000002,13658.36,"2017-04-10T08:50:14","nik.faiz",4.4279999999999999,4.4279999999999999,120899.99,273.04000000000002]
["EQT*170400062","SP","YAMIR-VCAM","2017-04-10","2017-04-10","BR:KAFSEC","KAF-SEAGROATT & CAMPBELL SECURITIES SDN BHD","MYR",5248,"BAUTO",513082.59,1150.8800000000001,0,"2017-04-10T08:53:24","nik.faiz",4.4279999999999999,4.4279999999999999,513082.59,1150.8800000000001]
["EQT*170400064","SP","YH-AUR-VCAM","2017-04-10","2017-04-10","BR:CIMBINV","CIMB INVESTMENT BANK BHD","MYR",5210,"BAB",1586056.92,3164,0,"2017-04-10T09:59:30","alex.lee",4.4279999999999999,4.4279999999999999,1586056.92,3164]
["EQT*170400065","SP","KWAP","2017-04-10","2017-04-10","BR:AFFINV","AFFIN INVESTMENT BANK BERHAD","MYR",7081,"PHARMA",865617.93,1941.94,0,"2017-04-10T12:14:40","khairul.anwar",4.4279999999999999,4.4279999999999999,865617.93,1941.94]
["EQT*170400070","SS","MEQESG","2017-04-10","2017-04-10","BR:CIMBINV","CIMB INVESTMENT BANK BHD","MYR",5204,"PRESBHD",239151.28,540,29659.45,"2017-04-10T16:32:08","angie",4.4279999999999999,4.4279999999999999,239151.28,540]
["EQT*170400071","SP","MEQESG","2017-04-11","2017-04-11","BR:KENANGAINV","KENANGA INVESTMENT BANK BHD","MYR",3816,"MISC",80598.06,180.68,0,"2017-04-11T09:19:43","angie",4.4279999999999999,4.4279999999999999,80598.06,180.68]
["EQT*170400072","SP","VCAM-TABA","2017-04-11","2017-04-11","BR:KENANGAINV","KENANGA INVESTMENT BANK BHD","MYR",3816,"MISC",73270.320000000007,164.25,0,"2017-04-11T09:19:43","angie",4.4279999999999999,4.4279999999999999,73270.320000000007,164.25]
["EQT*170400073","SP","YH-AUR-VCAM","2017-04-11","2017-04-11","BR:CLSALIMITED","CLSA LIMITED","MYR",3816,"MISC",3531873.87,7046.29,0,"2017-04-11T09:35:48","alex.lee",4.4279999999999999,4.4279999999999999,3531873.87,7046.29]
["EQT*170400074","SS","YH-AUR-VCAM","2017-04-11","2017-04-11","BR:CIMBINV","CIMB INVESTMENT BANK BHD","MYR",4197,"SIME",9288882,9300,458636.07,"2017-04-11T09:38:21","alex.lee",4.4279999999999999,4.4279999999999999,9288882,9300]
["EQT*170400075","SP","ASEAN5ESG","2017-04-11","2017-04-11","BR:CIMBINV","CIMB INVESTMENT BANK BHD","MYR",5014,"AIRPORT",57813.7,129.6,0,"2017-04-11T09:43:01","alex.lee",4.431,4.431,57813.7,129.6]
["EQT*170400076","SP","MEQESG","2017-04-11","2017-04-11","BR:TASEC","TA SECURITIES HOLDINGS BHD","MYR",5000,"HUMEIND",96942.399999999994,217.31,0,"2017-04-11T09:48:08","angie",4.4279999999999999,4.4279999999999999,96942.399999999994,217.31]
["EQT*170400077","SS","YH-AUR-VCAM","2017-04-11","2017-04-11","BR:CLSALIMITED","CLSA LIMITED","MYR",5218,"SENERGY",4161496.21,8343.2000000000007,187719.83,"2017-04-11T10:10:50","alex.lee",4.4279999999999999,4.4279999999999999,4161496.21,8343.2000000000007]
["EQT*170400078","SS","KWAP","2017-04-11","2017-04-11","BR:TASEC","TA SECURITIES HOLDINGS BHD","MYR",5218,"SENERGY",2075726.52,4162,110700.22,"2017-04-11T10:32:14","nik.faiz",4.4279999999999999,4.4279999999999999,2075726.52,4162]
["EQT*170400079","SS","KWAP","2017-04-11","2017-04-11","BR:KAFSEC","KAF-SEAGROATT & CAMPBELL SECURITIES SDN BHD","MYR",5218,"SENERGY",2079716.77,4170,114690.47,"2017-04-11T11:06:45","khairul.anwar",4.4279999999999999,4.4279999999999999,2079716.77,4170]
["EQT*170400080","SP","ASEAN5ESG","2017-04-11","2017-04-11","BR:NOMURASECMY","NOMURA SECURITIES MALAYSIA SDN BHD","MYR",6399,"ASTRO",187297.4,419.86,0,"2017-04-11T16:13:26","angie",4.431,4.431,187297.4,419.86]
["EQT*170400081","SP","MEQESG","2017-04-11","2017-04-11","BR:NOMURASECMY","NOMURA SECURITIES MALAYSIA SDN BHD","MYR",6399,"ASTRO",2379347.9900000002,4746.72,0,"2017-04-11T16:13:26","angie",4.4279999999999999,4.4279999999999999,2379347.9900000002,4746.72]
["EQT*170400085","SP","MEQESG","2017-04-12","2017-04-12","BR:TASEC","TA SECURITIES HOLDINGS BHD","MYR",5000,"HUMEIND",103955.96,233.04,0,"2017-04-12T09:28:28","angie",4.4279999999999999,4.4279999999999999,103955.96,233.04]
["EQT*170400086","SS","YH-AUR-VCAM","2017-04-12","2017-04-12","BR:MACQUARIE","MACQUARIE CAPITAL SECURITIES (MALAYSIA) SDN BHD","MYR",5218,"SENERGY",2351160.5699999998,4714.21,90876.56,"2017-04-12T10:02:51","alex.lee",4.4279999999999999,4.4279999999999999,2351160.5699999998,4714.21]
["EQT*170400088","SP","YAMIR-VCAM","2017-04-12","2017-04-12","BR:TASEC","TA SECURITIES HOLDINGS BHD","MYR",5248,"BAUTO",74021.350000000006,165.93,0,"2017-04-12T11:02:15","nik.faiz",4.4279999999999999,4.4279999999999999,74021.350000000006,165.93]
["EQT*170400089","SS","ASEAN5ESG","2017-04-12","2017-04-12","BR:MACQUARIE","MACQUARIE CAPITAL SECURITIES (MALAYSIA) SDN BHD","IDR","ID1000111602","PERUSAHAANGAS",453582954,1138500,1356.04,"2017-04-12T11:17:58","alex.lee",13274,4.4249999999999998,151205.70826050924,379.52858972427305]
["EQT*170400090","SP","KWAP","2017-04-12","2017-04-12","BR:RHBINV","RHB INVESTMENT BANK BERHAD","MYR",5249,"IOIPROP",513784.48,1152.45,0,"2017-04-12T11:27:58","anouk",4.4279999999999999,4.4279999999999999,513784.48,1152.45]
["EQT*170400092","SP","ASEAN5ESG","2017-04-12","2017-04-12","BR:MACQUARIE","MACQUARIE CAPITAL SECURITIES (MALAYSIA) SDN BHD","MYR",5014,"AIRPORT",50306.48,112.77,0,"2017-04-12T11:51:39","alex.lee",4.4249999999999998,4.4249999999999998,50306.48,112.77]
["EQT*170400093","SS","YAMIR-VCAM","2017-04-12","2017-04-12","BR:TASEC","TA SECURITIES HOLDINGS BHD","MYR",5218,"SENERGY",103116.24,232.88,13748.22,"2017-04-12T14:39:36","nik.faiz",4.4279999999999999,4.4279999999999999,103116.24,232.88]
["EQT*170400094","SP","YAMIR-VCAM","2017-04-13","2017-04-13","BR:KAFSEC","KAF-SEAGROATT & CAMPBELL SECURITIES SDN BHD","MYR",3816,"MISC",370829.11,831.67,0,"2017-04-13T09:08:06","nik.faiz",4.4279999999999999,4.4279999999999999,370829.11,831.67]
["EQT*170400095","SS","YAMIR-VCAM","2017-04-13","2017-04-13","BR:KAFSEC","KAF-SEAGROATT & CAMPBELL SECURITIES SDN BHD","MYR",1155,"MAYBANK",178337.16,402.75,8464.31,"2017-04-13T09:08:48","nik.faiz",4.4279999999999999,4.4279999999999999,178337.16,402.75]
["EQT*170400096","SS","YAMIR-VCAM","2017-04-13","2017-04-13","BR:KAFSEC","KAF-SEAGROATT & CAMPBELL SECURITIES SDN BHD","MYR",3336,"IJM",171860.72,388.13,1501.32,"2017-04-13T09:09:07","nik.faiz",4.4279999999999999,4.4279999999999999,171860.72,388.13]
["EQT*170400097","SS","YAMIR-VCAM","2017-04-13","2017-04-13","BR:KAFSEC","KAF-SEAGROATT & CAMPBELL SECURITIES SDN BHD","MYR",5218,"SENERGY",102538.81,231.57,13170.79,"2017-04-13T09:09:28","nik.faiz",4.4279999999999999,4.4279999999999999,102538.81,231.57]
["EQT*170400099","SP","KWAP","2017-04-13","2017-04-13","BR:MAYBANKINV","MAYBANK INVESTMENT BANK BHD","MYR",3816,"MISC",418094.33,937.73,0,"2017-04-13T10:07:04","khairul.anwar",4.4279999999999999,4.4279999999999999,418094.33,937.73]
["EQT*170400100","SP","KWAP","2017-04-13","2017-04-13","BR:MAYBANKINV","MAYBANK INVESTMENT BANK BHD","MYR",5249,"IOIPROP",324568.48,727.86,0,"2017-04-13T10:07:26","khairul.anwar",4.4279999999999999,4.4279999999999999,324568.48,727.86]
["EQT*170400102","SS","KWAP","2017-04-13","2017-04-13","BR:CIMBINV","CIMB INVESTMENT BANK BHD","MYR",5703,"MUHIBAH",703393.03,1587.38,88611.3,"2017-04-13T10:26:26","khairul.anwar",4.4279999999999999,4.4279999999999999,703393.03,1587.38]
["EQT*170400103","SS","YH-AUR-VCAM","2017-04-13","2017-04-13","BR:UBSSECMY","UBS SECURITIES MALAYSIA SDN BHD","MYR",4197,"SIME",6906963.8799999999,6915.55,340793.01,"2017-04-13T11:43:20","alex.lee",4.4279999999999999,4.4279999999999999,6906963.8799999999,6915.55]
["EQT*170400104","SS","YH-AUR-VCAM","2017-04-13","2017-04-13","BR:UBSSECMY","UBS SECURITIES MALAYSIA SDN BHD","MYR",5218,"SENERGY",1000269.89,2005.83,37622.559999999998,"2017-04-13T11:53:53","alex.lee",4.4279999999999999,4.4279999999999999,1000269.89,2005.83]
["EQT*170400105","SP","VCAM-TABA","2017-04-13","2017-04-13","BR:KENANGAINV","KENANGA INVESTMENT BANK BHD","MYR",5271,5271,25765.4,57.76,0,"2017-04-13T14:53:49","angie",4.4279999999999999,4.4279999999999999,25765.4,57.76]
["EQT*170400106","SS","MEQESG","2017-04-13","2017-04-13","BR:KENANGAINV","KENANGA INVESTMENT BANK BHD","MYR",6888,"AXIATA",511413.36,1154.25,-896.83,"2017-04-13T16:08:01","angie",4.4279999999999999,4.4279999999999999,511413.36,1154.25]
["EQT*170400107","SP","MEQESG","2017-04-14","2017-04-14","BR:KENANGAINV","KENANGA INVESTMENT BANK BHD","MYR",6399,"ASTRO",692401.9,1553.26,0,"2017-04-14T09:18:42","angie",4.4279999999999999,4.4279999999999999,692401.9,1553.26]
["EQT*170400108","SP","MEQESG","2017-04-14","2017-04-14","BR:TASEC","TA SECURITIES HOLDINGS BHD","MYR",3816,"MISC",455228.59,1021.05,0,"2017-04-14T09:20:44","angie",4.4279999999999999,4.4279999999999999,455228.59,1021.05]
["EQT*170400109","SP","VCAM-TABA","2017-04-14","2017-04-14","BR:TASEC","TA SECURITIES HOLDINGS BHD","MYR",3816,"MISC",146694.04999999999,328.84,0,"2017-04-14T09:20:44","angie",4.4279999999999999,4.4279999999999999,146694.04999999999,328.84]
["EQT*170400110","SS","YH-AUR-VCAM","2017-04-14","2017-04-14","BR:KENANGAINV","KENANGA INVESTMENT BANK BHD","MYR",5218,"SENERGY",1027288.86,2060,33844.76,"2017-04-14T10:06:55","soonchong",4.4279999999999999,4.4279999999999999,1027288.86,2060]
["EQT*170400111","SP","VCAM-TABA","2017-04-14","2017-04-14","BR:KENANGAINV","KENANGA INVESTMENT BANK BHD","MYR",5271,5271,15163.2,40,0,"2017-04-14T10:13:44","angie",4.4279999999999999,4.4279999999999999,15163.2,40]
["EQT*170400112","SP","KWAP","2017-04-14","2017-04-14","BR:CIMBINV","CIMB INVESTMENT BANK BHD","MYR",5249,"IOIPROP",1017073.11,2028.8,0,"2017-04-14T10:24:19","khairul.anwar",4.4279999999999999,4.4279999999999999,1017073.11,2028.8]
["EQT*170400113","SP","MEQESG","2017-04-14","2017-04-14","BR:TASEC","TA SECURITIES HOLDINGS BHD","MYR",5000,"HUMEIND",376007.08,843.29,0,"2017-04-14T15:19:05","angie",4.4279999999999999,4.4279999999999999,376007.08,843.29]
["EQT*170400115","SS","YAMIR-VCAM","2017-04-14","2017-04-14","BR:KAFSEC","KAF-SEAGROATT & CAMPBELL SECURITIES SDN BHD","MYR",3336,"IJM",241743.25,545.85,3240.09,"2017-04-14T15:36:03","nik.faiz",4.4279999999999999,4.4279999999999999,241743.25,545.85]
["EQT*170400116","SS","YAMIR-VCAM","2017-04-14","2017-04-14","BR:KAFSEC","KAF-SEAGROATT & CAMPBELL SECURITIES SDN BHD","MYR",1155,"MAYBANK",267873.43,604.79999999999995,13064.16,"2017-04-14T15:36:22","nik.faiz",4.4279999999999999,4.4279999999999999,267873.43,604.79999999999995]
["EQT*170400117","SS","YAMIR-VCAM","2017-04-17","2017-04-17","BR:RHBINV","RHB INVESTMENT BANK BERHAD","MYR",3336,"IJM",276649.64,624.6,4074.6,"2017-04-17T09:13:38","nik.faiz",4.4279999999999999,4.4279999999999999,276649.64,624.6]
["EQT*170400118","SS","YAMIR-VCAM","2017-04-17","2017-04-17","BR:RHBINV","RHB INVESTMENT BANK BERHAD","MYR",5218,"SENERGY",99330.51,224.33,9962.49,"2017-04-17T09:14:03","nik.faiz",4.4279999999999999,4.4279999999999999,99330.51,224.33]
["EQT*170400119","SS","YAMIR-VCAM","2017-04-17","2017-04-17","BR:RHBINV","RHB INVESTMENT BANK BERHAD","MYR",1155,"MAYBANK",446279.89,1007.3,21597.78,"2017-04-17T09:31:51","nik.faiz",4.4279999999999999,4.4279999999999999,446279.89,1007.3]
["EQT*170400120","SP","MEQESG","2017-04-17","2017-04-17","BR:KENANGAINV","KENANGA INVESTMENT BANK BHD","MYR",3816,"MISC",1469553.57,2931.56,0,"2017-04-17T09:46:06","angie",4.4279999999999999,4.4279999999999999,1469553.57,2931.56]
["EQT*170400121","SP","VCAM-TABA","2017-04-17","2017-04-17","BR:KENANGAINV","KENANGA INVESTMENT BANK BHD","MYR",3816,"MISC",147121.21,329.8,0,"2017-04-17T09:46:06","angie",4.4279999999999999,4.4279999999999999,147121.21,329.8]
["EQT*170400122","SP","MEQESG","2017-04-17","2017-04-17","BR:KENANGAINV","KENANGA INVESTMENT BANK BHD","MYR",6399,"ASTRO",1472463.28,2937.37,0,"2017-04-17T09:47:14","angie",4.4279999999999999,4.4279999999999999,1472463.28,2937.37]
["EQT*170400123","SP","VCAM-TABA","2017-04-17","2017-04-17","BR:TASEC","TA SECURITIES HOLDINGS BHD","MYR",5271,5271,36615.61,82.08,0,"2017-04-17T09:52:39","angie",4.4279999999999999,4.4279999999999999,36615.61,82.08]
["EQT*170400124","SP","KWAP","2017-04-17","2017-04-17","BR:MACQUARIE","MACQUARIE CAPITAL SECURITIES (MALAYSIA) SDN BHD","MYR",7081,"PHARMA",85456.14,191.57,0,"2017-04-17T15:14:14","khairul.anwar",4.4279999999999999,4.4279999999999999,85456.14,191.57]
["EQT*170400125","SS","MEQESG","2017-04-17","2017-04-17","BR:NOMURASECMY","NOMURA SECURITIES MALAYSIA SDN BHD","MYR",1155,"MAYBANK",898364.59,2027.25,80233.89,"2017-04-17T15:46:20","angie",4.4279999999999999,4.4279999999999999,898364.59,2027.25]
["EQT*170400126","SP","MEQESG","2017-04-18","2017-04-18","BR:KENANGAINV","KENANGA INVESTMENT BANK BHD","MYR",6399,"ASTRO",231302.99,518.58000000000004,0,"2017-04-18T09:37:47","angie",4.4279999999999999,4.4279999999999999,231302.99,518.58000000000004]
["EQT*170400127","SP","MEQESG","2017-04-18","2017-04-18","BR:TASEC","TA SECURITIES HOLDINGS BHD","MYR",3816,"MISC",1067968.21,2130.34,0,"2017-04-18T09:38:13","angie",4.4279999999999999,4.4279999999999999,1067968.21,2130.34]
["EQT*170400128","SP","VCAM-TABA","2017-04-18","2017-04-18","BR:TASEC","TA SECURITIES HOLDINGS BHD","MYR",3816,"MISC",147059.04,329.66,0,"2017-04-18T09:38:13","angie",4.4279999999999999,4.4279999999999999,147059.04,329.66]
["EQT*170400129","SS","MEQESG","2017-04-18","2017-04-18","BR:NOMURASECMY","NOMURA SECURITIES MALAYSIA SDN BHD","MYR",4863,"TM",643176.24,1451.52,-28963.37,"2017-04-18T09:38:32","angie",4.4279999999999999,4.4279999999999999,643176.24,1451.52]
["EQT*170400130","SP","KWAP","2017-04-18","2017-04-18","BR:CIMBINV","CIMB INVESTMENT BANK BHD","MYR",5249,"IOIPROP",344425.94,772.42,0,"2017-04-18T10:14:29","khairul.anwar",4.4279999999999999,4.4279999999999999,344425.94,772.42]
["EQT*170400131","SP","KWAP","2017-04-18","2017-04-18","BR:RHBINV","RHB INVESTMENT BANK BERHAD","MYR",5249,"IOIPROP",908994.86,2039.28,0,"2017-04-18T10:22:34","anouk",4.4279999999999999,4.4279999999999999,908994.86,2039.28]
["EQT*170400132","SP","KWAP","2017-04-18","2017-04-18","BR:RHBINV","RHB INVESTMENT BANK BERHAD","MYR",7081,"PHARMA",1559191.57,3110.4,0,"2017-04-18T10:23:02","anouk",4.4279999999999999,4.4279999999999999,1559191.57,3110.4]
["EQT*170400133","SP","KWAP","2017-04-18","2017-04-18","BR:RHBINV","RHB INVESTMENT BANK BERHAD","MYR",3816,"MISC",2208410.5299999998,4405.68,0,"2017-04-18T10:23:39","anouk",4.4279999999999999,4.4279999999999999,2208410.5299999998,4405.68]
["EQT*170400135","SS","YH-AUR-VCAM","2017-04-18","2017-04-18","BR:RHBINV","RHB INVESTMENT BANK BERHAD","MYR",4197,"SIME",6704932.8399999999,6713.31,318015.96000000002,"2017-04-18T10:56:54","anouk",4.4279999999999999,4.4279999999999999,6704932.8399999999,6713.31]
["EQT*170400136","SP","ASEAN5ESG","2017-04-18","2017-04-18","BR:CLSALIMITED","CLSA LIMITED","SGD","SG1T75931496","SGTELCO",74779.05,149.19999999999999,0,"2017-04-18T12:09:31","alex.lee",1.3972,4.4089999999999998,235972.53897079872,470.81505868880612]
["EQT*170400137","SP","ASEAN5ESG","2017-04-18","2017-04-18","BR:TASEC","TA SECURITIES HOLDINGS BHD","MYR",3816,"MISC",33750.9,75.66,0,"2017-04-18T16:34:42","angie",4.4089999999999998,4.4089999999999998,33750.9,75.66]
["EQT*170400138","SP","MEQESG","2017-04-19","2017-04-19","BR:KENANGAINV","KENANGA INVESTMENT BANK BHD","MYR",3816,"MISC",2199418.66,4387.74,0,"2017-04-19T09:28:26","angie",4.4279999999999999,4.4279999999999999,2199418.66,4387.74]
["EQT*170400139","SP","VCAM-TABA","2017-04-19","2017-04-19","BR:KENANGAINV","KENANGA INVESTMENT BANK BHD","MYR",3816,"MISC",88080.01,197.45,0,"2017-04-19T09:28:26","angie",4.4279999999999999,4.4279999999999999,88080.01,197.45]
["EQT*170400140","SP","MEQESG","2017-04-19","2017-04-19","BR:KENANGAINV","KENANGA INVESTMENT BANK BHD","MYR",6399,"ASTRO",1341762.78,2676.6,0,"2017-04-19T09:28:44","angie",4.4279999999999999,4.4279999999999999,1341762.78,2676.6]
["EQT*170400142","SS","YH-AUR-VCAM","2017-04-19","2017-04-19","BR:CREDITSUISSEMY","CREDIT SUISSE SECURITIES (M) SDN BHD","MYR",1155,"MAYBANK",18067167.140000001,18087.599999999999,479104.31,"2017-04-19T09:44:58","alex.lee",4.4279999999999999,4.4279999999999999,18067167.140000001,18087.599999999999]
["EQT*170400143","SS","YAMIR-VCAM","2017-04-19","2017-04-19","BR:MACQUARIE","MACQUARIE CAPITAL SECURITIES (MALAYSIA) SDN BHD","MYR",1155,"MAYBANK",721595.69,1628.44,42104.31,"2017-04-19T09:55:58","nik.faiz",4.4279999999999999,4.4279999999999999,721595.69,1628.44]
["EQT*170400144","SS","YAMIR-VCAM","2017-04-19","2017-04-19","BR:MACQUARIE","MACQUARIE CAPITAL SECURITIES (MALAYSIA) SDN BHD","MYR",2852,"CMSB",47474.95,107.22,-18.260000000000002,"2017-04-19T10:40:36","nik.faiz",4.4279999999999999,4.4279999999999999,47474.95,107.22]
["EQT*170400145","SS","YAMIR-VCAM","2017-04-19","2017-04-19","BR:MACQUARIE","MACQUARIE CAPITAL SECURITIES (MALAYSIA) SDN BHD","MYR",3336,"IJM",344745.08,778.23,4026.29,"2017-04-19T10:51:47","nik.faiz",4.4279999999999999,4.4279999999999999,344745.08,778.23]
["EQT*170400147","SP","ASEAN5ESG","2017-04-19","2017-04-19","BR:CREDITSUISSEMY","CREDIT SUISSE SECURITIES (M) SDN BHD","MYR",5210,"BAB",49909.41,111.88,0,"2017-04-19T16:11:43","alex.lee",4.3985000000000003,4.3985000000000003,49909.41,111.88]
["EQT*170400148","SS","KWAP","2017-04-19","2017-04-19","BR:CIMBINV","CIMB INVESTMENT BANK BHD","MYR",1155,"MAYBANK",9039147,9050,349612.27,"2017-04-19T16:14:54","khairul.anwar",4.4279999999999999,4.4279999999999999,9039147,9050]
["EQT*170400150","SP","YH-AUR-VCAM","2017-04-19","2017-04-19","BR:CIMBINV","CIMB INVESTMENT BANK BHD","MYR",5255,"ICON",952767.85,2137.5,0,"2017-04-19T17:03:49","alex.lee",4.4279999999999999,4.4279999999999999,952767.85,2137.5]
["EQT*170400151","SS","KWAP","2017-04-20","2017-04-20","BR:TASEC","TA SECURITIES HOLDINGS BHD","MYR",1155,"MAYBANK",9053132.1600000001,9064,363597.43,"2017-04-20T09:04:49","nik.faiz",4.4279999999999999,4.4279999999999999,9053132.1600000001,9064]
["EQT*170400152","SS","YAMIR-VCAM","2017-04-20","2017-04-20","BR:MACQUARIE","MACQUARIE CAPITAL SECURITIES (MALAYSIA) SDN BHD","MYR",3336,"IJM",692402.82,1562.58,10965.23,"2017-04-20T09:09:56","nik.faiz",4.4279999999999999,4.4279999999999999,692402.82,1562.58]
["EQT*170400153","SS","YAMIR-VCAM","2017-04-20","2017-04-20","BR:MACQUARIE","MACQUARIE CAPITAL SECURITIES (MALAYSIA) SDN BHD","MYR",2852,"CMSB",1469881.57,2947.35,13423.15,"2017-04-20T09:10:54","nik.faiz",4.4279999999999999,4.4279999999999999,1469881.57,2947.35]
["EQT*170400154","SS","YAMIR-VCAM","2017-04-20","2017-04-20","BR:MACQUARIE","MACQUARIE CAPITAL SECURITIES (MALAYSIA) SDN BHD","MYR",1155,"MAYBANK",632495.18000000005,1427.42,37940.22,"2017-04-20T09:11:23","nik.faiz",4.4279999999999999,4.4279999999999999,632495.18000000005,1427.42]
["EQT*170400155","SS","YAMIR-VCAM","2017-04-20","2017-04-20","BR:MACQUARIE","MACQUARIE CAPITAL SECURITIES (MALAYSIA) SDN BHD","MYR",5218,"SENERGY",680874.07,1536.57,55297.91,"2017-04-20T09:16:23","nik.faiz",4.4279999999999999,4.4279999999999999,680874.07,1536.57]
["EQT*170400156","SP","KWAP","2017-04-20","2017-04-20","BR:KAFSEC","KAF-SEAGROATT & CAMPBELL SECURITIES SDN BHD","MYR",5249,"IOIPROP",810384.02,1818,0,"2017-04-20T09:32:28","khairul.anwar",4.4279999999999999,4.4279999999999999,810384.02,1818]
["EQT*170400157","SP","KWAP","2017-04-20","2017-04-20","BR:TASEC","TA SECURITIES HOLDINGS BHD","MYR",7081,"PHARMA",310345.46999999997,695.95,0,"2017-04-20T09:32:37","nik.faiz",4.4279999999999999,4.4279999999999999,310345.46999999997,695.95]
["EQT*170400158","SP","MEQESG","2017-04-20","2017-04-20","BR:KENANGAINV","KENANGA INVESTMENT BANK BHD","MYR",3816,"MISC",1836782.3,3664.23,0,"2017-04-20T09:52:32","angie",4.4279999999999999,4.4279999999999999,1836782.3,3664.23]
["EQT*170400160","SS","YAMIR-VCAM","2017-04-20","2017-04-20","BR:MACQUARIE","MACQUARIE CAPITAL SECURITIES (MALAYSIA) SDN BHD","MYR",7100,"UCHITEC",922050.39,2080.69,19417.689999999999,"2017-04-20T09:56:41","nik.faiz",4.4279999999999999,4.4279999999999999,922050.39,2080.69]
["EQT*170400161","SS","YAMIR-VCAM","2017-04-20","2017-04-20","BR:MACQUARIE","MACQUARIE CAPITAL SECURITIES (MALAYSIA) SDN BHD","MYR",5248,"BAUTO",598842.26,1351.5,13445.06,"2017-04-20T09:59:21","nik.faiz",4.4279999999999999,4.4279999999999999,598842.26,1351.5]
["EQT*170400162","SS","YAMIR-VCAM","2017-04-20","2017-04-20","BR:MACQUARIE","MACQUARIE CAPITAL SECURITIES (MALAYSIA) SDN BHD","MYR",5210,"BAB",534260.81999999995,1205.8,12096.03,"2017-04-20T10:00:43","nik.faiz",4.4279999999999999,4.4279999999999999,534260.81999999995,1205.8]
["EQT*170400163","SS","YH-AUR-VCAM","2017-04-20","2017-04-20","BR:UBSSECMY","UBS SECURITIES MALAYSIA SDN BHD","MYR",1155,"MAYBANK",18108323.469999999,18128.8,520260.64,"2017-04-20T10:12:31","alex.lee",4.4279999999999999,4.4279999999999999,18108323.469999999,18128.8]
["EQT*170400164","SP","MEQESG","2017-04-20","2017-04-20","BR:KENANGAINV","KENANGA INVESTMENT BANK BHD","MYR",8567,"SALCON",221140.61,495.78,0,"2017-04-20T10:14:25","angie",4.4279999999999999,4.4279999999999999,221140.61,495.78]
["EQT*170400165","SP","VCAM-TABA","2017-04-20","2017-04-20","BR:KENANGAINV","KENANGA INVESTMENT BANK BHD","MYR",8567,"SALCON",116890.79,262.02999999999997,0,"2017-04-20T10:14:25","angie",4.4279999999999999,4.4279999999999999,116890.79,262.02999999999997]
["EQT*170400166","SP","YH-AUR-VCAM","2017-04-20","2017-04-20","BR:UBSSECMY","UBS SECURITIES MALAYSIA SDN BHD","MYR",5255,"ICON",952767.85,2137.5,0,"2017-04-20T10:43:55","alex.lee",4.4279999999999999,4.4279999999999999,952767.85,2137.5]
["EQT*170400167","SP","ASEAN5ESG","2017-04-20","2017-04-20","BR:CLSALIMITED","CLSA LIMITED","IDR","ID1000111602","PERUSAHAANGAS",554235600,1932000,0,"2017-04-20T11:13:53","alex.lee",13322,4.3959999999999999,182886.93121152979,637.52229394985739]
["EQT*170400168","SP","VCAM-TABA","2017-04-20","2017-04-20","BR:KENANGAINV","KENANGA INVESTMENT BANK BHD","MYR",5271,5271,30713.71,68.849999999999994,0,"2017-04-20T11:30:09","angie",4.4279999999999999,4.4279999999999999,30713.71,68.849999999999994]
["EQT*170400169","SP","ASEAN5ESG","2017-04-20","2017-04-20","BR:CLSALIMITED","CLSA LIMITED","MYR",6399,"ASTRO",67910.89,152.24,0,"2017-04-20T11:48:35","alex.lee",4.3959999999999999,4.3959999999999999,67910.89,152.24]
["EQT*170400170","SS","VCAM-TABA","2017-04-20","2017-04-20","BR:KENANGAINV","KENANGA INVESTMENT BANK BHD","MYR",5205,"SENDAI",74970.600000000006,169.31,12964.99,"2017-04-20T14:38:50","angie",4.4279999999999999,4.4279999999999999,74970.600000000006,169.31]
["EQT*170400171","SP","ASEAN5ESG","2017-04-20","2017-04-20","BR:KENANGAINV","KENANGA INVESTMENT BANK BHD","MYR",6399,"ASTRO",98116.54,219.95,0,"2017-04-20T14:57:02","angie",4.3959999999999999,4.3959999999999999,98116.54,219.95]
["EQT*170400173","SP","MEQESG","2017-04-20","2017-04-20","BR:TASEC","TA SECURITIES HOLDINGS BHD","MYR",6399,"ASTRO",951263.8,2134.13,0,"2017-04-20T15:08:26","angie",4.4279999999999999,4.4279999999999999,951263.8,2134.13]
["EQT*170400174","SP","ASEAN5ESG","2017-04-20","2017-04-20","BR:CIMBINV","CIMB INVESTMENT BANK BHD","THB","TH0264A10Z12","BANGDUSIT",1109560.54,2763.75,0,"2017-04-20T15:20:56","alex.lee",34.340000000000003,4.3959999999999999,142039.25841118227,353.79863133372157]
["EQT*170400175","SS","KWAP","2017-04-20","2017-04-20","BR:KAFSEC","KAF-SEAGROATT & CAMPBELL SECURITIES SDN BHD","MYR",1155,"MAYBANK",9064120.5,9075,374585.77,"2017-04-20T15:29:27","khairul.anwar",4.4279999999999999,4.4279999999999999,9064120.5,9075]
["EQT*170400176","SS","YAMIR-VCAM","2017-04-21","2017-04-21","BR:MIDFINV","MIDF AMANAH INVESTMENT BANK BHD","MYR",1155,"MAYBANK",928393.2,2095,79028.97,"2017-04-21T09:10:05","nik.faiz",4.4279999999999999,4.4279999999999999,928393.2,2095]
["EQT*170400179","SS","YAMIR-VCAM","2017-04-21","2017-04-21","BR:MIDFINV","MIDF AMANAH INVESTMENT BANK BHD","MYR",2852,"CMSB",533355.38,1203.75,7851.81,"2017-04-21T09:30:43","nik.faiz",4.4279999999999999,4.4279999999999999,533355.38,1203.75]
["EQT*170400180","SP","YH-AUR-VCAM","2017-04-21","2017-04-21","BR:UBSSECMY","UBS SECURITIES MALAYSIA SDN BHD","MYR",5255,"ICON",952767.85,2137.5,0,"2017-04-21T09:31:05","alex.lee",4.4279999999999999,4.4279999999999999,952767.85,2137.5]
["EQT*170400182","SS","YH-AUR-VCAM","2017-04-21","2017-04-21","BR:CIMBINV","CIMB INVESTMENT BANK BHD","MYR",5185,"AFFIN",1820773.53,3650.85,325120.78000000003,"2017-04-21T10:09:56","soonchong",4.4279999999999999,4.4279999999999999,1820773.53,3650.85]
["EQT*170400183","SS","YH-AUR-VCAM","2017-04-21","2017-04-21","BR:BIMBSEC","BIMB SECURITIES SDN BHD","MYR",8664,"SPSETIA",742530.95,1675.67,31806.560000000001,"2017-04-21T10:49:02","soonchong",4.4279999999999999,4.4279999999999999,742530.95,1675.67]
["EQT*170400184","SP","KWAP","2017-04-21","2017-04-21","BR:TASEC","TA SECURITIES HOLDINGS BHD","MYR",3816,"MISC",7335125.6699999999,7326.1,0,"2017-04-21T11:12:54","khairul.anwar",4.4279999999999999,4.4279999999999999,7335125.6699999999,7326.1]
["EQT*170400186","SP","MEQESG","2017-04-21","2017-04-21","BR:KENANGAINV","KENANGA INVESTMENT BANK BHD","MYR",3816,"MISC",237359.32,532.16999999999996,0,"2017-04-21T12:01:12","angie",4.4279999999999999,4.4279999999999999,237359.32,532.16999999999996]
["EQT*170400187","SP","MEQESG","2017-04-21","2017-04-21","BR:KENANGAINV","KENANGA INVESTMENT BANK BHD","MYR",6399,"ASTRO",3103074.63,6190.66,0,"2017-04-21T12:01:35","angie",4.4279999999999999,4.4279999999999999,3103074.63,6190.66]
["EQT*170400188","SP","MEQESG","2017-04-21","2017-04-21","BR:TASEC","TA SECURITIES HOLDINGS BHD","MYR",8567,"SALCON",125905.07,282.24,0,"2017-04-21T12:02:03","angie",4.4279999999999999,4.4279999999999999,125905.07,282.24]
["EQT*170400189","SP","VCAM-TABA","2017-04-21","2017-04-21","BR:TASEC","TA SECURITIES HOLDINGS BHD","MYR",8567,"SALCON",62310.81,139.68,0,"2017-04-21T12:02:03","angie",4.4279999999999999,4.4279999999999999,62310.81,139.68]
["EQT*170400193","SS","YAMIR-VCAM","2017-04-21","2017-04-21","BR:MIDFINV","MIDF AMANAH INVESTMENT BANK BHD","MYR",5210,"BAB",750764.64,1694.25,13764.24,"2017-04-21T16:49:13","nik.faiz",4.4279999999999999,4.4279999999999999,750764.64,1694.25]
["EQT*170400194","SS","YH-AUR-VCAM","2017-04-21","2017-04-21","BR:UBSSECMY","UBS SECURITIES MALAYSIA SDN BHD","MYR",1155,"MAYBANK",18487121.52,18508,899058.69,"2017-04-21T16:59:53","alex.lee",4.4279999999999999,4.4279999999999999,18487121.52,18508]
["EQT*170400195","SS","KWAP","2017-04-21","2017-04-21","BR:KAFSEC","KAF-SEAGROATT & CAMPBELL SECURITIES SDN BHD","MYR",1155,"MAYBANK",19897160.289999999,19919.54,1214660.6100000001,"2017-04-21T17:17:39","anouk",4.4279999999999999,4.4279999999999999,19897160.289999999,19919.54]
["EQT*170400196","SS","VCAM-TABA","2017-04-21","2017-04-21","BR:KENANGAINV","KENANGA INVESTMENT BANK BHD","MYR",5205,"SENDAI",40100.21,90.56,9097.41,"2017-04-21T18:14:19","khairul.anwar",4.4279999999999999,4.4279999999999999,40100.21,90.56]
["EQT*170400197","SS","YAMIR-VCAM","2017-04-25","2017-04-25","BR:RHBINV","RHB INVESTMENT BANK BERHAD","MYR",1155,"MAYBANK",466834.18,1053.68,42152.06,"2017-04-25T09:05:39","nik.faiz",4.4279999999999999,4.4279999999999999,466834.18,1053.68]
["EQT*170400198","SS","YAMIR-VCAM","2017-04-25","2017-04-25","BR:RHBINV","RHB INVESTMENT BANK BERHAD","MYR",5248,"BAUTO",420659.33,949.5,11004.19,"2017-04-25T09:06:22","nik.faiz",4.4279999999999999,4.4279999999999999,420659.33,949.5]
["EQT*170400199","SS","YH-AUR-VCAM","2017-04-25","2017-04-25","BR:UBSSECMY","UBS SECURITIES MALAYSIA SDN BHD","MYR",1155,"MAYBANK",9349517.6600000001,9360.7000000000007,555486.25,"2017-04-25T09:21:08","alex.lee",4.4279999999999999,4.4279999999999999,9349517.6600000001,9360.7000000000007]
["EQT*170400200","SP","YH-AUR-VCAM","2017-04-25","2017-04-25","BR:UBSSECMY","UBS SECURITIES MALAYSIA SDN BHD","MYR",5255,"ICON",952767.85,2137.5,0,"2017-04-25T09:21:41","alex.lee",4.4279999999999999,4.4279999999999999,952767.85,2137.5]
["EQT*170400201","SS","YH-AUR-VCAM","2017-04-25","2017-04-25","BR:MACQUARIE","MACQUARIE CAPITAL SECURITIES (MALAYSIA) SDN BHD","MYR",5205,"SENDAI",1000967.16,2007.23,310303.84000000003,"2017-04-25T09:26:26","alex.lee",4.4279999999999999,4.4279999999999999,1000967.16,2007.23]
["EQT*170400202","SS","YH-AUR-VCAM","2017-04-25","2017-04-25","BR:UBSSECMY","UBS SECURITIES MALAYSIA SDN BHD","MYR",8664,"SPSETIA",3656768.5,7331.6,183042.27,"2017-04-25T09:36:08","alex.lee",4.4279999999999999,4.4279999999999999,3656768.5,7331.6]
["EQT*170400203","SP","MEQESG","2017-04-25","2017-04-25","BR:KENANGAINV","KENANGA INVESTMENT BANK BHD","MYR",3816,"MISC",1463759.48,2920,0,"2017-04-25T09:50:16","angie",4.4279999999999999,4.4279999999999999,1463759.48,2920]
["EQT*170400204","SP","MEQESG","2017-04-25","2017-04-25","BR:KENANGAINV","KENANGA INVESTMENT BANK BHD","MYR",6399,"ASTRO",1617653.76,3227.04,0,"2017-04-25T09:50:41","angie",4.4279999999999999,4.4279999999999999,1617653.76,3227.04]
["EQT*170400205","SP","KWAP","2017-04-25","2017-04-25","BR:MACQUARIE","MACQUARIE CAPITAL SECURITIES (MALAYSIA) SDN BHD","MYR",5249,"IOIPROP",2041564.75,4072.8,0,"2017-04-25T11:12:33","khairul.anwar",4.4279999999999999,4.4279999999999999,2041564.75,4072.8]
["EQT*170400206","SS","YAMIR-VCAM","2017-04-25","2017-04-25","BR:RHBINV","RHB INVESTMENT BANK BERHAD","MYR",2852,"CMSB",2618305.37,5249.81,65545.36,"2017-04-25T11:58:33","nik.faiz",4.4279999999999999,4.4279999999999999,2618305.37,5249.81]
["EQT*170400209","SS","YAMIR-VCAM","2017-04-26","2017-04-26","BR:MAYBANKINV","MAYBANK INVESTMENT BANK BHD","MYR",2852,"CMSB",1355875.8,2718.78,36619.980000000003,"2017-04-26T08:07:24","nik.faiz",4.4279999999999999,4.4279999999999999,1355875.8,2718.78]
["EQT*170400210","SS","YAMIR-VCAM","2017-04-26","2017-04-26","BR:MAYBANKINV","MAYBANK INVESTMENT BANK BHD","MYR",5210,"BAB",797637.6,1800,60637.19,"2017-04-26T08:08:11","nik.faiz",4.4279999999999999,4.4279999999999999,797637.6,1800]
["EQT*170400211","SP","KWAP","2017-04-26","2017-04-26","BR:CIMBINV","CIMB INVESTMENT BANK BHD","MYR",6888,"AXIATA",3233671.96,6451.22,0,"2017-04-26T09:49:51","anouk",4.4279999999999999,4.4279999999999999,3233671.96,6451.22]
["EQT*170400212","SS","YH-AUR-VCAM","2017-04-26","2017-04-26","BR:CREDITSUISSEMY","CREDIT SUISSE SECURITIES (M) SDN BHD","MYR",1155,"MAYBANK",7034674,7043.4,439150.44,"2017-04-26T10:02:41","alex.lee",4.4279999999999999,4.4279999999999999,7034674,7043.4]
["EQT*170400214","SP","MEQESG","2017-04-26","2017-04-26","BR:KENANGAINV","KENANGA INVESTMENT BANK BHD","MYR",6399,"ASTRO",1077339.68,2149.04,0,"2017-04-26T10:26:25","angie",4.4279999999999999,4.4279999999999999,1077339.68,2149.04]
["EQT*170400215","SS","VCAM-TABA","2017-04-26","2017-04-26","BR:KENANGAINV","KENANGA INVESTMENT BANK BHD","MYR",5205,"SENDAI",83090.570000000007,187.65,21084.959999999999,"2017-04-26T10:26:51","angie",4.4279999999999999,4.4279999999999999,83090.570000000007,187.65]
["EQT*170400217","SS","YH-AUR-VCAM","2017-04-26","2017-04-26","BR:AFFINV","AFFIN INVESTMENT BANK BERHAD","MYR",5819,"HLBANK",6894023.2400000002,6902.6,48130.81,"2017-04-26T10:42:57","soonchong",4.4279999999999999,4.4279999999999999,6894023.2400000002,6902.6]
["EQT*170400218","SP","YH-AUR-VCAM","2017-04-26","2017-04-26","BR:MAYBANKINV","MAYBANK INVESTMENT BANK BHD","MYR",5255,"ICON",2132886.85,4255,0,"2017-04-26T11:25:09","shan",4.4279999999999999,4.4279999999999999,2132886.85,4255]
["EQT*170400219","SP","YH-AUR-VCAM","2017-04-26","2017-04-26","BR:MAYBANKINV","MAYBANK INVESTMENT BANK BHD","MYR",5255,"ICON",1279812.1100000001,2553,0,"2017-04-26T11:25:46","anouk",4.4279999999999999,4.4279999999999999,1279812.1100000001,2553]
["EQT*170400222","SP","MEQESG","2017-04-26","2017-04-26","BR:TASEC","TA SECURITIES HOLDINGS BHD","MYR",8567,"SALCON",129477.69,290.25,0,"2017-04-26T11:51:17","angie",4.4279999999999999,4.4279999999999999,129477.69,290.25]
["EQT*170400223","SP","VCAM-TABA","2017-04-26","2017-04-26","BR:TASEC","TA SECURITIES HOLDINGS BHD","MYR",8567,"SALCON",64739.35,145.13,0,"2017-04-26T11:51:17","angie",4.4279999999999999,4.4279999999999999,64739.35,145.13]
["EQT*170400224","SP","KWAP","2017-04-26","2017-04-26","BR:RHBINV","RHB INVESTMENT BANK BERHAD","MYR",5249,"IOIPROP",2030036.71,4049.8,0,"2017-04-26T12:16:20","khairul.anwar",4.4279999999999999,4.4279999999999999,2030036.71,4049.8]
["EQT*170400225","SS","YAMIR-VCAM","2017-04-26","2017-04-26","BR:MAYBANKINV","MAYBANK INVESTMENT BANK BHD","MYR",5248,"BAUTO",324420.17,732.38,17178.810000000001,"2017-04-26T12:35:43","nik.faiz",4.4279999999999999,4.4279999999999999,324420.17,732.38]
["EQT*170400226","SP","ASEAN5ESG","2017-04-26","2017-04-26","BR:NOMURASECMY","NOMURA SECURITIES MALAYSIA SDN BHD","MYR",5210,"BAB",54802.58,122.85,0,"2017-04-26T16:07:20","alex.lee",4.3460000000000001,4.3460000000000001,54802.58,122.85]
["EQT*170400227","SP","MEQESG","2017-04-26","2017-04-26","BR:NOMURASECMY","NOMURA SECURITIES MALAYSIA SDN BHD","MYR",5210,"BAB",342059.57,767.11,0,"2017-04-26T16:16:11","angie",4.4279999999999999,4.4279999999999999,342059.57,767.11]
["EQT*170400229","SP","KWAP","2017-04-26","2017-04-26","BR:MAYBANKINV","MAYBANK INVESTMENT BANK BHD","MYR",5255,"ICON",853500.26,1914.75,0,"2017-04-26T17:21:58","angie",4.4279999999999999,4.4279999999999999,853500.26,1914.75]
["EQT*170400230","SS","YH-AUR-VCAM","2017-04-27","2017-04-27","BR:AFFINV","AFFIN INVESTMENT BANK BERHAD","MYR",5819,"HLBANK",9182621.3699999992,9193.6299999999992,61154.3,"2017-04-27T09:16:35","soonchong",4.4279999999999999,4.4279999999999999,9182621.3699999992,9193.6299999999992]
["EQT*170400232","SS","YH-AUR-VCAM","2017-04-27","2017-04-27","BR:CIMBINV","CIMB INVESTMENT BANK BHD","MYR",5205,"SENDAI",904148.92,2040.3,332549.71999999997,"2017-04-27T09:27:57","alex.lee",4.4279999999999999,4.4279999999999999,904148.92,2040.3]
["EQT*170400233","SS","VCAM-TABA","2017-04-27","2017-04-27","BR:KENANGAINV","KENANGA INVESTMENT BANK BHD","MYR",5205,"SENDAI",316391.93,714.26,99372.31,"2017-04-27T10:22:26","angie",4.4279999999999999,4.4279999999999999,316391.93,714.26]
["EQT*170400234","SP","KWAP","2017-04-27","2017-04-27","BR:MAYBANKINV","MAYBANK INVESTMENT BANK BHD","MYR",5255,"ICON",821213.22,1842.3,0,"2017-04-27T11:09:48","anouk",4.4279999999999999,4.4279999999999999,821213.22,1842.3]
["EQT*170400236","SP","MEQESG","2017-04-27","2017-04-27","BR:KENANGAINV","KENANGA INVESTMENT BANK BHD","MYR",6399,"ASTRO",272686.55,611.44000000000005,0,"2017-04-27T11:28:16","angie",4.4279999999999999,4.4279999999999999,272686.55,611.44000000000005]
["EQT*170400237","SS","YH-AUR-VCAM","2017-04-27","2017-04-27","BR:RHBINV","RHB INVESTMENT BANK BERHAD","MYR",1155,"MAYBANK",14274092.07,14290.5,1083044.95,"2017-04-27T11:31:34","anouk",4.4279999999999999,4.4279999999999999,14274092.07,14290.5]
["EQT*170400238","SP","KWAP","2017-04-27","2017-04-27","BR:RHBINV","RHB INVESTMENT BANK BERHAD","MYR",6888,"AXIATA",1752060.65,3495.2,0,"2017-04-27T11:31:57","anouk",4.4279999999999999,4.4279999999999999,1752060.65,3495.2]
["EQT*170400239","SS","KWAP","2017-04-27","2017-04-27","BR:CIMBINV","CIMB INVESTMENT BANK BHD","MYR",1023,"CIMB",923695.94,2084.4,43819.28,"2017-04-27T11:43:00","anouk",4.4279999999999999,4.4279999999999999,923695.94,2084.4]
["EQT*170400241","SS","KWAP","2017-04-27","2017-04-27","BR:CIMBINV","CIMB INVESTMENT BANK BHD","MYR",1155,"MAYBANK",4750145.62,9523,405378.25,"2017-04-27T11:47:15","anouk",4.4279999999999999,4.4279999999999999,4750145.62,9523]
["EQT*170400242","SP","ASEAN5ESG","2017-04-27","2017-04-27","BR:CIMBINV:F","CIMB INVESTMENT BANK BHD (FOREIGN)","THB","TH0015010018","SIAMCOMMBANK",785377.1,1956.25,0,"2017-04-27T13:50:02","alex.lee",34.622999999999998,4.3449999999999998,98560.59554342489,245.49883747797708]
["EQT*170400243","SS","YH-AUR-VCAM","2017-04-28","2017-04-28","BR:AFFINV","AFFIN INVESTMENT BANK BERHAD","MYR",5819,"HLBANK",4231866.71,8484.24,23012.04,"2017-04-28T09:26:34","soonchong",4.4279999999999999,4.4279999999999999,4231866.71,8484.24]
["EQT*170400244","SP","KWAP","2017-04-28","2017-04-28","BR:RHBINV","RHB INVESTMENT BANK BERHAD","MYR",5255,"ICON",832511.16,1867.65,0,"2017-04-28T09:51:05","anouk",4.4279999999999999,4.4279999999999999,832511.16,1867.65]
["EQT*170400246","SS","YH-AUR-VCAM","2017-04-28","2017-04-28","BR:CREDITSUISSEMY","CREDIT SUISSE SECURITIES (M) SDN BHD","MYR",5205,"SENDAI",1889182.43,3788,745984.03,"2017-04-28T10:25:01","alex.lee",4.4279999999999999,4.4279999999999999,1889182.43,3788]
["EQT*170400247","SS","YH-AUR-VCAM","2017-04-28","2017-04-28","BR:HLGINV","HONG LEONG INVESTMENT BANK BHD","MYR",1155,"MAYBANK",13876446.42,13892.43,1133894.8999999999,"2017-04-28T10:57:25","anouk",4.4279999999999999,4.4279999999999999,13876446.42,13892.43]
["EQT*170400248","SP","KWAP","2017-04-28","2017-04-28","BR:RHBINV","RHB INVESTMENT BANK BERHAD","MYR",5255,"ICON",1963976.04,3918,0,"2017-04-28T11:02:12","shan",4.4279999999999999,4.4279999999999999,1963976.04,3918]
["EQT*170400250","SP","VCAM-TABA","2017-04-28","2017-04-28","BR:RHBINV","RHB INVESTMENT BANK BERHAD","MYR",5255,"ICON",393059.03,881.55,0,"2017-04-28T11:05:59","khairul.anwar",4.4279999999999999,4.4279999999999999,393059.03,881.55]
["EQT*170400251","SS","YH-AUR-VCAM","2017-04-28","2017-04-28","BR:RHBINV","RHB INVESTMENT BANK BERHAD","MYR",1155,"MAYBANK",19167000.079999998,19188.599999999999,1578937.25,"2017-04-28T11:07:59","anouk",4.4279999999999999,4.4279999999999999,19167000.079999998,19188.599999999999]
["EQT*170400252","SP","KWAP","2017-04-28","2017-04-28","BR:HLGINV","HONG LEONG INVESTMENT BANK BHD","MYR",5249,"IOIPROP",1134929.76,2263.94,0,"2017-04-28T11:24:24","anouk",4.4279999999999999,4.4279999999999999,1134929.76,2263.94]
["EQT*170400253","SS","YH-AUR-VCAM","2017-04-28","2017-04-28","BR:KENANGAINV","KENANGA INVESTMENT BANK BHD","MYR",5819,"HLBANK",13764133.199999999,13780,72348.34,"2017-04-28T11:35:15","soonchong",4.4279999999999999,4.4279999999999999,13764133.199999999,13780]
["EQT*170400254","SS","KWAP","2017-04-28","2017-04-28","BR:KENANGAINV","KENANGA INVESTMENT BANK BHD","MYR",1155,"MAYBANK",9578574.5999999996,9590,889039.87,"2017-04-28T16:26:11","khairul.anwar",4.4279999999999999,4.4279999999999999,9578574.5999999996,9590]
["EQT*170500002","SS","YH-AUR-VCAM","2017-05-02","2017-05-02","BR:MACQUARIE","MACQUARIE CAPITAL SECURITIES (MALAYSIA) SDN BHD","MYR",5205,"SENDAI",1422056.07,2851.46,541793.30000000005,"2017-05-02T09:24:23","alex.lee",4.4279999999999999,4.4279999999999999,1422056.07,2851.46]
["EQT*170500003","SS","YH-AUR-VCAM","2017-05-02","2017-05-02","BR:KENANGAINV","KENANGA INVESTMENT BANK BHD","MYR",1155,"MAYBANK",9594457.75,9605.9,800426.34,"2017-05-02T11:20:33","anouk",4.4279999999999999,4.4279999999999999,9594457.75,9605.9]
["EQT*170500004","SP","ASEAN5ESG","2017-05-02","2017-05-02","BR:CIMBINV","CIMB INVESTMENT BANK BHD","MYR",5183,"PCHEM",73471.86,164.7,0,"2017-05-02T11:31:40","alex.lee",4.3259999999999996,4.3259999999999996,73471.86,164.7]
["EQT*170500005","SP","MEQESG","2017-05-02","2017-05-02","BR:KENANGAINV","KENANGA INVESTMENT BANK BHD","MYR",8567,"SALCON",177505.02,397.91,0,"2017-05-02T15:29:42","angie",4.4279999999999999,4.4279999999999999,177505.02,397.91]
["EQT*170500006","SP","VCAM-TABA","2017-05-02","2017-05-02","BR:KENANGAINV","KENANGA INVESTMENT BANK BHD","MYR",8567,"SALCON",62718.92,140.6,0,"2017-05-02T15:29:42","angie",4.4279999999999999,4.4279999999999999,62718.92,140.6]
["EQT*170500007","SS","YH-AUR-VCAM","2017-05-02","2017-05-02","BR:AFFINV","AFFIN INVESTMENT BANK BERHAD","MYR",5819,"HLBANK",6896420.7000000002,6905,50528.27,"2017-05-02T16:02:26","soonchong",4.4279999999999999,4.4279999999999999,6896420.7000000002,6905]
["EQT*170500008","SS","KWAP","2017-05-03","2017-05-03","BR:MACQUARIE","MACQUARIE CAPITAL SECURITIES (MALAYSIA) SDN BHD","MYR",1155,"MAYBANK",4791158.49,9605.2000000000007,446391.12,"2017-05-03T09:22:21","khairul.anwar",4.4279999999999999,4.4279999999999999,4791158.49,9605.2000000000007]
["EQT*170500009","SS","KWAP","2017-05-03","2017-05-03","BR:MACQUARIE","MACQUARIE CAPITAL SECURITIES (MALAYSIA) SDN BHD","MYR",1023,"CIMB",3213161.07,6442.43,243123.14,"2017-05-03T09:23:14","khairul.anwar",4.4279999999999999,4.4279999999999999,3213161.07,6442.43]
["EQT*170500012","SS","YH-AUR-VCAM","2017-05-03","2017-05-03","BR:AFFINV","AFFIN INVESTMENT BANK BERHAD","MYR",5819,"HLBANK",11741269.710000001,11754.99,103252.58,"2017-05-03T09:31:47","soonchong",4.4279999999999999,4.4279999999999999,11741269.710000001,11754.99]
["EQT*170500013","SS","YH-AUR-VCAM","2017-05-03","2017-05-03","BR:RHBINV","RHB INVESTMENT BANK BERHAD","MYR",4197,"SIME",23974048.440000001,24000.75,1259123.81,"2017-05-03T09:31:56","anouk",4.4279999999999999,4.4279999999999999,23974048.440000001,24000.75]
["EQT*170500015","SS","YH-AUR-VCAM","2017-05-03","2017-05-03","BR:KAFSEC","KAF-SEAGROATT & CAMPBELL SECURITIES SDN BHD","MYR",5398,"GAMUDA",13269657.9,13285,499469.74,"2017-05-03T09:34:27","anouk",4.4279999999999999,4.4279999999999999,13269657.9,13285]
["EQT*170500016","SS","KWAP","2017-05-03","2017-05-03","BR:RHBINV","RHB INVESTMENT BANK BERHAD","MYR",1015,"AMMB",4647779.46,9317.83,61344.1,"2017-05-03T09:38:24","khairul.anwar",4.4279999999999999,4.4279999999999999,4647779.46,9317.83]
["EQT*170500017","SS","YH-AUR-VCAM","2017-05-03","2017-05-03","BR:UBSSECMY","UBS SECURITIES MALAYSIA SDN BHD","MYR",8664,"SPSETIA",6732616.8600000003,6741.02,369792.53,"2017-05-03T09:40:14","alex.lee",4.4279999999999999,4.4279999999999999,6732616.8600000003,6741.02]
["EQT*170500018","SS","YAMIR-VCAM","2017-05-03","2017-05-03","BR:NOMURASECMY","NOMURA SECURITIES MALAYSIA SDN BHD","MYR",1155,"MAYBANK",956806.2,2159.1,107441.97,"2017-05-03T09:44:43","nik.faiz",4.4279999999999999,4.4279999999999999,956806.2,2159.1]
["EQT*170500019","SS","YAMIR-VCAM","2017-05-03","2017-05-03","BR:NOMURASECMY","NOMURA SECURITIES MALAYSIA SDN BHD","MYR",5248,"BAUTO",1387019.69,2781.22,55640.49,"2017-05-03T09:46:08","nik.faiz",4.4279999999999999,4.4279999999999999,1387019.69,2781.22]
["EQT*170500021","SS","YH-AUR-VCAM","2017-05-03","2017-05-03","BR:RHBINV","RHB INVESTMENT BANK BERHAD","MYR",1155,"MAYBANK",24902689.02,24930.38,2149012.14,"2017-05-03T10:28:53","shan",4.4279999999999999,4.4279999999999999,24902689.02,24930.38]
["EQT*170500022","SP","MEQESG","2017-05-03","2017-05-03","BR:KENANGAINV","KENANGA INVESTMENT BANK BHD","MYR",8567,"SALCON",52439.22,117.55,0,"2017-05-03T10:48:16","angie",4.4279999999999999,4.4279999999999999,52439.22,117.55]
["EQT*170500023","SP","VCAM-TABA","2017-05-03","2017-05-03","BR:KENANGAINV","KENANGA INVESTMENT BANK BHD","MYR",8567,"SALCON",12314.3,40,0,"2017-05-03T10:48:16","angie",4.4279999999999999,4.4279999999999999,12314.3,40]
["EQT*170500024","SS","YH-AUR-VCAM","2017-05-03","2017-05-03","BR:HLGINV","HONG LEONG INVESTMENT BANK BHD","MYR",5819,"HLBANK",13814080.199999999,13830,122295.34,"2017-05-03T12:33:17","soonchong",4.4279999999999999,4.4279999999999999,13814080.199999999,13830]
["EQT*170500025","SP","ASEAN5ESG","2017-05-03","2017-05-03","BR:CIMBINV","CIMB INVESTMENT BANK BHD","MYR",5246,"WPRTS",211667.56,474.52,0,"2017-05-03T14:49:28","alex.lee",4.3170000000000002,4.3170000000000002,211667.56,474.52]
["EQT*170500027","SP","KWAP","2017-05-04","2017-05-04","BR:AMINVBANK","AMINVESTMENT BANK BHD","MYR",1155,"MAYBANK",4609759.3499999996,9197.5,0,"2017-05-04T09:10:04","nik.faiz",4.4279999999999999,4.4279999999999999,4609759.3499999996,9197.5]
["EQT*170500028","SS","YH-AUR-VCAM","2017-05-04","2017-05-04","BR:AFFINV","AFFIN INVESTMENT BANK BERHAD","MYR",5819,"HLBANK",10649160.880000001,10661.72,102379,"2017-05-04T09:11:51","soonchong",4.4279999999999999,4.4279999999999999,10649160.880000001,10661.72]
["EQT*170500029","SS","YH-AUR-VCAM","2017-05-04","2017-05-04","BR:CIMBINV","CIMB INVESTMENT BANK BHD","MYR",5185,"AFFIN",29323.45,66.22,5706.64,"2017-05-04T09:12:11","soonchong",4.4279999999999999,4.4279999999999999,29323.45,66.22]
["EQT*170500032","SS","KWAP","2017-05-04","2017-05-04","BR:MAYBANKINV","MAYBANK INVESTMENT BANK BHD","MYR",1015,"AMMB",35451.82,80.06,95.06,"2017-05-04T09:24:47","nik.faiz",4.4279999999999999,4.4279999999999999,35451.82,80.06]
["EQT*170500033","SS","YH-AUR-VCAM","2017-05-04","2017-05-04","BR:MACQUARIE","MACQUARIE CAPITAL SECURITIES (MALAYSIA) SDN BHD","MYR",5205,"SENDAI",1952028.83,3914,808830.42,"2017-05-04T09:33:01","alex.lee",4.4279999999999999,4.4279999999999999,1952028.83,3914]
["EQT*170500034","SS","VCAM-TABA","2017-05-04","2017-05-04","BR:KENANGAINV","KENANGA INVESTMENT BANK BHD","MYR",5205,"SENDAI",197764.45,446.63,73753.240000000005,"2017-05-04T10:07:32","angie",4.4279999999999999,4.4279999999999999,197764.45,446.63]
["EQT*170500035","SS","KWAP","2017-05-04","2017-05-04","BR:KENANGAINV","KENANGA INVESTMENT BANK BHD","MYR",5398,"GAMUDA",2942011.63,5898.8,121643.1,"2017-05-04T10:08:28","khairul.anwar",4.4279999999999999,4.4279999999999999,2942011.63,5898.8]
["EQT*170500036","SS","YH-AUR-VCAM","2017-05-04","2017-05-04","BR:RHBINV","RHB INVESTMENT BANK BERHAD","MYR",4197,"SIME",11249217.51,11262.42,558438.77,"2017-05-04T10:41:24","anouk",4.4279999999999999,4.4279999999999999,11249217.51,11262.42]
["EQT*170500037","SP","ASEAN5ESG","2017-05-04","2017-05-04","BR:CREDITSUISSEMY","CREDIT SUISSE SECURITIES (M) SDN BHD","MYR",5347,"TENAGA",55774.21,125.03,0,"2017-05-04T11:31:27","alex.lee",4.3259999999999996,4.3259999999999996,55774.21,125.03]
["EQT*170500038","SP","ASEAN5ESG","2017-05-04","2017-05-04","BR:MACQUARIE:F","MACQUARIE CAPITAL SECURITIES (MALAYSIA) SDN BHD (FOREIGN)","IDR","ID1000058407","UNITTRACTORS",628919865,1567613,0,"2017-05-04T12:10:30","alex.lee",13326,4.3259999999999996,204165.34113687527,508.89192841062578]
["EQT*170500039","SP","ASEAN5ESG","2017-05-04","2017-05-04","BR:CREDITSUISSEMY","CREDIT SUISSE SECURITIES (M) SDN BHD","MYR",1066,"RHBBANK",54251.1,121.61,0,"2017-05-04T15:07:36","alex.lee",4.3259999999999996,4.3259999999999996,54251.1,121.61]
["EQT*170500040","SS","ASEAN5ESG","2017-05-04","2017-05-04","BR:UBSSECMY","UBS SECURITIES MALAYSIA SDN BHD","MYR",6033,"PETGAS",19088.2,43.11,-181.76,"2017-05-04T16:59:25","alex.lee",4.3259999999999996,4.3259999999999996,19088.2,43.11]
["EQT*170500041","SP","MEQESG","2017-05-04","2017-05-04","BR:KENANGAINV","KENANGA INVESTMENT BANK BHD","MYR",8567,"SALCON",344543.65,772.68,0,"2017-05-04T17:07:11","khairul.anwar",4.4279999999999999,4.4279999999999999,344543.65,772.68]
["EQT*170500042","SP","VCAM-TABA","2017-05-04","2017-05-04","BR:KENANGAINV","KENANGA INVESTMENT BANK BHD","MYR",8567,"SALCON",78942.740000000005,176.97,0,"2017-05-04T17:07:50","khairul.anwar",4.4279999999999999,4.4279999999999999,78942.740000000005,176.97]
["EQT*170500045","SS","YH-AUR-VCAM","2017-05-05","2017-05-05","BR:CREDITSUISSEMY","CREDIT SUISSE SECURITIES (M) SDN BHD","MYR",5205,"SENDAI",2027245.01,4064.8,884046.6,"2017-05-05T09:08:58","alex.lee",4.4279999999999999,4.4279999999999999,2027245.01,4064.8]
["EQT*170500046","SS","VCAM-TABA","2017-05-05","2017-05-05","BR:TASEC","TA SECURITIES HOLDINGS BHD","MYR",5255,"ICON",659811.16,1489.05,-237881.39,"2017-05-05T09:40:37","angie",4.4279999999999999,4.4279999999999999,659811.16,1489.05]
["EQT*170500049","SS","KWAP","2017-05-05","2017-05-05","BR:KENANGAINV","KENANGA INVESTMENT BANK BHD","MYR",1023,"CIMB",5812371.0099999998,5819.8,332596.23,"2017-05-05T10:24:49","khairul.anwar",4.4279999999999999,4.4279999999999999,5812371.0099999998,5819.8]
["EQT*170500050","SS","KWAP","2017-05-05","2017-05-05","BR:MAYBANKINV","MAYBANK INVESTMENT BANK BHD","MYR",5255,"ICON",354149.93,799.45,-113674.61,"2017-05-05T10:51:58","anouk",4.4279999999999999,4.4279999999999999,354149.93,799.45]
["EQT*170500052","SP","KWAP","2017-05-05","2017-05-05","BR:AFFINV","AFFIN INVESTMENT BANK BERHAD","MYR",5249,"IOIPROP",1046745.27,2088,0,"2017-05-05T11:53:02","khairul.anwar",4.4279999999999999,4.4279999999999999,1046745.27,2088]
["EQT*170500053","SS","VCAM-TABA","2017-05-05","2017-05-05","BR:TASEC","TA SECURITIES HOLDINGS BHD","MYR",5255,"ICON",412306.96,930.66,-148750.88,"2017-05-05T15:12:23","alex.lee",4.4279999999999999,4.4279999999999999,412306.96,930.66]
["EQT*170500054","SS","YH-AUR-VCAM","2017-05-05","2017-05-05","BR:NOMURASECMY","NOMURA SECURITIES MALAYSIA SDN BHD","MYR",4197,"SIME",7449873.4199999999,7459.04,385676.68,"2017-05-05T15:27:03","anouk",4.4279999999999999,4.4279999999999999,7449873.4199999999,7459.04]
["EQT*170500055","SS","VCAM-TABA","2017-05-05","2017-05-05","BR:TASEC","TA SECURITIES HOLDINGS BHD","MYR",5205,"SENDAI",50811.14,114.75,19808.34,"2017-05-05T16:27:47","angie",4.4279999999999999,4.4279999999999999,50811.14,114.75]
["EQT*170500056","SS","KWAP","2017-05-08","2017-05-08","BR:MAYBANKINV","MAYBANK INVESTMENT BANK BHD","MYR",1023,"CIMB",5224642.2,5231.45,307969.07,"2017-05-08T08:36:10","nik.faiz",4.4279999999999999,4.4279999999999999,5224642.2,5231.45]
["EQT*170500057","SS","KWAP","2017-05-08","2017-05-08","BR:MAYBANKINV","MAYBANK INVESTMENT BANK BHD","MYR",1015,"AMMB",4772697.1100000003,9568.2000000000007,2848.53,"2017-05-08T09:05:46","nik.faiz",4.4279999999999999,4.4279999999999999,4772697.1100000003,9568.2000000000007]
["EQT*170500058","SS","YH-AUR-VCAM","2017-05-08","2017-05-08","BR:CREDITSUISSEMY","CREDIT SUISSE SECURITIES (M) SDN BHD","MYR",5205,"SENDAI",1728425.31,3465.7,728126.71,"2017-05-08T09:19:39","alex.lee",4.4279999999999999,4.4279999999999999,1728425.31,3465.7]
["EQT*170500059","SS","YH-AUR-VCAM","2017-05-08","2017-05-08","BR:AFFINV","AFFIN INVESTMENT BANK BERHAD","MYR",5819,"HLBANK",8115733.0499999998,8125.61,78655.34,"2017-05-08T10:13:17","soonchong",4.4279999999999999,4.4279999999999999,8115733.0499999998,8125.61]
["EQT*170500060","SP","MEQESG","2017-05-08","2017-05-08","BR:TASEC","TA SECURITIES HOLDINGS BHD","MYR",8567,"SALCON",390610.84,876.06,0,"2017-05-08T10:24:14","angie",4.4279999999999999,4.4279999999999999,390610.84,876.06]
["EQT*170500061","SP","VCAM-TABA","2017-05-08","2017-05-08","BR:TASEC","TA SECURITIES HOLDINGS BHD","MYR",8567,"SALCON",97700.71,219.01,0,"2017-05-08T10:24:14","angie",4.4279999999999999,4.4279999999999999,97700.71,219.01]
["EQT*170500062","SS","KWAP","2017-05-08","2017-05-08","BR:KENANGAINV","KENANGA INVESTMENT BANK BHD","MYR",7250,"UZMA",62407.67,140.94,68.61,"2017-05-08T11:30:27","khairul.anwar",4.4279999999999999,4.4279999999999999,62407.67,140.94]
["EQT*170500063","SS","KWAP","2017-05-08","2017-05-08","BR:KENANGAINV","KENANGA INVESTMENT BANK BHD","MYR",5148,"UEM",1299623.29,2606,-36616.14,"2017-05-08T11:33:48","khairul.anwar",4.4279999999999999,4.4279999999999999,1299623.29,2606]
["EQT*170500064","SP","KWAP","2017-05-08","2017-05-08","BR:KENANGAINV","KENANGA INVESTMENT BANK BHD","MYR",3816,"MISC",452752.85,1015.5,0,"2017-05-08T11:34:11","khairul.anwar",4.4279999999999999,4.4279999999999999,452752.85,1015.5]
["EQT*170500065","SS","YH-AUR-VCAM","2017-05-08","2017-05-08","BR:CREDITSUISSEMY","CREDIT SUISSE SECURITIES (M) SDN BHD","MYR",8664,"SPSETIA",1024857.27,2055.12,55340.28,"2017-05-08T12:22:19","alex.lee",4.4279999999999999,4.4279999999999999,1024857.27,2055.12]
["EQT*170500066","SS","KWAP","2017-05-08","2017-05-08","BR:MAYBANKINV","MAYBANK INVESTMENT BANK BHD","MYR",5398,"GAMUDA",2645533.94,5304.4,121940.05,"2017-05-08T14:41:05","nik.faiz",4.4279999999999999,4.4279999999999999,2645533.94,5304.4]
["EQT*170500067","SP","KWAP","2017-05-08","2017-05-08","BR:KENANGAINV","KENANGA INVESTMENT BANK BHD","MYR",6888,"AXIATA",1044740.4,2084,0,"2017-05-08T15:58:20","khairul.anwar",4.4279999999999999,4.4279999999999999,1044740.4,2084]
["EQT*170500068","SP","KWAP","2017-05-08","2017-05-08","BR:KENANGAINV","KENANGA INVESTMENT BANK BHD","MYR",5183,"PCHEM",717132.65,1608.75,0,"2017-05-08T16:11:55","khairul.anwar",4.4279999999999999,4.4279999999999999,717132.65,1608.75]
["EQT*170500069","SS","KWAP","2017-05-08","2017-05-08","BR:MAYBANKINV","MAYBANK INVESTMENT BANK BHD","MYR",3336,"IJM",2023983.09,4058.26,7626.8,"2017-05-08T16:18:04","nik.faiz",4.4279999999999999,4.4279999999999999,2023983.09,4058.26]
["EQT*170500070","SP","ASEAN5ESG","2017-05-08","2017-05-08","BR:MACQUARIE:F","MACQUARIE CAPITAL SECURITIES (MALAYSIA) SDN BHD (FOREIGN)","THB","TH0201A10Y01","INTOUCH",1639237.92,4087.5,0,"2017-05-08T16:35:39","alex.lee",34.652999999999999,4.335,205064.3922084668,511.33559864946761]
["EQT*170500072","SS","KWAP","2017-05-09","2017-05-09","BR:MACQUARIE","MACQUARIE CAPITAL SECURITIES (MALAYSIA) SDN BHD","MYR",1015,"AMMB",306442.40999999997,691.82,937.86,"2017-05-09T09:06:04","nik.faiz",4.4279999999999999,4.4279999999999999,306442.40999999997,691.82]
["EQT*170500073","SP","KWAP","2017-05-09","2017-05-09","BR:MACQUARIE","MACQUARIE CAPITAL SECURITIES (MALAYSIA) SDN BHD","MYR",1155,"MAYBANK",1880593.26,3751.64,0,"2017-05-09T09:06:47","nik.faiz",4.4279999999999999,4.4279999999999999,1880593.26,3751.64]
["EQT*170500074","SS","KWAP","2017-05-09","2017-05-09","BR:MACQUARIE","MACQUARIE CAPITAL SECURITIES (MALAYSIA) SDN BHD","MYR",5211,"SUNINC",2262348.69,4536.16,161619.92000000001,"2017-05-09T09:10:14","nik.faiz",4.4279999999999999,4.4279999999999999,2262348.69,4536.16]
["EQT*170500075","SS","YH-AUR-VCAM","2017-05-09","2017-05-09","BR:CIMBINV","CIMB INVESTMENT BANK BHD","MYR",5185,"AFFIN",48703.41,109.99,9735.67,"2017-05-09T09:12:34","soonchong",4.4279999999999999,4.4279999999999999,48703.41,109.99]
["EQT*170500076","SS","KWAP","2017-05-09","2017-05-09","BR:MACQUARIE","MACQUARIE CAPITAL SECURITIES (MALAYSIA) SDN BHD","MYR",1023,"CIMB",4667062.13,9356.48,283242.3,"2017-05-09T09:14:43","nik.faiz",4.4279999999999999,4.4279999999999999,4667062.13,9356.48]
["EQT*170500077","SS","YH-AUR-VCAM","2017-05-09","2017-05-09","BR:AFFINV","AFFIN INVESTMENT BANK BERHAD","MYR",5819,"HLBANK",6148513.2000000002,6156.3,58407.29,"2017-05-09T09:15:50","soonchong",4.4279999999999999,4.4279999999999999,6148513.2000000002,6156.3]
["EQT*170500079","SP","MEQESG","2017-05-09","2017-05-09","BR:TASEC","TA SECURITIES HOLDINGS BHD","MYR",8567,"SALCON",82901.990000000005,185.84,0,"2017-05-09T09:51:10","angie",4.4279999999999999,4.4279999999999999,82901.990000000005,185.84]
["EQT*170500080","SP","VCAM-TABA","2017-05-09","2017-05-09","BR:TASEC","TA SECURITIES HOLDINGS BHD","MYR",8567,"SALCON",24864.17,55.74,0,"2017-05-09T09:51:10","angie",4.4279999999999999,4.4279999999999999,24864.17,55.74]
["EQT*170500081","SS","MEQESG","2017-05-09","2017-05-09","BR:TASEC","TA SECURITIES HOLDINGS BHD","MYR",1155,"MAYBANK",935364.31,2110.73,117333.89,"2017-05-09T11:18:53","angie",4.4279999999999999,4.4279999999999999,935364.31,2110.73]
["EQT*170500082","SP","ASEAN5ESG","2017-05-09","2017-05-09","BR:CLSALIMITED","CLSA LIMITED","IDR","ID1000058407","UNITTRACTORS",250761488,874125,0,"2017-05-09T15:28:39","alex.lee",13345,4.3449999999999998,81645.46012439116,284.60645372798803]
["EQT*170500083","SP","MEQESG","2017-05-09","2017-05-09","BR:TASEC","TA SECURITIES HOLDINGS BHD","MYR",5183,"PCHEM",464772.36,1042.47,0,"2017-05-09T15:31:13","angie",4.4279999999999999,4.4279999999999999,464772.36,1042.47]
["EQT*170500084","SP","VCAM-TABA","2017-05-09","2017-05-09","BR:TASEC","TA SECURITIES HOLDINGS BHD","MYR",5183,"PCHEM",215279.8,482.63,0,"2017-05-09T15:31:13","angie",4.4279999999999999,4.4279999999999999,215279.8,482.63]
["EQT*170500085","SS","YH-AUR-VCAM","2017-05-11","2017-05-11","BR:AFFINV","AFFIN INVESTMENT BANK BERHAD","MYR",5819,"HLBANK",8390135.6799999997,8400.2999999999993,175064.76,"2017-05-11T09:18:31","soonchong",4.4279999999999999,4.4279999999999999,8390135.6799999997,8400.2999999999993]
["EQT*170500086","SS","YH-AUR-VCAM","2017-05-11","2017-05-11","BR:KAFSEC","KAF-SEAGROATT & CAMPBELL SECURITIES SDN BHD","MYR",4197,"SIME",9324244.4800000004,9335.4,493998.55,"2017-05-11T09:25:32","soonchong",4.4279999999999999,4.4279999999999999,9324244.4800000004,9335.4]
["EQT*170500088","SS","KWAP","2017-05-11","2017-05-11","BR:RHBINV","RHB INVESTMENT BANK BERHAD","MYR",5211,"SUNINC",180827.4,408.38,13057.39,"2017-05-11T10:31:37","khairul.anwar",4.4279999999999999,4.4279999999999999,180827.4,408.38]
["EQT*170500089","SS","KWAP","2017-05-11","2017-05-11","BR:RHBINV","RHB INVESTMENT BANK BERHAD","MYR",1015,"AMMB",1652640.52,3313.76,6341.15,"2017-05-11T10:32:00","khairul.anwar",4.4279999999999999,4.4279999999999999,1652640.52,3313.76]
["EQT*170500090","SS","KWAP","2017-05-11","2017-05-11","BR:KENANGAINV","KENANGA INVESTMENT BANK BHD","MYR",7250,"UZMA",206875.23,467.18,511.43,"2017-05-11T11:10:02","khairul.anwar",4.4279999999999999,4.4279999999999999,206875.23,467.18]
["EQT*170500091","SS","YH-AUR-VCAM","2017-05-12","2017-05-12","BR:CLSALIMITED","CLSA LIMITED","MYR",8664,"SPSETIA",70202.539999999994,158.54,3507,"2017-05-12T09:56:02","alex.lee",4.4279999999999999,4.4279999999999999,70202.539999999994,158.54]
["EQT*170500092","SP","KWAP","2017-05-12","2017-05-12","BR:RHBINV","RHB INVESTMENT BANK BERHAD","MYR",1155,"MAYBANK",4695691.1399999997,9369,0,"2017-05-12T10:19:47","khairul.anwar",4.4279999999999999,4.4279999999999999,4695691.1399999997,9369]
["EQT*170500093","SS","KWAP","2017-05-12","2017-05-12","BR:RHBINV","RHB INVESTMENT BANK BERHAD","MYR",1023,"CIMB",2962060.36,5939,222172.97,"2017-05-12T11:33:58","khairul.anwar",4.4279999999999999,4.4279999999999999,2962060.36,5939]
["EQT*170500094","SS","KWAP","2017-05-12","2017-05-12","BR:KENANGAINV","KENANGA INVESTMENT BANK BHD","MYR",7250,"UZMA",22919.86,51.76,169.68,"2017-05-12T11:36:52","khairul.anwar",4.4279999999999999,4.4279999999999999,22919.86,51.76]
["EQT*170500095","SP","ASEAN5ESG","2017-05-12","2017-05-12","BR:MACQUARIE:F","MACQUARIE CAPITAL SECURITIES (MALAYSIA) SDN BHD (FOREIGN)","IDR","ID1000058407","UNITTRACTORS",245481803,611875,0,"2017-05-12T15:38:19","alex.lee",13327,4.3440000000000003,80015.979007428541,199.44361071508968]
["EQT*170500097","SS","KWAP","2017-05-15","2017-05-15","BR:KAFSEC","KAF-SEAGROATT & CAMPBELL SECURITIES SDN BHD","MYR",1023,"CIMB",2958070.11,5931,218182.72,"2017-05-15T08:56:46","nik.faiz",4.4279999999999999,4.4279999999999999,2958070.11,5931]
["EQT*170500098","SS","YH-AUR-VCAM","2017-05-15","2017-05-15","BR:AFFINV","AFFIN INVESTMENT BANK BERHAD","MYR",5819,"HLBANK",140278.42000000001,316.8,3360.57,"2017-05-15T09:50:32","soonchong",4.4279999999999999,4.4279999999999999,140278.42000000001,316.8]
["EQT*170500099","SP","KWAP","2017-05-15","2017-05-15","BR:CIMBINV","CIMB INVESTMENT BANK BHD","MYR",5183,"PCHEM",1071360.1399999999,2137.11,0,"2017-05-15T10:11:30","khairul.anwar",4.4279999999999999,4.4279999999999999,1071360.1399999999,2137.11]
["EQT*170500100","SS","KWAP","2017-05-15","2017-05-15","BR:KAFSEC","KAF-SEAGROATT & CAMPBELL SECURITIES SDN BHD","MYR",7250,"UZMA",89915.06,203.06,347.44,"2017-05-15T11:10:38","khairul.anwar",4.4279999999999999,4.4279999999999999,89915.06,203.06]
["EQT*170500101","SP","KWAP","2017-05-15","2017-05-15","BR:CIMBINV","CIMB INVESTMENT BANK BHD","MYR",5249,"IOIPROP",888936.67,1994.27,0,"2017-05-15T15:01:02","khairul.anwar",4.4279999999999999,4.4279999999999999,888936.67,1994.27]
["EQT*170500102","SP","YAMIR-VCAM","2017-05-15","2017-05-15","BR:UBSSECMY","UBS SECURITIES MALAYSIA SDN BHD","MYR",1155,"MAYBANK",470467.71,1055.25,0,"2017-05-15T16:22:02","nik.faiz",4.4279999999999999,4.4279999999999999,470467.71,1055.25]
["EQT*170500103","SS","YH-AUR-VCAM","2017-05-16","2017-05-16","BR:AFFINV","AFFIN INVESTMENT BANK BERHAD","MYR",5819,"HLBANK",1827073.21,3663.48,47141.18,"2017-05-16T09:08:27","soonchong",4.4279999999999999,4.4279999999999999,1827073.21,3663.48]
["EQT*170500104","SP","KWAP","2017-05-16","2017-05-16","BR:UBSSECMY","UBS SECURITIES MALAYSIA SDN BHD","MYR",1155,"MAYBANK",4680959.9800000004,9339.6,0,"2017-05-16T10:06:16","nik.faiz",4.4279999999999999,4.4279999999999999,4680959.9800000004,9339.6]
["EQT*170500105","SP","VCAM-TABA","2017-05-16","2017-05-16","BR:KENANGAINV","KENANGA INVESTMENT BANK BHD","MYR",5205,"SENDAI",461412.31,1034.93,0,"2017-05-16T10:45:30","angie",4.4279999999999999,4.4279999999999999,461412.31,1034.93]
["EQT*170500111","SS","KWAP","2017-05-16","2017-05-16","BR:UBSSECMY","UBS SECURITIES MALAYSIA SDN BHD","MYR",1023,"CIMB",2972534.76,5960,232647.37,"2017-05-16T15:24:12","nik.faiz",4.4279999999999999,4.4279999999999999,2972534.76,5960]
["EQT*170500112","SP","ASEAN5ESG","2017-05-16","2017-05-16","BR:CLSALIMITED","CLSA LIMITED","MYR",5183,"PCHEM",109642.78,245.78,0,"2017-05-16T15:26:59","alex.lee",4.32,4.32,109642.78,245.78]
["EQT*170500113","SS","KWAP","2017-05-16","2017-05-16","BR:UBSSECMY","UBS SECURITIES MALAYSIA SDN BHD","MYR",5398,"GAMUDA",1634315.31,3277.02,120158.98,"2017-05-16T15:34:45","nik.faiz",4.4279999999999999,4.4279999999999999,1634315.31,3277.02]
["EQT*170500114","SS","KWAP","2017-05-16","2017-05-16","BR:UBSSECMY","UBS SECURITIES MALAYSIA SDN BHD","MYR",5211,"SUNINC",1572351.74,3152.79,62421.69,"2017-05-16T15:48:37","nik.faiz",4.4279999999999999,4.4279999999999999,1572351.74,3152.79]
["EQT*170500115","SP","ASEAN5ESG","2017-05-16","2017-05-16","BR:CLSALIMITED:F","CLSA LIMITED FOREIGN","THB","TH0264A10Z04","BANGDUSIT",1167137.17,2096.85,0,"2017-05-16T19:07:55","soonchong",34.537999999999997,4.32,145985.07656494298,262.27320632346982]
["EQT*170500116","SS","YH-AUR-VCAM","2017-05-17","2017-05-17","BR:AFFINV","AFFIN INVESTMENT BANK BERHAD","MYR",5819,"HLBANK",5944047.2800000003,5951.62,156529.82,"2017-05-17T09:32:43","soonchong",4.4279999999999999,4.4279999999999999,5944047.2800000003,5951.62]
["EQT*170500117","SP","MEQESG","2017-05-17","2017-05-17","BR:KENANGAINV","KENANGA INVESTMENT BANK BHD","MYR",8567,"SALCON",476358.6,1068.47,0,"2017-05-17T09:42:00","angie",4.4279999999999999,4.4279999999999999,476358.6,1068.47]
["EQT*170500118","SP","VCAM-TABA","2017-05-17","2017-05-17","BR:KENANGAINV","KENANGA INVESTMENT BANK BHD","MYR",8567,"SALCON",54632.63,122.47,0,"2017-05-17T09:42:00","angie",4.4279999999999999,4.4279999999999999,54632.63,122.47]
["EQT*170500119","SS","KWAP","2017-05-17","2017-05-17","BR:MIDFINV","MIDF AMANAH INVESTMENT BANK BHD","MYR",1023,"CIMB",1650602.94,3309.67,125033.64,"2017-05-17T10:17:33","nik.faiz",4.4279999999999999,4.4279999999999999,1650602.94,3309.67]
["EQT*170500120","SP","ASEAN5ESG","2017-05-17","2017-05-17","BR:CLSALIMITED","CLSA LIMITED","MYR",5347,"TENAGA",154008.85,345.24,0,"2017-05-17T10:30:48","alex.lee",4.3209999999999997,4.3209999999999997,154008.85,345.24]
["EQT*170500121","SS","MEQESG","2017-05-17","2017-05-17","BR:NOMURASECMY","NOMURA SECURITIES MALAYSIA SDN BHD","MYR",4863,"TM",1285836.97,2578.36,-58986.75,"2017-05-17T11:17:48","angie",4.4279999999999999,4.4279999999999999,1285836.97,2578.36]
["EQT*170500122","SS","MEQESG","2017-05-17","2017-05-17","BR:NOMURASECMY","NOMURA SECURITIES MALAYSIA SDN BHD","MYR",6888,"AXIATA",1062562.6499999999,2130.7199999999998,37566.339999999997,"2017-05-17T11:18:20","angie",4.4279999999999999,4.4279999999999999,1062562.6499999999,2130.7199999999998]
["EQT*170500123","SS","MEQESG","2017-05-17","2017-05-17","BR:NOMURASECMY","NOMURA SECURITIES MALAYSIA SDN BHD","MYR",1155,"MAYBANK",930776.75,2100.38,112733.89,"2017-05-17T11:18:41","angie",4.4279999999999999,4.4279999999999999,930776.75,2100.38]
["EQT*170500125","SP","KWAP","2017-05-17","2017-05-17","BR:MAYBANKINV","MAYBANK INVESTMENT BANK BHD","MYR",6947,"DIGI",15056501.66,15039.3,0,"2017-05-17T12:47:59","anouk",4.4279999999999999,4.4279999999999999,15056501.66,15039.3]
["EQT*170500126","SS","MEQESG","2017-05-17","2017-05-17","BR:KENANGAINV","KENANGA INVESTMENT BANK BHD","MYR",5204,"PRESBHD",164985.38,372.6,18360.61,"2017-05-17T14:46:10","angie",4.4279999999999999,4.4279999999999999,164985.38,372.6]
["EQT*170500127","SP","YH-AUR-VCAM","2017-05-17","2017-05-17","BR:RHBINV","RHB INVESTMENT BANK BERHAD","MYR",1295,"PBBANK",20036675.050000001,20014.2,0,"2017-05-17T15:06:03","soonchong",4.4279999999999999,4.4279999999999999,20036675.050000001,20014.2]
["EQT*170500128","SP","YH-AUR-VCAM","2017-05-17","2017-05-17","BR:RHBINV","RHB INVESTMENT BANK BERHAD","MYR",4677,"YTL",378720.39,849.38,0,"2017-05-17T15:06:33","soonchong",4.4279999999999999,4.4279999999999999,378720.39,849.38]
["EQT*170500129","SP","YH-AUR-VCAM","2017-05-17","2017-05-17","BR:KENANGAINV","KENANGA INVESTMENT BANK BHD","MYR",6033,"PETGAS",11637295.93,11623.71,0,"2017-05-17T15:10:33","soonchong",4.4279999999999999,4.4279999999999999,11637295.93,11623.71]
["EQT*170500130","SP","YH-AUR-VCAM","2017-05-17","2017-05-17","BR:KENANGAINV","KENANGA INVESTMENT BANK BHD","MYR",4197,"SIME",9340649.2699999996,9329.5,0,"2017-05-17T15:11:21","soonchong",4.4279999999999999,4.4279999999999999,9340649.2699999996,9329.5]
["EQT*170500131","SP","VCAM-TABA","2017-05-17","2017-05-17","BR:KENANGAINV","KENANGA INVESTMENT BANK BHD","MYR",5205,"SENDAI",106267.19,238.22,0,"2017-05-17T16:18:34","angie",4.4279999999999999,4.4279999999999999,106267.19,238.22]
["EQT*170500132","SS","KWAP","2017-05-17","2017-05-17","BR:TASEC","TA SECURITIES HOLDINGS BHD","MYR",5183,"PCHEM",729322.75,1645.88,13925.63,"2017-05-17T16:48:16","khairul.anwar",4.4279999999999999,4.4279999999999999,729322.75,1645.88]
["EQT*170500133","SS","KWAP","2017-05-18","2017-05-18","BR:MIDFINV","MIDF AMANAH INVESTMENT BANK BHD","MYR",1023,"CIMB",1314066.45,2634.96,99748.36,"2017-05-18T09:10:30","nik.faiz",4.4279999999999999,4.4279999999999999,1314066.45,2634.96]
["EQT*170500134","SS","KWAP","2017-05-18","2017-05-18","BR:MIDFINV","MIDF AMANAH INVESTMENT BANK BHD","MYR",5148,"UEM",602875.44999999995,1360.6,1567.71,"2017-05-18T09:23:14","nik.faiz",4.4279999999999999,4.4279999999999999,602875.44999999995,1360.6]
["EQT*170500135","SS","KWAP","2017-05-18","2017-05-18","BR:RHBINV","RHB INVESTMENT BANK BERHAD","MYR",5183,"PCHEM",462633.57,1044.2,9071.7999999999993,"2017-05-18T09:26:36","khairul.anwar",4.4279999999999999,4.4279999999999999,462633.57,1044.2]
["EQT*170500136","SP","ASEAN5ESG","2017-05-18","2017-05-18","BR:CLSALIMITED:F","CLSA LIMITED FOREIGN","SGD","SG1T75931496","SGTELCO",112779.03,225.02,0,"2017-05-18T09:32:54","alex.lee",1.3917999999999999,4.3259999999999996,350540.36771087797,699.40833453082337]
["EQT*170500137","SP","VCAM-TABA","2017-05-18","2017-05-18","BR:KENANGAINV","KENANGA INVESTMENT BANK BHD","MYR",5205,"SENDAI",25745.33,57.71,0,"2017-05-18T11:58:57","angie",4.4279999999999999,4.4279999999999999,25745.33,57.71]
["EQT*170500139","SP","MEQESG","2017-05-18","2017-05-18","BR:KENANGAINV","KENANGA INVESTMENT BANK BHD","MYR",8567,"SALCON",131485.1,294.75,0,"2017-05-18T12:03:08","angie",4.4279999999999999,4.4279999999999999,131485.1,294.75]
["EQT*170500140","SP","VCAM-TABA","2017-05-18","2017-05-18","BR:KENANGAINV","KENANGA INVESTMENT BANK BHD","MYR",8567,"SALCON",26297.82,58.95,0,"2017-05-18T12:03:08","angie",4.4279999999999999,4.4279999999999999,26297.82,58.95]
["EQT*170500141","SP","YH-AUR-VCAM","2017-05-18","2017-05-18","BR:RHBINV","RHB INVESTMENT BANK BERHAD","MYR",4677,"YTL",303016.31,679.5,0,"2017-05-18T12:03:35","soonchong",4.4279999999999999,4.4279999999999999,303016.31,679.5]
["EQT*170500142","SP","YH-AUR-VCAM","2017-05-18","2017-05-18","BR:RHBINV","RHB INVESTMENT BANK BERHAD","MYR",6033,"PETGAS",1012845.71,2020.37,0,"2017-05-18T12:05:59","soonchong",4.4279999999999999,4.4279999999999999,1012845.71,2020.37]
["EQT*170500143","SP","ASEAN5ESG","2017-05-18","2017-05-18","BR:CLSALIMITED:F","CLSA LIMITED FOREIGN","PHP","PHY0488F1004","AYALALAND",1318728.99,3942.78,0,"2017-05-18T15:10:24","alex.lee",49.79,4.3259999999999996,114577.65837999596,342.56811166900985]
["EQT*170500144","SP","YH-AUR-VCAM","2017-05-18","2017-05-18","BR:MAYBANKINV","MAYBANK INVESTMENT BANK BHD","MYR",8583,"MAHSING",4516091.1900000004,9010.56,0,"2017-05-18T15:16:17","shan",4.4279999999999999,4.4279999999999999,4516091.1900000004,9010.56]
["EQT*170500145","SP","ASEAN5ESG","2017-05-18","2017-05-18","BR:CLSALIMITED","CLSA LIMITED","MYR",6888,"AXIATA",115714.22,259.39,0,"2017-05-18T15:25:11","alex.lee",4.3259999999999996,4.3259999999999996,115714.22,259.39]
["EQT*170500146","SS","KWAP","2017-05-18","2017-05-18","BR:MIDFINV","MIDF AMANAH INVESTMENT BANK BHD","MYR",5211,"SUNINC",1072169.17,2149.98,65549.14,"2017-05-18T16:05:37","nik.faiz",4.4279999999999999,4.4279999999999999,1072169.17,2149.98]
["EQT*170500147","SS","KWAP","2017-05-18","2017-05-18","BR:MIDFINV","MIDF AMANAH INVESTMENT BANK BHD","MYR",5398,"GAMUDA",1071680.3700000001,2149,62242.81,"2017-05-18T16:36:38","nik.faiz",4.4279999999999999,4.4279999999999999,1071680.3700000001,2149]
["EQT*170500148","SS","KWAP","2017-05-19","2017-05-19","BR:HLGINV","HONG LEONG INVESTMENT BANK BHD","MYR",1023,"CIMB",2976973.91,5968.9,237086.52,"2017-05-19T08:43:37","nik.faiz",4.4279999999999999,4.4279999999999999,2976973.91,5968.9]
["EQT*170500149","SP","KWAP","2017-05-19","2017-05-19","BR:ALLIANCEINV","ALLIANCE INVESTMENT BANK BERHAD","MYR",5347,"TENAGA",1382562,2758,0,"2017-05-19T08:46:31","nik.faiz",4.4279999999999999,4.4279999999999999,1382562,2758]
["EQT*170500150","SP","YH-AUR-VCAM","2017-05-19","2017-05-19","BR:RHBINV","RHB INVESTMENT BANK BERHAD","MYR",4677,"YTL",757240.77,1698.75,0,"2017-05-19T09:14:02","soonchong",4.4279999999999999,4.4279999999999999,757240.77,1698.75]
["EQT*170500151","SP","YH-AUR-VCAM","2017-05-19","2017-05-19","BR:RHBINV","RHB INVESTMENT BANK BERHAD","MYR",6033,"PETGAS",3826432.12,7634.16,0,"2017-05-19T09:14:33","soonchong",4.4279999999999999,4.4279999999999999,3826432.12,7634.16]
["EQT*170500152","SP","YH-AUR-VCAM","2017-05-19","2017-05-19","BR:MAYBANKINV","MAYBANK INVESTMENT BANK BHD","MYR",6947,"DIGI",3792144.47,7565.73,0,"2017-05-19T09:19:16","soonchong",4.4279999999999999,4.4279999999999999,3792144.47,7565.73]
["EQT*170500153","SP","YH-AUR-VCAM","2017-05-19","2017-05-19","BR:MAYBANKINV","MAYBANK INVESTMENT BANK BHD","MYR",6084,"STAR",141807.89000000001,317.89,0,"2017-05-19T09:21:56","soonchong",4.4279999999999999,4.4279999999999999,141807.89000000001,317.89]
["EQT*170500155","SS","KWAP","2017-05-19","2017-05-19","BR:ALLIANCEINV","ALLIANCE INVESTMENT BANK BERHAD","MYR",5211,"SUNINC",1800399.41,3610,122699.35,"2017-05-19T10:29:00","nik.faiz",4.4279999999999999,4.4279999999999999,1800399.41,3610]
["EQT*170500156","SS","KWAP","2017-05-19","2017-05-19","BR:ALLIANCEINV","ALLIANCE INVESTMENT BANK BERHAD","MYR",5183,"PCHEM",634071.31000000006,1430.98,14537.41,"2017-05-19T10:30:10","nik.faiz",4.4279999999999999,4.4279999999999999,634071.31000000006,1430.98]
["EQT*170500157","SP","MEQESG","2017-05-19","2017-05-19","BR:KENANGAINV","KENANGA INVESTMENT BANK BHD","MYR",8567,"SALCON",92039.87,206.33,0,"2017-05-19T14:36:52","angie",4.4279999999999999,4.4279999999999999,92039.87,206.33]
["EQT*170500158","SP","VCAM-TABA","2017-05-19","2017-05-19","BR:KENANGAINV","KENANGA INVESTMENT BANK BHD","MYR",8567,"SALCON",39446.239999999998,88.43,0,"2017-05-19T14:36:52","angie",4.4279999999999999,4.4279999999999999,39446.239999999998,88.43]
["EQT*170500165","SS","KWAP","2017-05-22","2017-05-22","BR:ALLIANCEINV","ALLIANCE INVESTMENT BANK BERHAD","MYR",1023,"CIMB",2968045.73,5951,228158.34,"2017-05-22T08:37:15","nik.faiz",4.4279999999999999,4.4279999999999999,2968045.73,5951]
["EQT*170500166","SP","YH-AUR-VCAM","2017-05-22","2017-05-22","BR:RHBINV","RHB INVESTMENT BANK BERHAD","MYR",4197,"SIME",9325533.2599999998,9314.4,0,"2017-05-22T09:22:26","soonchong",4.4279999999999999,4.4279999999999999,9325533.2599999998,9314.4]
["EQT*170500167","SP","YH-AUR-VCAM","2017-05-22","2017-05-22","BR:RHBINV","RHB INVESTMENT BANK BERHAD","MYR",4677,"YTL",227312.24,509.63,0,"2017-05-22T09:23:28","soonchong",4.4279999999999999,4.4279999999999999,227312.24,509.63]
["EQT*170500168","SP","YH-AUR-VCAM","2017-05-22","2017-05-22","BR:MAYBANKINV","MAYBANK INVESTMENT BANK BHD","MYR",6947,"DIGI",2173293.85,4335.62,0,"2017-05-22T09:33:36","soonchong",4.4279999999999999,4.4279999999999999,2173293.85,4335.62]
["EQT*170500169","SS","YH-AUR-VCAM","2017-05-22","2017-05-22","BR:MAYBANKINV","MAYBANK INVESTMENT BANK BHD","MYR",5819,"HLBANK",44888.21,101.38,1074.5,"2017-05-22T09:35:48","soonchong",4.4279999999999999,4.4279999999999999,44888.21,101.38]
["EQT*170500170","SS","KWAP","2017-05-22","2017-05-22","BR:ALLIANCEINV","ALLIANCE INVESTMENT BANK BERHAD","MYR",5211,"SUNINC",1802145.14,3613.5,124445.08,"2017-05-22T09:48:25","nik.faiz",4.4279999999999999,4.4279999999999999,1802145.14,3613.5]
["EQT*170500171","SP","ASEAN5ESG","2017-05-22","2017-05-22","BR:MACQUARIE:F","MACQUARIE CAPITAL SECURITIES (MALAYSIA) SDN BHD (FOREIGN)","THB","TH0268010Z03","ADVANCED",4462536.99,11127.5,0,"2017-05-22T11:16:13","alex.lee",34.4,4.3029999999999999,558206.29848750005,1391.907921511628]
["EQT*170500172","SP","KWAP","2017-05-22","2017-05-22","BR:ALLIANCEINV","ALLIANCE INVESTMENT BANK BERHAD","MYR",5347,"TENAGA",2625906.91,5238.6400000000003,0,"2017-05-22T11:42:59","nik.faiz",4.4279999999999999,4.4279999999999999,2625906.91,5238.6400000000003]
["EQT*170500173","SP","ASEAN5ESG","2017-05-22","2017-05-22","BR:MACQUARIE:F","MACQUARIE CAPITAL SECURITIES (MALAYSIA) SDN BHD (FOREIGN)","THB","TH0201A10Y01","INTOUCH",1650216.31,4114.88,0,"2017-05-22T11:49:20","alex.lee",34.4,4.3029999999999999,206420.95296308142,514.7188558139535]
["EQT*170500174","SS","YH-AUR-VCAM","2017-05-22","2017-05-22","BR:CLSALIMITED","CLSA LIMITED","MYR",8664,"SPSETIA",3868418.85,7755.8,394692.62,"2017-05-22T12:00:38","alex.lee",4.4279999999999999,4.4279999999999999,3868418.85,7755.8]
["EQT*170500175","SP","ASEAN5ESG","2017-05-22","2017-05-22","BR:MACQUARIE:F","MACQUARIE CAPITAL SECURITIES (MALAYSIA) SDN BHD (FOREIGN)","THB","TH0015010000","SIAMCOMMBANK",1702400.81,4245,0,"2017-05-22T12:10:59","alex.lee",34.4,4.3029999999999999,212948.56643691863,530.99520348837211]
["EQT*170500180","SP","ASEAN5ESG","2017-05-22","2017-05-22","BR:MACQUARIE:F","MACQUARIE CAPITAL SECURITIES (MALAYSIA) SDN BHD (FOREIGN)","THB","TH0128B10Z09","MINORINT",2933431.8,7314.62,0,"2017-05-22T16:58:26","alex.lee",34.4,4.3029999999999999,366934.79754069768,914.96540290697669]
["EQT*170500181","SS","ASEAN5ESG","2017-05-22","2017-05-22","BR:CREDITSUISSEMY","CREDIT SUISSE SECURITIES (M) SDN BHD","MYR",6033,"PETGAS",76559.289999999994,172.9,-683.53,"2017-05-22T17:02:00","alex.lee",4.3029999999999999,4.3029999999999999,76559.289999999994,172.9]
["EQT*170500184","SS","YH-AUR-VCAM","2017-05-23","2017-05-23","BR:MAYBANKINV","MAYBANK INVESTMENT BANK BHD","MYR",5819,"HLBANK",1945445.71,3900.8,39549.26,"2017-05-23T09:33:17","soonchong",4.4279999999999999,4.4279999999999999,1945445.71,3900.8]
["EQT*170500185","SP","YH-AUR-VCAM","2017-05-23","2017-05-23","BR:RHBINV","RHB INVESTMENT BANK BERHAD","MYR",4677,"YTL",238875.39,535.57000000000005,0,"2017-05-23T09:35:13","soonchong",4.4279999999999999,4.4279999999999999,238875.39,535.57000000000005]
["EQT*170500186","SP","YH-AUR-VCAM","2017-05-23","2017-05-23","BR:RHBINV","RHB INVESTMENT BANK BERHAD","MYR",6084,"STAR",2487850.14,4963.2,0,"2017-05-23T09:36:01","soonchong",4.4279999999999999,4.4279999999999999,2487850.14,4963.2]
["EQT*170500188","SS","KWAP","2017-05-23","2017-05-23","BR:HLGINV","HONG LEONG INVESTMENT BANK BHD","MYR",1023,"CIMB",2952758.99,5920.35,243010.36,"2017-05-23T10:25:17","nik.faiz",4.4279999999999999,4.4279999999999999,2952758.99,5920.35]
["EQT*170500189","SS","KWAP","2017-05-23","2017-05-23","BR:HLGINV","HONG LEONG INVESTMENT BANK BHD","MYR",5211,"SUNINC",1798204.77,3605.6,120504.71,"2017-05-23T10:25:38","nik.faiz",4.4279999999999999,4.4279999999999999,1798204.77,3605.6]
["EQT*170500190","SP","KWAP","2017-05-23","2017-05-23","BR:HLGINV","HONG LEONG INVESTMENT BANK BHD","MYR",5347,"TENAGA",2765024.25,5516.2,0,"2017-05-23T10:27:15","nik.faiz",4.4279999999999999,4.4279999999999999,2765024.25,5516.2]
["EQT*170500192","SS","MEQESG","2017-05-23","2017-05-23","BR:CIMBINV","CIMB INVESTMENT BANK BHD","MYR",3816,"MISC",926173.22,2089.9899999999998,51430.44,"2017-05-23T16:04:05","angie",4.4279999999999999,4.4279999999999999,926173.22,2089.9899999999998]
["EQT*170500193","SS","VCAM-TABA","2017-05-23","2017-05-23","BR:CIMBINV","CIMB INVESTMENT BANK BHD","MYR",3816,"MISC",231393.3,522.5,11122.51,"2017-05-23T16:04:05","angie",4.4279999999999999,4.4279999999999999,231393.3,522.5]
["EQT*170500197","SS","KWAP","2017-05-24","2017-05-24","BR:NOMURASECMY","NOMURA SECURITIES MALAYSIA SDN BHD","MYR",1023,"CIMB",3077395.54,6170.23,307369.39,"2017-05-24T08:49:21","nik.faiz",4.4279999999999999,4.4279999999999999,3077395.54,6170.23]
["EQT*170500198","SP","YH-AUR-VCAM","2017-05-24","2017-05-24","BR:RHBINV","RHB INVESTMENT BANK BERHAD","MYR",6084,"STAR",2414571.92,4817,0,"2017-05-24T09:14:52","soonchong",4.4279999999999999,4.4279999999999999,2414571.92,4817]
["EQT*170500199","SP","YH-AUR-VCAM","2017-05-24","2017-05-24","BR:RHBINV","RHB INVESTMENT BANK BERHAD","MYR",4677,"YTL",305021.71000000002,684,0,"2017-05-24T09:18:02","soonchong",4.4279999999999999,4.4279999999999999,305021.71000000002,684]
["EQT*170500200","SS","YH-AUR-VCAM","2017-05-24","2017-05-24","BR:RHBINV","RHB INVESTMENT BANK BERHAD","MYR",5819,"HLBANK",6992618.6200000001,7001.3,146726.19,"2017-05-24T09:18:27","soonchong",4.4279999999999999,4.4279999999999999,6992618.6200000001,7001.3]
["EQT*170500203","SP","KWAP","2017-05-24","2017-05-24","BR:NOMURASECMY","NOMURA SECURITIES MALAYSIA SDN BHD","MYR",5347,"TENAGA",5530915.2300000004,5523.8,0,"2017-05-24T14:32:35","nik.faiz",4.4279999999999999,4.4279999999999999,5530915.2300000004,5523.8]
["EQT*170500205","SS","KWAP","2017-05-24","2017-05-24","BR:NOMURASECMY","NOMURA SECURITIES MALAYSIA SDN BHD","MYR",5211,"SUNINC",1808529.53,3626.3,130829.47,"2017-05-24T14:34:42","nik.faiz",4.4279999999999999,4.4279999999999999,1808529.53,3626.3]
["EQT*170500206","SP","KWAP","2017-05-24","2017-05-24","BR:NOMURASECMY","NOMURA SECURITIES MALAYSIA SDN BHD","MYR",1155,"MAYBANK",2816038.32,5617.98,0,"2017-05-24T14:44:59","nik.faiz",4.4279999999999999,4.4279999999999999,2816038.32,5617.98]
["EQT*170500207","SS","MEQESG","2017-05-24","2017-05-24","BR:CIMBINV","CIMB INVESTMENT BANK BHD","MYR",1023,"CIMB",1011631.61,2028.61,275545.17,"2017-05-24T15:00:19","angie",4.4279999999999999,4.4279999999999999,1011631.61,2028.61]
["EQT*170500209","SP","MEQESG","2017-05-24","2017-05-24","BR:CIMBINV","CIMB INVESTMENT BANK BHD","MYR",6399,"ASTRO",267420.36,599.63,0,"2017-05-24T15:19:37","angie",4.4279999999999999,4.4279999999999999,267420.36,599.63]
["EQT*170500210","SP","MEQESG","2017-05-24","2017-05-24","BR:KENANGAINV","KENANGA INVESTMENT BANK BHD","MYR",8567,"SALCON",192710.98,432,0,"2017-05-24T15:29:20","angie",4.4279999999999999,4.4279999999999999,192710.98,432]
["EQT*170500211","SS","KWAP","2017-05-25","2017-05-25","BR:KAFSEC","KAF-SEAGROATT & CAMPBELL SECURITIES SDN BHD","MYR",1023,"CIMB",3157782.03,6331.4,417894.64,"2017-05-25T07:51:21","nik.faiz",4.4279999999999999,4.4279999999999999,3157782.03,6331.4]
["EQT*170500212","SS","YH-AUR-VCAM","2017-05-25","2017-05-25","BR:RHBINV","RHB INVESTMENT BANK BERHAD","MYR",4324,"HENGYUAN",2322603.16,4656.96,30603.16,"2017-05-25T09:46:07","soonchong",4.4279999999999999,4.4279999999999999,2322603.16,4656.96]
["EQT*170500213","SP","YH-AUR-VCAM","2017-05-25","2017-05-25","BR:RHBINV","RHB INVESTMENT BANK BERHAD","MYR",4677,"YTL",573279.87,1285.95,0,"2017-05-25T09:46:34","soonchong",4.4279999999999999,4.4279999999999999,573279.87,1285.95]
["EQT*170500214","SS","YH-AUR-VCAM","2017-05-25","2017-05-25","BR:RHBINV","RHB INVESTMENT BANK BERHAD","MYR",5819,"HLBANK",1675704.16,3360,32689.98,"2017-05-25T09:49:52","soonchong",4.4279999999999999,4.4279999999999999,1675704.16,3360]
["EQT*170500215","SP","KWAP","2017-05-25","2017-05-25","BR:KAFSEC","KAF-SEAGROATT & CAMPBELL SECURITIES SDN BHD","MYR",4863,"TM",6424409.21,6416.35,0,"2017-05-25T12:00:20","nik.faiz",4.4279999999999999,4.4279999999999999,6424409.21,6416.35]
["EQT*170500217","SS","MEQESG","2017-05-25","2017-05-25","BR:KENANGAINV","KENANGA INVESTMENT BANK BHD","MYR",1023,"CIMB",1264309.5900000001,2535.1999999999998,372134.15,"2017-05-25T15:38:34","angie",4.4279999999999999,4.4279999999999999,1264309.5900000001,2535.1999999999998]
["EQT*170500218","SP","MEQESG","2017-05-25","2017-05-25","BR:NOMURASECMY","NOMURA SECURITIES MALAYSIA SDN BHD","MYR",6888,"AXIATA",859392.64,1927.97,0,"2017-05-25T16:03:37","angie",4.4279999999999999,4.4279999999999999,859392.64,1927.97]
["EQT*170500219","SP","VCAM-TABA","2017-05-25","2017-05-25","BR:NOMURASECMY","NOMURA SECURITIES MALAYSIA SDN BHD","MYR",6888,"AXIATA",284107.14,637.07000000000005,0,"2017-05-25T16:03:37","angie",4.4279999999999999,4.4279999999999999,284107.14,637.07000000000005]
["EQT*170500220","SS","KWAP","2017-05-25","2017-05-25","BR:KAFSEC","KAF-SEAGROATT & CAMPBELL SECURITIES SDN BHD","MYR",5211,"SUNINC",716856.54,1617.75,45776.52,"2017-05-25T16:37:32","nik.faiz",4.4279999999999999,4.4279999999999999,716856.54,1617.75]
["EQT*170500221","SS","KWAP","2017-05-26","2017-05-26","BR:MACQUARIE","MACQUARIE CAPITAL SECURITIES (MALAYSIA) SDN BHD","MYR",1023,"CIMB",3166061.79,6348,426174.4,"2017-05-26T08:17:48","nik.faiz",4.4279999999999999,4.4279999999999999,3166061.79,6348]
["EQT*170500222","SS","YH-AUR-VCAM","2017-05-26","2017-05-26","BR:RHBINV","RHB INVESTMENT BANK BERHAD","MYR",5185,"AFFIN",28752.98,64.94,5136.17,"2017-05-26T09:35:46","soonchong",4.4279999999999999,4.4279999999999999,28752.98,64.94]
["EQT*170500224","SP","VCAM-TABA","2017-05-26","2017-05-26","BR:KENANGAINV","KENANGA INVESTMENT BANK BHD","MYR",8567,"SALCON",35204.32,78.92,0,"2017-05-26T09:40:11","angie",4.4279999999999999,4.4279999999999999,35204.32,78.92]
["EQT*170500225","SP","YH-AUR-VCAM","2017-05-26","2017-05-26","BR:MACQUARIE","MACQUARIE CAPITAL SECURITIES (MALAYSIA) SDN BHD","MYR",6084,"STAR",2326958.84,4642.2,0,"2017-05-26T09:40:30","soonchong",4.4279999999999999,4.4279999999999999,2326958.84,4642.2]
["EQT*170500226","SS","YH-AUR-VCAM","2017-05-26","2017-05-26","BR:MACQUARIE","MACQUARIE CAPITAL SECURITIES (MALAYSIA) SDN BHD","MYR",5819,"HLBANK",208765.63,471.45,3388.86,"2017-05-26T09:42:02","soonchong",4.4279999999999999,4.4279999999999999,208765.63,471.45]
["EQT*170500227","SS","YH-AUR-VCAM","2017-05-26","2017-05-26","BR:MACQUARIE","MACQUARIE CAPITAL SECURITIES (MALAYSIA) SDN BHD","MYR",4324,"HENGYUAN",1810227.91,3629.71,23040.91,"2017-05-26T09:42:49","soonchong",4.4279999999999999,4.4279999999999999,1810227.91,3629.71]
["EQT*170500228","SS","MEQESG","2017-05-26","2017-05-26","BR:NOMURASECMY","NOMURA SECURITIES MALAYSIA SDN BHD","MYR",1023,"CIMB",632245.86,1426.86,186427.07,"2017-05-26T09:55:58","angie",4.4279999999999999,4.4279999999999999,632245.86,1426.86]
["EQT*170500229","SS","KWAP","2017-05-26","2017-05-26","BR:MACQUARIE","MACQUARIE CAPITAL SECURITIES (MALAYSIA) SDN BHD","MYR",5211,"SUNINC",795917.44,1796.12,52025.24,"2017-05-26T10:15:54","nik.faiz",4.4279999999999999,4.4279999999999999,795917.44,1796.12]
["EQT*170500230","SP","KWAP","2017-05-26","2017-05-26","BR:MACQUARIE","MACQUARIE CAPITAL SECURITIES (MALAYSIA) SDN BHD","MYR",1295,"PBBANK",3018415.53,6021.75,0,"2017-05-26T10:18:11","nik.faiz",4.4279999999999999,4.4279999999999999,3018415.53,6021.75]
["EQT*170500231","SP","MEQESG","2017-05-26","2017-05-26","BR:NOMURASECMY","NOMURA SECURITIES MALAYSIA SDN BHD","MYR",6888,"AXIATA",1761378.31,3513.79,0,"2017-05-26T10:21:22","angie",4.4279999999999999,4.4279999999999999,1761378.31,3513.79]
["EQT*170500232","SP","VCAM-TABA","2017-05-26","2017-05-26","BR:NOMURASECMY","NOMURA SECURITIES MALAYSIA SDN BHD","MYR",6888,"AXIATA",553859.52,1242.3800000000001,0,"2017-05-26T10:21:22","angie",4.4279999999999999,4.4279999999999999,553859.52,1242.3800000000001]
["EQT*170500234","SS","MEQESG","2017-05-26","2017-05-26","BR:NOMURASECMY","NOMURA SECURITIES MALAYSIA SDN BHD","MYR",4863,"TM",1709285.68,3427.33,-63220.18,"2017-05-26T10:43:13","angie",4.4279999999999999,4.4279999999999999,1709285.68,3427.33]
["EQT*170500239","SS","KWAP","2017-05-29","2017-05-29","BR:AMINVBANK","AMINVESTMENT BANK BHD","MYR",4324,"HENGYUAN",425428.36,960.26,3127.36,"2017-05-29T09:07:34","nik.faiz",4.4279999999999999,4.4279999999999999,425428.36,960.26]
["EQT*170500242","SS","YH-AUR-VCAM","2017-05-29","2017-05-29","BR:MACQUARIE","MACQUARIE CAPITAL SECURITIES (MALAYSIA) SDN BHD","MYR",5185,"AFFIN",77696.800000000003,175.47,11569.72,"2017-05-29T09:28:52","soonchong",4.4279999999999999,4.4279999999999999,77696.800000000003,175.47]
["EQT*170500243","SS","MEQESG","2017-05-29","2017-05-29","BR:NOMURASECMY","NOMURA SECURITIES MALAYSIA SDN BHD","MYR",4863,"TM",3249208.58,6514.7,-113066.87,"2017-05-29T09:33:31","angie",4.4279999999999999,4.4279999999999999,3249208.58,6514.7]
["EQT*170500246","SS","MEQESG","2017-05-29","2017-05-29","BR:NOMURASECMY","NOMURA SECURITIES MALAYSIA SDN BHD","MYR",1023,"CIMB",631358.26,1424.86,185537.08,"2017-05-29T09:34:24","angie",4.4279999999999999,4.4279999999999999,631358.26,1424.86]
["EQT*170500247","SP","MEQESG","2017-05-29","2017-05-29","BR:TASEC","TA SECURITIES HOLDINGS BHD","MYR",6399,"ASTRO",261905.49,587.25,0,"2017-05-29T09:58:13","angie",4.4279999999999999,4.4279999999999999,261905.49,587.25]
["EQT*170500248","SS","ASEAN5ESG","2017-05-29","2017-05-29","BR:MACQUARIE:F","MACQUARIE CAPITAL SECURITIES (MALAYSIA) SDN BHD (FOREIGN)","IDR","ID1000111602","PERUSAHAANGAS",420563233,1055620,1755.54,"2017-05-29T10:55:29","alex.lee",13311,4.2744999999999997,135053.53012234243,338.98637893471562]
["EQT*170500250","SP","VCAM-TABA","2017-05-29","2017-05-29","BR:TASEC","TA SECURITIES HOLDINGS BHD","MYR",5070,"PRTASCO",61806.45,138.55000000000001,0,"2017-05-29T16:13:02","angie",4.4279999999999999,4.4279999999999999,61806.45,138.55000000000001]
["EQT*170500255","SP","YH-AUR-VCAM","2017-05-30","2017-05-30","BR:RHBINV","RHB INVESTMENT BANK BERHAD","MYR",6033,"PETGAS",4816163.6900000004,9609.44,0,"2017-05-30T09:48:51","soonchong",4.4279999999999999,4.4279999999999999,4816163.6900000004,9609.44]
["EQT*170500256","SP","YH-AUR-VCAM","2017-05-30","2017-05-30","BR:RHBINV","RHB INVESTMENT BANK BERHAD","MYR",4677,"YTL",1513881.38,3020,0,"2017-05-30T09:49:27","soonchong",4.4279999999999999,4.4279999999999999,1513881.38,3020]
["EQT*170500258","SP","YH-AUR-VCAM","2017-05-30","2017-05-30","BR:RHBINV","RHB INVESTMENT BANK BERHAD","MYR",6947,"DIGI",4999032.8600000003,9974.4,0,"2017-05-30T09:51:44","soonchong",4.4279999999999999,4.4279999999999999,4999032.8600000003,9974.4]
["EQT*170500263","SP","KWAP","2017-05-30","2017-05-30","BR:TASEC","TA SECURITIES HOLDINGS BHD","MYR",1155,"MAYBANK",4695340.4000000004,9368.2999999999993,0,"2017-05-30T14:09:56","khairul.anwar",4.4279999999999999,4.4279999999999999,4695340.4000000004,9368.2999999999993]
["EQT*170500265","SS","MEQESG","2017-05-31","2017-05-31","BR:TASEC","TA SECURITIES HOLDINGS BHD","MYR",1155,"MAYBANK",935962.69,2112.08,117933.89,"2017-05-31T09:12:57","angie",4.4279999999999999,4.4279999999999999,935962.69,2112.08]
["EQT*170500266","SS","MEQESG","2017-05-31","2017-05-31","BR:CREDITSUISSEMY","CREDIT SUISSE SECURITIES (M) SDN BHD","MYR",3816,"MISC",3160507.76,6336.86,77602.23,"2017-05-31T09:14:00","angie",4.4279999999999999,4.4279999999999999,3160507.76,6336.86]
["EQT*170500267","SS","VCAM-TABA","2017-05-31","2017-05-31","BR:CREDITSUISSEMY","CREDIT SUISSE SECURITIES (M) SDN BHD","MYR",3816,"MISC",538031.62,1214.3,9381.7199999999993,"2017-05-31T09:14:00","angie",4.4279999999999999,4.4279999999999999,538031.62,1214.3]
["EQT*170500268","SS","YH-AUR-VCAM","2017-05-31","2017-05-31","BR:CLSALIMITED","CLSA LIMITED","MYR",8664,"SPSETIA",7627045.4199999999,7636.4,679592.97,"2017-05-31T09:27:33","alex.lee",4.4279999999999999,4.4279999999999999,7627045.4199999999,7636.4]
["EQT*170500269","SS","MEQESG","2017-05-31","2017-05-31","BR:CREDITSUISSEMY","CREDIT SUISSE SECURITIES (M) SDN BHD","MYR",1023,"CIMB",1269676.47,2545.96,377514.15,"2017-05-31T09:29:19","angie",4.4279999999999999,4.4279999999999999,1269676.47,2545.96]
["EQT*170500270","SP","YH-AUR-VCAM","2017-05-31","2017-05-31","BR:NOMURASECMY","NOMURA SECURITIES MALAYSIA SDN BHD","MYR",5247,"KAREX",86112.5,193.04,0,"2017-05-31T10:13:37","soonchong",4.4279999999999999,4.4279999999999999,86112.5,193.04]
["EQT*170500271","SP","KWAP","2017-05-31","2017-05-31","BR:KAFSEC","KAF-SEAGROATT & CAMPBELL SECURITIES SDN BHD","MYR",5225,"IHH",5797797.8200000003,5790.4,0,"2017-05-31T10:33:46","khairul.anwar",4.4279999999999999,4.4279999999999999,5797797.8200000003,5790.4]
["EQT*170500272","SP","ASEAN5ESG","2017-05-31","2017-05-31","BR:CLSALIMITED:F","CLSA LIMITED FOREIGN","IDR","ID1000058407","UNITTRACTORS",665215756,2318864,0,"2017-05-31T10:34:15","alex.lee",13318,4.2779999999999996,213680.20755128397,744.86410812434292]
["EQT*170500273","SP","KWAP","2017-05-31","2017-05-31","BR:KAFSEC","KAF-SEAGROATT & CAMPBELL SECURITIES SDN BHD","MYR",6947,"DIGI",4969169.6900000004,9914.7999999999993,0,"2017-05-31T10:34:42","khairul.anwar",4.4279999999999999,4.4279999999999999,4969169.6900000004,9914.7999999999993]
["EQT*170500274","SS","MEQESG","2017-05-31","2017-05-31","BR:CIMBINV","CIMB INVESTMENT BANK BHD","MYR",138,"MYEG",109094.02,246.38,49211.11,"2017-05-31T11:36:18","angie",4.4279999999999999,4.4279999999999999,109094.02,246.38]
["EQT*170500275","SS","YH-AUR-VCAM","2017-05-31","2017-05-31","BR:NOMURASECMY","NOMURA SECURITIES MALAYSIA SDN BHD","MYR",5819,"HLBANK",3696477.8,7411.19,99645.92,"2017-05-31T12:17:58","soonchong",4.4279999999999999,4.4279999999999999,3696477.8,7411.19]
["EQT*170500279","SP","YH-AUR-VCAM","2017-05-31","2017-05-31","BR:NOMURASECMY","NOMURA SECURITIES MALAYSIA SDN BHD","MYR",6947,"DIGI",6382442.9400000004,6374.43,0,"2017-05-31T14:08:58","anouk",4.4279999999999999,4.4279999999999999,6382442.9400000004,6374.43]
["EQT*170500280","SP","YH-AUR-VCAM","2017-05-31","2017-05-31","BR:NOMURASECMY","NOMURA SECURITIES MALAYSIA SDN BHD","MYR",4677,"YTL",1503857,3000,0,"2017-05-31T14:51:09","soonchong",4.4279999999999999,4.4279999999999999,1503857,3000]
["EQT*170500281","SS","KWAP","2017-05-31","2017-05-31","BR:MACQUARIE","MACQUARIE CAPITAL SECURITIES (MALAYSIA) SDN BHD","MYR",1023,"CIMB",6391956,6400,912181.22,"2017-05-31T14:59:04","nik.faiz",4.4279999999999999,4.4279999999999999,6391956,6400]
["EQT*170500282","SP","ASEAN5ESG","2017-05-31","2017-05-31","BR:CLSALIMITED:F","CLSA LIMITED FOREIGN","PHP","PHY0488F1004","AYALALAND",1383688.6,4137,0,"2017-05-31T15:20:46","alex.lee",49.76,4.2779999999999996,118959.401744373,355.66893086816719]
["EQT*170500283","SS","VCAM-TABA","2017-05-31","2017-05-31","BR:TASEC","TA SECURITIES HOLDINGS BHD","MYR",5183,"PCHEM",219605.25,495.9,4325.45,"2017-05-31T15:20:49","angie",4.4279999999999999,4.4279999999999999,219605.25,495.9]
["EQT*170500286","SP","ASEAN5ESG","2017-05-31","2017-05-31","BR:CLSALIMITED","CLSA LIMITED","MYR",6012,"MAXIS",493449.66,1106.82,0,"2017-05-31T16:19:39","alex.lee",4.2779999999999996,4.2779999999999996,493449.66,1106.82]
["EQT*170500288","SP","VCAM-TABA","2017-05-31","2017-05-31","BR:UBSSECMY","UBS SECURITIES MALAYSIA SDN BHD","MYR",5225,"IHH",842019.31,1888.99,0,"2017-05-31T16:44:18","angie",4.4279999999999999,4.4279999999999999,842019.31,1888.99]
["EQT*170500289","SP","ASEAN5ESG","2017-05-31","2017-05-31","BR:CLSALIMITED","CLSA LIMITED","MYR",3794,"LMCEMNT",358014.56,802.91,0,"2017-05-31T16:59:11","alex.lee",4.2779999999999996,4.2779999999999996,358014.56,802.91]
["EQT*170600001","SP","KWAP","2017-06-01","2017-06-01","BR:HLGINV","HONG LEONG INVESTMENT BANK BHD","MYR",5249,"IOIPROP",1280233.1299999999,2553.84,0,"2017-06-01T09:27:44","nik.faiz",4.4279999999999999,4.4279999999999999,1280233.1299999999,2553.84]
["EQT*170600002","SP","YAMIR-VCAM","2017-06-01","2017-06-01","BR:HLGINV","HONG LEONG INVESTMENT BANK BHD","MYR",1295,"PBBANK",2007120.98,4004.08,0,"2017-06-01T09:43:18","nik.faiz",4.4279999999999999,4.4279999999999999,2007120.98,4004.08]
["EQT*170600003","SP","YAMIR-VCAM","2017-06-01","2017-06-01","BR:HLGINV","HONG LEONG INVESTMENT BANK BHD","MYR",5218,"SENERGY",1802383.04,3595.6,0,"2017-06-01T09:43:46","nik.faiz",4.4279999999999999,4.4279999999999999,1802383.04,3595.6]
["EQT*170600006","SP","ASEAN5ESG","2017-06-01","2017-06-01","BR:CLSALIMITED:F","CLSA LIMITED FOREIGN","SGD","SG1T75931496","SGTELCO",68464.929999999993,136.6,0,"2017-06-01T10:30:29","alex.lee",1.3856999999999999,4.2861000000000002,211768.4466139857,422.5166053258281]
["EQT*170600008","SP","MEQESG","2017-06-01","2017-06-01","BR:CLSALIMITED","CLSA LIMITED","MYR",6888,"AXIATA",1958923.76,3907.92,0,"2017-06-01T16:08:33","alex.lee",4.4279999999999999,4.4279999999999999,1958923.76,3907.92]
["EQT*170600010","SS","MEQESG","2017-06-01","2017-06-01","BR:CREDITSUISSEMY","CREDIT SUISSE SECURITIES (M) SDN BHD","MYR",1155,"MAYBANK",936959.99,2114.33,118933.89,"2017-06-01T17:04:10","khairul.anwar",4.4279999999999999,4.4279999999999999,936959.99,2114.33]
["EQT*170600011","SS","ASEAN5ESG","2017-06-01","2017-06-01","BR:CREDITSUISSEMY","CREDIT SUISSE SECURITIES (M) SDN BHD","MYR",3794,"LMCEMNT",356981.91,805.84,303.3,"2017-06-01T17:42:50","nik.faiz",4.2861000000000002,4.2861000000000002,356981.91,805.84]
["EQT*170600012","SP","VCAM-TABA","2017-06-02","2017-06-02","BR:MACQUARIE","MACQUARIE CAPITAL SECURITIES (MALAYSIA) SDN BHD","MYR",6888,"AXIATA",19598.78,43.93,0,"2017-06-02T09:53:13","alex.lee",4.4279999999999999,4.4279999999999999,19598.78,43.93]
["EQT*170600013","SP","ASEAN5ESG","2017-06-02","2017-06-02","BR:MACQUARIE","MACQUARIE CAPITAL SECURITIES (MALAYSIA) SDN BHD","MYR",6888,"AXIATA",271768.58,609.38,0,"2017-06-02T10:26:07","alex.lee",4.2786999999999997,4.2786999999999997,271768.58,609.38]
["EQT*170600014","SS","YH-AUR-VCAM","2017-06-02","2017-06-02","BR:MACQUARIE","MACQUARIE CAPITAL SECURITIES (MALAYSIA) SDN BHD","MYR",8664,"SPSETIA",4250125.71,8520.84,377931.82,"2017-06-02T10:48:06","alex.lee",4.4279999999999999,4.4279999999999999,4250125.71,8520.84]
["EQT*170600015","SP","YAMIR-VCAM","2017-06-02","2017-06-02","BR:KENANGAINV","KENANGA INVESTMENT BANK BHD","MYR",5218,"SENERGY",466080.88,1045.4100000000001,0,"2017-06-02T10:57:00","nik.faiz",4.4279999999999999,4.4279999999999999,466080.88,1045.4100000000001]
["EQT*170600016","SS","KWAP","2017-06-02","2017-06-02","BR:KAFSEC","KAF-SEAGROATT & CAMPBELL SECURITIES SDN BHD","MYR",4324,"HENGYUAN",1160438.8,2326.9499999999998,9854.7999999999993,"2017-06-02T11:07:25","khairul.anwar",4.4279999999999999,4.4279999999999999,1160438.8,2326.9499999999998]
["EQT*170600020","SS","YAMIR-VCAM","2017-06-05","2017-06-05","BR:KENANGAINV","KENANGA INVESTMENT BANK BHD","MYR",1155,"MAYBANK",478801.74,1080.68,44962.51,"2017-06-05T08:07:20","nik.faiz",4.4279999999999999,4.4279999999999999,478801.74,1080.68]
["EQT*170600021","SS","YAMIR-VCAM","2017-06-05","2017-06-05","BR:KENANGAINV","KENANGA INVESTMENT BANK BHD","MYR",5210,"BAB",70230.05,158.61000000000001,2794.51,"2017-06-05T08:07:48","nik.faiz",4.4279999999999999,4.4279999999999999,70230.05,158.61000000000001]
["EQT*170600022","SS","VCAM-TABA","2017-06-05","2017-06-05","BR:KENANGAINV","KENANGA INVESTMENT BANK BHD","MYR",5205,"SENDAI",499944.44,1128.3800000000001,103409.45,"2017-06-05T09:09:51","angie",4.4279999999999999,4.4279999999999999,499944.44,1128.3800000000001]
["EQT*170600023","SS","MEQESG","2017-06-05","2017-06-05","BR:UBSSECMY","UBS SECURITIES MALAYSIA SDN BHD","MYR",138,"MYEG",605002.79,1365.4,275133.62,"2017-06-05T09:13:05","angie",4.4279999999999999,4.4279999999999999,605002.79,1365.4]
["EQT*170600024","SP","YAMIR-VCAM","2017-06-05","2017-06-05","BR:KENANGAINV","KENANGA INVESTMENT BANK BHD","MYR",5218,"SENERGY",464551.77,1041.98,0,"2017-06-05T09:59:59","nik.faiz",4.4279999999999999,4.4279999999999999,464551.77,1041.98]
["EQT*170600025","SP","YH-AUR-VCAM","2017-06-05","2017-06-05","BR:MAYBANKINV","MAYBANK INVESTMENT BANK BHD","MYR",5249,"IOIPROP",712511.19,1598.38,0,"2017-06-05T10:13:45","soonchong",4.4279999999999999,4.4279999999999999,712511.19,1598.38]
["EQT*170600026","SS","KWAP","2017-06-05","2017-06-05","BR:KENANGAINV","KENANGA INVESTMENT BANK BHD","MYR",4324,"HENGYUAN",1051986.51,2109.52,28608.51,"2017-06-05T11:41:41","nik.faiz",4.4279999999999999,4.4279999999999999,1051986.51,2109.52]
["EQT*170600028","SP","VCAM-TABA","2017-06-05","2017-06-05","BR:TASEC","TA SECURITIES HOLDINGS BHD","MYR",5204,"PRESBHD",232364.86,520.96,0,"2017-06-05T15:35:23","angie",4.4279999999999999,4.4279999999999999,232364.86,520.96]
["EQT*170600029","SS","YH-AUR-VCAM","2017-06-05","2017-06-05","BR:MAYBANKINV","MAYBANK INVESTMENT BANK BHD","MYR",1155,"MAYBANK",9584568.2400000002,9596,790536.82,"2017-06-05T16:21:20","soonchong",4.4279999999999999,4.4279999999999999,9584568.2400000002,9596]
["EQT*170600030","SS","VCAM-TABA","2017-06-06","2017-06-06","BR:KENANGAINV","KENANGA INVESTMENT BANK BHD","MYR",5205,"SENDAI",559283.61,1262.25,114371.35,"2017-06-06T09:27:50","angie",4.4279999999999999,4.4279999999999999,559283.61,1262.25]
["EQT*170600031","SS","VCAM-TABA","2017-06-06","2017-06-06","BR:KENANGAINV","KENANGA INVESTMENT BANK BHD","MYR",5264,"MALAKOFF CORP",285675.18,644.96,-12057.18,"2017-06-06T09:28:13","angie",4.4279999999999999,4.4279999999999999,285675.18,644.96]
["EQT*170600032","SP","MEQESG","2017-06-06","2017-06-06","BR:UBSSECMY","UBS SECURITIES MALAYSIA SDN BHD","MYR",6399,"ASTRO",182433.3,408.96,0,"2017-06-06T10:08:11","angie",4.4279999999999999,4.4279999999999999,182433.3,408.96]
["EQT*170600033","SS","YH-AUR-VCAM","2017-06-06","2017-06-06","BR:MACQUARIE","MACQUARIE CAPITAL SECURITIES (MALAYSIA) SDN BHD","MYR",8664,"SPSETIA",1258260.3700000001,2523.0700000000002,146667.98000000001,"2017-06-06T11:52:38","alex.lee",4.4279999999999999,4.4279999999999999,1258260.3700000001,2523.0700000000002]
["EQT*170600034","SS","YH-AUR-VCAM","2017-06-06","2017-06-06","BR:MACQUARIE","MACQUARIE CAPITAL SECURITIES (MALAYSIA) SDN BHD","MYR",4197,"SIME",9556797.7100000009,9568.2000000000007,607067.09,"2017-06-06T11:53:01","alex.lee",4.4279999999999999,4.4279999999999999,9556797.7100000009,9568.2000000000007]
["EQT*170600035","SS","MEQESG","2017-06-06","2017-06-06","BR:UBSSECMY","UBS SECURITIES MALAYSIA SDN BHD","MYR",5347,"TENAGA",1445267.34,2898,85207.81,"2017-06-06T15:27:53","angie",4.4279999999999999,4.4279999999999999,1445267.34,2898]
["EQT*170600036","SS","MEQESG","2017-06-06","2017-06-06","BR:UBSSECMY","UBS SECURITIES MALAYSIA SDN BHD","MYR",4197,"SIME",954213.22,2153.25,205777.61,"2017-06-06T15:51:24","angie",4.4279999999999999,4.4279999999999999,954213.22,2153.25]
["EQT*170600037","SP","YH-AUR-VCAM","2017-06-06","2017-06-06","BR:MACQUARIE","MACQUARIE CAPITAL SECURITIES (MALAYSIA) SDN BHD","MYR",5230,"TUNEPRO",1293345.02,2580,0,"2017-06-06T16:11:45","alex.lee",4.4279999999999999,4.4279999999999999,1293345.02,2580]
["EQT*170600038","SP","YH-AUR-VCAM","2017-06-06","2017-06-06","BR:KENANGAINV","KENANGA INVESTMENT BANK BHD","MYR",7250,"UZMA",3418020,17000,0,"2017-06-06T17:30:04","alex.lee",4.4279999999999999,4.4279999999999999,3418020,17000]
["EQT*170600039","SP","YH-AUR-VCAM","2017-06-06","2017-06-06","BR:KENANGAINV","KENANGA INVESTMENT BANK BHD","MYR",7250,"UZMA",3418020,17000,0,"2017-06-06T17:32:01","angie",4.4279999999999999,4.4279999999999999,3418020,17000]
["EQT*170600041","SP","KWAP","2017-06-06","2017-06-06","BR:KENANGAINV","KENANGA INVESTMENT BANK BHD","MYR",7250,"UZMA",2563515,12750,0,"2017-06-06T17:53:05","anouk",4.4279999999999999,4.4279999999999999,2563515,12750]
["EQT*170600042","SS","YH-AUR-VCAM","2017-06-07","2017-06-07","BR:MAYBANKINV","MAYBANK INVESTMENT BANK BHD","MYR",4324,"HENGYUAN",5845153.9100000001,5852.62,334612.90999999997,"2017-06-07T09:32:57","soonchong",4.4279999999999999,4.4279999999999999,5845153.9100000001,5852.62]
["EQT*170600044","SP","YH-AUR-VCAM","2017-06-07","2017-06-07","BR:MACQUARIE","MACQUARIE CAPITAL SECURITIES (MALAYSIA) SDN BHD","MYR",5230,"TUNEPRO",885333.07,1986.18,0,"2017-06-07T09:38:30","alex.lee",4.4279999999999999,4.4279999999999999,885333.07,1986.18]
["EQT*170600045","SS","YH-AUR-VCAM","2017-06-07","2017-06-07","BR:UBSSECMY","UBS SECURITIES MALAYSIA SDN BHD","MYR",1155,"MAYBANK",9574778.6300000008,9586.2000000000007,795784.04,"2017-06-07T09:45:07","alex.lee",4.4279999999999999,4.4279999999999999,9574778.6300000008,9586.2000000000007]
["EQT*170600047","SP","KWAP","2017-06-07","2017-06-07","BR:MAYBANKINV","MAYBANK INVESTMENT BANK BHD","MYR",1295,"PBBANK",6103721.7599999998,6096,0,"2017-06-07T10:34:27","anouk",4.4279999999999999,4.4279999999999999,6103721.7599999998,6096]
["EQT*170600048","SS","KWAP","2017-06-07","2017-06-07","BR:MAYBANKINV","MAYBANK INVESTMENT BANK BHD","MYR",1023,"CIMB",1347266.85,2701.52,251311.89,"2017-06-07T10:35:29","anouk",4.4279999999999999,4.4279999999999999,1347266.85,2701.52]
["EQT*170600049","SS","KWAP","2017-06-07","2017-06-07","BR:KENANGAINV","KENANGA INVESTMENT BANK BHD","MYR",4324,"HENGYUAN",808471.03,1824.44,52111.03,"2017-06-07T11:32:43","khairul.anwar",4.4279999999999999,4.4279999999999999,808471.03,1824.44]
["EQT*170600050","SP","MEQESG","2017-06-07","2017-06-07","BR:UBSSECMY","UBS SECURITIES MALAYSIA SDN BHD","MYR",6399,"ASTRO",517594.75,1161,0,"2017-06-07T15:57:38","angie",4.4279999999999999,4.4279999999999999,517594.75,1161]
["EQT*170600051","SP","ASEAN5ESG","2017-06-07","2017-06-07","BR:MAYBANKINV:F","MAYBANK INVESTMENT BANK BHD (FOREIGN)","THB","TH0143010R16","LANDHOUSES",2975917.52,5938.98,0,"2017-06-07T16:13:37","alex.lee",33.99,4.2579000000000002,372790.79754068842,743.97125454545449]
["EQT*170600052","SS","YH-AUR-VCAM","2017-06-07","2017-06-07","BR:CLSALIMITED","CLSA LIMITED","MYR",5819,"HLBANK",7688180.54,7697.6,842288.11,"2017-06-07T17:23:54","khairul.anwar",4.4279999999999999,4.4279999999999999,7688180.54,7697.6]
["EQT*170600053","SS","YH-AUR-VCAM","2017-06-08","2017-06-08","BR:MAYBANKINV","MAYBANK INVESTMENT BANK BHD","MYR",4324,"HENGYUAN",752716.91,1698.65,34747.910000000003,"2017-06-08T09:30:55","soonchong",4.4279999999999999,4.4279999999999999,752716.91,1698.65]
["EQT*170600054","SP","YAMIR-VCAM","2017-06-08","2017-06-08","BR:BIMBSEC","BIMB SECURITIES SDN BHD","MYR",5218,"SENERGY",476997.36,1069.9000000000001,0,"2017-06-08T09:31:15","nik.faiz",4.4279999999999999,4.4279999999999999,476997.36,1069.9000000000001]
["EQT*170600055","SS","VCAM-TABA","2017-06-08","2017-06-08","BR:TASEC","TA SECURITIES HOLDINGS BHD","MYR",1368,"EDGENTA",33423.72,75.48,-5205.42,"2017-06-08T09:34:21","angie",4.4279999999999999,4.4279999999999999,33423.72,75.48]
["EQT*170600056","SS","MEQESG","2017-06-08","2017-06-08","BR:TASEC","TA SECURITIES HOLDINGS BHD","MYR",5000,"HUMEIND",64267.63,145.13999999999999,-3885.17,"2017-06-08T09:34:39","angie",4.4279999999999999,4.4279999999999999,64267.63,145.13999999999999]
["EQT*170600058","SS","KWAP","2017-06-08","2017-06-08","BR:BIMBSEC","BIMB SECURITIES SDN BHD","MYR",5211,"SUNINC",1340396.54,2687.75,71048.679999999993,"2017-06-08T11:41:35","nik.faiz",4.4279999999999999,4.4279999999999999,1340396.54,2687.75]
["EQT*170600059","SS","YH-AUR-VCAM","2017-06-08","2017-06-08","BR:CIMBINV","CIMB INVESTMENT BANK BHD","MYR",1155,"MAYBANK",6692107.5,6700.47,546811.28,"2017-06-08T14:57:10","soonchong",4.4279999999999999,4.4279999999999999,6692107.5,6700.47]
["EQT*170600060","SS","VCAM-TABA","2017-06-09","2017-06-09","BR:TASEC","TA SECURITIES HOLDINGS BHD","MYR",1368,"EDGENTA",150990.85,340.99,-26059.35,"2017-06-09T09:07:04","angie",4.4279999999999999,4.4279999999999999,150990.85,340.99]
["EQT*170600062","SS","KWAP","2017-06-09","2017-06-09","BR:AMINVBANK","AMINVESTMENT BANK BHD","MYR",4324,"HENGYUAN",498290.57,1124.6400000000001,20981.57,"2017-06-09T09:39:51","nik.faiz",4.4279999999999999,4.4279999999999999,498290.57,1124.6400000000001]
["EQT*170600063","SP","VCAM-TABA","2017-06-09","2017-06-09","BR:UBSSECMY","UBS SECURITIES MALAYSIA SDN BHD","MYR",5255,"ICON",310032.21000000002,695.24,0,"2017-06-09T09:41:16","angie",4.4279999999999999,4.4279999999999999,310032.21000000002,695.24]
["EQT*170600064","SP","KWAP","2017-06-09","2017-06-09","BR:AMINVBANK","AMINVESTMENT BANK BHD","MYR",5218,"SENERGY",188285.06,422.08,0,"2017-06-09T09:42:20","nik.faiz",4.4279999999999999,4.4279999999999999,188285.06,422.08]
["EQT*170600066","SS","KWAP","2017-06-09","2017-06-09","BR:KENANGAINV","KENANGA INVESTMENT BANK BHD","MYR",5211,"SUNINC",708279.79,1598.4,37199.769999999997,"2017-06-09T10:17:04","khairul.anwar",4.4279999999999999,4.4279999999999999,708279.79,1598.4]
["EQT*170600067","SP","ASEAN5ESG","2017-06-09","2017-06-09","BR:NOMURASECMY","NOMURA SECURITIES MALAYSIA SDN BHD","MYR",5014,"AIRPORT",184651.28,413.93,0,"2017-06-09T10:27:34","alex.lee",4.2625000000000002,4.2625000000000002,184651.28,413.93]
["EQT*170600068","SS","YH-AUR-VCAM","2017-06-09","2017-06-09","BR:NOMURASECMY","NOMURA SECURITIES MALAYSIA SDN BHD","MYR",1155,"MAYBANK",9571182.4399999995,9582.6,792187.85,"2017-06-09T11:03:05","alex.lee",4.4279999999999999,4.4279999999999999,9571182.4399999995,9582.6]
["EQT*170600070","SS","KWAP","2017-06-09","2017-06-09","BR:AMINVBANK","AMINVESTMENT BANK BHD","MYR",5347,"TENAGA",3730521.81,7479.42,89016.55,"2017-06-09T11:18:48","nik.faiz",4.4279999999999999,4.4279999999999999,3730521.81,7479.42]
["EQT*170600071","SS","YH-AUR-VCAM","2017-06-09","2017-06-09","BR:MACQUARIE","MACQUARIE CAPITAL SECURITIES (MALAYSIA) SDN BHD","MYR",5819,"HLBANK",4545689.99,9113.2199999999993,438154.53,"2017-06-09T14:38:26","alex.lee",4.4279999999999999,4.4279999999999999,4545689.99,9113.2199999999993]
["EQT*170600072","SP","ASEAN5ESG","2017-06-09","2017-06-09","BR:CLSALIMITED:F","CLSA LIMITED FOREIGN","IDR","ID1000058407","UNITTRACTORS",531739860,1853583,0,"2017-06-09T14:54:12","alex.lee",13290,4.2625000000000002,170544.85727990972,594.49943848758471]
["EQT*170600073","SS","VCAM-TABA","2017-06-09","2017-06-09","BR:UBSSECMY","UBS SECURITIES MALAYSIA SDN BHD","MYR",5225,"IHH",877570.95,1980.34,35551.64,"2017-06-09T14:59:39","angie",4.4279999999999999,4.4279999999999999,877570.95,1980.34]
["EQT*170600075","SS","KWAP","2017-06-09","2017-06-09","BR:AMINVBANK","AMINVESTMENT BANK BHD","MYR",5398,"GAMUDA",1616658.45,3241.62,102502.12,"2017-06-09T16:22:22","nik.faiz",4.4279999999999999,4.4279999999999999,1616658.45,3241.62]
["EQT*170600078","SP","KWAP","2017-06-13","2017-06-13","BR:CIMBINV","CIMB INVESTMENT BANK BHD","MYR",1295,"PBBANK",940094.08,2109.06,0,"2017-06-13T08:47:08","nik.faiz",4.4279999999999999,4.4279999999999999,940094.08,2109.06]
["EQT*170600079","SS","KWAP","2017-06-13","2017-06-13","BR:CIMBINV","CIMB INVESTMENT BANK BHD","MYR",5347,"TENAGA",1591108.91,3190.4,50472.07,"2017-06-13T08:47:30","nik.faiz",4.4279999999999999,4.4279999999999999,1591108.91,3190.4]
["EQT*170600080","SS","KWAP","2017-06-13","2017-06-13","BR:CIMBINV","CIMB INVESTMENT BANK BHD","MYR",1023,"CIMB",2008430.99,4027.08,364498.56,"2017-06-13T08:53:38","nik.faiz",4.4279999999999999,4.4279999999999999,2008430.99,4027.08]
["EQT*170600081","SS","YAMIR-VCAM","2017-06-13","2017-06-13","BR:MAYBANKINV","MAYBANK INVESTMENT BANK BHD","MYR",1155,"MAYBANK",241834.15,546.04999999999995,22305.97,"2017-06-13T10:08:24","nik.faiz",4.4279999999999999,4.4279999999999999,241834.15,546.04999999999995]
["EQT*170600082","SP","ASEAN5ESG","2017-06-13","2017-06-13","BR:MACQUARIE","MACQUARIE CAPITAL SECURITIES (MALAYSIA) SDN BHD","MYR",5014,"AIRPORT",100240.06,224.71,0,"2017-06-13T10:31:49","alex.lee",4.2599,4.2599,100240.06,224.71]
["EQT*170600083","SP","MEQESG","2017-06-13","2017-06-13","BR:UBSSECMY","UBS SECURITIES MALAYSIA SDN BHD","MYR",3816,"MISC",2918016.34,5821.44,0,"2017-06-13T10:42:39","angie",4.4279999999999999,4.4279999999999999,2918016.34,5821.44]
["EQT*170600085","SP","VCAM-TABA","2017-06-13","2017-06-13","BR:UBSSECMY","UBS SECURITIES MALAYSIA SDN BHD","MYR",3816,"MISC",773625.74,1735.52,0,"2017-06-13T10:53:14","angie",4.4279999999999999,4.4279999999999999,773625.74,1735.52]
["EQT*170600086","SP","VCAM-TABA","2017-06-13","2017-06-13","BR:UBSSECMY","UBS SECURITIES MALAYSIA SDN BHD","MYR",5255,"ICON",75277.73,168.75,0,"2017-06-13T10:53:30","angie",4.4279999999999999,4.4279999999999999,75277.73,168.75]
["EQT*170600087","SP","YAMIR-VCAM","2017-06-13","2017-06-13","BR:MAYBANKINV","MAYBANK INVESTMENT BANK BHD","MYR",3816,"MISC",85139.29,190.86,0,"2017-06-13T12:02:22","nik.faiz",4.4279999999999999,4.4279999999999999,85139.29,190.86]
["EQT*170600088","SP","MEQESG","2017-06-13","2017-06-13","BR:TASEC","TA SECURITIES HOLDINGS BHD","MYR",5204,"PRESBHD",186792.04,418.73,0,"2017-06-13T14:41:38","angie",4.4279999999999999,4.4279999999999999,186792.04,418.73]
["EQT*170600089","SS","MEQESG","2017-06-13","2017-06-13","BR:TASEC","TA SECURITIES HOLDINGS BHD","MYR",1368,"EDGENTA",67748.2,153,-11930.13,"2017-06-13T14:47:47","angie",4.4279999999999999,4.4279999999999999,67748.2,153]
["EQT*170600091","SP","ASEAN5ESG","2017-06-13","2017-06-13","BR:MACQUARIE:F","MACQUARIE CAPITAL SECURITIES (MALAYSIA) SDN BHD (FOREIGN)","THB","TH0646010R18","PTT",1066757.8799999999,2660,0,"2017-06-13T16:45:58","alex.lee",33.97,4.2599,133773.38513429495,333.56885487194586]
["EQT*170600092","SS","YH-AUR-VCAM","2017-06-14","2017-06-14","BR:KAFSEC","KAF-SEAGROATT & CAMPBELL SECURITIES SDN BHD","MYR",1155,"MAYBANK",9584568.2400000002,9596,805573.65,"2017-06-14T09:17:49","soonchong",4.4279999999999999,4.4279999999999999,9584568.2400000002,9596]
["EQT*170600093","SS","YH-AUR-VCAM","2017-06-14","2017-06-14","BR:BIMBSEC","BIMB SECURITIES SDN BHD","MYR",4197,"SIME",9601250.5399999991,9612.7000000000007,651519.92000000004,"2017-06-14T09:18:09","soonchong",4.4279999999999999,4.4279999999999999,9601250.5399999991,9612.7000000000007]
["EQT*170600094","SP","YH-AUR-VCAM","2017-06-14","2017-06-14","BR:KAFSEC","KAF-SEAGROATT & CAMPBELL SECURITIES SDN BHD","MYR",5249,"IOIPROP",30208.35,67.72,0,"2017-06-14T09:20:09","soonchong",4.4279999999999999,4.4279999999999999,30208.35,67.72]
["EQT*170600095","SS","KWAP","2017-06-14","2017-06-14","BR:NOMURASECMY","NOMURA SECURITIES MALAYSIA SDN BHD","MYR",1023,"CIMB",1999004.03,4008.18,355071.6,"2017-06-14T09:27:48","nik.faiz",4.4279999999999999,4.4279999999999999,1999004.03,4008.18]
["EQT*170600096","SS","KWAP","2017-06-14","2017-06-14","BR:NOMURASECMY","NOMURA SECURITIES MALAYSIA SDN BHD","MYR",4324,"HENGYUAN",1682108.95,3372.84,50777.95,"2017-06-14T09:28:08","nik.faiz",4.4279999999999999,4.4279999999999999,1682108.95,3372.84]
["EQT*170600097","SS","KWAP","2017-06-14","2017-06-14","BR:NOMURASECMY","NOMURA SECURITIES MALAYSIA SDN BHD","MYR",5347,"TENAGA",3307763.46,6632.1,86431.89,"2017-06-14T09:28:37","nik.faiz",4.4279999999999999,4.4279999999999999,3307763.46,6632.1]
["EQT*170600098","SS","KWAP","2017-06-14","2017-06-14","BR:NOMURASECMY","NOMURA SECURITIES MALAYSIA SDN BHD","MYR",5211,"SUNINC",1834117,3677.6,156416.94,"2017-06-14T09:29:07","nik.faiz",4.4279999999999999,4.4279999999999999,1834117,3677.6]
["EQT*170600099","SS","KWAP","2017-06-14","2017-06-14","BR:NOMURASECMY","NOMURA SECURITIES MALAYSIA SDN BHD","MYR",5123,"MQREIT",129388.95,292.20999999999998,11042.28,"2017-06-14T09:33:55","nik.faiz",4.4279999999999999,4.4279999999999999,129388.95,292.20999999999998]
["EQT*170600100","SP","VCAM-TABA","2017-06-14","2017-06-14","BR:UBSSECMY","UBS SECURITIES MALAYSIA SDN BHD","MYR",5255,"ICON",134883.25,302.37,0,"2017-06-14T09:40:40","angie",4.4279999999999999,4.4279999999999999,134883.25,302.37]
["EQT*170600101","SP","KWAP","2017-06-14","2017-06-14","BR:NOMURASECMY","NOMURA SECURITIES MALAYSIA SDN BHD","MYR",1295,"PBBANK",573862.43999999994,1287.26,0,"2017-06-14T09:46:19","nik.faiz",4.4279999999999999,4.4279999999999999,573862.43999999994,1287.26]
["EQT*170600102","SP","VCAM-TABA","2017-06-14","2017-06-14","BR:KENANGAINV","KENANGA INVESTMENT BANK BHD","MYR",5204,"PRESBHD",216884.63,486.23,0,"2017-06-14T10:54:13","angie",4.4279999999999999,4.4279999999999999,216884.63,486.23]
["EQT*170600103","SP","MEQESG","2017-06-14","2017-06-14","BR:KENANGAINV","KENANGA INVESTMENT BANK BHD","MYR",3816,"MISC",365183.89,819,0,"2017-06-14T10:54:31","angie",4.4279999999999999,4.4279999999999999,365183.89,819]
["EQT*170600104","SP","ASEAN5ESG","2017-06-14","2017-06-14","BR:UBSSECMY","UBS SECURITIES MALAYSIA SDN BHD","MYR",3816,"MISC",219169.28,491.35,0,"2017-06-14T11:04:22","alex.lee",4.2554999999999996,4.2554999999999996,219169.28,491.35]
["EQT*170600105","SS","KWAP","2017-06-14","2017-06-14","BR:CIMBINV","CIMB INVESTMENT BANK BHD","MYR",5398,"GAMUDA",1075171.8400000001,2156,65734.28,"2017-06-14T12:09:50","khairul.anwar",4.4279999999999999,4.4279999999999999,1075171.8400000001,2156]
["EQT*170600106","SP","YAMIR-VCAM","2017-06-14","2017-06-14","BR:AMINVBANK","AMINVESTMENT BANK BHD","MYR",3816,"MISC",146139.56,327.60000000000002,0,"2017-06-14T12:32:14","nik.faiz",4.4279999999999999,4.4279999999999999,146139.56,327.60000000000002]
["EQT*170600107","SP","ASEAN5ESG","2017-06-14","2017-06-14","BR:MACQUARIE:F","MACQUARIE CAPITAL SECURITIES (MALAYSIA) SDN BHD (FOREIGN)","IDR","ID1000129000","TELCOIND",1133278401,2824750,0,"2017-06-14T15:55:59","alex.lee",13280,4.2554999999999996,363152.57797104662,905.17497176204813]
["EQT*170600108","SS","YH-AUR-VCAM","2017-06-15","2017-06-15","BR:CIMBINV","CIMB INVESTMENT BANK BHD","MYR",5819,"HLBANK",1086292.28,2178.3000000000002,118283.09,"2017-06-15T09:15:22","soonchong",4.4279999999999999,4.4279999999999999,1086292.28,2178.3000000000002]
["EQT*170600109","SS","YH-AUR-VCAM","2017-06-15","2017-06-15","BR:CIMBINV","CIMB INVESTMENT BANK BHD","MYR",1155,"MAYBANK",9615435.4900000002,9626.9,836440.9,"2017-06-15T09:21:30","soonchong",4.4279999999999999,4.4279999999999999,9615435.4900000002,9626.9]
["EQT*170600111","SS","KWAP","2017-06-15","2017-06-15","BR:KENANGAINV","KENANGA INVESTMENT BANK BHD","MYR",5123,"MQREIT",638568.72,1441.13,46243.040000000001,"2017-06-15T15:00:19","khairul.anwar",4.4279999999999999,4.4279999999999999,638568.72,1441.13]
["EQT*170600112","SS","KWAP","2017-06-15","2017-06-15","BR:KENANGAINV","KENANGA INVESTMENT BANK BHD","MYR",1023,"CIMB",1347905.28,2702.8,251950.32,"2017-06-15T15:00:48","khairul.anwar",4.4279999999999999,4.4279999999999999,1347905.28,2702.8]
["EQT*170600114","SS","KWAP","2017-06-16","2017-06-16","BR:UBSSECMY","UBS SECURITIES MALAYSIA SDN BHD","MYR",1155,"MAYBANK",4737677.03,9498.01,353476.75,"2017-06-16T08:47:14","nik.faiz",4.4279999999999999,4.4279999999999999,4737677.03,9498.01]
["EQT*170600116","SS","KWAP","2017-06-16","2017-06-16","BR:MACQUARIE","MACQUARIE CAPITAL SECURITIES (MALAYSIA) SDN BHD","MYR",8206,"ECOWLD",167377.9,378,1833.35,"2017-06-16T08:52:26","nik.faiz",4.4279999999999999,4.4279999999999999,167377.9,378]
["EQT*170600119","SP","VCAM-TABA","2017-06-16","2017-06-16","BR:TASEC","TA SECURITIES HOLDINGS BHD","MYR",5255,"ICON",49683.8,111.38,0,"2017-06-16T09:25:33","angie",4.4279999999999999,4.4279999999999999,49683.8,111.38]
["EQT*170600120","SS","KWAP","2017-06-16","2017-06-16","BR:TASEC","TA SECURITIES HOLDINGS BHD","MYR",5123,"MQREIT",638197.73,1440.29,45753.59,"2017-06-16T09:37:48","khairul.anwar",4.4279999999999999,4.4279999999999999,638197.73,1440.29]
["EQT*170600121","SS","KWAP","2017-06-16","2017-06-16","BR:TASEC","TA SECURITIES HOLDINGS BHD","MYR",5398,"GAMUDA",2681745.44,5377,158151.54999999999,"2017-06-16T09:38:13","khairul.anwar",4.4279999999999999,4.4279999999999999,2681745.44,5377]
["EQT*170600122","SS","KWAP","2017-06-16","2017-06-16","BR:TASEC","TA SECURITIES HOLDINGS BHD","MYR",5211,"SUNINC",1995422.78,4001,317722.71999999997,"2017-06-16T09:38:39","khairul.anwar",4.4279999999999999,4.4279999999999999,1995422.78,4001]
["EQT*170600123","SP","YH-AUR-VCAM","2017-06-16","2017-06-16","BR:MACQUARIE","MACQUARIE CAPITAL SECURITIES (MALAYSIA) SDN BHD","MYR",5247,"KAREX",1564243.87,3120.48,0,"2017-06-16T09:45:27","soonchong",4.4279999999999999,4.4279999999999999,1564243.87,3120.48]
["EQT*170600125","SP","KWAP","2017-06-16","2017-06-16","BR:MACQUARIE","MACQUARIE CAPITAL SECURITIES (MALAYSIA) SDN BHD","MYR",5225,"IHH",2998542.19,5982.1,0,"2017-06-16T09:47:40","khairul.anwar",4.4279999999999999,4.4279999999999999,2998542.19,5982.1]
["EQT*170600126","SS","YH-AUR-VCAM","2017-06-16","2017-06-16","BR:MAYBANKINV","MAYBANK INVESTMENT BANK BHD","MYR",4197,"SIME",7689299.3600000003,7698.72,529514.87,"2017-06-16T09:49:48","soonchong",4.4279999999999999,4.4279999999999999,7689299.3600000003,7698.72]
["EQT*170600127","SS","YH-AUR-VCAM","2017-06-16","2017-06-16","BR:MAYBANKINV","MAYBANK INVESTMENT BANK BHD","MYR",5819,"HLBANK",4665824.76,9354,558289.30000000005,"2017-06-16T09:50:12","soonchong",4.4279999999999999,4.4279999999999999,4665824.76,9354]
["EQT*170600128","SP","ASEAN5ESG","2017-06-16","2017-06-16","BR:MACQUARIE:F","MACQUARIE CAPITAL SECURITIES (MALAYSIA) SDN BHD (FOREIGN)","PHP","PHY6028G1361","METROBANK",4316149.25,10757.85,0,"2017-06-16T10:59:05","alex.lee",49.89,4.2739000000000003,369749.25395019044,921.58699368610951]
["EQT*170600130","SP","ASEAN5ESG","2017-06-16","2017-06-16","BR:MACQUARIE:F","MACQUARIE CAPITAL SECURITIES (MALAYSIA) SDN BHD (FOREIGN)","THB","TH0646010R18","PTT",1907230.77,4755.75,0,"2017-06-16T12:04:54","alex.lee",33.950000000000003,4.2739000000000003,240097.60200008837,598.69219219440345]
["EQT*170600133","SS","MEQESG","2017-06-16","2017-06-16","BR:UBSSECMY","UBS SECURITIES MALAYSIA SDN BHD","MYR",1023,"CIMB",1346508.7,2700,454534.15,"2017-06-16T16:44:43","angie",4.4279999999999999,4.4279999999999999,1346508.7,2700]
["EQT*170600134","SS","KWAP","2017-06-19","2017-06-19","BR:AMINVBANK","AMINVESTMENT BANK BHD","MYR",1023,"CIMB",6005086.5199999996,6012.72,1073289.21,"2017-06-19T08:33:47","nik.faiz",4.4279999999999999,4.4279999999999999,6005086.5199999996,6012.72]
["EQT*170600136","SS","YH-AUR-VCAM","2017-06-19","2017-06-19","BR:CIMBINV","CIMB INVESTMENT BANK BHD","MYR",4197,"SIME",7671078.6900000004,7680.48,511294.2,"2017-06-19T09:38:03","soonchong",4.4279999999999999,4.4279999999999999,7671078.6900000004,7680.48]
["EQT*170600137","SS","YH-AUR-VCAM","2017-06-19","2017-06-19","BR:CIMBINV","CIMB INVESTMENT BANK BHD","MYR",5819,"HLBANK",942811.22,2127.5300000000002,107612.34,"2017-06-19T09:38:30","soonchong",4.4279999999999999,4.4279999999999999,942811.22,2127.5300000000002]
["EQT*170600138","SS","YH-AUR-VCAM","2017-06-19","2017-06-19","BR:CIMBINV","CIMB INVESTMENT BANK BHD","MYR",5185,"AFFIN",345887.82,780.81,41703.269999999997,"2017-06-19T09:39:19","soonchong",4.4279999999999999,4.4279999999999999,345887.82,780.81]
["EQT*170600139","SS","YH-AUR-VCAM","2017-06-19","2017-06-19","BR:MACQUARIE","MACQUARIE CAPITAL SECURITIES (MALAYSIA) SDN BHD","MYR",1155,"MAYBANK",9612738.3499999996,9624.2000000000007,833743.76,"2017-06-19T09:40:37","soonchong",4.4279999999999999,4.4279999999999999,9612738.3499999996,9624.2000000000007]
["EQT*170600140","SP","KWAP","2017-06-19","2017-06-19","BR:AMINVBANK","AMINVESTMENT BANK BHD","MYR",5225,"IHH",2991875.97,5968.8,0,"2017-06-19T10:12:36","nik.faiz",4.4279999999999999,4.4279999999999999,2991875.97,5968.8]
["EQT*170600141","SS","KWAP","2017-06-19","2017-06-19","BR:AMINVBANK","AMINVESTMENT BANK BHD","MYR",5347,"TENAGA",1438284.4,2884,37705.449999999997,"2017-06-19T10:39:01","nik.faiz",4.4279999999999999,4.4279999999999999,1438284.4,2884]
["EQT*170600142","SS","KWAP","2017-06-19","2017-06-19","BR:KENANGAINV","KENANGA INVESTMENT BANK BHD","MYR",5211,"SUNINC",1642385.27,3293.2,225064.27,"2017-06-19T11:05:10","khairul.anwar",4.4279999999999999,4.4279999999999999,1642385.27,3293.2]
["EQT*170600143","SS","KWAP","2017-06-19","2017-06-19","BR:KENANGAINV","KENANGA INVESTMENT BANK BHD","MYR",5249,"IOIPROP",1075770.3799999999,2157.1999999999998,45560.77,"2017-06-19T11:05:33","khairul.anwar",4.4279999999999999,4.4279999999999999,1075770.3799999999,2157.1999999999998]
["EQT*170600144","SP","YH-AUR-VCAM","2017-06-19","2017-06-19","BR:MACQUARIE","MACQUARIE CAPITAL SECURITIES (MALAYSIA) SDN BHD","MYR",5247,"KAREX",29491.43,66.11,0,"2017-06-19T11:48:39","soonchong",4.4279999999999999,4.4279999999999999,29491.43,66.11]
["EQT*170600145","SP","YH-AUR-VCAM","2017-06-19","2017-06-19","BR:MACQUARIE","MACQUARIE CAPITAL SECURITIES (MALAYSIA) SDN BHD","MYR",5230,"TUNEPRO",1293345.02,2580,0,"2017-06-19T17:05:00","soonchong",4.4279999999999999,4.4279999999999999,1293345.02,2580]
["EQT*170600146","SP","YAMIR-VCAM","2017-06-20","2017-06-20","BR:MIDFINV","MIDF AMANAH INVESTMENT BANK BHD","MYR",5218,"SENERGY",415654.72,932.25,0,"2017-06-20T09:14:07","nik.faiz",4.4279999999999999,4.4279999999999999,415654.72,932.25]
["EQT*170600147","SS","YH-AUR-VCAM","2017-06-20","2017-06-20","BR:KENANGAINV","KENANGA INVESTMENT BANK BHD","MYR",1155,"MAYBANK",9628821.2799999993,9640.2999999999993,849826.69,"2017-06-20T09:14:19","soonchong",4.4279999999999999,4.4279999999999999,9628821.2799999993,9640.2999999999993]
["EQT*170600148","SS","KWAP","2017-06-20","2017-06-20","BR:MIDFINV","MIDF AMANAH INVESTMENT BANK BHD","MYR",1023,"CIMB",3983334.71,7986.12,695469.84,"2017-06-20T09:14:28","nik.faiz",4.4279999999999999,4.4279999999999999,3983334.71,7986.12]
["EQT*170600149","SS","YH-AUR-VCAM","2017-06-20","2017-06-20","BR:KENANGAINV","KENANGA INVESTMENT BANK BHD","MYR",5185,"AFFIN",212818.65,480.59,24592.65,"2017-06-20T09:16:08","soonchong",4.4279999999999999,4.4279999999999999,212818.65,480.59]
["EQT*170600150","SS","YH-AUR-VCAM","2017-06-20","2017-06-20","BR:BIMBSEC","BIMB SECURITIES SDN BHD","MYR",4197,"SIME",7682027.0700000003,7691.44,522242.58,"2017-06-20T09:17:40","soonchong",4.4279999999999999,4.4279999999999999,7682027.0700000003,7691.44]
["EQT*170600151","SS","KWAP","2017-06-20","2017-06-20","BR:MIDFINV","MIDF AMANAH INVESTMENT BANK BHD","MYR",5249,"IOIPROP",1151904.28,2309.84,42162.49,"2017-06-20T09:17:57","nik.faiz",4.4279999999999999,4.4279999999999999,1151904.28,2309.84]
["EQT*170600152","SP","YH-AUR-VCAM","2017-06-20","2017-06-20","BR:MACQUARIE","MACQUARIE CAPITAL SECURITIES (MALAYSIA) SDN BHD","MYR",5247,"KAREX",892004.05,2001.15,0,"2017-06-20T09:20:49","soonchong",4.4279999999999999,4.4279999999999999,892004.05,2001.15]
["EQT*170600153","SS","YH-AUR-VCAM","2017-06-20","2017-06-20","BR:MACQUARIE","MACQUARIE CAPITAL SECURITIES (MALAYSIA) SDN BHD","MYR",5819,"HLBANK",3083782.87,6183.04,345425.9,"2017-06-20T09:21:10","soonchong",4.4279999999999999,4.4279999999999999,3083782.87,6183.04]
["EQT*170600154","SS","YAMIR-VCAM","2017-06-20","2017-06-20","BR:MIDFINV","MIDF AMANAH INVESTMENT BANK BHD","MYR",1155,"MAYBANK",288269.15000000002,650.80999999999995,28298.15,"2017-06-20T09:36:30","nik.faiz",4.4279999999999999,4.4279999999999999,288269.15000000002,650.80999999999995]
["EQT*170600155","SS","KWAP","2017-06-20","2017-06-20","BR:KENANGAINV","KENANGA INVESTMENT BANK BHD","MYR",5211,"SUNINC",303525.76000000001,685.24,43146.71,"2017-06-20T09:38:06","khairul.anwar",4.4279999999999999,4.4279999999999999,303525.76000000001,685.24]
["EQT*170600156","SP","KWAP","2017-06-20","2017-06-20","BR:KENANGAINV","KENANGA INVESTMENT BANK BHD","MYR",5225,"IHH",2401359.7999999998,4790.6400000000003,0,"2017-06-20T11:17:17","khairul.anwar",4.4279999999999999,4.4279999999999999,2401359.7999999998,4790.6400000000003]
["EQT*170600157","SP","MEQESG","2017-06-20","2017-06-20","BR:CIMBINV","CIMB INVESTMENT BANK BHD","MYR",6012,"MAXIS",16808665.239999998,41910.6,0,"2017-06-20T12:36:50","shan",4.4279999999999999,4.4279999999999999,16808665.239999998,41910.6]
["EQT*170600158","SP","VCAM-TABA","2017-06-20","2017-06-20","BR:CIMBINV","CIMB INVESTMENT BANK BHD","MYR",6012,"MAXIS",608809.07999999996,1518,0,"2017-06-20T12:36:50","shan",4.4279999999999999,4.4279999999999999,608809.07999999996,1518]
["EQT*170600159","SP","YH-AUR-VCAM","2017-06-20","2017-06-20","BR:CIMBINV","CIMB INVESTMENT BANK BHD","MYR",6012,"MAXIS",22138512,55200,0,"2017-06-20T12:36:50","shan",4.4279999999999999,4.4279999999999999,22138512,55200]
["EQT*170600160","SP","KWAP","2017-06-20","2017-06-20","BR:MACQUARIE","MACQUARIE CAPITAL SECURITIES (MALAYSIA) SDN BHD","MYR",5218,"SENERGY",849639.86,1906.09,0,"2017-06-20T15:37:38","khairul.anwar",4.4279999999999999,4.4279999999999999,849639.86,1906.09]
["EQT*170600161","SS","VCAM-TABA","2017-06-20","2017-06-20","BR:KENANGAINV","KENANGA INVESTMENT BANK BHD","MYR",5703,"MUHIBAH",168015.15,379.44,32518.25,"2017-06-20T16:01:14","angie",4.4279999999999999,4.4279999999999999,168015.15,379.44]
["EQT*170600162","SS","KWAP","2017-06-21","2017-06-21","BR:HLGINV","HONG LEONG INVESTMENT BANK BHD","MYR",1023,"CIMB",3314349.37,6645.3,574461.98,"2017-06-21T08:36:57","nik.faiz",4.4279999999999999,4.4279999999999999,3314349.37,6645.3]
["EQT*170600164","SS","YAMIR-VCAM","2017-06-21","2017-06-21","BR:HLGINV","HONG LEONG INVESTMENT BANK BHD","MYR",5210,"BAB",337858.75,762.69,2523.5700000000002,"2017-06-21T09:06:13","nik.faiz",4.4279999999999999,4.4279999999999999,337858.75,762.69]
["EQT*170600165","SS","KWAP","2017-06-21","2017-06-21","BR:TASEC","TA SECURITIES HOLDINGS BHD","MYR",5249,"IOIPROP",1065196.22,2136,34986.61,"2017-06-21T09:07:43","khairul.anwar",4.4279999999999999,4.4279999999999999,1065196.22,2136]
["EQT*170600166","SS","YH-AUR-VCAM","2017-06-21","2017-06-21","BR:MAYBANKINV","MAYBANK INVESTMENT BANK BHD","MYR",5185,"AFFIN",120153.02,271.35000000000002,13877.36,"2017-06-21T09:11:18","soonchong",4.4279999999999999,4.4279999999999999,120153.02,271.35000000000002]
["EQT*170600168","SS","YH-AUR-VCAM","2017-06-21","2017-06-21","BR:HLGINV","HONG LEONG INVESTMENT BANK BHD","MYR",5819,"HLBANK",1854916.96,3719.3,201716.09,"2017-06-21T09:42:22","soonchong",4.4279999999999999,4.4279999999999999,1854916.96,3719.3]
["EQT*170600169","SS","YH-AUR-VCAM","2017-06-21","2017-06-21","BR:HLGINV","HONG LEONG INVESTMENT BANK BHD","MYR",1155,"MAYBANK",2209988.39,4431.18,190819.63,"2017-06-21T09:44:04","soonchong",4.4279999999999999,4.4279999999999999,2209988.39,4431.18]
["EQT*170600170","SP","YH-AUR-VCAM","2017-06-21","2017-06-21","BR:MAYBANKINV","MAYBANK INVESTMENT BANK BHD","MYR",5247,"KAREX",861271.21,1932.19,0,"2017-06-21T09:47:32","soonchong",4.4279999999999999,4.4279999999999999,861271.21,1932.19]
["EQT*170600172","SP","VCAM-TABA","2017-06-21","2017-06-21","BR:UBSSECMY","UBS SECURITIES MALAYSIA SDN BHD","MYR",5218,"SENERGY",168622.1,378,0,"2017-06-21T10:00:28","angie",4.4279999999999999,4.4279999999999999,168622.1,378]
["EQT*170600173","SP","ASEAN5ESG","2017-06-21","2017-06-21","BR:MACQUARIE:F","MACQUARIE CAPITAL SECURITIES (MALAYSIA) SDN BHD (FOREIGN)","PHP","PHY6028G1361","METROBANK",1362025.26,3394.8,0,"2017-06-21T11:07:42","alex.lee",50.29,4.2861000000000002,116082.25227452775,289.33092622787836]
["EQT*170600174","SS","MEQESG","2017-06-21","2017-06-21","BR:KENANGAINV","KENANGA INVESTMENT BANK BHD","MYR",1368,"EDGENTA",167829.67,379.02,-49595.38,"2017-06-21T14:39:50","angie",4.4279999999999999,4.4279999999999999,167829.67,379.02]
["EQT*170600177","SS","VCAM-TABA","2017-06-21","2017-06-21","BR:KENANGAINV","KENANGA INVESTMENT BANK BHD","MYR",3816,"MISC",182079.01,411.2,3999.12,"2017-06-21T16:49:58","angie",4.4279999999999999,4.4279999999999999,182079.01,411.2]
["EQT*170600180","SP","YH-AUR-VCAM","2017-06-22","2017-06-22","BR:MAYBANKINV","MAYBANK INVESTMENT BANK BHD","MYR",5247,"KAREX",663302.04,1487.96,0,"2017-06-22T09:18:32","soonchong",4.4279999999999999,4.4279999999999999,663302.04,1487.96]
["EQT*170600181","SS","YH-AUR-VCAM","2017-06-22","2017-06-22","BR:MAYBANKINV","MAYBANK INVESTMENT BANK BHD","MYR",4197,"SIME",7670838.9500000002,7680.24,511054.46,"2017-06-22T09:19:08","soonchong",4.4279999999999999,4.4279999999999999,7670838.9500000002,7680.24]
["EQT*170600183","SS","YH-AUR-VCAM","2017-06-22","2017-06-22","BR:MAYBANKINV","MAYBANK INVESTMENT BANK BHD","MYR",5819,"HLBANK",964958.6,2177.4899999999998,102376.15,"2017-06-22T09:21:18","soonchong",4.4279999999999999,4.4279999999999999,964958.6,2177.4899999999998]
["EQT*170600184","SS","MEQESG","2017-06-22","2017-06-22","BR:KENANGAINV","KENANGA INVESTMENT BANK BHD","MYR",1368,"EDGENTA",1257998.71,2522.5500000000002,-473529.75,"2017-06-22T09:37:59","angie",4.4279999999999999,4.4279999999999999,1257998.71,2522.5500000000002]
["EQT*170600185","SS","KWAP","2017-06-22","2017-06-22","BR:KAFSEC","KAF-SEAGROATT & CAMPBELL SECURITIES SDN BHD","MYR",1023,"CIMB",6652479.5499999998,6660.8,1172704.77,"2017-06-22T10:26:48","nik.faiz",4.4279999999999999,4.4279999999999999,6652479.5499999998,6660.8]
["EQT*170600186","SP","YH-AUR-VCAM","2017-06-22","2017-06-22","BR:MACQUARIE","MACQUARIE CAPITAL SECURITIES (MALAYSIA) SDN BHD","MYR",5230,"TUNEPRO",1263271.8799999999,2520,0,"2017-06-22T10:34:59","alex.lee",4.4279999999999999,4.4279999999999999,1263271.8799999999,2520]
["EQT*170600187","SS","KWAP","2017-06-22","2017-06-22","BR:MACQUARIE","MACQUARIE CAPITAL SECURITIES (MALAYSIA) SDN BHD","MYR",5249,"IOIPROP",1062851.94,2131.3000000000002,32642.33,"2017-06-22T10:45:44","khairul.anwar",4.4279999999999999,4.4279999999999999,1062851.94,2131.3000000000002]
["EQT*170600188","SP","KWAP","2017-06-22","2017-06-22","BR:MACQUARIE","MACQUARIE CAPITAL SECURITIES (MALAYSIA) SDN BHD","MYR",5218,"SENERGY",1553277.2,3098.6,0,"2017-06-22T11:32:05","khairul.anwar",4.4279999999999999,4.4279999999999999,1553277.2,3098.6]
["EQT*170600189","SS","VCAM-TABA","2017-06-22","2017-06-22","BR:KENANGAINV","KENANGA INVESTMENT BANK BHD","MYR",8567,"SALCON",172398.26,389.34,-10402.64,"2017-06-22T12:08:06","angie",4.4279999999999999,4.4279999999999999,172398.26,389.34]
["EQT*170600190","SP","YAMIR-VCAM","2017-06-22","2017-06-22","BR:KAFSEC","KAF-SEAGROATT & CAMPBELL SECURITIES SDN BHD","MYR",5218,"SENERGY",775289.42,1739.25,0,"2017-06-22T14:53:19","nik.faiz",4.4279999999999999,4.4279999999999999,775289.42,1739.25]
["EQT*170600191","SS","YAMIR-VCAM","2017-06-22","2017-06-22","BR:KAFSEC","KAF-SEAGROATT & CAMPBELL SECURITIES SDN BHD","MYR",1155,"MAYBANK",477305.8,1077.3,44020.800000000003,"2017-06-22T15:43:49","nik.faiz",4.4279999999999999,4.4279999999999999,477305.8,1077.3]
["EQT*170600193","SS","VCAM-TABA","2017-06-28","2017-06-28","BR:KENANGAINV","KENANGA INVESTMENT BANK BHD","MYR",8567,"SALCON",279043.15999999997,630,-21199.31,"2017-06-28T09:38:00","angie",4.4279999999999999,4.4279999999999999,279043.15999999997,630]
["EQT*170600196","SP","MEQESG","2017-06-28","2017-06-28","BR:UBSSECMY","UBS SECURITIES MALAYSIA SDN BHD","MYR",6888,"AXIATA",1002031.44,2248.04,0,"2017-06-28T09:52:51","angie",4.4279999999999999,4.4279999999999999,1002031.44,2248.04]
["EQT*170600197","SP","VCAM-TABA","2017-06-28","2017-06-28","BR:UBSSECMY","UBS SECURITIES MALAYSIA SDN BHD","MYR",6888,"AXIATA",122896.47,275.5,0,"2017-06-28T09:52:51","angie",4.4279999999999999,4.4279999999999999,122896.47,275.5]
["EQT*170600198","SS","YH-AUR-VCAM","2017-06-28","2017-06-28","BR:MAYBANKINV","MAYBANK INVESTMENT BANK BHD","MYR",1155,"MAYBANK",9616534.3200000003,9628,837539.73,"2017-06-28T10:00:43","alex.lee",4.4279999999999999,4.4279999999999999,9616534.3200000003,9628]
["EQT*170600199","SP","YH-AUR-VCAM","2017-06-28","2017-06-28","BR:MAYBANKINV","MAYBANK INVESTMENT BANK BHD","MYR",5230,"TUNEPRO",1249237.75,2492,0,"2017-06-28T10:36:41","alex.lee",4.4279999999999999,4.4279999999999999,1249237.75,2492]
["EQT*170600200","SS","VCAM-TABA","2017-06-28","2017-06-28","BR:KENANGAINV","KENANGA INVESTMENT BANK BHD","MYR",5070,"PRTASCO",102832.01,232.23,-8031.42,"2017-06-28T11:54:32","angie",4.4279999999999999,4.4279999999999999,102832.01,232.23]
["EQT*170600202","SP","MEQESG","2017-06-28","2017-06-28","BR:UBSSECMY","UBS SECURITIES MALAYSIA SDN BHD","MYR",3816,"MISC",693075.81,1554.77,0,"2017-06-28T16:25:23","angie",4.4279999999999999,4.4279999999999999,693075.81,1554.77]
["EQT*170600203","SP","VCAM-TABA","2017-06-28","2017-06-28","BR:UBSSECMY","UBS SECURITIES MALAYSIA SDN BHD","MYR",3816,"MISC",220393.58,494.1,0,"2017-06-28T16:25:23","angie",4.4279999999999999,4.4279999999999999,220393.58,494.1]
["EQT*170600204","SP","ASEAN5ESG","2017-06-28","2017-06-28","BR:MAYBANKINV","MAYBANK INVESTMENT BANK BHD","MYR",2488,"AFG",248519.4,557.21,0,"2017-06-28T16:58:26","alex.lee",4.2965,4.2965,248519.4,557.21]
["EQT*170600205","SP","MEQESG","2017-06-29","2017-06-29","BR:UBSSECMY","UBS SECURITIES MALAYSIA SDN BHD","MYR",3816,"MISC",381827.16,856.35,0,"2017-06-29T10:25:23","angie",4.4279999999999999,4.4279999999999999,381827.16,856.35]
["EQT*170600206","SP","VCAM-TABA","2017-06-29","2017-06-29","BR:UBSSECMY","UBS SECURITIES MALAYSIA SDN BHD","MYR",3816,"MISC",132233.72,296.43,0,"2017-06-29T10:25:23","angie",4.4279999999999999,4.4279999999999999,132233.72,296.43]
["EQT*170600207","SS","MEQESG","2017-06-29","2017-06-29","BR:NOMURASECMY","NOMURA SECURITIES MALAYSIA SDN BHD","MYR",138,"MYEG",347657.19,784.8,155875.56,"2017-06-29T10:25:51","angie",4.4279999999999999,4.4279999999999999,347657.19,784.8]
["EQT*170600209","SS","KWAP","2017-06-29","2017-06-29","BR:KENANGAINV","KENANGA INVESTMENT BANK BHD","MYR",5398,"GAMUDA",931882.75,2102.87,73860.83,"2017-06-29T11:46:24","khairul.anwar",4.4279999999999999,4.4279999999999999,931882.75,2102.87]
["EQT*170600210","SP","YH-AUR-VCAM","2017-06-29","2017-06-29","BR:MAYBANKINV","MAYBANK INVESTMENT BANK BHD","MYR",5230,"TUNEPRO",1251342.8700000001,2496.1999999999998,0,"2017-06-29T11:50:40","alex.lee",4.4279999999999999,4.4279999999999999,1251342.8700000001,2496.1999999999998]
["EQT*170600211","SS","KWAP","2017-06-29","2017-06-29","BR:KENANGAINV","KENANGA INVESTMENT BANK BHD","MYR",5249,"IOIPROP",640663.05000000005,1445.85,27688.33,"2017-06-29T12:00:36","khairul.anwar",4.4279999999999999,4.4279999999999999,640663.05000000005,1445.85]
["EQT*170600212","SP","MEQESG","2017-06-29","2017-06-29","BR:UBSSECMY","UBS SECURITIES MALAYSIA SDN BHD","MYR",6888,"AXIATA",984292.84,2208.2399999999998,0,"2017-06-29T12:14:41","angie",4.4279999999999999,4.4279999999999999,984292.84,2208.2399999999998]
["EQT*170600218","SP","ASEAN5ESG","2017-06-29","2017-06-29","BR:MACQUARIE:F","MACQUARIE CAPITAL SECURITIES (MALAYSIA) SDN BHD (FOREIGN)","THB","TH0143010R16","LANDHOUSES",826135.8,2060,0,"2017-06-29T16:18:11","alex.lee",33.96,4.2908999999999997,104383.57197349823,260.28427561837452]
["EQT*170600219","SS","VCAM-TABA","2017-06-30","2017-06-30","BR:TASEC","TA SECURITIES HOLDINGS BHD","MYR",5070,"PRTASCO",5409.86,40,-454.74,"2017-06-30T09:05:12","angie",4.4279999999999999,4.4279999999999999,5409.86,40]
["EQT*170600223","SP","MEQESG","2017-06-30","2017-06-30","BR:UBSSECMY","UBS SECURITIES MALAYSIA SDN BHD","MYR",6888,"AXIATA",1214478.21,2422.65,0,"2017-06-30T09:33:22","angie",4.4279999999999999,4.4279999999999999,1214478.21,2422.65]
["EQT*170600224","SS","MEQESG","2017-06-30","2017-06-30","BR:UBSSECMY","UBS SECURITIES MALAYSIA SDN BHD","MYR",4197,"SIME",1895167.8,3800,397555.22,"2017-06-30T10:48:07","angie",4.4279999999999999,4.4279999999999999,1895167.8,3800]
["EQT*170600225","SS","MEQESG","2017-06-30","2017-06-30","BR:UBSSECMY","UBS SECURITIES MALAYSIA SDN BHD","MYR",1155,"MAYBANK",1918071.82,3845.92,281184.06,"2017-06-30T15:06:54","angie",4.4279999999999999,4.4279999999999999,1918071.82,3845.92]
["EQT*170600226","SS","MEQESG","2017-06-30","2017-06-30","BR:UBSSECMY","UBS SECURITIES MALAYSIA SDN BHD","MYR",4863,"TM",1321170.6299999999,2649.2,-23566.75,"2017-06-30T16:00:49","angie",4.4279999999999999,4.4279999999999999,1321170.6299999999,2649.2]
["EQT*170600228","SP","KWAP","2017-06-30","2017-06-30","BR:KENANGAINV","KENANGA INVESTMENT BANK BHD","MYR",5183,"PCHEM",713121.84,1599.75,0,"2017-06-30T16:43:59","khairul.anwar",4.4279999999999999,4.4279999999999999,713121.84,1599.75]
["EQT*170700001","SP","KWAP","2017-07-03","2017-07-03","BR:TASEC","TA SECURITIES HOLDINGS BHD","MYR",5218,"SENERGY",1135982.3,2266.04,0,"2017-07-03T09:16:22","khairul.anwar",4.4279999999999999,4.4279999999999999,1135982.3,2266.04]
["EQT*170700003","SP","KWAP","2017-07-03","2017-07-03","BR:TASEC","TA SECURITIES HOLDINGS BHD","MYR",5183,"PCHEM",714405.3,1602.63,0,"2017-07-03T09:48:17","khairul.anwar",4.4279999999999999,4.4279999999999999,714405.3,1602.63]
["EQT*170700004","SS","VCAM-TABA","2017-07-03","2017-07-03","BR:TASEC","TA SECURITIES HOLDINGS BHD","MYR",5070,"PRTASCO",806189.66,1819.29,-83311.72,"2017-07-03T09:52:37","angie",4.4279999999999999,4.4279999999999999,806189.66,1819.29]
["EQT*170700008","SP","MEQESG","2017-07-03","2017-07-03","BR:UBSSECMY","UBS SECURITIES MALAYSIA SDN BHD","MYR",6012,"MAXIS",1655696.3,3302.94,0,"2017-07-03T09:56:31","angie",4.4279999999999999,4.4279999999999999,1655696.3,3302.94]
["EQT*170700009","SP","VCAM-TABA","2017-07-03","2017-07-03","BR:UBSSECMY","UBS SECURITIES MALAYSIA SDN BHD","MYR",6012,"MAXIS",254109.88,569.76,0,"2017-07-03T09:56:31","angie",4.4279999999999999,4.4279999999999999,254109.88,569.76]
["EQT*170700010","SP","VCAM-TABA","2017-07-03","2017-07-03","BR:TASEC","TA SECURITIES HOLDINGS BHD","MYR",5225,"IHH",832902.93,1868.53,0,"2017-07-03T11:10:28","angie",4.4279999999999999,4.4279999999999999,832902.93,1868.53]
["EQT*170700011","SP","KWAP","2017-07-03","2017-07-03","BR:TASEC","TA SECURITIES HOLDINGS BHD","MYR",6012,"MAXIS",2760914.25,5508,0,"2017-07-03T12:12:58","khairul.anwar",4.4279999999999999,4.4279999999999999,2760914.25,5508]
["EQT*170700012","SS","KWAP","2017-07-03","2017-07-03","BR:TASEC","TA SECURITIES HOLDINGS BHD","MYR",5249,"IOIPROP",1529408.45,3066.69,81963.95,"2017-07-03T15:02:34","nik.faiz",4.4279999999999999,4.4279999999999999,1529408.45,3066.69]
["EQT*170700013","SS","YH-AUR-VCAM","2017-07-03","2017-07-03","BR:NOMURASECMY","NOMURA SECURITIES MALAYSIA SDN BHD","MYR",1155,"MAYBANK",7701846.04,7711.28,678650.36,"2017-07-03T15:07:12","soonchong",4.4279999999999999,4.4279999999999999,7701846.04,7711.28]
["EQT*170700014","SP","ASEAN5ESG","2017-07-03","2017-07-03","BR:MAYBANKINV","MAYBANK INVESTMENT BANK BHD","MYR",6012,"MAXIS",110608.87,247.95,0,"2017-07-03T16:38:59","alex.lee",4.2995000000000001,4.2995000000000001,110608.87,247.95]
["EQT*170700015","SS","VCAM-TABA","2017-07-03","2017-07-03","BR:TASEC","TA SECURITIES HOLDINGS BHD","MYR",5271,5271,28244.36,63.79,590.83000000000004,"2017-07-03T16:43:22","angie",4.4279999999999999,4.4279999999999999,28244.36,63.79]
["EQT*170700016","SP","YH-AUR-VCAM","2017-07-04","2017-07-04","BR:MAYBANKINV","MAYBANK INVESTMENT BANK BHD","MYR",5247,"KAREX",1360708.85,2714.4,0,"2017-07-04T09:31:45","soonchong",4.4279999999999999,4.4279999999999999,1360708.85,2714.4]
["EQT*170700017","SS","YH-AUR-VCAM","2017-07-04","2017-07-04","BR:MAYBANKINV","MAYBANK INVESTMENT BANK BHD","MYR",1155,"MAYBANK",7708159.3399999999,7717.6,684963.66,"2017-07-04T09:32:10","soonchong",4.4279999999999999,4.4279999999999999,7708159.3399999999,7717.6]
["EQT*170700018","SP","MEQESG","2017-07-04","2017-07-04","BR:TASEC","TA SECURITIES HOLDINGS BHD","MYR",6888,"AXIATA",720942.92,1617.3,0,"2017-07-04T10:08:41","angie",4.4279999999999999,4.4279999999999999,720942.92,1617.3]
["EQT*170700019","SP","MEQESG","2017-07-04","2017-07-04","BR:TASEC","TA SECURITIES HOLDINGS BHD","MYR",6012,"MAXIS",1655034.69,3301.62,0,"2017-07-04T10:09:41","angie",4.4279999999999999,4.4279999999999999,1655034.69,3301.62]
["EQT*170700022","SS","YH-AUR-VCAM","2017-07-04","2017-07-04","BR:MAYBANKINV","MAYBANK INVESTMENT BANK BHD","MYR",5185,"AFFIN",304226.90000000002,686.82,35231.4,"2017-07-04T11:36:14","soonchong",4.4279999999999999,4.4279999999999999,304226.90000000002,686.82]
["EQT*170700024","SP","YAMIR-VCAM","2017-07-05","2017-07-05","BR:KENANGAINV","KENANGA INVESTMENT BANK BHD","MYR",5218,"SENERGY",162599.89000000001,364.5,0,"2017-07-05T09:26:54","nik.faiz",4.4279999999999999,4.4279999999999999,162599.89000000001,364.5]
["EQT*170700025","SP","KWAP","2017-07-05","2017-07-05","BR:KENANGAINV","KENANGA INVESTMENT BANK BHD","MYR",6012,"MAXIS",2772743.02,5531.6,0,"2017-07-05T09:33:04","nik.faiz",4.4279999999999999,4.4279999999999999,2772743.02,5531.6]
["EQT*170700027","SS","YH-AUR-VCAM","2017-07-05","2017-07-05","BR:KAFSEC","KAF-SEAGROATT & CAMPBELL SECURITIES SDN BHD","MYR",1155,"MAYBANK",4814259.41,9651.5,424762.11,"2017-07-05T09:52:16","soonchong",4.4279999999999999,4.4279999999999999,4814259.41,9651.5]
["EQT*170700028","SS","YH-AUR-VCAM","2017-07-05","2017-07-05","BR:KAFSEC","KAF-SEAGROATT & CAMPBELL SECURITIES SDN BHD","MYR",5185,"AFFIN",88846.94,200.65,9966.7900000000009,"2017-07-05T09:52:37","soonchong",4.4279999999999999,4.4279999999999999,88846.94,200.65]
["EQT*170700029","SP","MEQESG","2017-07-05","2017-07-05","BR:CIMBINV","CIMB INVESTMENT BANK BHD","MYR",6012,"MAXIS",1105889.1100000001,2206,0,"2017-07-05T09:56:33","angie",4.4279999999999999,4.4279999999999999,1105889.1100000001,2206]
["EQT*170700031","SP","MEQESG","2017-07-05","2017-07-05","BR:TASEC","TA SECURITIES HOLDINGS BHD","MYR",6888,"AXIATA",714325.08,1602.45,0,"2017-07-05T10:54:13","angie",4.4279999999999999,4.4279999999999999,714325.08,1602.45]
["EQT*170700034","SP","YAMIR-VCAM","2017-07-05","2017-07-05","BR:MAYBANKINV","MAYBANK INVESTMENT BANK BHD","MYR",5284,"LCTITAN",1464864.7,14495,0,"2017-07-05","atiqah",4.4279999999999999,4.4279999999999999,1464864.7,14495]
["EQT*170700035","SP","YH-AUR-VCAM","2017-07-05","2017-07-05","BR:MAYBANKINV","MAYBANK INVESTMENT BANK BHD","MYR",5284,"LCTITAN",132750900.09999999,1313585,0,"2017-07-05","atiqah",4.4279999999999999,4.4279999999999999,132750900.09999999,1313585]
["EQT*170700036","SP","KWAP","2017-07-05","2017-07-05","BR:MAYBANKINV","MAYBANK INVESTMENT BANK BHD","MYR",5284,"LCTITAN",69420135.200000003,686920,0,"2017-07-05","atiqah",4.4279999999999999,4.4279999999999999,69420135.200000003,686920]
["EQT*170700037","SP","MEQESG","2017-07-06","2017-07-06","BR:KENANGAINV","KENANGA INVESTMENT BANK BHD","MYR",6888,"AXIATA",717889.69,1610.45,0,"2017-07-06T09:12:32","angie",4.4279999999999999,4.4279999999999999,717889.69,1610.45]
["EQT*170700040","SP","MEQESG","2017-07-06","2017-07-06","BR:UBSSECMY","UBS SECURITIES MALAYSIA SDN BHD","MYR",6012,"MAXIS",1655726.36,3303,0,"2017-07-06T09:32:49","angie",4.4279999999999999,4.4279999999999999,1655726.36,3303]
["EQT*170700041","SP","YH-AUR-VCAM","2017-07-06","2017-07-06","BR:MIDFINV","MIDF AMANAH INVESTMENT BANK BHD","MYR",5247,"KAREX",842470.52,1890,0,"2017-07-06T09:41:21","soonchong",4.4279999999999999,4.4279999999999999,842470.52,1890]
["EQT*170700042","SS","YH-AUR-VCAM","2017-07-06","2017-07-06","BR:MIDFINV","MIDF AMANAH INVESTMENT BANK BHD","MYR",1155,"MAYBANK",4816105.49,9655.2000000000007,426608.19,"2017-07-06T09:41:45","soonchong",4.4279999999999999,4.4279999999999999,4816105.49,9655.2000000000007]
["EQT*170700043","SS","VCAM-TABA","2017-07-06","2017-07-06","BR:KENANGAINV","KENANGA INVESTMENT BANK BHD","MYR",8567,"SALCON",57909.13,130.78,-6643.09,"2017-07-06T09:53:44","angie",4.4279999999999999,4.4279999999999999,57909.13,130.78]
["EQT*170700044","SS","VCAM-TABA","2017-07-06","2017-07-06","BR:KENANGAINV","KENANGA INVESTMENT BANK BHD","MYR",5271,5271,331899.90000000002,749.25,15859.53,"2017-07-06T10:43:57","angie",4.4279999999999999,4.4279999999999999,331899.90000000002,749.25]
["EQT*170700045","SP","KWAP","2017-07-06","2017-07-06","BR:MIDFINV","MIDF AMANAH INVESTMENT BANK BHD","MYR",5347,"TENAGA",1415441.97,2823.6,0,"2017-07-06T10:44:19","nik.faiz",4.4279999999999999,4.4279999999999999,1415441.97,2823.6]
["EQT*170700046","SP","KWAP","2017-07-06","2017-07-06","BR:MIDFINV","MIDF AMANAH INVESTMENT BANK BHD","MYR",6012,"MAXIS",2203759.21,4396.3999999999996,0,"2017-07-06T10:44:43","nik.faiz",4.4279999999999999,4.4279999999999999,2203759.21,4396.3999999999996]
["EQT*170700047","SP","VCAM-TABA","2017-07-06","2017-07-06","BR:UBSSECMY","UBS SECURITIES MALAYSIA SDN BHD","MYR",6012,"MAXIS",127084.24,284.88,0,"2017-07-06T11:12:21","angie",4.4279999999999999,4.4279999999999999,127084.24,284.88]
["EQT*170700048","SP","VCAM-TABA","2017-07-06","2017-07-06","BR:KENANGAINV","KENANGA INVESTMENT BANK BHD","MYR",6888,"AXIATA",47893.98,107.36,0,"2017-07-06T11:53:38","angie",4.4279999999999999,4.4279999999999999,47893.98,107.36]
["EQT*170700051","SS","KWAP","2017-07-06","2017-07-06","BR:TASEC","TA SECURITIES HOLDINGS BHD","MYR",5398,"GAMUDA",812726.71,1834.04,55648.55,"2017-07-06T15:16:51","khairul.anwar",4.4279999999999999,4.4279999999999999,812726.71,1834.04]
["EQT*170700053","SP","ASEAN5ESG","2017-07-06","2017-07-06","BR:MACQUARIE","MACQUARIE CAPITAL SECURITIES (MALAYSIA) SDN BHD","MYR",6012,"MAXIS",82893.240000000005,185.82,0,"2017-07-06T15:40:13","alex.lee",4.2969999999999997,4.2969999999999997,82893.240000000005,185.82]
["EQT*170700054","SS","KWAP","2017-07-07","2017-07-07","BR:MACQUARIE","MACQUARIE CAPITAL SECURITIES (MALAYSIA) SDN BHD","MYR",5398,"GAMUDA",975312.04,2200.85,66818.240000000005,"2017-07-07T09:40:29","khairul.anwar",4.4279999999999999,4.4279999999999999,975312.04,2200.85]
["EQT*170700059","SP","MEQESG","2017-07-07","2017-07-07","BR:UBSSECMY","UBS SECURITIES MALAYSIA SDN BHD","MYR",6012,"MAXIS",826933.65,1855.14,0,"2017-07-07T11:51:51","angie",4.4279999999999999,4.4279999999999999,826933.65,1855.14]
["EQT*170700060","SS","YH-AUR-VCAM","2017-07-07","2017-07-07","BR:CLSALIMITED","CLSA LIMITED","MYR",1155,"MAYBANK",4803931.3499999996,9630.7999999999993,414434.05,"2017-07-07T12:25:44","alex.lee",4.4279999999999999,4.4279999999999999,4803931.3499999996,9630.7999999999993]
["EQT*170700061","SS","YH-AUR-VCAM","2017-07-07","2017-07-07","BR:CLSALIMITED","CLSA LIMITED","MYR",4197,"SIME",4756232.6900000004,9535.2000000000007,281367.38,"2017-07-07T12:26:05","alex.lee",4.4279999999999999,4.4279999999999999,4756232.6900000004,9535.2000000000007]
["EQT*170700064","SS","YAMIR-VCAM","2017-07-10","2017-07-10","BR:AMINVBANK","AMINVESTMENT BANK BHD","MYR",1155,"MAYBANK",191846.5,433.26,18532.5,"2017-07-10T09:09:26","nik.faiz",4.4279999999999999,4.4279999999999999,191846.5,433.26]
["EQT*170700065","SP","YAMIR-VCAM","2017-07-10","2017-07-10","BR:AMINVBANK","AMINVESTMENT BANK BHD","MYR",5218,"SENERGY",163102.25,365.63,0,"2017-07-10T09:15:54","nik.faiz",4.4279999999999999,4.4279999999999999,163102.25,365.63]
["EQT*170700070","SS","MEQESG","2017-07-11","2017-07-11","BR:KENANGAINV","KENANGA INVESTMENT BANK BHD","MYR",5204,"PRESBHD",625190.48,1410.94,27997.56,"2017-07-11T09:59:48","angie",4.4279999999999999,4.4279999999999999,625190.48,1410.94]
["EQT*170700071","SS","VCAM-TABA","2017-07-11","2017-07-11","BR:KENANGAINV","KENANGA INVESTMENT BANK BHD","MYR",5204,"PRESBHD",471585.8,1064.4000000000001,22336.31,"2017-07-11T09:59:48","angie",4.4279999999999999,4.4279999999999999,471585.8,1064.4000000000001]
["EQT*170700072","SS","MEQESG","2017-07-11","2017-07-11","BR:CIMBINV","CIMB INVESTMENT BANK BHD","MYR",5204,"PRESBHD",987527.93,2228.41,44476.66,"2017-07-11T10:51:13","angie",4.4279999999999999,4.4279999999999999,987527.93,2228.41]
["EQT*170700073","SP","MEQESG","2017-07-11","2017-07-11","BR:KENANGAINV","KENANGA INVESTMENT BANK BHD","MYR",6012,"MAXIS",827429.98,1856.25,0,"2017-07-11T12:03:57","angie",4.4279999999999999,4.4279999999999999,827429.98,1856.25]
["EQT*170700074","SP","MEQESG","2017-07-11","2017-07-11","BR:KENANGAINV","KENANGA INVESTMENT BANK BHD","MYR",6888,"AXIATA",1175207.71,2344.3000000000002,0,"2017-07-11T12:04:26","angie",4.4279999999999999,4.4279999999999999,1175207.71,2344.3000000000002]
["EQT*170700075","SP","YH-AUR-VCAM","2017-07-11","2017-07-11","BR:MACQUARIE","MACQUARIE CAPITAL SECURITIES (MALAYSIA) SDN BHD","MYR",5284,"LCTITAN",8679765.4800000004,8669.32,0,"2017-07-11T15:08:53","shan",4.4279999999999999,4.4279999999999999,8679765.4800000004,8669.32]
["EQT*170700076","SP","KWAP","2017-07-11","2017-07-11","BR:KENANGAINV","KENANGA INVESTMENT BANK BHD","MYR",5284,"LCTITAN",1506296.74,376.3,0,"2017-07-11T15:12:36","shan",4.4279999999999999,4.4279999999999999,1506296.74,376.3]
["EQT*170700079","SP","KWAP","2017-07-12","2017-07-12","BR:MACQUARIE","MACQUARIE CAPITAL SECURITIES (MALAYSIA) SDN BHD","MYR",5284,"LCTITAN",4963823.16,9904.1299999999992,0,"2017-07-12T09:19:07","khairul.anwar",4.4279999999999999,4.4279999999999999,4963823.16,9904.1299999999992]
["EQT*170700080","SS","YAMIR-VCAM","2017-07-12","2017-07-12","BR:AMINVBANK","AMINVESTMENT BANK BHD","MYR",1295,"PBBANK",1012904.01,2031.16,9343.52,"2017-07-12T09:30:27","nik.faiz",4.4279999999999999,4.4279999999999999,1012904.01,2031.16]
["EQT*170700082","SS","MEQESG","2017-07-12","2017-07-12","BR:KENANGAINV","KENANGA INVESTMENT BANK BHD","MYR",5204,"PRESBHD",965319.11,2178.31,53738.61,"2017-07-12T11:06:43","alex.lee",4.4279999999999999,4.4279999999999999,965319.11,2178.31]
["EQT*170700091","SS","MEQESG","2017-07-13","2017-07-13","BR:KENANGAINV","KENANGA INVESTMENT BANK BHD","MYR",5204,"PRESBHD",1099761.73,2205.3000000000002,51618.52,"2017-07-13T09:22:07","angie",4.4279999999999999,4.4279999999999999,1099761.73,2205.3000000000002]
["EQT*170700093","SS","KWAP","2017-07-13","2017-07-13","BR:AMINVBANK","AMINVESTMENT BANK BHD","MYR",4324,"HENGYUAN",383383.05,865.4,4630.05,"2017-07-13T11:34:53","nik.faiz",4.4279999999999999,4.4279999999999999,383383.05,865.4]
["EQT*170700094","SS","YAMIR-VCAM","2017-07-13","2017-07-13","BR:AMINVBANK","AMINVESTMENT BANK BHD","MYR",1295,"PBBANK",1014520.07,2034.4,10959.58,"2017-07-13T11:36:22","nik.faiz",4.4279999999999999,4.4279999999999999,1014520.07,2034.4]
["EQT*170700095","SP","MEQESG","2017-07-13","2017-07-13","BR:CIMBINV","CIMB INVESTMENT BANK BHD","MYR",6012,"MAXIS",1106891.55,2208,0,"2017-07-13T15:36:13","angie",4.4279999999999999,4.4279999999999999,1106891.55,2208]
["EQT*170700096","SS","MEQESG","2017-07-14","2017-07-14","BR:KENANGAINV","KENANGA INVESTMENT BANK BHD","MYR",5204,"PRESBHD",572924.64,1293.03,28141.63,"2017-07-14T09:29:57","angie",4.4279999999999999,4.4279999999999999,572924.64,1293.03]
["EQT*170700097","SS","VCAM-TABA","2017-07-14","2017-07-14","BR:KENANGAINV","KENANGA INVESTMENT BANK BHD","MYR",8567,"SALCON",79347.22,179.2,-11746.46,"2017-07-14T09:30:14","angie",4.4279999999999999,4.4279999999999999,79347.22,179.2]
["EQT*170700103","SS","KWAP","2017-07-14","2017-07-14","BR:CIMBINV","CIMB INVESTMENT BANK BHD","MYR",4324,"HENGYUAN",307310.06,693.77,4193.0600000000004,"2017-07-14T10:11:26","khairul.anwar",4.4279999999999999,4.4279999999999999,307310.06,693.77]
["EQT*170700104","SS","YH-AUR-VCAM","2017-07-14","2017-07-14","BR:MACQUARIE","MACQUARIE CAPITAL SECURITIES (MALAYSIA) SDN BHD","MYR",5211,"SUNINC",3952839.5,7925,294745.15999999997,"2017-07-14T10:23:08","soonchong",4.4279999999999999,4.4279999999999999,3952839.5,7925]
["EQT*170700108","SP","MEQESG","2017-07-14","2017-07-14","BR:UBSSECMY","UBS SECURITIES MALAYSIA SDN BHD","MYR",6947,"DIGI",4670638.1399999997,9319,0,"2017-07-14T17:07:22","angie",4.4279999999999999,4.4279999999999999,4670638.1399999997,9319]
["EQT*170700109","SP","VCAM-TABA","2017-07-14","2017-07-14","BR:UBSSECMY","UBS SECURITIES MALAYSIA SDN BHD","MYR",6947,"DIGI",467409.47,1048.3900000000001,0,"2017-07-14T17:07:22","angie",4.4279999999999999,4.4279999999999999,467409.47,1048.3900000000001]
["EQT*170700110","SS","YH-AUR-VCAM","2017-07-17","2017-07-17","BR:MACQUARIE","MACQUARIE CAPITAL SECURITIES (MALAYSIA) SDN BHD","MYR",5211,"SUNINC",4021393.86,8062.4,363299.52,"2017-07-17T09:06:04","soonchong",4.4279999999999999,4.4279999999999999,4021393.86,8062.4]
["EQT*170700111","SS","KWAP","2017-07-17","2017-07-17","BR:AMINVBANK","AMINVESTMENT BANK BHD","MYR",4324,"HENGYUAN",1404368.69,2816,18854.689999999999,"2017-07-17T09:36:48","nik.faiz",4.4279999999999999,4.4279999999999999,1404368.69,2816]
["EQT*170700112","SS","YAMIR-VCAM","2017-07-17","2017-07-17","BR:AMINVBANK","AMINVESTMENT BANK BHD","MYR",1155,"MAYBANK",767423.48,1731.83,74167.47,"2017-07-17T09:44:45","nik.faiz",4.4279999999999999,4.4279999999999999,767423.48,1731.83]
["EQT*170700113","SP","MEQESG","2017-07-17","2017-07-17","BR:UBSSECMY","UBS SECURITIES MALAYSIA SDN BHD","MYR",6947,"DIGI",4995467.24,9967.2800000000007,0,"2017-07-17T10:11:38","angie",4.4279999999999999,4.4279999999999999,4995467.24,9967.2800000000007]
["EQT*170700114","SP","VCAM-TABA","2017-07-17","2017-07-17","BR:UBSSECMY","UBS SECURITIES MALAYSIA SDN BHD","MYR",6947,"DIGI",471981.8,1058.6500000000001,0,"2017-07-17T10:11:38","angie",4.4279999999999999,4.4279999999999999,471981.8,1058.6500000000001]
["EQT*170700115","SS","MEQESG","2017-07-17","2017-07-17","BR:KENANGAINV","KENANGA INVESTMENT BANK BHD","MYR",5204,"PRESBHD",1041271.19,2088.0300000000002,83583.929999999993,"2017-07-17T10:13:21","angie",4.4279999999999999,4.4279999999999999,1041271.19,2088.0300000000002]
["EQT*170700118","SP","MEQESG","2017-07-17","2017-07-17","BR:UBSSECMY","UBS SECURITIES MALAYSIA SDN BHD","MYR",6947,"DIGI",9421434.8100000005,9410.2000000000007,0,"2017-07-17T12:09:29","alex.lee",4.4279999999999999,4.4279999999999999,9421434.8100000005,9410.2000000000007]
["EQT*170700119","SS","YAMIR-VCAM","2017-07-17","2017-07-17","BR:AMINVBANK","AMINVESTMENT BANK BHD","MYR",5210,"BAB",299132.71000000002,675.32,205.35,"2017-07-17T14:48:43","nik.faiz",4.4279999999999999,4.4279999999999999,299132.71000000002,675.32]
["EQT*170700120","SP","KWAP","2017-07-17","2017-07-17","BR:AMINVBANK","AMINVESTMENT BANK BHD","MYR",7081,"PHARMA",335878.1,753.24,0,"2017-07-17T14:58:47","nik.faiz",4.4279999999999999,4.4279999999999999,335878.1,753.24]
["EQT*170700123","SS","VCAM-TABA","2017-07-17","2017-07-17","BR:KENANGAINV","KENANGA INVESTMENT BANK BHD","MYR",8567,"SALCON",147494.82,333.1,-23463.46,"2017-07-17T16:34:24","angie",4.4279999999999999,4.4279999999999999,147494.82,333.1]
["EQT*170700124","SS","YH-AUR-VCAM","2017-07-18","2017-07-18","BR:NOMURASECMY","NOMURA SECURITIES MALAYSIA SDN BHD","MYR",5211,"SUNINC",2827678.78,5669.58,267012.74,"2017-07-18T09:05:35","soonchong",4.4279999999999999,4.4279999999999999,2827678.78,5669.58]
["EQT*170700125","SP","MEQESG","2017-07-18","2017-07-18","BR:UBSSECMY","UBS SECURITIES MALAYSIA SDN BHD","MYR",6947,"DIGI",834136.06,1871.3,0,"2017-07-18T09:14:58","angie",4.4279999999999999,4.4279999999999999,834136.06,1871.3]
["EQT*170700128","SS","MEQESG","2017-07-19","2017-07-19","BR:TASEC","TA SECURITIES HOLDINGS BHD","MYR",8567,"SALCON",386817.05,873.15,-32937.01,"2017-07-19T11:43:29","angie",4.4279999999999999,4.4279999999999999,386817.05,873.15]
["EQT*170700129","SS","VCAM-TABA","2017-07-19","2017-07-19","BR:TASEC","TA SECURITIES HOLDINGS BHD","MYR",8567,"SALCON",101062.09,228.24,-13866.68,"2017-07-19T11:43:29","angie",4.4279999999999999,4.4279999999999999,101062.09,228.24]
["EQT*170700130","SS","KWAP","2017-07-19","2017-07-19","BR:TASEC","TA SECURITIES HOLDINGS BHD","MYR",4324,"HENGYUAN",567120.11,1279.93,6153.11,"2017-07-19T15:12:56","khairul.anwar",4.4279999999999999,4.4279999999999999,567120.11,1279.93]
["EQT*170700132","SS","YH-AUR-VCAM","2017-07-20","2017-07-20","BR:ALLIANCEINV","ALLIANCE INVESTMENT BANK BERHAD","MYR",5211,"SUNINC",3515284.09,7048.03,405903.9,"2017-07-20T09:17:52","soonchong",4.4279999999999999,4.4279999999999999,3515284.09,7048.03]
["EQT*170700135","SS","YH-AUR-VCAM","2017-07-20","2017-07-20","BR:KAFSEC","KAF-SEAGROATT & CAMPBELL SECURITIES SDN BHD","MYR",5185,"AFFIN",387090.34,873.77,38978.519999999997,"2017-07-20T09:24:39","soonchong",4.4279999999999999,4.4279999999999999,387090.34,873.77]
["EQT*170700136","SP","VCAM-TABA","2017-07-20","2017-07-20","BR:KENANGAINV","KENANGA INVESTMENT BANK BHD","MYR",5218,"SENERGY",70281.87,157.55000000000001,0,"2017-07-20T09:37:43","angie",4.4279999999999999,4.4279999999999999,70281.87,157.55000000000001]
["EQT*170700137","SS","KWAP","2017-07-20","2017-07-20","BR:HLGINV","HONG LEONG INVESTMENT BANK BHD","MYR",1155,"MAYBANK",4798492.91,9619.9,354151.81,"2017-07-20T09:46:41","nik.faiz",4.4279999999999999,4.4279999999999999,4798492.91,9619.9]
["EQT*170700138","SP","KWAP","2017-07-20","2017-07-20","BR:MACQUARIE","MACQUARIE CAPITAL SECURITIES (MALAYSIA) SDN BHD","MYR",1023,"CIMB",3165548.36,6315.3,0,"2017-07-20T09:47:13","khairul.anwar",4.4279999999999999,4.4279999999999999,3165548.36,6315.3]
["EQT*170700140","SP","MEQESG","2017-07-20","2017-07-20","BR:UBSSECMY","UBS SECURITIES MALAYSIA SDN BHD","MYR",6947,"DIGI",3318289.83,6620.04,0,"2017-07-20T10:07:02","angie",4.4279999999999999,4.4279999999999999,3318289.83,6620.04]
["EQT*170700142","SP","KWAP","2017-07-20","2017-07-20","BR:HLGINV","HONG LEONG INVESTMENT BANK BHD","MYR",7081,"PHARMA",1402502.61,2797.78,0,"2017-07-20T17:00:43","nik.faiz",4.4279999999999999,4.4279999999999999,1402502.61,2797.78]
["EQT*170700143","SP","MEQESG","2017-07-21","2017-07-21","BR:CIMBINV","CIMB INVESTMENT BANK BHD","MYR",6947,"DIGI",2358686.0099999998,4705.5,0,"2017-07-21T09:25:07","angie",4.4279999999999999,4.4279999999999999,2358686.0099999998,4705.5]
["EQT*170700144","SP","MEQESG","2017-07-21","2017-07-21","BR:CIMBINV","CIMB INVESTMENT BANK BHD","MYR",6012,"MAXIS",553090.43999999994,1240.6500000000001,0,"2017-07-21T09:25:25","angie",4.4279999999999999,4.4279999999999999,553090.43999999994,1240.6500000000001]
["EQT*170700145","SS","KWAP","2017-07-21","2017-07-21","BR:KENANGAINV","KENANGA INVESTMENT BANK BHD","MYR",1155,"MAYBANK",4802534.32,9628,358193.22,"2017-07-21T09:33:43","khairul.anwar",4.4279999999999999,4.4279999999999999,4802534.32,9628]
["EQT*170700146","SS","YH-AUR-VCAM","2017-07-21","2017-07-21","BR:ALLIANCEINV","ALLIANCE INVESTMENT BANK BERHAD","MYR",5211,"SUNINC",4113099.03,8246.2000000000007,455004.69,"2017-07-21T09:40:09","soonchong",4.4279999999999999,4.4279999999999999,4113099.03,8246.2000000000007]
["EQT*170700147","SP","ASEAN5ESG","2017-07-21","2017-07-21","BR:MAYBANKINV","MAYBANK INVESTMENT BANK BHD","MYR",5246,"WPRTS",111016.98,248.87,0,"2017-07-21T11:25:07","alex.lee",4.282,4.282,111016.98,248.87]
["EQT*170700150","SS","KWAP","2017-07-24","2017-07-24","BR:KAFSEC","KAF-SEAGROATT & CAMPBELL SECURITIES SDN BHD","MYR",4324,"HENGYUAN",1997529.51,4005.22,41880.51,"2017-07-24T09:10:11","khairul.anwar",4.4279999999999999,4.4279999999999999,1997529.51,4005.22]
["EQT*170700151","SS","YH-AUR-VCAM","2017-07-24","2017-07-24","BR:CIMBINV","CIMB INVESTMENT BANK BHD","MYR",5185,"AFFIN",102975.62,232.56,10161.549999999999,"2017-07-24T09:31:53","soonchong",4.4279999999999999,4.4279999999999999,102975.62,232.56]
["EQT*170700152","SS","YH-AUR-VCAM","2017-07-24","2017-07-24","BR:CIMBINV","CIMB INVESTMENT BANK BHD","MYR",5211,"SUNINC",4135651.12,8291.4,477556.78,"2017-07-24T09:32:15","soonchong",4.4279999999999999,4.4279999999999999,4135651.12,8291.4]
["EQT*170700153","SP","YH-AUR-VCAM","2017-07-24","2017-07-24","BR:KAFSEC","KAF-SEAGROATT & CAMPBELL SECURITIES SDN BHD","MYR",5247,"KAREX",62229.59,139.5,0,"2017-07-24T09:37:45","soonchong",4.4279999999999999,4.4279999999999999,62229.59,139.5]
["EQT*170700156","SP","MEQESG","2017-07-24","2017-07-24","BR:KENANGAINV","KENANGA INVESTMENT BANK BHD","MYR",6947,"DIGI",475822.16,1067.27,0,"2017-07-24T10:22:19","angie",4.4279999999999999,4.4279999999999999,475822.16,1067.27]
["EQT*170700158","SP","MEQESG","2017-07-24","2017-07-24","BR:UBSSECMY","UBS SECURITIES MALAYSIA SDN BHD","MYR",6399,"ASTRO",48248.95,108.16,0,"2017-07-24T11:37:32","angie",4.4279999999999999,4.4279999999999999,48248.95,108.16]
["EQT*170700159","SS","KWAP","2017-07-24","2017-07-24","BR:MIDFINV","MIDF AMANAH INVESTMENT BANK BHD","MYR",1155,"MAYBANK",4802035.38,9627,357694.28,"2017-07-24T11:52:09","nik.faiz",4.4279999999999999,4.4279999999999999,4802035.38,9627]
["EQT*170700160","SS","KWAP","2017-07-25","2017-07-25","BR:MACQUARIE","MACQUARIE CAPITAL SECURITIES (MALAYSIA) SDN BHD","MYR",1155,"MAYBANK",4800937.71,9624.7999999999993,356596.61,"2017-07-25T08:35:59","nik.faiz",4.4279999999999999,4.4279999999999999,4800937.71,9624.7999999999993]
["EQT*170700162","SS","KWAP","2017-07-25","2017-07-25","BR:MACQUARIE","MACQUARIE CAPITAL SECURITIES (MALAYSIA) SDN BHD","MYR",4324,"HENGYUAN",1198869.52,2404,52869.52,"2017-07-25T09:05:06","khairul.anwar",4.4279999999999999,4.4279999999999999,1198869.52,2404]
["EQT*170700164","SS","YH-AUR-VCAM","2017-07-25","2017-07-25","BR:CIMBINV","CIMB INVESTMENT BANK BHD","MYR",4324,"HENGYUAN",3005903.21,6026.9,140903.21,"2017-07-25T09:25:34","soonchong",4.4279999999999999,4.4279999999999999,3005903.21,6026.9]
["EQT*170700165","SS","YH-AUR-VCAM","2017-07-25","2017-07-25","BR:CIMBINV","CIMB INVESTMENT BANK BHD","MYR",5211,"SUNINC",2546037.1,5104.92,351180.49,"2017-07-25T09:26:57","soonchong",4.4279999999999999,4.4279999999999999,2546037.1,5104.92]
["EQT*170700166","SS","KWAP","2017-07-27","2017-07-27","BR:CIMBINV","CIMB INVESTMENT BANK BHD","MYR",1155,"MAYBANK",4810916.51,9644.7999999999993,366575.41,"2017-07-27T08:24:07","nik.faiz",4.4279999999999999,4.4279999999999999,4810916.51,9644.7999999999993]
["EQT*170700167","SS","KWAP","2017-07-27","2017-07-27","BR:CIMBINV","CIMB INVESTMENT BANK BHD","MYR",1295,"PBBANK",5612381.4199999999,5619.6,140802.48000000001,"2017-07-27T08:24:40","nik.faiz",4.4279999999999999,4.4279999999999999,5612381.4199999999,5619.6]
["EQT*170700168","SP","KWAP","2017-07-27","2017-07-27","BR:CIMBINV","CIMB INVESTMENT BANK BHD","MYR",5347,"TENAGA",1425065.38,2842.8,0,"2017-07-27T09:34:22","nik.faiz",4.4279999999999999,4.4279999999999999,1425065.38,2842.8]
["EQT*170700169","SS","MEQESG","2017-07-27","2017-07-27","BR:KENANGAINV","KENANGA INVESTMENT BANK BHD","MYR",8567,"SALCON",2158.89,40,-209.93,"2017-07-27T09:34:36","angie",4.4279999999999999,4.4279999999999999,2158.89,40]
["EQT*170700170","SS","VCAM-TABA","2017-07-27","2017-07-27","BR:KENANGAINV","KENANGA INVESTMENT BANK BHD","MYR",8567,"SALCON",15686.59,40,-2327.98,"2017-07-27T09:34:36","angie",4.4279999999999999,4.4279999999999999,15686.59,40]
["EQT*170700171","SP","KWAP","2017-07-27","2017-07-27","BR:CIMBINV","CIMB INVESTMENT BANK BHD","MYR",1066,"RHBBANK",2803134.8,5592.24,0,"2017-07-27T09:35:46","nik.faiz",4.4279999999999999,4.4279999999999999,2803134.8,5592.24]
["EQT*170700172","SS","YH-AUR-VCAM","2017-07-27","2017-07-27","BR:KAFSEC","KAF-SEAGROATT & CAMPBELL SECURITIES SDN BHD","MYR",4324,"HENGYUAN",321755.40000000002,726.36,31817.4,"2017-07-27T09:50:43","soonchong",4.4279999999999999,4.4279999999999999,321755.40000000002,726.36]
["EQT*170700173","SS","YH-AUR-VCAM","2017-07-27","2017-07-27","BR:KAFSEC","KAF-SEAGROATT & CAMPBELL SECURITIES SDN BHD","MYR",5211,"SUNINC",2005217.07,4020.64,292131.49,"2017-07-27T09:52:47","soonchong",4.4279999999999999,4.4279999999999999,2005217.07,4020.64]
["EQT*170700175","SS","MEQESG","2017-07-27","2017-07-27","BR:NOMURASECMY","NOMURA SECURITIES MALAYSIA SDN BHD","MYR",1023,"CIMB",656021.43000000005,1480.5,210267.07,"2017-07-27T16:25:24","angie",4.4279999999999999,4.4279999999999999,656021.43000000005,1480.5]
["EQT*170700176","SS","KWAP","2017-07-28","2017-07-28","BR:UBSSECMY","UBS SECURITIES MALAYSIA SDN BHD","MYR",1295,"PBBANK",4102082.43,8224.1200000000008,109686.27,"2017-07-28T09:18:23","nik.faiz",4.4279999999999999,4.4279999999999999,4102082.43,8224.1200000000008]
["EQT*170700177","SS","KWAP","2017-07-28","2017-07-28","BR:UBSSECMY","UBS SECURITIES MALAYSIA SDN BHD","MYR",1023,"CIMB",3323177.8,6663,157629.44,"2017-07-28T09:22:13","nik.faiz",4.4279999999999999,4.4279999999999999,3323177.8,6663]
["EQT*170700178","SS","YH-AUR-VCAM","2017-07-28","2017-07-28","BR:KAFSEC","KAF-SEAGROATT & CAMPBELL SECURITIES SDN BHD","MYR",4324,"HENGYUAN",2691940.51,5397.44,399940.51,"2017-07-28T09:50:06","soonchong",4.4279999999999999,4.4279999999999999,2691940.51,5397.44]
["EQT*170700179","SS","YH-AUR-VCAM","2017-07-28","2017-07-28","BR:KAFSEC","KAF-SEAGROATT & CAMPBELL SECURITIES SDN BHD","MYR",5211,"SUNINC",2125604.62,4262,296557.45,"2017-07-28T09:50:55","soonchong",4.4279999999999999,4.4279999999999999,2125604.62,4262]
["EQT*170700181","SS","MEQESG","2017-07-28","2017-07-28","BR:KENANGAINV","KENANGA INVESTMENT BANK BHD","MYR",1023,"CIMB",663750.47,1497.94,218017.08,"2017-07-28T12:19:43","angie",4.4279999999999999,4.4279999999999999,663750.47,1497.94]
["EQT*170700182","SP","KWAP","2017-07-28","2017-07-28","BR:UBSSECMY","UBS SECURITIES MALAYSIA SDN BHD","MYR",5218,"SENERGY",466456.9,1046.25,0,"2017-07-28T15:14:32","nik.faiz",4.4279999999999999,4.4279999999999999,466456.9,1046.25]
["EQT*170700183","SS","MEQESG","2017-07-31","2017-07-31","BR:KENANGAINV","KENANGA INVESTMENT BANK BHD","MYR",8567,"SALCON",82891.11,187.2,-8797.3799999999992,"2017-07-31T09:37:56","angie",4.4279999999999999,4.4279999999999999,82891.11,187.2]
["EQT*170700184","SP","KWAP","2017-07-31","2017-07-31","BR:MACQUARIE","MACQUARIE CAPITAL SECURITIES (MALAYSIA) SDN BHD","MYR",1155,"MAYBANK",9658986.3499999996,9647.5,0,"2017-07-31T16:11:26","khairul.anwar",4.4279999999999999,4.4279999999999999,9658986.3499999996,9647.5]
["EQT*170800001","SS","YH-AUR-VCAM","2017-08-01","2017-08-01","BR:KAFSEC","KAF-SEAGROATT & CAMPBELL SECURITIES SDN BHD","MYR",4324,"HENGYUAN",524319.37,1183.3699999999999,151869.37,"2017-08-01T09:05:31","soonchong",4.4279999999999999,4.4279999999999999,524319.37,1183.3699999999999]
["EQT*170800002","SP","KWAP","2017-08-01","2017-08-01","BR:KAFSEC","KAF-SEAGROATT & CAMPBELL SECURITIES SDN BHD","MYR",1155,"MAYBANK",5774393.04,5767.02,0,"2017-08-01T09:34:02","khairul.anwar",4.4279999999999999,4.4279999999999999,5774393.04,5767.02]
["EQT*170800003","SP","MEQESG","2017-08-01","2017-08-01","BR:CREDITSUISSEMY","CREDIT SUISSE SECURITIES (M) SDN BHD","MYR",5210,"BAB",1401608.32,2796,0,"2017-08-01T10:36:04","angie",4.4279999999999999,4.4279999999999999,1401608.32,2796]
["EQT*170800004","SP","VCAM-TABA","2017-08-01","2017-08-01","BR:KENANGAINV","KENANGA INVESTMENT BANK BHD","MYR",5271,5271,70460.75,157.94999999999999,0,"2017-08-01T11:14:59","angie",4.4279999999999999,4.4279999999999999,70460.75,157.94999999999999]
["EQT*170800005","SS","MEQESG","2017-08-01","2017-08-01","BR:KENANGAINV","KENANGA INVESTMENT BANK BHD","MYR",8567,"SALCON",185308.25,418.49,-23699.53,"2017-08-01T11:16:33","angie",4.4279999999999999,4.4279999999999999,185308.25,418.49]
["EQT*170800007","SS","KWAP","2017-08-01","2017-08-01","BR:MACQUARIE","MACQUARIE CAPITAL SECURITIES (MALAYSIA) SDN BHD","MYR",1295,"PBBANK",2054777.72,4120,58579.64,"2017-08-01T16:19:19","nik.faiz",4.4279999999999999,4.4279999999999999,2054777.72,4120]
["EQT*170800008","SS","KWAP","2017-08-02","2017-08-02","BR:MACQUARIE","MACQUARIE CAPITAL SECURITIES (MALAYSIA) SDN BHD","MYR",1295,"PBBANK",2057550.94,4125.5600000000004,61352.86,"2017-08-02T09:36:56","nik.faiz",4.4279999999999999,4.4279999999999999,2057550.94,4125.5600000000004]
["EQT*170800009","SP","KWAP","2017-08-02","2017-08-02","BR:CIMBINV","CIMB INVESTMENT BANK BHD","MYR",1155,"MAYBANK",3867438.96,7716,0,"2017-08-02T09:40:51","khairul.anwar",4.4279999999999999,4.4279999999999999,3867438.96,7716]
["EQT*170800011","SS","VCAM-TABA","2017-08-02","2017-08-02","BR:KENANGAINV","KENANGA INVESTMENT BANK BHD","MYR",3816,"MISC",37859.29,85.5,1278.54,"2017-08-02T17:00:10","angie",4.4279999999999999,4.4279999999999999,37859.29,85.5]
["EQT*170800012","SS","MEQESG","2017-08-03","2017-08-03","BR:KENANGAINV","KENANGA INVESTMENT BANK BHD","MYR",8567,"SALCON",237056.95,535.28,-35677.21,"2017-08-03T09:00:47","angie",4.4279999999999999,4.4279999999999999,237056.95,535.28]
["EQT*170800016","SS","YH-AUR-VCAM","2017-08-03","2017-08-03","BR:KAFSEC","KAF-SEAGROATT & CAMPBELL SECURITIES SDN BHD","MYR",5211,"SUNINC",576967.62,1302.1500000000001,93367.55,"2017-08-03T09:09:22","soonchong",4.4279999999999999,4.4279999999999999,576967.62,1302.1500000000001]
["EQT*170800017","SS","YH-AUR-VCAM","2017-08-03","2017-08-03","BR:KAFSEC","KAF-SEAGROATT & CAMPBELL SECURITIES SDN BHD","MYR",4324,"HENGYUAN",72052.820000000007,162.72,20482.82,"2017-08-03T09:09:39","soonchong",4.4279999999999999,4.4279999999999999,72052.820000000007,162.72]
["EQT*170800018","SS","KWAP","2017-08-04","2017-08-04","BR:KAFSEC","KAF-SEAGROATT & CAMPBELL SECURITIES SDN BHD","MYR",1295,"PBBANK",8575126.5800000001,8585.49,282919.76,"2017-08-04T08:57:47","nik.faiz",4.4279999999999999,4.4279999999999999,8575126.5800000001,8585.49]
["EQT*170800023","SP","KWAP","2017-08-04","2017-08-04","BR:TASEC","TA SECURITIES HOLDINGS BHD","MYR",5183,"PCHEM",2108327.11,4206,0,"2017-08-04T15:48:00","khairul.anwar",4.4279999999999999,4.4279999999999999,2108327.11,4206]
["EQT*170800024","SS","YH-AUR-VCAM","2017-08-04","2017-08-04","BR:KAFSEC","KAF-SEAGROATT & CAMPBELL SECURITIES SDN BHD","MYR",4324,"HENGYUAN",1897474.16,3804.62,522274.16,"2017-08-04T16:20:38","khairul.anwar",4.4279999999999999,4.4279999999999999,1897474.16,3804.62]
["EQT*170800025","SS","MEQESG","2017-08-07","2017-08-07","BR:KENANGAINV","KENANGA INVESTMENT BANK BHD","MYR",3816,"MISC",1278510.33,2563.67,33801.58,"2017-08-07T09:07:35","angie",4.4279999999999999,4.4279999999999999,1278510.33,2563.67]
["EQT*170800026","SS","VCAM-TABA","2017-08-07","2017-08-07","BR:KENANGAINV","KENANGA INVESTMENT BANK BHD","MYR",3816,"MISC",931836.17,2102.77,20243.77,"2017-08-07T09:07:35","angie",4.4279999999999999,4.4279999999999999,931836.17,2102.77]
["EQT*170800027","SP","MEQESG","2017-08-07","2017-08-07","BR:CIMBINV","CIMB INVESTMENT BANK BHD","MYR",5210,"BAB",693869.93,1556.55,0,"2017-08-07T10:30:55","angie",4.4279999999999999,4.4279999999999999,693869.93,1556.55]
["EQT*170800028","SS","MEQESG","2017-08-08","2017-08-08","BR:KENANGAINV","KENANGA INVESTMENT BANK BHD","MYR",3816,"MISC",2550520.6800000002,5113.91,67459.23,"2017-08-08T09:12:32","angie",4.4279999999999999,4.4279999999999999,2550520.6800000002,5113.91]
["EQT*170800029","SS","YH-AUR-VCAM","2017-08-08","2017-08-08","BR:KAFSEC","KAF-SEAGROATT & CAMPBELL SECURITIES SDN BHD","MYR",4324,"HENGYUAN",2476034.9900000002,4964.57,751304.99,"2017-08-08T09:14:51","soonchong",4.4279999999999999,4.4279999999999999,2476034.9900000002,4964.57]
["EQT*170800030","SS","KWAP","2017-08-08","2017-08-08","BR:CIMBINV","CIMB INVESTMENT BANK BHD","MYR",1295,"PBBANK",3802188.06,7623.06,117206.41,"2017-08-08T09:38:39","khairul.anwar",4.4279999999999999,4.4279999999999999,3802188.06,7623.06]
["EQT*170800031","SS","YH-AUR-VCAM","2017-08-08","2017-08-08","BR:KAFSEC","KAF-SEAGROATT & CAMPBELL SECURITIES SDN BHD","MYR",6012,"MAXIS",5767618.5,5775,232990.5,"2017-08-08T10:37:10","anouk",4.4279999999999999,4.4279999999999999,5767618.5,5775]
["EQT*170800032","SP","VCAM-TABA","2017-08-08","2017-08-08","BR:KENANGAINV","KENANGA INVESTMENT BANK BHD","MYR",5271,5271,182232.76,408.51,0,"2017-08-08T10:38:37","angie",4.4279999999999999,4.4279999999999999,182232.76,408.51]
["EQT*170800033","SS","MEQESG","2017-08-08","2017-08-08","BR:CIMBINV","CIMB INVESTMENT BANK BHD","MYR",4197,"SIME",1877211.68,3764,379555.22,"2017-08-08T14:50:44","angie",4.4279999999999999,4.4279999999999999,1877211.68,3764]
["EQT*170800034","SS","ASEAN5ESG","2017-08-08","2017-08-08","BR:MAYBANKINV","MAYBANK INVESTMENT BANK BHD","MYR",3816,"MISC",318444.89,718.89,2119.7800000000002,"2017-08-08T15:19:50","alex.lee",4.2839999999999998,4.2839999999999998,318444.89,718.89]
["EQT*170800035","SS","MEQESG","2017-08-08","2017-08-08","BR:MAYBANKINV","MAYBANK INVESTMENT BANK BHD","MYR",3816,"MISC",26899.72,60.75,710.95,"2017-08-08T17:06:27","angie",4.4279999999999999,4.4279999999999999,26899.72,60.75]
["EQT*170800037","SS","KWAP","2017-08-09","2017-08-09","BR:CIMBINV","CIMB INVESTMENT BANK BHD","MYR",1295,"PBBANK",2054877.48,4120.2,58679.4,"2017-08-09T08:58:23","khairul.anwar",4.4279999999999999,4.4279999999999999,2054877.48,4120.2]
["EQT*170800039","SS","YH-AUR-VCAM","2017-08-09","2017-08-09","BR:NOMURASECMY","NOMURA SECURITIES MALAYSIA SDN BHD","MYR",6012,"MAXIS",5769416.5899999999,5776.8,234788.59,"2017-08-09T09:12:11","soonchong",4.4279999999999999,4.4279999999999999,5769416.5899999999,5776.8]
["EQT*170800041","SS","YH-AUR-VCAM","2017-08-09","2017-08-09","BR:MIDFINV","MIDF AMANAH INVESTMENT BANK BHD","MYR",5211,"SUNINC",1002599.46,2010.5,134533.67000000001,"2017-08-09T09:29:32","soonchong",4.4279999999999999,4.4279999999999999,1002599.46,2010.5]
["EQT*170800042","SS","YH-AUR-VCAM","2017-08-10","2017-08-10","BR:ALLIANCEINV","ALLIANCE INVESTMENT BANK BERHAD","MYR",6012,"MAXIS",5765920.2999999998,5773.3,231292.3,"2017-08-10T09:57:31","soonchong",4.4279999999999999,4.4279999999999999,5765920.2999999998,5773.3]
["EQT*170800044","SP","VCAM-TABA","2017-08-10","2017-08-10","BR:KENANGAINV","KENANGA INVESTMENT BANK BHD","MYR",3816,"MISC",212912.42,477.31,0,"2017-08-10T10:00:15","angie",4.4279999999999999,4.4279999999999999,212912.42,477.31]
["EQT*170800045","SP","MEQESG","2017-08-11","2017-08-11","BR:KENANGAINV","KENANGA INVESTMENT BANK BHD","MYR",3816,"MISC",2189614.81,4368.18,0,"2017-08-11T09:32:34","angie",4.4279999999999999,4.4279999999999999,2189614.81,4368.18]
["EQT*170800046","SP","VCAM-TABA","2017-08-11","2017-08-11","BR:KENANGAINV","KENANGA INVESTMENT BANK BHD","MYR",3816,"MISC",517768.49,1161.3900000000001,0,"2017-08-11T09:32:34","angie",4.4279999999999999,4.4279999999999999,517768.49,1161.3900000000001]
["EQT*170800047","SS","KWAP","2017-08-11","2017-08-11","BR:RHBINV","RHB INVESTMENT BANK BERHAD","MYR",7100,"UCHITEC",699288.59,1578.11,217760.82,"2017-08-11T09:53:22","khairul.anwar",4.4279999999999999,4.4279999999999999,699288.59,1578.11]
["EQT*170800048","SS","KWAP","2017-08-11","2017-08-11","BR:RHBINV","RHB INVESTMENT BANK BERHAD","MYR",5249,"IOIPROP",2086500.19,4183.6000000000004,26080.98,"2017-08-11T10:18:25","khairul.anwar",4.4279999999999999,4.4279999999999999,2086500.19,4183.6000000000004]
["EQT*170800049","SP","ASEAN5ESG","2017-08-11","2017-08-11","BR:MACQUARIE:F","MACQUARIE CAPITAL SECURITIES (MALAYSIA) SDN BHD (FOREIGN)","IDR","ID1000058407","UNITTRACTORS",327431101,816138,0,"2017-08-11T11:52:44","alex.lee",13362,4.2934999999999999,105210.70439631044,262.24281567130669]
["EQT*170800050","SS","KWAP","2017-08-15","2017-08-15","BR:MIDFINV","MIDF AMANAH INVESTMENT BANK BHD","MYR",7100,"UCHITEC",973959.71,2197.8000000000002,310076.51,"2017-08-15T09:13:16","nik.faiz",4.4279999999999999,4.4279999999999999,973959.71,2197.8000000000002]
["EQT*170800051","SS","KWAP","2017-08-15","2017-08-15","BR:MIDFINV","MIDF AMANAH INVESTMENT BANK BHD","MYR",5249,"IOIPROP",2112037.7799999998,4234.8,51618.559999999998,"2017-08-15T09:14:28","nik.faiz",4.4279999999999999,4.4279999999999999,2112037.7799999998,4234.8]
["EQT*170800052","SP","MEQESG","2017-08-15","2017-08-15","BR:KENANGAINV","KENANGA INVESTMENT BANK BHD","MYR",3816,"MISC",36535.39,81.900000000000006,0,"2017-08-15T14:45:04","angie",4.4279999999999999,4.4279999999999999,36535.39,81.900000000000006]
["EQT*170800053","SP","VCAM-TABA","2017-08-15","2017-08-15","BR:KENANGAINV","KENANGA INVESTMENT BANK BHD","MYR",3816,"MISC",58456.43,131.04,0,"2017-08-15T14:45:04","angie",4.4279999999999999,4.4279999999999999,58456.43,131.04]
["EQT*170800054","SS","KWAP","2017-08-16","2017-08-16","BR:MIDFINV","MIDF AMANAH INVESTMENT BANK BHD","MYR",7100,"UCHITEC",977549.98,2205.9,313666.78000000003,"2017-08-16T08:36:15","nik.faiz",4.4279999999999999,4.4279999999999999,977549.98,2205.9]
["EQT*170800055","SS","KWAP","2017-08-16","2017-08-16","BR:RHBINV","RHB INVESTMENT BANK BERHAD","MYR",5249,"IOIPROP",2108745.83,4228.2,48326.62,"2017-08-16T09:29:04","khairul.anwar",4.4279999999999999,4.4279999999999999,2108745.83,4228.2]
["EQT*170800056","SS","YH-AUR-VCAM","2017-08-16","2017-08-16","BR:NOMURASECMY","NOMURA SECURITIES MALAYSIA SDN BHD","MYR",5211,"SUNINC",658500.68000000005,1486.09,80481.539999999994,"2017-08-16T10:34:47","soonchong",4.4279999999999999,4.4279999999999999,658500.68000000005,1486.09]

{"sheet":"Extra","index":5,"n_rows":35,"n_cols":14,"rows_kept":35,"cut":false,"hidden":true,"merged":[]}
[null,null,"Fund",null,null,null,"CPNAme",null,null,null,"TradeValue","Brokerage",null,"DealerName"]
[null,null,"KHAZANAH",null,null,null,"AFFIN INVESTMENT BANK BERHAD",null,null,null,3288851.55,3285.16,null,"AHMAD"]
[null,null,"KHAZANAH",null,null,null,"AFFIN INVESTMENT BANK BERHAD",null,null,null,169700138.93000001,230900.64,null,"AISHAH"]
[null,null,"KHAZANAH",null,null,null,"AMINVESTMENT BANK BHD",null,null,null,1609906.7199999988,3611.7299999999959,null,"AHMAD"]
[null,null,"KHAZANAH",null,null,null,"AMINVESTMENT BANK BHD",null,null,null,-1609906.7199999988,-3611.7299999999996,null,"AISHAH"]
[null,null,"KHAZANAH",null,null,null,"BIMB SECURITIES SDN BHD",null,null,null,833691.91,1870.3899999999994,null,"AHMAD"]
[null,null,"KHAZANAH",null,null,null,"BIMB SECURITIES SDN BHD",null,null,null,62364590.470000006,73695.409999999989,null,"AISHAH"]
[null,null,"KHAZANAH",null,null,null,"CIMB INVESTMENT BANK BHD",null,null,null,8300529.8399999999,16647.509999999998,null,"AHMAD"]
[null,null,"KHAZANAH",null,null,null,"CIMB INVESTMENT BANK BHD",null,null,null,106632073.70999999,152570.32,null,"AISHAH"]
[null,null,"KHAZANAH",null,null,null,"HONG LEONG INVESTMENT BANK BHD",null,null,null,136990182.19999999,175084.75,null,"AISHAH"]
[null,null,"KHAZANAH",null,null,null,"KAF-SEAGROATT & CAMPBELL SECURITIES SDN BHD",null,null,null,2319331.77,4627.62,null,"AHMAD"]
[null,null,"KHAZANAH",null,null,null,"KAF-SEAGROATT & CAMPBELL SECURITIES SDN BHD",null,null,null,113519718.25999996,183171.25,null,"AISHAH"]
[null,null,"KHAZANAH",null,null,null,"KENANGA INVESTMENT BANK BHD",null,null,null,3126945.6699999995,6727.2999999999993,null,"AHMAD"]
[null,null,"KHAZANAH",null,null,null,"KENANGA INVESTMENT BANK BHD",null,null,null,101892578.24000001,134209.06000000003,null,"AISHAH"]
[null,null,"KHAZANAH",null,null,null,"KENANGA INVESTMENT BANK BHD",null,null,null,33361705.43,35128.019999999997,null,"SHAN"]
[null,null,"KHAZANAH",null,null,null,"MAYBANK INVESTMENT BANK",null,null,null,11570011.48,22226.460000000003,null,"AHMAD"]
[null,null,"KHAZANAH",null,null,null,"MAYBANK INVESTMENT BANK",null,null,null,104114021.26000001,138066.40999999995,null,"AISHAH"]
[null,null,"KHAZANAH",null,null,null,"RHB INVESTMENT BANK BERHAD",null,null,null,10701943.060000001,17952.560000000001,null,"AHMAD"]
[null,null,"KHAZANAH",null,null,null,"RHB INVESTMENT BANK BERHAD",null,null,null,118389472.98999999,171616.81,null,"AISHAH"]
[null,null,"KHAZANAH",null,null,null,"RHB INVESTMENT BANK BERHAD",null,null,null,3298907.66,3295.47,null,"NIK.FAIZ"]
[null,null,"KWAP",null,null,null,"AFFIN INVESTMENT BANK BERHAD",null,null,null,30313691.539999999,37592.07,null,"ANOUK"]
[null,null,"KWAP",null,null,null,"AFFIN INVESTMENT BANK BERHAD",null,null,null,10759447.5,10747.500000000004,null,"NIK.FAIZ"]
[null,null,"KWAP",null,null,null,"CIMB INVESTMENT BANK BHD",null,null,null,46825451.79999999,61218.680000000008,null,"ANOUK"]
[null,null,"KWAP",null,null,null,"HONG LEONG INVESTMENT BANK BHD",null,null,null,36683447.350000009,68507.62,null,"ANOUK"]
[null,null,"KWAP",null,null,null,"HONG LEONG INVESTMENT BANK BHD",null,null,null,717023.25,1608.75,null,"NIK.FAIZ"]
[null,null,"KWAP",null,null,null,"HONG LEONG INVESTMENT BANK BHD",null,null,null,2278979.17,4547.1000000000004,null,"SHAN"]
[null,null,"KWAP",null,null,null,"KAF-SEAGROATT & CAMPBELL SECURITIES SDN BHD",null,null,null,17067575.229999989,21248.299999999988,null,"AISHAH"]
[null,null,"KWAP",null,null,null,"KAF-SEAGROATT & CAMPBELL SECURITIES SDN BHD",null,null,null,27585851.140000001,35409.39,null,"ANOUK"]
[null,null,"KWAP",null,null,null,"KENANGA INVESTMENT BANK BHD",null,null,null,257172.02000000048,580.56999999999971,null,"AHMAD"]
[null,null,"KWAP",null,null,null,"KENANGA INVESTMENT BANK BHD",null,null,null,21204136.180000007,35693.26,null,"ANOUK"]
[null,null,"KWAP",null,null,null,"KENANGA INVESTMENT BANK BHD",null,null,null,5473620.8099999987,10921.32,null,"NIK.FAIZ"]
[null,null,"KWAP",null,null,null,"KENANGA INVESTMENT BANK BHD",null,null,null,2219107.4200000018,4448.8500000000004,null,"SHAN"]
[null,null,"KWAP",null,null,null,"MAYBANK INVESTMENT BANK",null,null,null,26521991.690000001,42228.539999999986,null,"ANOUK"]
[null,null,"KWAP",null,null,null,"MAYBANK INVESTMENT BANK",null,null,null,4778163.6399999997,9533.6,null,"SHAN"]
[null,null,"KWAP",null,null,null,"RHB INVESTMENT BANK BERHAD",null,null,null,38621943.080000006,64998.400000000001,null,"ANOUK"]

{"sheet":"InFoTran","index":6,"n_rows":2,"n_cols":16,"rows_kept":2,"cut":false,"hidden":false,"merged":[]}
[]
["qStkTrnID","qTrnCode","qFundCode","TradeDate","ValueDate","qCPCode","CPName","SettCurrency","qStockCode","qIssuerCode","CalNetProceed","CalBrokerageFee","Orderqty","DealerKeyInBy","uploaded","DealerKeyInDate"]