{"text_format":"1","workbook":"xlsx","n_sheets":16,"sheets":["Riskk","Login","Main","UTMC001","UTMC002","UTMC005","UTMC006","UTMC007","UTMC008","UTMC009","PvTable","InFundGrp","InMstHst","Mapping","DataUTMC8","DataUTMC9"],"not_rendered":{"charts":0,"images":1,"macros":1,"external_links":1,"defined_names":210,"comments":0,"pivot_tables":5},"unopened":[],"bounds":{"document_bytes":16777216,"sheet_cells":100000,"rows_first":2000,"rows_last":500,"rows_between":2000,"halvings":0,"cell_chars":16384,"cell_head_chars":4096},"cells_cut":0,"cells_raw":0,"read":"whole","date_system":"1900"}

{"sheet":"Riskk","index":0,"n_rows":6,"n_cols":11,"rows_kept":6,"cut":false,"hidden":true,"merged":[]}
["LSL","UPSW",null,null,null,null,null,{"$f":"COUNT(H3:H26)","v":0},false]
["LSL","Userid",null,null,null,null,null,"Main/sub","Caption","On Action","NewGroup"]
[3,"UserLevel"]
["2010-09-09T15:20:33","LoginTime"]
[null,"LogoutTime"]
["MYR","Global Ccy"]

{"sheet":"Login","index":1,"n_rows":24,"n_cols":11,"rows_kept":24,"cut":false,"hidden":false,"merged":[[23,10,23,12],[9,2,9,11]]}
[]
[]
[]
[]
[]
[]
[]
[]
[]
[null,null,"UTMC EXPORT FILE"]
[]
[]
[]
[]
[]
[]
[]
[]
[]
[]
[]
[]
[]
[null,null,null,null,null,null,null,null,null,null,"Press To Enter"]

{"sheet":"Main","index":2,"n_rows":24,"n_cols":11,"rows_kept":24,"cut":false,"hidden":true,"merged":[[2,0,2,7],[9,1,10,1],[9,2,10,2]]}
[null,null,null,null,null,null,null,null,null,null,"DatePart1"]
[null,null,null,null,null,null,null,null,null,null,1]
["UTMC EXPORE FILE"]
[]
[]
[null,null,null,null,null,"Asset Class","Map Asset Class",null,null,"Asset Class Code","Asset Class Name"]
[null,"Report Date","2020-08-31",null,null,"BND","BO",null,null,"EQ","Equities"]
[null,"Fund Group Code","epf",null,null,"O-BND","BO",null,null,"BO","Bonds"]
[null,"EPF IPD Code","IPD014",null,null,"CSH","MM",null,null,"MM","Money Markets"]
[null,"IPD Name","TA Investment Management Bhd",null,null,"O-CSH","MM",null,null,"CA","Cash/Receivable/Payable"]
[null,null,null,null,null,"EQT","EQ",null,null,"FU","Funds"]
[null,"Prepared By (Name)","Jason",null,null,"O-EQT","EQ",null,null,"AL","Alternatives"]
[null,"Prepared By (Designation)","Associate",null,null,"TBI","CA",null,null,"DE","Derivatives"]
[null,"Prepared By (Date)","2020-09-07",null,null,"CIS","MM"]
[null,"Verified By (Name)","Terry",null,null,"DCI"]
[null,"Verified By (Designation)","Manager",null,null,"DEV","DE"]
[null,"Verified By (Date)","2020-09-07",null,null,"FRX"]
[null,"Start From","2010-05-31"]
[null,"Yearly",false]
[null,null,null,null,null,"OTC"]
[null,null,null,null,null,"OTH"]
[null,null,null,null,null,"PRO"]
[null,null,null,null,null,"STP","DE"]
[null,null,null,null,null,"FU","FU"]

{"sheet":"UTMC001","index":3,"n_rows":1,"n_cols":2,"rows_kept":1,"cut":false,"hidden":true,"merged":[]}
["IPD014","TA Investment Management Bhd"]

{"sheet":"UTMC002","index":4,"n_rows":7,"n_cols":10,"rows_kept":7,"cut":false,"hidden":true,"merged":[]}
["IPD014","UTMC001",1,2,"Jason","Associate","2020-09-07","Terry","Manager","2020-09-07"]
["IPD014","UTMC002",7,10,"Jason","Associate","2020-09-07","Terry","Manager","2020-09-07"]
["IPD014","UTMC005",40,5,"Jason","Associate","2020-09-07","Terry","Manager","2020-09-07"]
["IPD014","UTMC006",118,5,"Jason","Associate","2020-09-07","Terry","Manager","2020-09-07"]
["IPD014","UTMC007",13,5,"Jason","Associate","2020-09-07","Terry","Manager","2020-09-07"]
["IPD014","UTMC008",1,6,"Jason","Associate","2020-09-07","Terry","Manager","2020-09-07"]
["IPD014","UTMC009",1,5,"Jason","Associate","2020-09-07","Terry","Manager","2020-09-07"]

{"sheet":"UTMC005","index":5,"n_rows":40,"n_cols":5,"rows_kept":40,"cut":false,"hidden":true,"merged":[]}
["IPD014",1,"2020-08-31","EQ",87.87]
["IPD014",1,"2020-08-31","MM",8.0299999999999994]
["IPD014",1,"2020-08-31","CA",1.82]
["IPD014",1,"2020-08-31","FU",2.2799999999999998]
["IPD014",2,"2020-08-31","EQ",89.6]
["IPD014",2,"2020-08-31","MM",3.98]
["IPD014",2,"2020-08-31","CA",4.67]
["IPD014",2,"2020-08-31","FU",1.75]
["IPD014",3,"2020-08-31","EQ",91.47]
["IPD014",3,"2020-08-31","MM",5.5]
["IPD014",3,"2020-08-31","CA",3.03]
["IPD014",4,"2020-08-31","EQ",56.09]
["IPD014",4,"2020-08-31","MM",43.65]
["IPD014",4,"2020-08-31","CA",0.26]
["IPD014",5,"2020-08-31","EQ",92.24]
["IPD014",5,"2020-08-31","MM",1.85]
["IPD014",5,"2020-08-31","CA",0.87]
["IPD014",5,"2020-08-31","FU",2.89]
["IPD014",5,"2020-08-31","DE",2.15]
["IPD014",7,"2020-08-31","EQ",84.34]
["IPD014",7,"2020-08-31","MM",9.68]
["IPD014",7,"2020-08-31","CA",5.98]
["IPD014",9,"2020-08-31","MM",98.43]
["IPD014",9,"2020-08-31","CA",1.57]
["IPD014",11,"2020-08-31","CA",5.27]
["IPD014",11,"2020-08-31","FU",94.73]
["IPD014",12,"2020-08-31","BO",10.24]
["IPD014",12,"2020-08-31","EQ",59.2]
["IPD014",12,"2020-08-31","MM",4.0999999999999996]
["IPD014",12,"2020-08-31","CA",26.46]
["IPD014",13,"2020-08-31","MM",5.87]
["IPD014",13,"2020-08-31","CA",-1.64]
["IPD014",13,"2020-08-31","FU",95.77]
["IPD014",14,"2020-08-31","CA",2.11]
["IPD014",14,"2020-08-31","FU",97.89]
["IPD014",15,"2020-08-31","EQ",91.14]
["IPD014",15,"2020-08-31","MM",8.9]
["IPD014",15,"2020-08-31","CA",-0.04]
["IPD014",28,"2020-08-31","CA",0.96]
["IPD014",28,"2020-08-31","FU",99.04]

{"sheet":"UTMC006","index":6,"n_rows":118,"n_cols":5,"rows_kept":118,"cut":false,"hidden":true,"merged":[]}
["IPD014",1,"2020-08-31",null,0]
["IPD014",1,"2020-08-31",null,0]
["IPD014",1,"2020-08-31",null,0]
["IPD014",1,"2020-08-31",null,0]
["IPD014",1,"2020-08-31",null,0]
["IPD014",1,"2020-08-31",null,0]
["IPD014",1,"2020-08-31",null,0]
["IPD014",1,"2020-08-31",null,0]
["IPD014",1,"2020-08-31",null,0]
["IPD014",1,"2020-08-31",null,0]
["IPD014",1,"2020-08-31",null,0]
["IPD014",1,"2020-08-31",null,0]
["IPD014",1,"2020-08-31",null,0]
["IPD014",1,"2020-08-31",null,0]
["IPD014",1,"2020-08-31",null,0]
["IPD014",1,"2020-08-31",null,0]
["IPD014",1,"2020-08-31",null,0]
["IPD014",2,"2020-08-31",null,0]
["IPD014",2,"2020-08-31",null,0]
["IPD014",2,"2020-08-31",null,0]
["IPD014",2,"2020-08-31",null,0]
["IPD014",2,"2020-08-31",null,0]
["IPD014",2,"2020-08-31",null,0]
["IPD014",2,"2020-08-31",null,0]
["IPD014",2,"2020-08-31",null,0]
["IPD014",2,"2020-08-31",null,0]
["IPD014",2,"2020-08-31",null,0]
["IPD014",2,"2020-08-31",null,0]
["IPD014",2,"2020-08-31",null,0]
["IPD014",2,"2020-08-31",null,0]
["IPD014",2,"2020-08-31",null,0]
["IPD014",3,"2020-08-31",null,0]
["IPD014",3,"2020-08-31",null,0]
["IPD014",3,"2020-08-31",null,0]
["IPD014",3,"2020-08-31",null,0]
["IPD014",3,"2020-08-31",null,0]
["IPD014",3,"2020-08-31",null,0]
["IPD014",3,"2020-08-31",null,0]
["IPD014",3,"2020-08-31",null,0]
["IPD014",3,"2020-08-31",null,0]
["IPD014",3,"2020-08-31",null,0]
["IPD014",3,"2020-08-31",null,0]
["IPD014",3,"2020-08-31",null,0]
["IPD014",3,"2020-08-31",null,0]
["IPD014",3,"2020-08-31",null,0]
["IPD014",3,"2020-08-31",null,0]
["IPD014",3,"2020-08-31",null,0]
["IPD014",3,"2020-08-31",null,0]
["IPD014",4,"2020-08-31",null,0]
["IPD014",4,"2020-08-31",null,0]
["IPD014",4,"2020-08-31",null,0]
["IPD014",4,"2020-08-31",null,0]
["IPD014",4,"2020-08-31",null,0]
["IPD014",4,"2020-08-31",null,0]
["IPD014",4,"2020-08-31",null,0]
["IPD014",4,"2020-08-31",null,0]
["IPD014",4,"2020-08-31",null,0]
["IPD014",4,"2020-08-31",null,0]
["IPD014",4,"2020-08-31",null,0]
["IPD014",4,"2020-08-31",null,0]
["IPD014",4,"2020-08-31",null,0]
["IPD014",5,"2020-08-31",null,0]
["IPD014",5,"2020-08-31",null,0]
["IPD014",5,"2020-08-31",null,0]
["IPD014",5,"2020-08-31",null,0]
["IPD014",5,"2020-08-31",null,0]
["IPD014",5,"2020-08-31",null,0]
["IPD014",5,"2020-08-31",null,0]
["IPD014",5,"2020-08-31",null,0]
["IPD014",5,"2020-08-31",null,0]
["IPD014",5,"2020-08-31",null,0]
["IPD014",5,"2020-08-31",null,0]
["IPD014",5,"2020-08-31",null,0]
["IPD014",5,"2020-08-31",null,0]
["IPD014",7,"2020-08-31",null,0]
["IPD014",7,"2020-08-31",null,0]
["IPD014",7,"2020-08-31",null,0]
["IPD014",7,"2020-08-31",null,0]
["IPD014",7,"2020-08-31",null,0]
["IPD014",7,"2020-08-31",null,0]
["IPD014",7,"2020-08-31",null,0]
["IPD014",7,"2020-08-31",null,0]
["IPD014",7,"2020-08-31",null,0]
["IPD014",7,"2020-08-31",null,0]
["IPD014",7,"2020-08-31",null,0]
["IPD014",7,"2020-08-31",null,0]
["IPD014",7,"2020-08-31",null,0]
["IPD014",7,"2020-08-31",null,0]
["IPD014",7,"2020-08-31",null,0]
["IPD014",7,"2020-08-31",null,0]
["IPD014",9,"2020-08-31",null,0]
["IPD014",11,"2020-08-31",null,0]
["IPD014",11,"2020-08-31",null,0]
["IPD014",12,"2020-08-31",null,0]
["IPD014",12,"2020-08-31",null,0]
["IPD014",12,"2020-08-31",null,0]
["IPD014",12,"2020-08-31",null,0]
["IPD014",12,"2020-08-31",null,0]
["IPD014",12,"2020-08-31",null,0]
["IPD014",12,"2020-08-31",null,0]
["IPD014",12,"2020-08-31",null,0]
["IPD014",13,"2020-08-31",null,0]
["IPD014",13,"2020-08-31",null,0]
["IPD014",14,"2020-08-31",null,0]
["IPD014",15,"2020-08-31",null,0]
["IPD014",15,"2020-08-31",null,0]
["IPD014",15,"2020-08-31",null,0]
["IPD014",15,"2020-08-31",null,0]
["IPD014",15,"2020-08-31",null,0]
["IPD014",15,"2020-08-31",null,0]
["IPD014",15,"2020-08-31",null,0]
["IPD014",15,"2020-08-31",null,0]
["IPD014",15,"2020-08-31",null,0]
["IPD014",15,"2020-08-31",null,0]
["IPD014",15,"2020-08-31",null,0]
["IPD014",15,"2020-08-31",null,0]
["IPD014",15,"2020-08-31",null,0]
["IPD014",28,"2020-08-31",null,0]

{"sheet":"UTMC007","index":7,"n_rows":13,"n_cols":5,"rows_kept":13,"cut":false,"hidden":true,"merged":[]}
["IPD014",1,"2020-08-31","C",100]
["IPD014",2,"2020-08-31","C",100]
["IPD014",3,"2020-08-31","S",100]
["IPD014",4,"2020-08-31","C",100]
["IPD014",5,"2020-08-31","C",100]
["IPD014",7,"2020-08-31","S",100]
["IPD014",9,"2020-08-31","S",100]
["IPD014",11,"2020-08-31","C",100]
["IPD014",12,"2020-08-31","S",100]
["IPD014",13,"2020-08-31","C",100]
["IPD014",14,"2020-08-31","C",100]
["IPD014",15,"2020-08-31","S",100]
["IPD014",28,"2020-08-31","C",100]

{"sheet":"UTMC008","index":8,"n_rows":1,"n_cols":5,"rows_kept":1,"cut":false,"hidden":true,"merged":[]}
["IPD014",1,"2020-08-31","AU","AU"]

{"sheet":"UTMC009","index":9,"n_rows":1,"n_cols":4,"rows_kept":1,"cut":false,"hidden":true,"merged":[]}
["IPD014",1,"2020-08-31","AUD"]

{"sheet":"PvTable","index":10,"n_rows":124,"n_cols":27,"rows_kept":124,"cut":false,"hidden":true,"merged":[]}
["UTMC005",null,null,null,null,"UTMC006",null,null,null,null,"UTMC007",null,null,null,null,"UTMC008",null,null,null,null,null,null,null,"UTMC009"]
[]
[]
["Sum of MarketValueFC",null,null,null,null,"Sum of MarketValueFC",null,null,null,null,"Sum of MarketValueFC",null,null,null,null,null,null,null,"Data",null,null,null,null,null,null,"Data"]
["MapFundCode","MapAssetClass","NAV","Total",null,"MapFundCode","SectorCode","Fund2Total","Total",null,"MapFundCode","EPFType","NAV","Total",null,"MapFundCode","qCountryID","ListedCountry","Sum of Total","Sum of amount",null,null,null,"MapFundCode","qCurrencyCode","Sum of Total","Sum of Amount"]
[1,"EQ",24962678.760000002,21935063.790000003,null,1,0,24507503.960000005,2543743.4699999997,null,1,"C",24962678.760000002,24962678.760000005,null,1,"AU","AU",null,1537556.67,null,null,null,1,"AUD",null,1641083.777892]
[null,"MM",24962678.760000002,2003393.4700000002,null,null,31,24507503.960000005,569046.69999999995,null,2,"C",15990892.609999999,15990892.610000001,null,null,"HK","HK",null,1726991.3399999999,null,null,null,null,"HKD",null,2195451.3886859999]
[null,"CA",24962678.760000002,455174.80000000028,null,null,4,24507503.960000005,1639879.88,null,3,"S",55935751.590000004,55935751.590000004,null,null,"MY","MY",null,20059998.830000002,null,null,null,null,"MYR",null,19804158.510000002]
[null,"FU",24962678.760000002,569046.69999999995,null,null,16,24507503.960000005,5720669.0299999993,null,4,"C",4443557.84,4443557.8399999989,null,null,"SG","SG",null,902704.92,null,null,null,null,"SGD",null,34773.798972000004]
[2,"EQ",15990892.609999999,14327192.099999998,null,null,6,24507503.960000005,474300,null,5,"C",6341697.6600000001,6341697.6600000011,null,null,"TH","TH",null,735427,null,null,null,null,"THB",null,735427]
[null,"MM",15990892.609999999,635965.62,null,null,21,24507503.960000005,132000,null,7,"S",26198127.359999999,26198127.360000003,null,2,"AU","AU",null,257924.90000000002,null,null,null,null,"USD",null,950453.23947000003]
[null,"CA",15990892.609999999,747517.50000000023,null,null,40,24507503.960000005,1207631.1499999999,null,9,"S",20296296,20296296.000000004,null,null,"HK","HK",null,1072094.57,null,null,null,2,"AUD",null,441372.87083600007]
[null,"FU",15990892.609999999,280217.39,null,null,15,24507503.960000005,254400,null,11,"C",1624227.35,1624227.3499999999,null,null,"MY","MY",null,13716310.24,null,null,null,null,"GBP",null,1074.1448519999994]
[3,"EQ",55935751.590000004,51166642.039999999,null,null,43,24507503.960000005,1768898.1400000001,null,12,"S",10046983.25,10046983.250000002,null,null,"SG","SG",null,503306.7,null,null,null,null,"HKD",null,1382108.7598230001]
[null,"MM",55935751.590000004,3076525.7,null,null,8,24507503.960000005,891000,null,13,"C",29722319.989999998,29722319.989999995,null,null,"TH","TH",null,441256.2,null,null,null,null,"MYR",null,12761766.220000001]
[null,"CA",55935751.590000004,1692583.8500000003,null,null,1,24507503.960000005,515700,null,14,"C",51665977,51665977,null,3,"AU","AU",null,992709.9,null,null,null,null,"SGD",null,27570.947321]
[4,"EQ",4443557.84,2492574.2999999998,null,null,5,24507503.960000005,2075435.1,null,15,"S",9917375.8399999999,9917375.8399999999,null,null,"HK","HK",null,1100947.58,null,null,null,null,"THB",null,441256.2]
[null,"MM",4443557.84,1939768.1500000001,null,null,9,24507503.960000005,3526747,null,28,"C",1172933.3600000001,1172933.3600000001,null,null,"MY","MY",null,53842094.110000007,null,null,null,null,"USD",null,521690.42473999999]
[null,"CA",4443557.84,11215.389999999996,null,null,2,24507503.960000005,1408542,null,"Grand Total",null,null,258318818.61000004,null,4,"HK","HK",null,236947.04,null,null,null,3,"AUD",null,1010649.12858]
[5,"EQ",6341697.6600000001,5849308.3500000006,null,null,42,24507503.960000005,662874.03,null,null,null,null,null,null,null,"MY","MY",null,4206610.8,null,null,null,null,"HKD",null,2028541.7522640002]
[null,"MM",6341697.6600000001,117248.63,null,null,23,24507503.960000005,565351.46,null,null,null,null,null,null,5,"AU","AU",null,184131.68,null,null,null,null,"KRW",null,220.78043099999996]
[null,"CA",6341697.6600000001,55912.069999999992,null,null,48,24507503.960000005,551286,null,null,null,null,null,null,null,"HK","HK",null,491621.06,null,null,null,null,"MYR",null,51405571.890000001]
[null,"FU",6341697.6600000001,183028.61,null,2,0,15243375.109999998,1275865.6200000001,null,null,null,null,null,null,null,"ID","ID",null,57420.36,null,null,null,null,"THB",null,2891.3004962800001]
[null,"DE",6341697.6600000001,136200,null,null,31,15243375.109999998,280217.39,null,null,null,null,null,null,null,"MY","MY",null,5301818.0699999994,null,null,null,4,"HKD",null,241791.682]
[7,"EQ",26198127.359999999,22095007.16,null,null,4,15243375.109999998,4292607.5100000007,null,null,null,null,null,null,null,"TH","TH",null,306706.49,null,null,null,null,"MYR",null,4189024.6599999997]
[null,"MM",26198127.359999999,2536483.4400000004,null,null,16,15243375.109999998,2823581.37,null,null,null,null,null,null,7,"AU","AU",null,609045.06000000006,null,null,null,5,"AUD",null,202164.476444]
[null,"CA",26198127.359999999,1566636.76,null,null,3,15243375.109999998,369600,null,null,null,null,null,null,null,"HK","HK",null,505840.78,null,null,null,null,"GBP",null,3052.3256279999991]
[9,"MM",20296296,19976963.690000001,null,null,40,15243375.109999998,517857.56,null,null,null,null,null,null,null,"MY","MY",null,25083241.520000003,null,null,null,null,"HKD",null,492503.71402700001]
[null,"CA",20296296,319332.31,null,null,15,15243375.109999998,268450,null,null,null,null,null,null,9,"MY","MY",null,20296295.999999996,null,null,null,null,"IDR",null,57420.36]
[11,"CA",1624227.35,85621.530000000013,null,null,43,15243375.109999998,1016530,null,null,null,null,null,null,11,"CH","CH",null,69666.259999999995,null,null,null,null,"MYR",null,5389384.7299999995]
[null,"FU",1624227.35,1538605.82,null,null,1,15243375.109999998,354900,null,null,null,null,null,null,null,"GB","GB",null,1324745.74,null,null,null,null,"SGD",null,2172.3741989999999]
[12,"BO",10046983.25,1029249.73,null,null,5,15243375.109999998,731774.04,null,null,null,null,null,null,null,"MY","MY",null,85621.53,null,null,null,null,"THB",null,475304.07510798]
[null,"EQ",10046983.25,5948000.8200000003,null,null,9,15243375.109999998,1295656.2,null,null,null,null,null,null,null,"SG","SG",null,773.89,null,null,null,null,"USD",null,6653.0568200000016]
[null,"MM",10046983.25,412349.67,null,null,2,15243375.109999998,1109892,null,null,null,null,null,null,null,"US","US",null,143419.93,null,null,null,7,"AUD",null,631118.20098600001]
[null,"CA",10046983.25,2657383.0299999998,null,null,23,15243375.109999998,386819.42,null,null,null,null,null,null,12,"AU","AU",null,666625.28000000003,null,null,null,null,"HKD",null,906938.54159400007]
[13,"MM",29722319.989999998,1745261.88,null,null,48,15243375.109999998,519624,null,null,null,null,null,null,null,"HK","HK",null,2061712.06,null,null,null,null,"KRW",null,858.44642949999991]
[null,"CA",29722319.989999998,-489327.64999999991,null,3,0,54243167.740000002,8938315.6999999993,null,null,null,null,null,null,null,"JP","JP",null,2282022.6599999997,null,null,null,null,"MYR",null,22801324.449999999]
[null,"FU",29722319.989999998,28466385.759999998,null,null,4,54243167.740000002,7823063.3600000003,null,null,null,null,null,null,null,"MY","MY",null,4098982.4299999997,null,null,null,null,"THB",null,406629.62255999999]
[14,"CA",51665977,1091081.1100000003,null,null,16,54243167.740000002,1616160,null,null,null,null,null,null,null,"TW","US",null,937640.82,null,null,null,null,"USD",null,20697.478510000004]
[null,"FU",51665977,50574895.890000001,null,null,21,54243167.740000002,844800,null,null,null,null,null,null,13,"LU","LU",null,28466385.759999998,null,null,null,9,"MYR",null,19657631.379999999]
[15,"EQ",9917375.8399999999,9038639,null,null,3,54243167.740000002,3898372.3200000003,null,null,null,null,null,null,null,"MY","MY",null,1255934.2299999997,null,null,null,11,"EUR",null,176418.82938399998]
[null,"MM",9917375.8399999999,882945.29,null,null,40,54243167.740000002,551969.88,null,null,null,null,null,null,14,"LU","LU",null,50574895.890000001,null,null,null,null,"GBP",null,72.318443999999971]
[null,"CA",9917375.8399999999,-4208.4499999999971,null,null,15,54243167.740000002,1867760,null,null,null,null,null,null,null,"MY","MY",null,1091081.1099999999,null,null,null,null,"HKD",null,46.394697999999998]
[28,"CA",1172933.3600000001,11225.39,null,null,43,54243167.740000002,4921190,null,null,null,null,null,null,15,"MY","MY",null,9917375.8399999999,null,null,null,null,"JPY",null,4.3090969999999995]
[null,"FU",1172933.3600000001,1161707.97,null,null,8,54243167.740000002,474000,null,null,null,null,null,null,28,"IE","IE",null,1161707.97,null,null,null,null,"MYR",null,-306.14000000000669]
["Grand Total",null,null,258318818.60999995,null,null,1,54243167.740000002,1956790,null,null,null,null,null,null,null,"MY","MY",null,11225.39,null,null,null,null,"SGD",null,2395.7014180000001]
[null,null,null,null,null,null,5,54243167.740000002,5957171.9000000004,null,null,null,null,null,null,"Grand Total",null,null,null,258318818.61000001,null,null,null,null,"USD",null,1444983.6561707]
[null,null,null,null,null,null,7,54243167.740000002,700600,null,null,null,null,null,null,null,null,null,null,null,null,null,null,12,"AUD",null,1018395.9215600002]
[null,null,null,null,null,null,14,54243167.740000002,2167018,null,null,null,null,null,null,null,null,null,null,null,null,null,null,null,"HKD",null,3419440.3395720003]
[null,null,null,null,null,null,9,54243167.740000002,1241177,null,null,null,null,null,null,null,null,null,null,null,null,null,null,null,"JPY",null,3144813.7020739997]
[null,null,null,null,null,null,2,54243167.740000002,4193268,null,null,null,null,null,null,null,null,null,null,null,null,null,null,null,"KRW",null,6.6794499999999993E-2]
[null,null,null,null,null,null,23,54243167.740000002,1100947.58,null,null,null,null,null,null,null,null,null,null,null,null,null,null,null,"MYR",null,1457100.18]
[null,null,null,null,null,null,48,54243167.740000002,5990564,null,null,null,null,null,null,null,null,null,null,null,null,null,null,null,"USD",null,1038234.59451]
[null,null,null,null,null,4,0,4432342.4499999993,2020568.1500000001,null,null,null,null,null,null,null,null,null,null,null,null,null,null,13,"EUR",null,17821928.062384002]
[null,null,null,null,null,null,4,4432342.4499999993,118250,null,null,null,null,null,null,null,null,null,null,null,null,null,null,null,"MYR",null,2292278.25]
[null,null,null,null,null,null,16,4432342.4499999993,1080857.99,null,null,null,null,null,null,null,null,null,null,null,null,null,null,null,"SGD",null,1650927.3716]
[null,null,null,null,null,null,6,4432342.4499999993,86700,null,null,null,null,null,null,null,null,null,null,null,null,null,null,null,"USD",null,9051219.0529999994]
[null,null,null,null,null,null,21,4432342.4499999993,23760,null,null,null,null,null,null,null,null,null,null,null,null,null,null,14,"MYR",null,834296.73]
[null,null,null,null,null,null,3,4432342.4499999993,107267.37,null,null,null,null,null,null,null,null,null,null,null,null,null,null,null,"USD",null,52500273.73184]
[null,null,null,null,null,null,40,4432342.4499999993,218453.9,null,null,null,null,null,null,null,null,null,null,null,null,null,null,15,"MYR",null,9925792.7400000002]
[null,null,null,null,null,null,1,4432342.4499999993,97680,null,null,null,null,null,null,null,null,null,null,null,null,null,null,28,"MYR",null,-11225.39]
[null,null,null,null,null,null,5,4432342.4499999993,71550,null,null,null,null,null,null,null,null,null,null,null,null,null,null,null,"SGD",null,1161707.97]
[null,null,null,null,null,null,18,4432342.4499999993,236947.04,null,null,null,null,null,null,null,null,null,null,null,null,null,null,"Grand Total",null,null,257799530.10121503]
[null,null,null,null,null,null,9,4432342.4499999993,104400]
[null,null,null,null,null,null,2,4432342.4499999993,217200]
[null,null,null,null,null,null,48,4432342.4499999993,48708]
[null,null,null,null,null,5,0,6285785.5900000008,1177310.6299999999]
[null,null,null,null,null,null,31,6285785.5900000008,183028.61]
[null,null,null,null,null,null,4,6285785.5900000008,2308988.0499999998]
[null,null,null,null,null,null,21,6285785.5900000008,286200]
[null,null,null,null,null,null,40,6285785.5900000008,218400]
[null,null,null,null,null,null,15,6285785.5900000008,31710]
[null,null,null,null,null,null,43,6285785.5900000008,363705.36]
[null,null,null,null,null,null,10,6285785.5900000008,113656.9]
[null,null,null,null,null,null,26,6285785.5900000008,136200]
[null,null,null,null,null,null,5,6285785.5900000008,421916]
[null,null,null,null,null,null,9,6285785.5900000008,696883.99]
[null,null,null,null,null,null,42,6285785.5900000008,184131.68]
[null,null,null,null,null,null,23,6285785.5900000008,163654.37]
[null,null,null,null,null,7,0,24631490.600000001,5394155.9400000004]
[null,null,null,null,null,null,4,24631490.600000001,4485625.7200000007]
[null,null,null,null,null,null,21,24631490.600000001,382800]
[null,null,null,null,null,null,3,24631490.600000001,1607774.1]
[null,null,null,null,null,null,15,24631490.600000001,808936]
[null,null,null,null,null,null,43,24631490.600000001,2107928]
[null,null,null,null,null,null,8,24631490.600000001,210000]
[null,null,null,null,null,null,1,24631490.600000001,824055]
[null,null,null,null,null,null,5,24631490.600000001,2851466.34]
[null,null,null,null,null,null,7,24631490.600000001,219000]
[null,null,null,null,null,null,14,24631490.600000001,625738]
[null,null,null,null,null,null,9,24631490.600000001,514300]
[null,null,null,null,null,null,2,24631490.600000001,1231380]
[null,null,null,null,null,null,42,24631490.600000001,141510.72]
[null,null,null,null,null,null,23,24631490.600000001,505840.78]
[null,null,null,null,null,null,48,24631490.600000001,2720980]
[null,null,null,null,null,9,0,19976963.689999998,19976963.690000001]
[null,null,null,null,null,11,17,1538605.82,1537831.9300000002]
[null,null,null,null,null,null,27,1538605.82,773.89]
[null,null,null,null,null,12,0,7389600.2200000007,412349.67]
[null,null,null,null,null,null,4,7389600.2200000007,2076937.3399999999]
[null,null,null,null,null,null,21,7389600.2200000007,893465.57]
[null,null,null,null,null,null,43,7389600.2200000007,211900.1]
[null,null,null,null,null,null,5,7389600.2200000007,1116151.8]
[null,null,null,null,null,null,9,7389600.2200000007,727130.47]
[null,null,null,null,null,null,25,7389600.2200000007,1029249.73]
[null,null,null,null,null,null,23,7389600.2200000007,922415.54]
[null,null,null,null,null,13,0,30211647.639999997,1745261.88]
[null,null,null,null,null,null,27,30211647.639999997,28466385.759999998]
[null,null,null,null,null,14,27,50574895.890000001,50574895.890000001]
[null,null,null,null,null,15,0,9921584.2899999991,1516665.29]
[null,null,null,null,null,null,4,9921584.2899999991,1837560]
[null,null,null,null,null,null,16,9921584.2899999991,308580]
[null,null,null,null,null,null,15,9921584.2899999991,108750]
[null,null,null,null,null,null,43,9921584.2899999991,1094498]
[null,null,null,null,null,null,8,9921584.2899999991,399000]
[null,null,null,null,null,null,5,9921584.2899999991,2402500]
[null,null,null,null,null,null,7,9921584.2899999991,163200]
[null,null,null,null,null,null,14,9921584.2899999991,369000]
[null,null,null,null,null,null,9,9921584.2899999991,544775]
[null,null,null,null,null,null,2,9921584.2899999991,521280]
[null,null,null,null,null,null,33,9921584.2899999991,135000]
[null,null,null,null,null,null,48,9921584.2899999991,520776]
[null,null,null,null,null,28,27,1161707.97,1161707.97]
[null,null,null,null,null,"Grand Total",null,null,250118670.96999997]

{"sheet":"InFundGrp","index":11,"n_rows":14,"n_cols":1,"rows_kept":14,"cut":false,"hidden":true,"merged":[]}
["qFundCode"]
["TAADIF"]
["TACF"]
["TADF"]
["TADO"]
["TAEURO"]
["TAGAAF"]
["TAGF"]
["TAIB"]
["TAICP"]
["TAIF"]
["TAINC"]
["TASCAP"]
["TRFIF"]

{"sheet":"InMstHst","index":12,"n_rows":567,"n_cols":17,"rows_kept":567,"cut":false,"hidden":true,"merged":[]}
["MarketValueFC","NAV","PercNAV","qFundCode","FundName","qStockCode","qProductType","SectorCode","qAssetClass","EPFType","CountryCode","ListedCountryCode","CurrencyCode","FundTotal","Fund2Total","MapAssetClass","MapFundCode"]
[481250,26198127.359999999,1.8369633576741267,"TADO","TA Dana Optimix","1900-01-10","EQT",0,"EQT","S","MY","MY","MYR",26198127.359999999,24631490.600000001,"EQ",{"$f":"IFERROR(VLOOKUP(D:D,Mapping!B:C,2,0),D:D)","v":7}]
[96250,6341697.6600000001,1.5177323984883884,"TASF","TA Small Cap Fund","1900-01-10","EQT",0,"EQT","C","MY","MY","MYR",6341697.6600000011,6285785.5900000008,"EQ",{"$f":"IFERROR(VLOOKUP(D:D,Mapping!B:C,2,0),D:D)","v":5}]
[386400,15990892.609999999,2.4163754295889803,"TACF","TA Comet Fund","1900-03-22","EQT",4,"EQT","C","MY","MY","MYR",15990892.610000003,15243375.109999998,"EQ",{"$f":"IFERROR(VLOOKUP(D:D,Mapping!B:C,2,0),D:D)","v":2}]
[478240,24962678.760000002,1.9158200311671998,"TAGF","TA Growth Fund","1900-03-22","EQT",4,"EQT","C","MY","MY","MYR",24962678.760000002,24507503.960000005,"EQ",{"$f":"IFERROR(VLOOKUP(D:D,Mapping!B:C,2,0),D:D)","v":1}]
[426720,6341697.6600000001,6.7287976008619745,"TASF","TA Small Cap Fund","1900-03-22","EQT",4,"EQT","C","MY","MY","MYR",6341697.6600000011,6285785.5900000008,"EQ",{"$f":"IFERROR(VLOOKUP(D:D,Mapping!B:C,2,0),D:D)","v":5}]
[237000,9917375.8399999999,2.3897450678848124,"TADF","TA Dana Fokus","1900-03-24","EQT",0,"EQT","S","MY","MY","MYR",9917375.8399999999,9921584.2899999991,"EQ",{"$f":"IFERROR(VLOOKUP(D:D,Mapping!B:C,2,0),D:D)","v":15}]
[280875,15990892.609999999,1.7564685527582942,"TACF","TA Comet Fund","1900-04-07","EQT",4,"EQT","C","MY","MY","MYR",15990892.610000003,15243375.109999998,"EQ",{"$f":"IFERROR(VLOOKUP(D:D,Mapping!B:C,2,0),D:D)","v":2}]
[422625,26198127.359999999,1.6131878213756421,"TADO","TA Dana Optimix","1900-04-07","EQT",4,"EQT","S","MY","MY","MYR",26198127.359999999,24631490.600000001,"EQ",{"$f":"IFERROR(VLOOKUP(D:D,Mapping!B:C,2,0),D:D)","v":7}]
[136500,6341697.6600000001,2.1524204924017143,"TASF","TA Small Cap Fund","1900-04-07","EQT",4,"EQT","C","MY","MY","MYR",6341697.6600000011,6285785.5900000008,"EQ",{"$f":"IFERROR(VLOOKUP(D:D,Mapping!B:C,2,0),D:D)","v":5}]
[137500,6341697.6600000001,2.1681891406976974,"TASF","TA Small Cap Fund","1900-04-10","EQT",4,"EQT","C","MY","MY","MYR",6341697.6600000011,6285785.5900000008,"EQ",{"$f":"IFERROR(VLOOKUP(D:D,Mapping!B:C,2,0),D:D)","v":5}]
[133000,15990892.609999999,0.83172342685127942,"TACF","TA Comet Fund","1900-05-07","EQT",4,"EQT","C","MY","MY","MYR",15990892.610000003,15243375.109999998,"EQ",{"$f":"IFERROR(VLOOKUP(D:D,Mapping!B:C,2,0),D:D)","v":2}]
[760000,9917375.8399999999,7.6633175172677532,"TADF","TA Dana Fokus","1900-05-07","EQT",4,"EQT","S","MY","MY","MYR",9917375.8399999999,9921584.2899999991,"EQ",{"$f":"IFERROR(VLOOKUP(D:D,Mapping!B:C,2,0),D:D)","v":15}]
[414200,26198127.359999999,1.5810290342828535,"TADO","TA Dana Optimix","1900-05-07","EQT",4,"EQT","S","MY","MY","MYR",26198127.359999999,24631490.600000001,"EQ",{"$f":"IFERROR(VLOOKUP(D:D,Mapping!B:C,2,0),D:D)","v":7}]
[771400,55935751.590000004,1.379082211416836,"TAIF","TA Islamic Fund","1900-05-07","EQT",4,"EQT","S","MY","MY","MYR",55935751.589999996,54243167.740000002,"EQ",{"$f":"IFERROR(VLOOKUP(D:D,Mapping!B:C,2,0),D:D)","v":3}]
[171000,6341697.6600000001,2.6964388586131367,"TASF","TA Small Cap Fund","1900-05-07","EQT",4,"EQT","C","MY","MY","MYR",6341697.6600000011,6285785.5900000008,"EQ",{"$f":"IFERROR(VLOOKUP(D:D,Mapping!B:C,2,0),D:D)","v":5}]
[298000,9917375.8399999999,3.0048271317707771,"TADF","TA Dana Fokus","1900-05-17","EQT",4,"EQT","S","MY","MY","MYR",9917375.8399999999,9921584.2899999991,"EQ",{"$f":"IFERROR(VLOOKUP(D:D,Mapping!B:C,2,0),D:D)","v":15}]
[300980,26198127.359999999,1.1488607405563815,"TADO","TA Dana Optimix","1900-05-17","EQT",4,"EQT","S","MY","MY","MYR",26198127.359999999,24631490.600000001,"EQ",{"$f":"IFERROR(VLOOKUP(D:D,Mapping!B:C,2,0),D:D)","v":7}]
[655600,55935751.590000004,1.1720589808204274,"TAIF","TA Islamic Fund","1900-05-17","EQT",4,"EQT","S","MY","MY","MYR",55935751.589999996,54243167.740000002,"EQ",{"$f":"IFERROR(VLOOKUP(D:D,Mapping!B:C,2,0),D:D)","v":3}]
[1497177.36,15990892.609999999,9.3626878531079072,"TACF","TA Comet Fund","1900-05-25","EQT",4,"EQT","C","MY","MY","MYR",15990892.610000003,15243375.109999998,"EQ",{"$f":"IFERROR(VLOOKUP(D:D,Mapping!B:C,2,0),D:D)","v":2}]
[2286010.7200000002,26198127.359999999,8.7258554345771397,"TADO","TA Dana Optimix","1900-05-25","EQT",4,"EQT","S","MY","MY","MYR",26198127.359999999,24631490.600000001,"EQ",{"$f":"IFERROR(VLOOKUP(D:D,Mapping!B:C,2,0),D:D)","v":7}]
[5091033.3600000003,55935751.590000004,9.1015731715137225,"TAIF","TA Islamic Fund","1900-05-25","EQT",4,"EQT","S","MY","MY","MYR",55935751.589999996,54243167.740000002,"EQ",{"$f":"IFERROR(VLOOKUP(D:D,Mapping!B:C,2,0),D:D)","v":3}]
[584601.36,6341697.6600000001,9.2183732391934932,"TASF","TA Small Cap Fund","1900-05-25","EQT",4,"EQT","C","MY","MY","MYR",6341697.6600000011,6285785.5900000008,"EQ",{"$f":"IFERROR(VLOOKUP(D:D,Mapping!B:C,2,0),D:D)","v":5}]
[240000,6341697.6600000001,3.7844755910359811,"TASF","TA Small Cap Fund","0150PA","EQT",21,"EQT","C","MY","MY","MYR",6341697.6600000011,6285785.5900000008,"EQ",{"$f":"IFERROR(VLOOKUP(D:D,Mapping!B:C,2,0),D:D)","v":5}]
[11200,6341697.6600000001,0.17660886091501246,"TASF","TA Small Cap Fund","0150WB","EQT",26,"DEV","C","MY","MY","MYR",6341697.6600000011,6285785.5900000008,"DE",{"$f":"IFERROR(VLOOKUP(D:D,Mapping!B:C,2,0),D:D)","v":5}]
[427000,9917375.8399999999,4.3055744472017512,"TADF","TA Dana Fokus","1900-05-30","EQT",5,"EQT","S","MY","MY","MYR",9917375.8399999999,9921584.2899999991,"EQ",{"$f":"IFERROR(VLOOKUP(D:D,Mapping!B:C,2,0),D:D)","v":15}]
[738832,26198127.359999999,2.8201710368355122,"TADO","TA Dana Optimix","1900-05-30","EQT",5,"EQT","S","MY","MY","MYR",26198127.359999999,24631490.600000001,"EQ",{"$f":"IFERROR(VLOOKUP(D:D,Mapping!B:C,2,0),D:D)","v":7}]
[1107882,55935751.590000004,1.9806330808256507,"TAIF","TA Islamic Fund","1900-05-30","EQT",5,"EQT","S","MY","MY","MYR",55935751.589999996,54243167.740000002,"EQ",{"$f":"IFERROR(VLOOKUP(D:D,Mapping!B:C,2,0),D:D)","v":3}]
[427500,15990892.609999999,2.6733967291648271,"TACF","TA Comet Fund","1900-06-14","EQT",4,"EQT","C","MY","MY","MYR",15990892.610000003,15243375.109999998,"EQ",{"$f":"IFERROR(VLOOKUP(D:D,Mapping!B:C,2,0),D:D)","v":2}]
[281250,26198127.359999999,1.0735500142251388,"TADO","TA Dana Optimix","1900-06-14","EQT",4,"EQT","S","MY","MY","MYR",26198127.359999999,24631490.600000001,"EQ",{"$f":"IFERROR(VLOOKUP(D:D,Mapping!B:C,2,0),D:D)","v":7}]
[641250,55935751.590000004,1.1464045476679363,"TAIF","TA Islamic Fund","1900-06-14","EQT",4,"EQT","S","MY","MY","MYR",55935751.589999996,54243167.740000002,"EQ",{"$f":"IFERROR(VLOOKUP(D:D,Mapping!B:C,2,0),D:D)","v":3}]
[102600,6341697.6600000001,1.6178633151678821,"TASF","TA Small Cap Fund","1900-06-28","EQT",9,"EQT","C","MY","MY","MYR",6341697.6600000011,6285785.5900000008,"EQ",{"$f":"IFERROR(VLOOKUP(D:D,Mapping!B:C,2,0),D:D)","v":5}]
[544775,9917375.8399999999,5.493136579565185,"TADF","TA Dana Fokus","1900-07-04","EQT",9,"EQT","S","MY","MY","MYR",9917375.8399999999,9921584.2899999991,"EQ",{"$f":"IFERROR(VLOOKUP(D:D,Mapping!B:C,2,0),D:D)","v":15}]
[137500,26198127.359999999,0.52484667362117898,"TADO","TA Dana Optimix","1900-07-04","EQT",9,"EQT","S","MY","MY","MYR",26198127.359999999,24631490.600000001,"EQ",{"$f":"IFERROR(VLOOKUP(D:D,Mapping!B:C,2,0),D:D)","v":7}]
[465575,55935751.590000004,0.83233886515477495,"TAIF","TA Islamic Fund","1900-07-04","EQT",9,"EQT","S","MY","MY","MYR",55935751.589999996,54243167.740000002,"EQ",{"$f":"IFERROR(VLOOKUP(D:D,Mapping!B:C,2,0),D:D)","v":3}]
[488400,15990892.609999999,3.0542385088283073,"TACF","TA Comet Fund","1900-07-14","EQT",5,"EQT","C","MY","MY","MYR",15990892.610000003,15243375.109999998,"EQ",{"$f":"IFERROR(VLOOKUP(D:D,Mapping!B:C,2,0),D:D)","v":2}]
[330000,9917375.8399999999,3.3274931324978403,"TADF","TA Dana Fokus","1900-07-14","EQT",5,"EQT","S","MY","MY","MYR",9917375.8399999999,9921584.2899999991,"EQ",{"$f":"IFERROR(VLOOKUP(D:D,Mapping!B:C,2,0),D:D)","v":15}]
[693000,26198127.359999999,2.6452272350507422,"TADO","TA Dana Optimix","1900-07-14","EQT",5,"EQT","S","MY","MY","MYR",26198127.359999999,24631490.600000001,"EQ",{"$f":"IFERROR(VLOOKUP(D:D,Mapping!B:C,2,0),D:D)","v":7}]
[429000,24962678.760000002,1.7185655599086833,"TAGF","TA Growth Fund","1900-07-14","EQT",5,"EQT","C","MY","MY","MYR",24962678.760000002,24507503.960000005,"EQ",{"$f":"IFERROR(VLOOKUP(D:D,Mapping!B:C,2,0),D:D)","v":1}]
[2013000,55935751.590000004,3.5987717028546675,"TAIF","TA Islamic Fund","1900-07-14","EQT",5,"EQT","S","MY","MY","MYR",55935751.589999996,54243167.740000002,"EQ",{"$f":"IFERROR(VLOOKUP(D:D,Mapping!B:C,2,0),D:D)","v":3}]
[280500,6341697.6600000001,4.4231058470233036,"TASF","TA Small Cap Fund","1900-07-14","EQT",5,"EQT","C","MY","MY","MYR",6341697.6600000011,6285785.5900000008,"EQ",{"$f":"IFERROR(VLOOKUP(D:D,Mapping!B:C,2,0),D:D)","v":5}]
[243000,9917375.8399999999,2.4502449430211368,"TADF","TA Dana Fokus","1900-07-18","EQT",4,"EQT","S","MY","MY","MYR",9917375.8399999999,9921584.2899999991,"EQ",{"$f":"IFERROR(VLOOKUP(D:D,Mapping!B:C,2,0),D:D)","v":15}]
[363082.5,15990892.609999999,2.2705580536069903,"TACF","TA Comet Fund","1902-10-19","EQT",16,"EQT","C","MY","MY","MYR",15990892.610000003,15243375.109999998,"EQ",{"$f":"IFERROR(VLOOKUP(D:D,Mapping!B:C,2,0),D:D)","v":2}]
[1071840,24962678.760000002,4.2937699527564641,"TAGF","TA Growth Fund","1902-10-19","EQT",16,"EQT","C","MY","MY","MYR",24962678.760000002,24507503.960000005,"EQ",{"$f":"IFERROR(VLOOKUP(D:D,Mapping!B:C,2,0),D:D)","v":1}]
[215301.9,4443557.84,4.8452593113989941,"TIF","TA Income Fund","1902-10-19","EQT",16,"EQT","C","MY","MY","MYR",4443557.8399999989,4432342.4499999993,"EQ",{"$f":"IFERROR(VLOOKUP(D:D,Mapping!B:C,2,0),D:D)","v":4}]
[1233924.8700000001,15990892.609999999,7.7164227169430051,"TACF","TA Comet Fund","1903-02-28","EQT",16,"EQT","C","MY","MY","MYR",15990892.610000003,15243375.109999998,"EQ",{"$f":"IFERROR(VLOOKUP(D:D,Mapping!B:C,2,0),D:D)","v":2}]
[2049548.63,24962678.760000002,8.2104514892215033,"TAGF","TA Growth Fund","1903-02-28","EQT",16,"EQT","C","MY","MY","MYR",24962678.760000002,24507503.960000005,"EQ",{"$f":"IFERROR(VLOOKUP(D:D,Mapping!B:C,2,0),D:D)","v":1}]
[391443.99,4443557.84,8.8092470964662866,"TIF","TA Income Fund","1903-02-28","EQT",16,"EQT","C","MY","MY","MYR",4443557.8399999989,4432342.4499999993,"EQ",{"$f":"IFERROR(VLOOKUP(D:D,Mapping!B:C,2,0),D:D)","v":4}]
[1226574,15990892.609999999,7.6704536132833177,"TACF","TA Comet Fund","1903-07-18","EQT",16,"EQT","C","MY","MY","MYR",15990892.610000003,15243375.109999998,"EQ",{"$f":"IFERROR(VLOOKUP(D:D,Mapping!B:C,2,0),D:D)","v":2}]
[1898480.4,24962678.760000002,7.6052751319386038,"TAGF","TA Growth Fund","1903-07-18","EQT",16,"EQT","C","MY","MY","MYR",24962678.760000002,24507503.960000005,"EQ",{"$f":"IFERROR(VLOOKUP(D:D,Mapping!B:C,2,0),D:D)","v":1}]
[344902.1,4443557.84,7.7618456295372544,"TIF","TA Income Fund","1903-07-18","EQT",16,"EQT","C","MY","MY","MYR",4443557.8399999989,4432342.4499999993,"EQ",{"$f":"IFERROR(VLOOKUP(D:D,Mapping!B:C,2,0),D:D)","v":4}]
[163200,9917375.8399999999,1.6455966037080227,"TADF","TA Dana Fokus","1904-06-06","EQT",7,"EQT","S","MY","MY","MYR",9917375.8399999999,9921584.2899999991,"EQ",{"$f":"IFERROR(VLOOKUP(D:D,Mapping!B:C,2,0),D:D)","v":15}]
[625738,26198127.359999999,2.388483693515413,"TADO","TA Dana Optimix","1905-05-14","EQT",14,"EQT","S","MY","MY","MYR",26198127.359999999,24631490.600000001,"EQ",{"$f":"IFERROR(VLOOKUP(D:D,Mapping!B:C,2,0),D:D)","v":7}]
[893338,55935751.590000004,1.5970787458940801,"TAIF","TA Islamic Fund","1905-05-14","EQT",14,"EQT","S","MY","MY","MYR",55935751.589999996,54243167.740000002,"EQ",{"$f":"IFERROR(VLOOKUP(D:D,Mapping!B:C,2,0),D:D)","v":3}]
[150650,6341697.6600000001,2.3755468657898775,"TASF","TA Small Cap Fund","1905-12-25","EQT",0,"EQT","C","MY","MY","MYR",6341697.6600000011,6285785.5900000008,"EQ",{"$f":"IFERROR(VLOOKUP(D:D,Mapping!B:C,2,0),D:D)","v":5}]
[700800,24962678.760000002,2.8073910125501289,"TAGF","TA Growth Fund","1906-10-23","EQT",16,"EQT","C","MY","MY","MYR",24962678.760000002,24507503.960000005,"EQ",{"$f":"IFERROR(VLOOKUP(D:D,Mapping!B:C,2,0),D:D)","v":1}]
[129210,4443557.84,2.9078050664014761,"TIF","TA Income Fund","1906-10-23","EQT",16,"EQT","C","MY","MY","MYR",4443557.8399999989,4432342.4499999993,"EQ",{"$f":"IFERROR(VLOOKUP(D:D,Mapping!B:C,2,0),D:D)","v":4}]
[135000,9917375.8399999999,1.3612471905672983,"TADF","TA Dana Fokus","1907-07-01","EQT",33,"EQT","S","MY","MY","MYR",9917375.8399999999,9921584.2899999991,"EQ",{"$f":"IFERROR(VLOOKUP(D:D,Mapping!B:C,2,0),D:D)","v":15}]
[175000,55935751.590000004,0.31285894088403721,"TAIF","TA Islamic Fund","1907-08-02","EQT",7,"EQT","S","MY","MY","MYR",55935751.589999996,54243167.740000002,"EQ",{"$f":"IFERROR(VLOOKUP(D:D,Mapping!B:C,2,0),D:D)","v":3}]
[195000,9917375.8399999999,1.966245941930542,"TADF","TA Dana Fokus","1907-10-22","EQT",5,"EQT","S","MY","MY","MYR",9917375.8399999999,9921584.2899999991,"EQ",{"$f":"IFERROR(VLOOKUP(D:D,Mapping!B:C,2,0),D:D)","v":15}]
[632550,24962678.760000002,2.5339828552919292,"TAGF","TA Growth Fund","1907-10-22","EQT",5,"EQT","C","MY","MY","MYR",24962678.760000002,24507503.960000005,"EQ",{"$f":"IFERROR(VLOOKUP(D:D,Mapping!B:C,2,0),D:D)","v":1}]
[396000,24962678.760000002,1.586368209146477,"TAGF","TA Growth Fund","1909-02-17","EQT",8,"EQT","C","MY","MY","MYR",24962678.760000002,24507503.960000005,"EQ",{"$f":"IFERROR(VLOOKUP(D:D,Mapping!B:C,2,0),D:D)","v":1}]
[361100,15990892.609999999,2.2581603716992258,"TACF","TA Comet Fund","1910-08-02","EQT",4,"EQT","C","MY","MY","MYR",15990892.610000003,15243375.109999998,"EQ",{"$f":"IFERROR(VLOOKUP(D:D,Mapping!B:C,2,0),D:D)","v":2}]
[494550,26198127.359999999,1.8877303450134841,"TADO","TA Dana Optimix","1910-08-02","EQT",4,"EQT","S","MY","MY","MYR",26198127.359999999,24631490.600000001,"EQ",{"$f":"IFERROR(VLOOKUP(D:D,Mapping!B:C,2,0),D:D)","v":7}]
[329700,6341697.6600000001,5.1989233431856796,"TASF","TA Small Cap Fund","1910-08-02","EQT",4,"EQT","C","MY","MY","MYR",6341697.6600000011,6285785.5900000008,"EQ",{"$f":"IFERROR(VLOOKUP(D:D,Mapping!B:C,2,0),D:D)","v":5}]
[1273680,55935751.590000004,2.2770410047153171,"TAIF","TA Islamic Fund","1911-02-16","EQT",14,"EQT","S","MY","MY","MYR",55935751.589999996,54243167.740000002,"EQ",{"$f":"IFERROR(VLOOKUP(D:D,Mapping!B:C,2,0),D:D)","v":3}]
[232560,24962678.760000002,0.93163078464420368,"TAGF","TA Growth Fund","1911-05-24","EQT",9,"EQT","C","MY","MY","MYR",24962678.760000002,24507503.960000005,"EQ",{"$f":"IFERROR(VLOOKUP(D:D,Mapping!B:C,2,0),D:D)","v":1}]
[42840,4443557.84,0.96409232292113023,"TIF","TA Income Fund","1911-05-24","EQT",9,"EQT","C","MY","MY","MYR",4443557.8399999989,4432342.4499999993,"EQ",{"$f":"IFERROR(VLOOKUP(D:D,Mapping!B:C,2,0),D:D)","v":4}]
[219000,26198127.359999999,0.83593761107664144,"TADO","TA Dana Optimix","1911-06-28","EQT",7,"EQT","S","MY","MY","MYR",26198127.359999999,24631490.600000001,"EQ",{"$f":"IFERROR(VLOOKUP(D:D,Mapping!B:C,2,0),D:D)","v":7}]
[525600,55935751.590000004,0.93964948187799968,"TAIF","TA Islamic Fund","1911-06-28","EQT",7,"EQT","S","MY","MY","MYR",55935751.589999996,54243167.740000002,"EQ",{"$f":"IFERROR(VLOOKUP(D:D,Mapping!B:C,2,0),D:D)","v":3}]
[330600,24962678.760000002,1.3243770958177405,"TAGF","TA Growth Fund","1912-11-27","EQT",9,"EQT","C","MY","MY","MYR",24962678.760000002,24507503.960000005,"EQ",{"$f":"IFERROR(VLOOKUP(D:D,Mapping!B:C,2,0),D:D)","v":1}]
[61560,4443557.84,1.3853763631891871,"TIF","TA Income Fund","1912-11-27","EQT",9,"EQT","C","MY","MY","MYR",4443557.8399999989,4432342.4499999993,"EQ",{"$f":"IFERROR(VLOOKUP(D:D,Mapping!B:C,2,0),D:D)","v":4}]
[322420,6341697.6600000001,5.084127583590921,"TASF","TA Small Cap Fund","1912-12-13","EQT",0,"EQT","C","MY","MY","MYR",6341697.6600000011,6285785.5900000008,"EQ",{"$f":"IFERROR(VLOOKUP(D:D,Mapping!B:C,2,0),D:D)","v":5}]
[817774.1,26198127.359999999,3.1214982993349341,"TADO","TA Dana Optimix","1913-04-24","EQT",3,"EQT","S","MY","MY","MYR",26198127.359999999,24631490.600000001,"EQ",{"$f":"IFERROR(VLOOKUP(D:D,Mapping!B:C,2,0),D:D)","v":7}]
[1713958.3,55935751.590000004,3.064155305470885,"TAIF","TA Islamic Fund","1913-04-24","EQT",3,"EQT","S","MY","MY","MYR",55935751.589999996,54243167.740000002,"EQ",{"$f":"IFERROR(VLOOKUP(D:D,Mapping!B:C,2,0),D:D)","v":3}]
[286010,26198127.359999999,1.0917192517992249,"TADO","TA Dana Optimix","1913-09-13","EQT",4,"EQT","S","MY","MY","MYR",26198127.359999999,24631490.600000001,"EQ",{"$f":"IFERROR(VLOOKUP(D:D,Mapping!B:C,2,0),D:D)","v":7}]
[663780,55935751.590000004,1.1866829016000355,"TAIF","TA Islamic Fund","1913-09-13","EQT",4,"EQT","S","MY","MY","MYR",55935751.589999996,54243167.740000002,"EQ",{"$f":"IFERROR(VLOOKUP(D:D,Mapping!B:C,2,0),D:D)","v":3}]
[474300,24962678.760000002,1.9000364686822575,"TAGF","TA Growth Fund","1913-09-22","EQT",6,"EQT","C","MY","MY","MYR",24962678.760000002,24507503.960000005,"EQ",{"$f":"IFERROR(VLOOKUP(D:D,Mapping!B:C,2,0),D:D)","v":1}]
[86700,4443557.84,1.9511392249594304,"TIF","TA Income Fund","1913-09-22","EQT",6,"EQT","C","MY","MY","MYR",4443557.8399999989,4432342.4499999993,"EQ",{"$f":"IFERROR(VLOOKUP(D:D,Mapping!B:C,2,0),D:D)","v":4}]
[163702.5,26198127.359999999,0.6248633642797895,"TADO","TA Dana Optimix","1913-11-01","EQT",0,"EQT","S","MY","MY","MYR",26198127.359999999,24631490.600000001,"EQ",{"$f":"IFERROR(VLOOKUP(D:D,Mapping!B:C,2,0),D:D)","v":7}]
[250800,26198127.359999999,0.95732033268503058,"TADO","TA Dana Optimix","1913-12-16","EQT",9,"EQT","S","MY","MY","MYR",26198127.359999999,24631490.600000001,"EQ",{"$f":"IFERROR(VLOOKUP(D:D,Mapping!B:C,2,0),D:D)","v":7}]
[541200,55935751.590000004,0.96753862175109095,"TAIF","TA Islamic Fund","1913-12-16","EQT",9,"EQT","S","MY","MY","MYR",55935751.589999996,54243167.740000002,"EQ",{"$f":"IFERROR(VLOOKUP(D:D,Mapping!B:C,2,0),D:D)","v":3}]
[304926.23,24962678.760000002,1.2215284783002189,"TAGF","TA Growth Fund","1913-12-23","EQT",40,"EQT","C","MY","MY","MYR",24962678.760000002,24507503.960000005,"EQ",{"$f":"IFERROR(VLOOKUP(D:D,Mapping!B:C,2,0),D:D)","v":1}]
[551969.88,55935751.590000004,0.98679264032393765,"TAIF","TA Islamic Fund","1913-12-23","EQT",40,"EQT","S","MY","MY","MYR",55935751.589999996,54243167.740000002,"EQ",{"$f":"IFERROR(VLOOKUP(D:D,Mapping!B:C,2,0),D:D)","v":3}]
[218453.9,4443557.84,4.9161934617689145,"TIF","TA Income Fund","1913-12-23","EQT",40,"EQT","C","MY","MY","MYR",4443557.8399999989,4432342.4499999993,"EQ",{"$f":"IFERROR(VLOOKUP(D:D,Mapping!B:C,2,0),D:D)","v":4}]
[218400,6341697.6600000001,3.4438727878427429,"TASF","TA Small Cap Fund","1914-01-16","EQT",40,"EQT","C","MY","MY","MYR",6341697.6600000011,6285785.5900000008,"EQ",{"$f":"IFERROR(VLOOKUP(D:D,Mapping!B:C,2,0),D:D)","v":5}]
[354900,15990892.609999999,2.219388302176835,"TACF","TA Comet Fund","1914-03-10","EQT",1,"EQT","C","MY","MY","MYR",15990892.610000003,15243375.109999998,"EQ",{"$f":"IFERROR(VLOOKUP(D:D,Mapping!B:C,2,0),D:D)","v":2}]
[425880,26198127.359999999,1.6256123735402743,"TADO","TA Dana Optimix","1914-03-10","EQT",1,"EQT","S","MY","MY","MYR",26198127.359999999,24631490.600000001,"EQ",{"$f":"IFERROR(VLOOKUP(D:D,Mapping!B:C,2,0),D:D)","v":7}]
[245700,24962678.760000002,0.98426936612951865,"TAGF","TA Growth Fund","1914-03-10","EQT",1,"EQT","C","MY","MY","MYR",24962678.760000002,24507503.960000005,"EQ",{"$f":"IFERROR(VLOOKUP(D:D,Mapping!B:C,2,0),D:D)","v":1}]
[1359540,55935751.590000004,2.4305385399399082,"TAIF","TA Islamic Fund","1914-03-10","EQT",1,"EQT","S","MY","MY","MYR",55935751.589999996,54243167.740000002,"EQ",{"$f":"IFERROR(VLOOKUP(D:D,Mapping!B:C,2,0),D:D)","v":3}]
[43680,4443557.84,0.9829960939587995,"TIF","TA Income Fund","1914-03-10","EQT",1,"EQT","C","MY","MY","MYR",4443557.8399999989,4432342.4499999993,"EQ",{"$f":"IFERROR(VLOOKUP(D:D,Mapping!B:C,2,0),D:D)","v":4}]
[148750,15990892.609999999,0.93021699055735207,"TACF","TA Comet Fund","1914-03-26","EQT",43,"EQT","C","MY","MY","MYR",15990892.610000003,15243375.109999998,"EQ",{"$f":"IFERROR(VLOOKUP(D:D,Mapping!B:C,2,0),D:D)","v":2}]
[625940,26198127.359999999,2.3892547409922966,"TADO","TA Dana Optimix","1914-03-26","EQT",43,"EQT","S","MY","MY","MYR",26198127.359999999,24631490.600000001,"EQ",{"$f":"IFERROR(VLOOKUP(D:D,Mapping!B:C,2,0),D:D)","v":7}]
[827050,24962678.760000002,3.3131460287237218,"TAGF","TA Growth Fund","1914-03-26","EQT",43,"EQT","C","MY","MY","MYR",24962678.760000002,24507503.960000005,"EQ",{"$f":"IFERROR(VLOOKUP(D:D,Mapping!B:C,2,0),D:D)","v":1}]
[1413720,55935751.590000004,2.5273996680376061,"TAIF","TA Islamic Fund","1914-03-26","EQT",43,"EQT","S","MY","MY","MYR",55935751.589999996,54243167.740000002,"EQ",{"$f":"IFERROR(VLOOKUP(D:D,Mapping!B:C,2,0),D:D)","v":3}]
[270000,24962678.760000002,1.0816146880544162,"TAGF","TA Growth Fund","1914-04-06","EQT",1,"EQT","C","MY","MY","MYR",24962678.760000002,24507503.960000005,"EQ",{"$f":"IFERROR(VLOOKUP(D:D,Mapping!B:C,2,0),D:D)","v":1}]
[54000,4443557.84,1.2152424238501642,"TIF","TA Income Fund","1914-04-06","EQT",1,"EQT","C","MY","MY","MYR",4443557.8399999989,4432342.4499999993,"EQ",{"$f":"IFERROR(VLOOKUP(D:D,Mapping!B:C,2,0),D:D)","v":4}]
[382800,26198127.359999999,1.4611731393613623,"TADO","TA Dana Optimix","1914-04-12","EQT",21,"EQT","S","MY","MY","MYR",26198127.359999999,24631490.600000001,"EQ",{"$f":"IFERROR(VLOOKUP(D:D,Mapping!B:C,2,0),D:D)","v":7}]
[132000,24962678.760000002,0.5287894030488256,"TAGF","TA Growth Fund","1914-04-12","EQT",21,"EQT","C","MY","MY","MYR",24962678.760000002,24507503.960000005,"EQ",{"$f":"IFERROR(VLOOKUP(D:D,Mapping!B:C,2,0),D:D)","v":1}]
[844800,55935751.590000004,1.5103041900504834,"TAIF","TA Islamic Fund","1914-04-12","EQT",21,"EQT","S","MY","MY","MYR",55935751.589999996,54243167.740000002,"EQ",{"$f":"IFERROR(VLOOKUP(D:D,Mapping!B:C,2,0),D:D)","v":3}]
[23760,4443557.84,0.53470666649407228,"TIF","TA Income Fund","1914-04-12","EQT",21,"EQT","C","MY","MY","MYR",4443557.8399999989,4432342.4499999993,"EQ",{"$f":"IFERROR(VLOOKUP(D:D,Mapping!B:C,2,0),D:D)","v":4}]
[46200,6341697.6600000001,0.72851155127442635,"TASF","TA Small Cap Fund","1914-04-12","EQT",21,"EQT","C","MY","MY","MYR",6341697.6600000011,6285785.5900000008,"EQ",{"$f":"IFERROR(VLOOKUP(D:D,Mapping!B:C,2,0),D:D)","v":5}]
[398175,26198127.359999999,1.5198605401390033,"TADO","TA Dana Optimix","1914-04-14","EQT",1,"EQT","S","MY","MY","MYR",26198127.359999999,24631490.600000001,"EQ",{"$f":"IFERROR(VLOOKUP(D:D,Mapping!B:C,2,0),D:D)","v":7}]
[597250,55935751.590000004,1.067742871102807,"TAIF","TA Islamic Fund","1914-04-14","EQT",1,"EQT","S","MY","MY","MYR",55935751.589999996,54243167.740000002,"EQ",{"$f":"IFERROR(VLOOKUP(D:D,Mapping!B:C,2,0),D:D)","v":3}]
[369000,9917375.8399999999,3.7207423208839487,"TADF","TA Dana Fokus","1914-04-18","EQT",14,"EQT","S","MY","MY","MYR",9917375.8399999999,9921584.2899999991,"EQ",{"$f":"IFERROR(VLOOKUP(D:D,Mapping!B:C,2,0),D:D)","v":15}]
[300160,26198127.359999999,1.1457307458482406,"TADO","TA Dana Optimix","1914-04-21","EQT",48,"EQT","S","MY","MY","MYR",26198127.359999999,24631490.600000001,"EQ",{"$f":"IFERROR(VLOOKUP(D:D,Mapping!B:C,2,0),D:D)","v":7}]
[600320,55935751.590000004,1.0732313108086011,"TAIF","TA Islamic Fund","1914-04-21","EQT",48,"EQT","S","MY","MY","MYR",55935751.589999996,54243167.740000002,"EQ",{"$f":"IFERROR(VLOOKUP(D:D,Mapping!B:C,2,0),D:D)","v":3}]
[108750,9917375.8399999999,1.0965602368458791,"TADF","TA Dana Fokus","1914-04-22","EQT",15,"EQT","S","MY","MY","MYR",9917375.8399999999,9921584.2899999991,"EQ",{"$f":"IFERROR(VLOOKUP(D:D,Mapping!B:C,2,0),D:D)","v":15}]
[292030,26198127.359999999,1.1146979934370393,"TADO","TA Dana Optimix","1914-04-22","EQT",15,"EQT","S","MY","MY","MYR",26198127.359999999,24631490.600000001,"EQ",{"$f":"IFERROR(VLOOKUP(D:D,Mapping!B:C,2,0),D:D)","v":7}]
[659750,55935751.590000004,1.1794782071328203,"TAIF","TA Islamic Fund","1914-04-22","EQT",15,"EQT","S","MY","MY","MYR",55935751.589999996,54243167.740000002,"EQ",{"$f":"IFERROR(VLOOKUP(D:D,Mapping!B:C,2,0),D:D)","v":3}]
[268450,15990892.609999999,1.6787680747235036,"TACF","TA Comet Fund","1914-05-15","EQT",15,"EQT","C","MY","MY","MYR",15990892.610000003,15243375.109999998,"EQ",{"$f":"IFERROR(VLOOKUP(D:D,Mapping!B:C,2,0),D:D)","v":2}]
[102000,9917375.8399999999,1.0284978773175142,"TADF","TA Dana Fokus","1914-05-19","EQT",8,"EQT","S","MY","MY","MYR",9917375.8399999999,9921584.2899999991,"EQ",{"$f":"IFERROR(VLOOKUP(D:D,Mapping!B:C,2,0),D:D)","v":15}]
[210000,26198127.359999999,0.80158401062143703,"TADO","TA Dana Optimix","1914-05-19","EQT",8,"EQT","S","MY","MY","MYR",26198127.359999999,24631490.600000001,"EQ",{"$f":"IFERROR(VLOOKUP(D:D,Mapping!B:C,2,0),D:D)","v":7}]
[474000,55935751.590000004,0.8474007884516207,"TAIF","TA Islamic Fund","1914-05-19","EQT",8,"EQT","S","MY","MY","MYR",55935751.589999996,54243167.740000002,"EQ",{"$f":"IFERROR(VLOOKUP(D:D,Mapping!B:C,2,0),D:D)","v":3}]
[308580,9917375.8399999999,3.1115085782611622,"TADF","TA Dana Fokus","1914-05-24","EQT",16,"EQT","S","MY","MY","MYR",9917375.8399999999,9921584.2899999991,"EQ",{"$f":"IFERROR(VLOOKUP(D:D,Mapping!B:C,2,0),D:D)","v":15}]
[1616160,55935751.590000004,2.8893148908522601,"TAIF","TA Islamic Fund","1914-05-24","EQT",16,"EQT","S","MY","MY","MYR",55935751.589999996,54243167.740000002,"EQ",{"$f":"IFERROR(VLOOKUP(D:D,Mapping!B:C,2,0),D:D)","v":3}]
[214000,9917375.8399999999,2.1578288798622358,"TADF","TA Dana Fokus","1914-06-12","EQT",4,"EQT","S","MY","MY","MYR",9917375.8399999999,9921584.2899999991,"EQ",{"$f":"IFERROR(VLOOKUP(D:D,Mapping!B:C,2,0),D:D)","v":15}]
[249780,15990892.609999999,1.5620141169843051,"TACF","TA Comet Fund","1914-06-14","EQT",43,"EQT","C","MY","MY","MYR",15990892.610000003,15243375.109999998,"EQ",{"$f":"IFERROR(VLOOKUP(D:D,Mapping!B:C,2,0),D:D)","v":2}]
[638568,9917375.8399999999,6.4388807110087303,"TADF","TA Dana Fokus","1914-06-14","EQT",43,"EQT","S","MY","MY","MYR",9917375.8399999999,9921584.2899999991,"EQ",{"$f":"IFERROR(VLOOKUP(D:D,Mapping!B:C,2,0),D:D)","v":15}]
[412680,26198127.359999999,1.5752270928726411,"TADO","TA Dana Optimix","1914-06-14","EQT",43,"EQT","S","MY","MY","MYR",26198127.359999999,24631490.600000001,"EQ",{"$f":"IFERROR(VLOOKUP(D:D,Mapping!B:C,2,0),D:D)","v":7}]
[675600.6,24962678.760000002,2.7064427119199124,"TAGF","TA Growth Fund","1914-06-14","EQT",43,"EQT","C","MY","MY","MYR",24962678.760000002,24507503.960000005,"EQ",{"$f":"IFERROR(VLOOKUP(D:D,Mapping!B:C,2,0),D:D)","v":1}]
[866990,55935751.590000004,1.5499747037545795,"TAIF","TA Islamic Fund","1914-06-14","EQT",43,"EQT","S","MY","MY","MYR",55935751.589999996,54243167.740000002,"EQ",{"$f":"IFERROR(VLOOKUP(D:D,Mapping!B:C,2,0),D:D)","v":3}]
[163780,15990892.609999999,1.024207991351147,"TACF","TA Comet Fund","1914-06-21","EQT",4,"EQT","C","MY","MY","MYR",15990892.610000003,15243375.109999998,"EQ",{"$f":"IFERROR(VLOOKUP(D:D,Mapping!B:C,2,0),D:D)","v":2}]
[1080000,9917375.8399999999,10.889977524538386,"TADF","TA Dana Fokus","1914-06-27","EQT",5,"EQT","S","MY","MY","MYR",9917375.8399999999,9921584.2899999991,"EQ",{"$f":"IFERROR(VLOOKUP(D:D,Mapping!B:C,2,0),D:D)","v":15}]
[1109892,15990892.609999999,6.94077577199113,"TACF","TA Comet Fund","1914-08-21","EQT",2,"EQT","C","MY","MY","MYR",15990892.610000003,15243375.109999998,"EQ",{"$f":"IFERROR(VLOOKUP(D:D,Mapping!B:C,2,0),D:D)","v":2}]
[521280,9917375.8399999999,5.2562291518438613,"TADF","TA Dana Fokus","1914-08-21","EQT",2,"EQT","S","MY","MY","MYR",9917375.8399999999,9921584.2899999991,"EQ",{"$f":"IFERROR(VLOOKUP(D:D,Mapping!B:C,2,0),D:D)","v":15}]
[901380,26198127.359999999,3.4406275975902423,"TADO","TA Dana Optimix","1914-08-21","EQT",2,"EQT","S","MY","MY","MYR",26198127.359999999,24631490.600000001,"EQ",{"$f":"IFERROR(VLOOKUP(D:D,Mapping!B:C,2,0),D:D)","v":7}]
[1408542,24962678.760000002,5.6425915405242346,"TAGF","TA Growth Fund","1914-08-21","EQT",2,"EQT","C","MY","MY","MYR",24962678.760000002,24507503.960000005,"EQ",{"$f":"IFERROR(VLOOKUP(D:D,Mapping!B:C,2,0),D:D)","v":1}]
[2213268,55935751.590000004,3.9568038992716068,"TAIF","TA Islamic Fund","1914-08-21","EQT",2,"EQT","S","MY","MY","MYR",55935751.589999996,54243167.740000002,"EQ",{"$f":"IFERROR(VLOOKUP(D:D,Mapping!B:C,2,0),D:D)","v":3}]
[217200,4443557.84,4.8879750825973272,"TIF","TA Income Fund","1914-08-21","EQT",2,"EQT","C","MY","MY","MYR",4443557.8399999989,4432342.4499999993,"EQ",{"$f":"IFERROR(VLOOKUP(D:D,Mapping!B:C,2,0),D:D)","v":4}]
[180000,15990892.609999999,1.1256407280694007,"TACF","TA Comet Fund","1916-06-16","EQT",3,"EQT","C","MY","MY","MYR",15990892.610000003,15243375.109999998,"EQ",{"$f":"IFERROR(VLOOKUP(D:D,Mapping!B:C,2,0),D:D)","v":2}]
[330000,26198127.359999999,1.2596320166908297,"TADO","TA Dana Optimix","1916-07-07","EQT",2,"EQT","S","MY","MY","MYR",26198127.359999999,24631490.600000001,"EQ",{"$f":"IFERROR(VLOOKUP(D:D,Mapping!B:C,2,0),D:D)","v":7}]
[1980000,55935751.590000004,3.5397754454308208,"TAIF","TA Islamic Fund","1916-07-07","EQT",2,"EQT","S","MY","MY","MYR",55935751.589999996,54243167.740000002,"EQ",{"$f":"IFERROR(VLOOKUP(D:D,Mapping!B:C,2,0),D:D)","v":3}]
[31710,6341697.6600000001,0.50002383746562906,"TASF","TA Small Cap Fund","1916-08-19","EQT",15,"EQT","C","MY","MY","MYR",6341697.6600000011,6285785.5900000008,"EQ",{"$f":"IFERROR(VLOOKUP(D:D,Mapping!B:C,2,0),D:D)","v":5}]
[303000,26198127.359999999,1.1565712153252163,"TADO","TA Dana Optimix","1916-10-21","EQT",0,"EQT","S","MY","MY","MYR",26198127.359999999,24631490.600000001,"EQ",{"$f":"IFERROR(VLOOKUP(D:D,Mapping!B:C,2,0),D:D)","v":7}]
[540350,24962678.760000002,2.1646314692229769,"TAGF","TA Growth Fund","1916-10-21","EQT",0,"EQT","C","MY","MY","MYR",24962678.760000002,24507503.960000005,"EQ",{"$f":"IFERROR(VLOOKUP(D:D,Mapping!B:C,2,0),D:D)","v":1}]
[707000,55935751.590000004,1.2639501211715103,"TAIF","TA Islamic Fund","1916-10-21","EQT",0,"EQT","S","MY","MY","MYR",55935751.589999996,54243167.740000002,"EQ",{"$f":"IFERROR(VLOOKUP(D:D,Mapping!B:C,2,0),D:D)","v":3}]
[80800,4443557.84,1.8183627379091345,"TIF","TA Income Fund","1916-10-21","EQT",0,"EQT","C","MY","MY","MYR",4443557.8399999989,4432342.4499999993,"EQ",{"$f":"IFERROR(VLOOKUP(D:D,Mapping!B:C,2,0),D:D)","v":4}]
[604414.02,55935751.590000004,1.0805504580152188,"TAIF","TA Islamic Fund","1918-11-09","EQT",3,"EQT","S","MY","MY","MYR",55935751.589999996,54243167.740000002,"EQ",{"$f":"IFERROR(VLOOKUP(D:D,Mapping!B:C,2,0),D:D)","v":3}]
[107267.37,4443557.84,2.4139973836820814,"TIF","TA Income Fund","1918-11-09","EQT",3,"EQT","C","MY","MY","MYR",4443557.8399999989,4432342.4499999993,"EQ",{"$f":"IFERROR(VLOOKUP(D:D,Mapping!B:C,2,0),D:D)","v":4}]
[189600,15990892.609999999,1.1856749002331022,"TACF","TA Comet Fund","1919-01-07","EQT",3,"EQT","C","MY","MY","MYR",15990892.610000003,15243375.109999998,"EQ",{"$f":"IFERROR(VLOOKUP(D:D,Mapping!B:C,2,0),D:D)","v":2}]
[790000,26198127.359999999,3.0154827066235015,"TADO","TA Dana Optimix","1919-01-07","EQT",3,"EQT","S","MY","MY","MYR",26198127.359999999,24631490.600000001,"EQ",{"$f":"IFERROR(VLOOKUP(D:D,Mapping!B:C,2,0),D:D)","v":7}]
[1580000,55935751.590000004,2.8246692948387357,"TAIF","TA Islamic Fund","1919-01-07","EQT",3,"EQT","S","MY","MY","MYR",55935751.589999996,54243167.740000002,"EQ",{"$f":"IFERROR(VLOOKUP(D:D,Mapping!B:C,2,0),D:D)","v":3}]
[439920,26198127.359999999,1.6792039902503932,"TADO","TA Dana Optimix","1919-01-23","EQT",0,"EQT","S","MY","MY","MYR",26198127.359999999,24631490.600000001,"EQ",{"$f":"IFERROR(VLOOKUP(D:D,Mapping!B:C,2,0),D:D)","v":7}]
[1111080,55935751.590000004,1.9863503544996344,"TAIF","TA Islamic Fund","1919-01-23","EQT",0,"EQT","S","MY","MY","MYR",55935751.589999996,54243167.740000002,"EQ",{"$f":"IFERROR(VLOOKUP(D:D,Mapping!B:C,2,0),D:D)","v":3}]
[854400,15990892.609999999,5.3430413225694222,"TACF","TA Comet Fund","1919-05-24","EQT",9,"EQT","C","MY","MY","MYR",15990892.610000003,15243375.109999998,"EQ",{"$f":"IFERROR(VLOOKUP(D:D,Mapping!B:C,2,0),D:D)","v":2}]
[2228160,24962678.760000002,8.9259651234641773,"TAGF","TA Growth Fund","1919-05-24","EQT",9,"EQT","C","MY","MY","MYR",24962678.760000002,24507503.960000005,"EQ",{"$f":"IFERROR(VLOOKUP(D:D,Mapping!B:C,2,0),D:D)","v":1}]
[369734.40000000002,6341697.6600000001,5.8302117165263914,"TASF","TA Small Cap Fund","1919-05-24","EQT",9,"EQT","C","MY","MY","MYR",6341697.6600000011,6285785.5900000008,"EQ",{"$f":"IFERROR(VLOOKUP(D:D,Mapping!B:C,2,0),D:D)","v":5}]
[315000,15990892.609999999,1.9698712741214515,"TACF","TA Comet Fund","1919-06-05","EQT",0,"EQT","C","MY","MY","MYR",15990892.610000003,15243375.109999998,"EQ",{"$f":"IFERROR(VLOOKUP(D:D,Mapping!B:C,2,0),D:D)","v":2}]
[210000,6341697.6600000001,3.3114161421564838,"TASF","TA Small Cap Fund","1919-06-05","EQT",0,"EQT","C","MY","MY","MYR",6341697.6600000011,6285785.5900000008,"EQ",{"$f":"IFERROR(VLOOKUP(D:D,Mapping!B:C,2,0),D:D)","v":5}]
[125000,6341697.6600000001,1.9710810369979068,"TASF","TA Small Cap Fund","7096WA","EQT",26,"DEV","C","MY","MY","MYR",6341697.6600000011,6285785.5900000008,"DE",{"$f":"IFERROR(VLOOKUP(D:D,Mapping!B:C,2,0),D:D)","v":5}]
[357500,15990892.609999999,2.2356475571378378,"TACF","TA Comet Fund","1919-06-09","EQT",4,"EQT","C","MY","MY","MYR",15990892.610000003,15243375.109999998,"EQ",{"$f":"IFERROR(VLOOKUP(D:D,Mapping!B:C,2,0),D:D)","v":2}]
[118250,4443557.84,2.6611558633385539,"TIF","TA Income Fund","1919-06-09","EQT",4,"EQT","C","MY","MY","MYR",4443557.8399999989,4432342.4499999993,"EQ",{"$f":"IFERROR(VLOOKUP(D:D,Mapping!B:C,2,0),D:D)","v":4}]
[256824,15990892.609999999,1.6060641908094211,"TACF","TA Comet Fund","1919-06-15","EQT",48,"EQT","C","MY","MY","MYR",15990892.610000003,15243375.109999998,"EQ",{"$f":"IFERROR(VLOOKUP(D:D,Mapping!B:C,2,0),D:D)","v":2}]
[363096,9917375.8399999999,3.6612104437498054,"TADF","TA Dana Fokus","1919-06-15","EQT",48,"EQT","S","MY","MY","MYR",9917375.8399999999,9921584.2899999991,"EQ",{"$f":"IFERROR(VLOOKUP(D:D,Mapping!B:C,2,0),D:D)","v":15}]
[686340,26198127.359999999,2.6198055707138908,"TADO","TA Dana Optimix","1919-06-15","EQT",48,"EQT","S","MY","MY","MYR",26198127.359999999,24631490.600000001,"EQ",{"$f":"IFERROR(VLOOKUP(D:D,Mapping!B:C,2,0),D:D)","v":7}]
[551286,24962678.760000002,2.2084408700695066,"TAGF","TA Growth Fund","1919-06-15","EQT",48,"EQT","C","MY","MY","MYR",24962678.760000002,24507503.960000005,"EQ",{"$f":"IFERROR(VLOOKUP(D:D,Mapping!B:C,2,0),D:D)","v":1}]
[1474524,55935751.590000004,2.6361029539891088,"TAIF","TA Islamic Fund","1919-06-15","EQT",48,"EQT","S","MY","MY","MYR",55935751.589999996,54243167.740000002,"EQ",{"$f":"IFERROR(VLOOKUP(D:D,Mapping!B:C,2,0),D:D)","v":3}]
[48708,4443557.84,1.0961486663128481,"TIF","TA Income Fund","1919-06-15","EQT",48,"EQT","C","MY","MY","MYR",4443557.8399999989,4432342.4499999993,"EQ",{"$f":"IFERROR(VLOOKUP(D:D,Mapping!B:C,2,0),D:D)","v":4}]
[259000,15990892.609999999,1.61967193649986,"TACF","TA Comet Fund","1919-06-17","EQT",43,"EQT","C","MY","MY","MYR",15990892.610000003,15243375.109999998,"EQ",{"$f":"IFERROR(VLOOKUP(D:D,Mapping!B:C,2,0),D:D)","v":2}]
[562400,26198127.359999999,2.1467183217785535,"TADO","TA Dana Optimix","1919-06-17","EQT",43,"EQT","S","MY","MY","MYR",26198127.359999999,24631490.600000001,"EQ",{"$f":"IFERROR(VLOOKUP(D:D,Mapping!B:C,2,0),D:D)","v":7}]
[1269100,55935751.590000004,2.2688530392910375,"TAIF","TA Islamic Fund","1919-06-17","EQT",43,"EQT","S","MY","MY","MYR",55935751.589999996,54243167.740000002,"EQ",{"$f":"IFERROR(VLOOKUP(D:D,Mapping!B:C,2,0),D:D)","v":3}]
[122285,6341697.6600000001,1.9282691568743124,"TASF","TA Small Cap Fund","1919-06-17","EQT",43,"EQT","C","MY","MY","MYR",6341697.6600000011,6285785.5900000008,"EQ",{"$f":"IFERROR(VLOOKUP(D:D,Mapping!B:C,2,0),D:D)","v":5}]
[262800,15990892.609999999,1.6434354629813253,"TACF","TA Comet Fund","1919-06-22","EQT",48,"EQT","C","MY","MY","MYR",15990892.610000003,15243375.109999998,"EQ",{"$f":"IFERROR(VLOOKUP(D:D,Mapping!B:C,2,0),D:D)","v":2}]
[157680,9917375.8399999999,1.5899367185826043,"TADF","TA Dana Fokus","1919-06-22","EQT",48,"EQT","S","MY","MY","MYR",9917375.8399999999,9921584.2899999991,"EQ",{"$f":"IFERROR(VLOOKUP(D:D,Mapping!B:C,2,0),D:D)","v":15}]
[1734480,26198127.359999999,6.620625879727001,"TADO","TA Dana Optimix","1919-06-22","EQT",48,"EQT","S","MY","MY","MYR",26198127.359999999,24631490.600000001,"EQ",{"$f":"IFERROR(VLOOKUP(D:D,Mapping!B:C,2,0),D:D)","v":7}]
[3915720,55935751.590000004,7.0003886399910975,"TAIF","TA Islamic Fund","1919-06-22","EQT",48,"EQT","S","MY","MY","MYR",55935751.589999996,54243167.740000002,"EQ",{"$f":"IFERROR(VLOOKUP(D:D,Mapping!B:C,2,0),D:D)","v":3}]
[752100,55935751.590000004,1.3445783396507678,"TAIF","TA Islamic Fund","1919-07-09","EQT",0,"EQT","S","MY","MY","MYR",55935751.589999996,54243167.740000002,"EQ",{"$f":"IFERROR(VLOOKUP(D:D,Mapping!B:C,2,0),D:D)","v":3}]
[627900,26198127.359999999,2.3967361917580967,"TADO","TA Dana Optimix","1919-08-03","EQT",0,"EQT","S","MY","MY","MYR",26198127.359999999,24631490.600000001,"EQ",{"$f":"IFERROR(VLOOKUP(D:D,Mapping!B:C,2,0),D:D)","v":7}]
[1397480,55935751.590000004,2.4983663583235671,"TAIF","TA Islamic Fund","1919-08-03","EQT",0,"EQT","S","MY","MY","MYR",55935751.589999996,54243167.740000002,"EQ",{"$f":"IFERROR(VLOOKUP(D:D,Mapping!B:C,2,0),D:D)","v":3}]
[161000,6341697.6600000001,2.5387523756533041,"TASF","TA Small Cap Fund","1919-08-03","EQT",0,"EQT","C","MY","MY","MYR",6341697.6600000011,6285785.5900000008,"EQ",{"$f":"IFERROR(VLOOKUP(D:D,Mapping!B:C,2,0),D:D)","v":5}]
[238500,9917375.8399999999,2.4048700366688935,"TADF","TA Dana Fokus","1919-08-08","EQT",5,"EQT","S","MY","MY","MYR",9917375.8399999999,9921584.2899999991,"EQ",{"$f":"IFERROR(VLOOKUP(D:D,Mapping!B:C,2,0),D:D)","v":15}]
[333900,26198127.359999999,1.2745185768880849,"TADO","TA Dana Optimix","1919-08-08","EQT",5,"EQT","S","MY","MY","MYR",26198127.359999999,24631490.600000001,"EQ",{"$f":"IFERROR(VLOOKUP(D:D,Mapping!B:C,2,0),D:D)","v":7}]
[405450,24962678.760000002,1.6242247232283815,"TAGF","TA Growth Fund","1919-08-08","EQT",5,"EQT","C","MY","MY","MYR",24962678.760000002,24507503.960000005,"EQ",{"$f":"IFERROR(VLOOKUP(D:D,Mapping!B:C,2,0),D:D)","v":1}]
[810900,55935751.590000004,1.4496989437878043,"TAIF","TA Islamic Fund","1919-08-08","EQT",5,"EQT","S","MY","MY","MYR",55935751.589999996,54243167.740000002,"EQ",{"$f":"IFERROR(VLOOKUP(D:D,Mapping!B:C,2,0),D:D)","v":3}]
[71550,4443557.84,1.6101962116014676,"TIF","TA Income Fund","1919-08-08","EQT",5,"EQT","C","MY","MY","MYR",4443557.8399999989,4432342.4499999993,"EQ",{"$f":"IFERROR(VLOOKUP(D:D,Mapping!B:C,2,0),D:D)","v":4}]
[184000,6341697.6600000001,2.9014312864609191,"TASF","TA Small Cap Fund","1919-08-12","EQT",43,"EQT","C","MY","MY","MYR",6341697.6600000011,6285785.5900000008,"EQ",{"$f":"IFERROR(VLOOKUP(D:D,Mapping!B:C,2,0),D:D)","v":5}]
[119742,6341697.6600000001,1.8881694842576269,"TASF","TA Small Cap Fund","1919-08-22","EQT",0,"EQT","C","MY","MY","MYR",6341697.6600000011,6285785.5900000008,"EQ",{"$f":"IFERROR(VLOOKUP(D:D,Mapping!B:C,2,0),D:D)","v":5}]
[322560,9917375.8399999999,3.2524732873287983,"TADF","TA Dana Fokus","1919-10-20","EQT",4,"EQT","S","MY","MY","MYR",9917375.8399999999,9921584.2899999991,"EQ",{"$f":"IFERROR(VLOOKUP(D:D,Mapping!B:C,2,0),D:D)","v":15}]
[126000,26198127.359999999,0.48095040637286224,"TADO","TA Dana Optimix","1919-10-27","EQT",9,"EQT","S","MY","MY","MYR",26198127.359999999,24631490.600000001,"EQ",{"$f":"IFERROR(VLOOKUP(D:D,Mapping!B:C,2,0),D:D)","v":7}]
[234402,55935751.590000004,0.41905577977771474,"TAIF","TA Islamic Fund","1919-10-27","EQT",9,"EQT","S","MY","MY","MYR",55935751.589999996,54243167.740000002,"EQ",{"$f":"IFERROR(VLOOKUP(D:D,Mapping!B:C,2,0),D:D)","v":3}]
[31500,6341697.6600000001,0.49671242132347254,"TASF","TA Small Cap Fund","1919-10-27","EQT",9,"EQT","C","MY","MY","MYR",6341697.6600000011,6285785.5900000008,"EQ",{"$f":"IFERROR(VLOOKUP(D:D,Mapping!B:C,2,0),D:D)","v":5}]
[132000,9917375.8399999999,1.3309972529991361,"TADF","TA Dana Fokus","1919-10-28","EQT",5,"EQT","S","MY","MY","MYR",9917375.8399999999,9921584.2899999991,"EQ",{"$f":"IFERROR(VLOOKUP(D:D,Mapping!B:C,2,0),D:D)","v":15}]
[618200,26198127.359999999,2.3597106446008209,"TADO","TA Dana Optimix","1919-10-28","EQT",5,"EQT","S","MY","MY","MYR",26198127.359999999,24631490.600000001,"EQ",{"$f":"IFERROR(VLOOKUP(D:D,Mapping!B:C,2,0),D:D)","v":7}]
[1032680,55935751.590000004,1.8461895489835858,"TAIF","TA Islamic Fund","1919-10-28","EQT",5,"EQT","S","MY","MY","MYR",55935751.589999996,54243167.740000002,"EQ",{"$f":"IFERROR(VLOOKUP(D:D,Mapping!B:C,2,0),D:D)","v":3}]
[141416,6341697.6600000001,2.2299391674247682,"TASF","TA Small Cap Fund","1919-10-28","EQT",5,"EQT","C","MY","MY","MYR",6341697.6600000011,6285785.5900000008,"EQ",{"$f":"IFERROR(VLOOKUP(D:D,Mapping!B:C,2,0),D:D)","v":5}]
[359000,15990892.609999999,2.2450278965384158,"TACF","TA Comet Fund","1919-12-03","EQT",43,"EQT","C","MY","MY","MYR",15990892.610000003,15243375.109999998,"EQ",{"$f":"IFERROR(VLOOKUP(D:D,Mapping!B:C,2,0),D:D)","v":2}]
[455930,9917375.8399999999,4.597284678484062,"TADF","TA Dana Fokus","1919-12-03","EQT",43,"EQT","S","MY","MY","MYR",9917375.8399999999,9921584.2899999991,"EQ",{"$f":"IFERROR(VLOOKUP(D:D,Mapping!B:C,2,0),D:D)","v":15}]
[506908,26198127.359999999,1.9349016555051972,"TADO","TA Dana Optimix","1919-12-03","EQT",43,"EQT","S","MY","MY","MYR",26198127.359999999,24631490.600000001,"EQ",{"$f":"IFERROR(VLOOKUP(D:D,Mapping!B:C,2,0),D:D)","v":7}]
[1371380,55935751.590000004,2.4517056819974337,"TAIF","TA Islamic Fund","1919-12-03","EQT",43,"EQT","S","MY","MY","MYR",55935751.589999996,54243167.740000002,"EQ",{"$f":"IFERROR(VLOOKUP(D:D,Mapping!B:C,2,0),D:D)","v":3}]
[143256,26198127.359999999,0.54681770964564091,"TADO","TA Dana Optimix","1920-01-18","EQT",15,"EQT","S","MY","MY","MYR",26198127.359999999,24631490.600000001,"EQ",{"$f":"IFERROR(VLOOKUP(D:D,Mapping!B:C,2,0),D:D)","v":7}]
[389160,55935751.590000004,0.69572677391103954,"TAIF","TA Islamic Fund","1920-01-18","EQT",15,"EQT","S","MY","MY","MYR",55935751.589999996,54243167.740000002,"EQ",{"$f":"IFERROR(VLOOKUP(D:D,Mapping!B:C,2,0),D:D)","v":3}]
[373650,26198127.359999999,1.4262469788985712,"TADO","TA Dana Optimix","1923-09-20","EQT",15,"EQT","S","MY","MY","MYR",26198127.359999999,24631490.600000001,"EQ",{"$f":"IFERROR(VLOOKUP(D:D,Mapping!B:C,2,0),D:D)","v":7}]
[254400,24962678.760000002,1.0191213949668276,"TAGF","TA Growth Fund","1923-09-20","EQT",15,"EQT","C","MY","MY","MYR",24962678.760000002,24507503.960000005,"EQ",{"$f":"IFERROR(VLOOKUP(D:D,Mapping!B:C,2,0),D:D)","v":1}]
[818850,55935751.590000004,1.4639116785308219,"TAIF","TA Islamic Fund","1923-09-20","EQT",15,"EQT","S","MY","MY","MYR",55935751.589999996,54243167.740000002,"EQ",{"$f":"IFERROR(VLOOKUP(D:D,Mapping!B:C,2,0),D:D)","v":3}]
[260500,26198127.359999999,0.99434587984230638,"TADO","TA Dana Optimix","1924-04-12","EQT",0,"EQT","S","MY","MY","MYR",26198127.359999999,24631490.600000001,"EQ",{"$f":"IFERROR(VLOOKUP(D:D,Mapping!B:C,2,0),D:D)","v":7}]
[521000,55935751.590000004,0.93142576114619069,"TAIF","TA Islamic Fund","1924-04-12","EQT",0,"EQT","S","MY","MY","MYR",55935751.589999996,54243167.740000002,"EQ",{"$f":"IFERROR(VLOOKUP(D:D,Mapping!B:C,2,0),D:D)","v":3}]
[297000,9917375.8399999999,2.9947438192480562,"TADF","TA Dana Fokus","1924-04-20","EQT",8,"EQT","S","MY","MY","MYR",9917375.8399999999,9921584.2899999991,"EQ",{"$f":"IFERROR(VLOOKUP(D:D,Mapping!B:C,2,0),D:D)","v":15}]
[495000,24962678.760000002,1.9829602614330961,"TAGF","TA Growth Fund","1924-04-20","EQT",8,"EQT","C","MY","MY","MYR",24962678.760000002,24507503.960000005,"EQ",{"$f":"IFERROR(VLOOKUP(D:D,Mapping!B:C,2,0),D:D)","v":1}]
[195000,6341697.6600000001,3.0748864177167348,"TASF","TA Small Cap Fund","1924-08-29","EQT",4,"EQT","C","MY","MY","MYR",6341697.6600000011,6285785.5900000008,"EQ",{"$f":"IFERROR(VLOOKUP(D:D,Mapping!B:C,2,0),D:D)","v":5}]
[324900,15990892.609999999,2.0317815141652686,"TACF","TA Comet Fund","1925-04-15","EQT",0,"EQT","C","MY","MY","MYR",15990892.610000003,15243375.109999998,"EQ",{"$f":"IFERROR(VLOOKUP(D:D,Mapping!B:C,2,0),D:D)","v":2}]
[396720,9917375.8399999999,4.0002517440137675,"TADF","TA Dana Fokus","1925-04-15","EQT",0,"EQT","S","MY","MY","MYR",9917375.8399999999,9921584.2899999991,"EQ",{"$f":"IFERROR(VLOOKUP(D:D,Mapping!B:C,2,0),D:D)","v":15}]
[581400,26198127.359999999,2.2192425894062073,"TADO","TA Dana Optimix","1925-04-15","EQT",0,"EQT","S","MY","MY","MYR",26198127.359999999,24631490.600000001,"EQ",{"$f":"IFERROR(VLOOKUP(D:D,Mapping!B:C,2,0),D:D)","v":7}]
[1373130,55935751.590000004,2.4548342714062743,"TAIF","TA Islamic Fund","1925-04-15","EQT",0,"EQT","S","MY","MY","MYR",55935751.589999996,54243167.740000002,"EQ",{"$f":"IFERROR(VLOOKUP(D:D,Mapping!B:C,2,0),D:D)","v":3}]
[662874.03,24962678.760000002,2.6554603228808284,"TAGF","TA Growth Fund","AU000000PLS0","EQT",42,"EQT","C","AU","AU","AUD",24962678.760000002,24507503.960000005,"EQ",{"$f":"IFERROR(VLOOKUP(D:D,Mapping!B:C,2,0),D:D)","v":1}]
[184131.68,6341697.6600000001,2.9035077020685343,"TASF","TA Small Cap Fund","AU000000PLS0","EQT",42,"EQT","C","AU","AU","AUD",6341697.6600000011,6285785.5900000008,"EQ",{"$f":"IFERROR(VLOOKUP(D:D,Mapping!B:C,2,0),D:D)","v":5}]
[243374.04,15990892.609999999,1.5219540643266192,"TACF","TA Comet Fund","AU000000S320","EQT",5,"EQT","C","AU","AU","AUD",15990892.610000003,15243375.109999998,"EQ",{"$f":"IFERROR(VLOOKUP(D:D,Mapping!B:C,2,0),D:D)","v":2}]
[467534.34,26198127.359999999,1.7846097683830788,"TADO","TA Dana Optimix","AU000000S320","EQT",5,"EQT","S","AU","AU","AUD",26198127.359999999,24631490.600000001,"EQ",{"$f":"IFERROR(VLOOKUP(D:D,Mapping!B:C,2,0),D:D)","v":7}]
[608435.1,24962678.760000002,2.4373790403253981,"TAGF","TA Growth Fund","AU000000S320","EQT",5,"EQT","C","AU","AU","AUD",24962678.760000002,24507503.960000005,"EQ",{"$f":"IFERROR(VLOOKUP(D:D,Mapping!B:C,2,0),D:D)","v":1}]
[454725.18,10046983.25,4.5259872409959474,"TAIB","TA Asia Pacific Islamic Balanced Fund","AU000000S320","EQT",5,"EQT","S","AU","AU","AUD",10046983.25,7389600.2200000007,"EQ",{"$f":"IFERROR(VLOOKUP(D:D,Mapping!B:C,2,0),D:D)","v":12}]
[992709.9,55935751.590000004,1.7747323881091341,"TAIF","TA Islamic Fund","AU000000S320","EQT",5,"EQT","S","AU","AU","AUD",55935751.589999996,54243167.740000002,"EQ",{"$f":"IFERROR(VLOOKUP(D:D,Mapping!B:C,2,0),D:D)","v":3}]
[141510.72,26198127.359999999,0.54015585944536759,"TADO","TA Dana Optimix","AU000000SFR8","EQT",42,"EQT","S","AU","AU","AUD",26198127.359999999,24631490.600000001,"EQ",{"$f":"IFERROR(VLOOKUP(D:D,Mapping!B:C,2,0),D:D)","v":7}]
[266247.53999999998,24962678.760000002,1.0665824071198358,"TAGF","TA Growth Fund","AU000000WHC8","EQT",43,"EQT","C","AU","AU","AUD",24962678.760000002,24507503.960000005,"EQ",{"$f":"IFERROR(VLOOKUP(D:D,Mapping!B:C,2,0),D:D)","v":1}]
[211900.1,10046983.25,2.1090918012628319,"TAIB","TA Asia Pacific Islamic Balanced Fund","AU000000WHC8","EQT",43,"EQT","S","AU","AU","AUD",10046983.25,7389600.2200000007,"EQ",{"$f":"IFERROR(VLOOKUP(D:D,Mapping!B:C,2,0),D:D)","v":12}]
[14550.86,15990892.609999999,9.0994670246866236E-2,"TACF","TA Comet Fund","AU0000077893","EQT",40,"EQT","C","AU","AU","AUD",15990892.610000003,15243375.109999998,"EQ",{"$f":"IFERROR(VLOOKUP(D:D,Mapping!B:C,2,0),D:D)","v":2}]
[73889.59,1624227.35,4.549214738934177,"TAGAAF","TA Global Asset Allocator Fund","FR0011119171","EQT",17,"FU","C","GB","GB","USD",1624227.3499999999,1538605.82,"FU",{"$f":"IFERROR(VLOOKUP(D:D,Mapping!B:C,2,0),D:D)","v":11}]
[236947.04,4443557.84,5.332372133587441,"TIF","TA Income Fund","HK0880043028","EQT",18,"EQT","C","HK","HK","HKD",4443557.8399999989,4432342.4499999993,"EQ",{"$f":"IFERROR(VLOOKUP(D:D,Mapping!B:C,2,0),D:D)","v":4}]
[530654.80000000005,24962678.760000002,2.125792688765106,"TAGF","TA Growth Fund","HK0992009065","EQT",4,"EQT","C","HK","HK","HKD",24962678.760000002,24507503.960000005,"EQ",{"$f":"IFERROR(VLOOKUP(D:D,Mapping!B:C,2,0),D:D)","v":1}]
[57420.36,6341697.6600000001,0.90544146186874508,"TASF","TA Small Cap Fund","ID1000114309","EQT",43,"EQT","C","ID","ID","IDR",6341697.6600000011,6285785.5900000008,"EQ",{"$f":"IFERROR(VLOOKUP(D:D,Mapping!B:C,2,0),D:D)","v":5}]
[73402.850000000006,1624227.35,4.5192472593199469,"TAGAAF","TA Global Asset Allocator Fund","IE0032077012","EQT",17,"FU","C","GB","GB","USD",1624227.3499999999,1538605.82,"FU",{"$f":"IFERROR(VLOOKUP(D:D,Mapping!B:C,2,0),D:D)","v":11}]
[1161707.97,1172933.3600000001,99.042964384609192,"TRFIF","TA Total Return Fixed Income Fund","IE00B1LHWR71","EQT",27,"FU","C","IE","IE","SGD",1172933.3600000001,1161707.97,"FU",{"$f":"IFERROR(VLOOKUP(D:D,Mapping!B:C,2,0),D:D)","v":28}]
[299008.28999999998,1624227.35,18.409263333732188,"TAGAAF","TA Global Asset Allocator Fund","IE00B43QJJ40","EQT",17,"FU","C","GB","GB","USD",1624227.3499999999,1538605.82,"FU",{"$f":"IFERROR(VLOOKUP(D:D,Mapping!B:C,2,0),D:D)","v":11}]
[76567.98,1624227.35,4.7141171462234022,"TAGAAF","TA Global Asset Allocator Fund","IE00B4L5YC18","EQT",17,"FU","C","GB","GB","USD",1624227.3499999999,1538605.82,"FU",{"$f":"IFERROR(VLOOKUP(D:D,Mapping!B:C,2,0),D:D)","v":11}]
[65507.3,1624227.35,4.0331361246933808,"TAGAAF","TA Global Asset Allocator Fund","IE00B5VX7566","EQT",17,"FU","C","GB","GB","USD",1624227.3499999999,1538605.82,"FU",{"$f":"IFERROR(VLOOKUP(D:D,Mapping!B:C,2,0),D:D)","v":11}]
[58085.9,1624227.35,3.5762173318901445,"TAGAAF","TA Global Asset Allocator Fund","IE00B66F4759","EQT",17,"FU","C","GB","GB","EUR",1624227.3499999999,1538605.82,"FU",{"$f":"IFERROR(VLOOKUP(D:D,Mapping!B:C,2,0),D:D)","v":11}]
[99884.42,1624227.35,6.1496575587155329,"TAGAAF","TA Global Asset Allocator Fund","IE00B802KR88","EQT",17,"FU","C","GB","GB","USD",1624227.3499999999,1538605.82,"FU",{"$f":"IFERROR(VLOOKUP(D:D,Mapping!B:C,2,0),D:D)","v":11}]
[117149.18,1624227.35,7.2126097371774947,"TAGAAF","TA Global Asset Allocator Fund","IE00BFTWP510","EQT",17,"FU","C","GB","GB","EUR",1624227.3499999999,1538605.82,"FU",{"$f":"IFERROR(VLOOKUP(D:D,Mapping!B:C,2,0),D:D)","v":11}]
[83281.34,1624227.35,5.1274435195294545,"TAGAAF","TA Global Asset Allocator Fund","IE00BMW3QX54","EQT",17,"FU","C","GB","GB","USD",1624227.3499999999,1538605.82,"FU",{"$f":"IFERROR(VLOOKUP(D:D,Mapping!B:C,2,0),D:D)","v":11}]
[175871.89,1624227.35,10.82803401875975,"TAGAAF","TA Global Asset Allocator Fund","IE00BNH72088","EQT",17,"FU","C","GB","GB","USD",1624227.3499999999,1538605.82,"FU",{"$f":"IFERROR(VLOOKUP(D:D,Mapping!B:C,2,0),D:D)","v":11}]
[727130.47,10046983.25,7.2373015054046199,"TAIB","TA Asia Pacific Islamic Balanced Fund","JP3802300008","EQT",9,"EQT","S","JP","JP","JPY",10046983.25,7389600.2200000007,"EQ",{"$f":"IFERROR(VLOOKUP(D:D,Mapping!B:C,2,0),D:D)","v":12}]
[661426.62,10046983.25,6.5833355500020367,"TAIB","TA Asia Pacific Islamic Balanced Fund","JP3802400006","EQT",5,"EQT","S","JP","JP","JPY",10046983.25,7389600.2200000007,"EQ",{"$f":"IFERROR(VLOOKUP(D:D,Mapping!B:C,2,0),D:D)","v":12}]
[893465.57,10046983.25,8.892874087353535,"TAIB","TA Asia Pacific Islamic Balanced Fund","JP3970300004","EQT",21,"EQT","S","JP","JP","JPY",10046983.25,7389600.2200000007,"EQ",{"$f":"IFERROR(VLOOKUP(D:D,Mapping!B:C,2,0),D:D)","v":12}]
[386819.42,15990892.609999999,2.4189982975565743,"TACF","TA Comet Fund","KYG017191142","EQT",23,"EQT","C","HK","HK","HKD",15990892.610000003,15243375.109999998,"EQ",{"$f":"IFERROR(VLOOKUP(D:D,Mapping!B:C,2,0),D:D)","v":2}]
[505840.78,26198127.359999999,1.930828005563219,"TADO","TA Dana Optimix","KYG017191142","EQT",23,"EQT","S","HK","HK","HKD",26198127.359999999,24631490.600000001,"EQ",{"$f":"IFERROR(VLOOKUP(D:D,Mapping!B:C,2,0),D:D)","v":7}]
[565351.46,24962678.760000002,2.2647868261074398,"TAGF","TA Growth Fund","KYG017191142","EQT",23,"EQT","C","HK","HK","HKD",24962678.760000002,24507503.960000005,"EQ",{"$f":"IFERROR(VLOOKUP(D:D,Mapping!B:C,2,0),D:D)","v":1}]
[922415.54,10046983.25,9.1810199842823472,"TAIB","TA Asia Pacific Islamic Balanced Fund","KYG017191142","EQT",23,"EQT","S","HK","HK","HKD",10046983.25,7389600.2200000007,"EQ",{"$f":"IFERROR(VLOOKUP(D:D,Mapping!B:C,2,0),D:D)","v":12}]
[1100947.58,55935751.590000004,1.9682359648436789,"TAIF","TA Islamic Fund","KYG017191142","EQT",23,"EQT","S","HK","HK","HKD",55935751.589999996,54243167.740000002,"EQ",{"$f":"IFERROR(VLOOKUP(D:D,Mapping!B:C,2,0),D:D)","v":3}]
[163654.37,6341697.6600000001,2.5806082026307133,"TASF","TA Small Cap Fund","KYG017191142","EQT",23,"EQT","C","HK","HK","HKD",6341697.6600000011,6285785.5900000008,"EQ",{"$f":"IFERROR(VLOOKUP(D:D,Mapping!B:C,2,0),D:D)","v":5}]
[630985.07999999996,24962678.760000002,2.5277138165599657,"TAGF","TA Growth Fund","KYG2953R1149","EQT",4,"EQT","C","HK","HK","HKD",24962678.760000002,24507503.960000005,"EQ",{"$f":"IFERROR(VLOOKUP(D:D,Mapping!B:C,2,0),D:D)","v":1}]
[210328.36,10046983.25,2.093447901388708,"TAIB","TA Asia Pacific Islamic Balanced Fund","KYG2953R1149","EQT",4,"EQT","S","HK","HK","HKD",10046983.25,7389600.2200000007,"EQ",{"$f":"IFERROR(VLOOKUP(D:D,Mapping!B:C,2,0),D:D)","v":12}]
[92018.66,6341697.6600000001,1.4510098862076626,"TASF","TA Small Cap Fund","KYG2953R1149","EQT",4,"EQT","C","HK","HK","HKD",6341697.6600000011,6285785.5900000008,"EQ",{"$f":"IFERROR(VLOOKUP(D:D,Mapping!B:C,2,0),D:D)","v":5}]
[685275.15,15990892.609999999,4.2854089931881543,"TACF","TA Comet Fund","KYG699761014","EQT",4,"EQT","C","HK","HK","HKD",15990892.610000003,15243375.109999998,"EQ",{"$f":"IFERROR(VLOOKUP(D:D,Mapping!B:C,2,0),D:D)","v":2}]
[235948.03,6341697.6600000001,3.720581501200106,"TASF","TA Small Cap Fund","KYG699761014","EQT",4,"EQT","C","HK","HK","HKD",6341697.6600000011,6285785.5900000008,"EQ",{"$f":"IFERROR(VLOOKUP(D:D,Mapping!B:C,2,0),D:D)","v":5}]
[928968.16,10046983.25,9.2462397605768878,"TAIB","TA Asia Pacific Islamic Balanced Fund","KYG875721634","EQT",4,"EQT","S","HK","HK","HKD",10046983.25,7389600.2200000007,"EQ",{"$f":"IFERROR(VLOOKUP(D:D,Mapping!B:C,2,0),D:D)","v":12}]
[5921826.8700000001,29722319.989999998,19.923837950713082,"TAEURO","TA European Equity Fund","LU0011889846","EQT",27,"FU","C","LU","LU","EUR",29722319.989999998,30211647.639999997,"FU",{"$f":"IFERROR(VLOOKUP(D:D,Mapping!B:C,2,0),D:D)","v":13}]
[690761.8,29722319.989999998,2.324050747829931,"TAEURO","TA European Equity Fund","LU0046217351","EQT",27,"FU","C","LU","LU","EUR",29722319.989999998,30211647.639999997,"FU",{"$f":"IFERROR(VLOOKUP(D:D,Mapping!B:C,2,0),D:D)","v":13}]
[3470320.42,29722319.989999998,11.675805997538486,"TAEURO","TA European Equity Fund","LU0111491469","EQT",27,"FU","C","LU","LU","EUR",29722319.989999998,30211647.639999997,"FU",{"$f":"IFERROR(VLOOKUP(D:D,Mapping!B:C,2,0),D:D)","v":13}]
[50574895.890000001,51665977,97.888201920579192,"TADIF","TA Asian Dividend Income Fund","LU0264605907","EQT",27,"FU","C","LU","LU","USD",51665977,50574895.890000001,"FU",{"$f":"IFERROR(VLOOKUP(D:D,Mapping!B:C,2,0),D:D)","v":14}]
[1674982.62,29722319.989999998,5.6354370068135458,"TAEURO","TA European Equity Fund","LU0451950314","EQT",27,"FU","C","LU","LU","EUR",29722319.989999998,30211647.639999997,"FU",{"$f":"IFERROR(VLOOKUP(D:D,Mapping!B:C,2,0),D:D)","v":13}]
[6010471.7300000004,29722319.989999998,20.222081358461278,"TAEURO","TA European Equity Fund","LU0503932328","EQT",27,"FU","C","LU","LU","EUR",29722319.989999998,30211647.639999997,"FU",{"$f":"IFERROR(VLOOKUP(D:D,Mapping!B:C,2,0),D:D)","v":13}]
[1649971.31,29722319.989999998,5.5512870817457349,"TAEURO","TA European Equity Fund","LU0506197887","EQT",27,"FU","C","LU","LU","SGD",29722319.989999998,30211647.639999997,"FU",{"$f":"IFERROR(VLOOKUP(D:D,Mapping!B:C,2,0),D:D)","v":13}]
[5428553.5800000001,29722319.989999998,18.264232340632976,"TAEURO","TA European Equity Fund","LU0974284688","EQT",27,"FU","C","LU","LU","USD",29722319.989999998,30211647.639999997,"FU",{"$f":"IFERROR(VLOOKUP(D:D,Mapping!B:C,2,0),D:D)","v":13}]
[1487500.79,29722319.989999998,5.0046590928987573,"TAEURO","TA European Equity Fund","LU1039938227","EQT",27,"FU","C","LU","LU","USD",29722319.989999998,30211647.639999997,"FU",{"$f":"IFERROR(VLOOKUP(D:D,Mapping!B:C,2,0),D:D)","v":13}]
[1408947.17,29722319.989999998,4.7403674089843486,"TAEURO","TA European Equity Fund","LU1059379971","EQT",27,"FU","C","LU","LU","USD",29722319.989999998,30211647.639999997,"FU",{"$f":"IFERROR(VLOOKUP(D:D,Mapping!B:C,2,0),D:D)","v":13}]
[202097,1624227.35,12.442654656689532,"TAGAAF","TA Global Asset Allocator Fund","LU1079841513","EQT",17,"FU","C","GB","GB","USD",1624227.3499999999,1538605.82,"FU",{"$f":"IFERROR(VLOOKUP(D:D,Mapping!B:C,2,0),D:D)","v":11}]
[723049.47,29722319.989999998,2.4326818035848756,"TAEURO","TA European Equity Fund","LU1169991020","EQT",27,"FU","C","LU","LU","USD",29722319.989999998,30211647.639999997,"FU",{"$f":"IFERROR(VLOOKUP(D:D,Mapping!B:C,2,0),D:D)","v":13}]
[69666.259999999995,1624227.35,4.2891938742442663,"TAGAAF","TA Global Asset Allocator Fund","LU1812091350","EQT",17,"FU","C","CH","CH","USD",1624227.3499999999,1538605.82,"FU",{"$f":"IFERROR(VLOOKUP(D:D,Mapping!B:C,2,0),D:D)","v":11}]
[882945.29,9917375.8399999999,8.903013299534285,"TADF","TA Dana Fokus","RPI*MYR*CIMBIS","CSH",0,"CSH","S","MY",null,"MYR",9917375.8399999999,9921584.2899999991,"MM",{"$f":"IFERROR(VLOOKUP(D:D,Mapping!B:C,2,0),D:D)","v":15}]
[635965.62,15990892.609999999,3.9770489084661547,"TACF","TA Comet Fund","RPC*MYR*KIBB","CSH",0,"CSH","C","MY",null,"MYR",15990892.610000003,15243375.109999998,"MM",{"$f":"IFERROR(VLOOKUP(D:D,Mapping!B:C,2,0),D:D)","v":2}]
[1029249.73,10046983.25,10.244365939397779,"TAIB","TA Asia Pacific Islamic Balanced Fund","VG190193","BND",25,"BND","S","MY",null,"MYR",10046983.25,7389600.2200000007,"BO",{"$f":"IFERROR(VLOOKUP(D:D,Mapping!B:C,2,0),D:D)","v":12}]
[1077988.08,20296296,5.3112552162227038,"TAICP","TA Islamic CashPLUS Fund","FDI*MYR*AIBB","CSH",0,"CSH","S","MY",null,"MYR",20296296,19976963.689999998,"MM",{"$f":"IFERROR(VLOOKUP(D:D,Mapping!B:C,2,0),D:D)","v":9}]
[1129662.97,20296296,5.5658577801585079,"TAICP","TA Islamic CashPLUS Fund","FDI*MYR*RHBISL","CSH",0,"CSH","S","MY",null,"MYR",20296296,19976963.689999998,"MM",{"$f":"IFERROR(VLOOKUP(D:D,Mapping!B:C,2,0),D:D)","v":9}]
[533426.93999999994,4443557.84,12.004500879862519,"TIF","TA Income Fund","FDC*MYR*KIBB","CSH",0,"CSH","C","MY",null,"MYR",4443557.8399999989,4432342.4499999993,"MM",{"$f":"IFERROR(VLOOKUP(D:D,Mapping!B:C,2,0),D:D)","v":4}]
[2925879.35,20296296,14.415829124683636,"TAICP","TA Islamic CashPLUS Fund","RPI*MYR*CIMBIS","CSH",0,"CSH","S","MY",null,"MYR",20296296,19976963.689999998,"MM",{"$f":"IFERROR(VLOOKUP(D:D,Mapping!B:C,2,0),D:D)","v":9}]
[3158178.07,20296296,15.560366630443308,"TAICP","TA Islamic CashPLUS Fund","RPI*MYR*KSPI","CSH",0,"CSH","S","MY",null,"MYR",20296296,19976963.689999998,"MM",{"$f":"IFERROR(VLOOKUP(D:D,Mapping!B:C,2,0),D:D)","v":9}]
[3167776.38,20296296,15.607657574564344,"TAICP","TA Islamic CashPLUS Fund","RPI*MYR*MIDF S","CSH",0,"CSH","S","MY",null,"MYR",20296296,19976963.689999998,"MM",{"$f":"IFERROR(VLOOKUP(D:D,Mapping!B:C,2,0),D:D)","v":9}]
[3148528.96,20296296,15.512825394347816,"TAICP","TA Islamic CashPLUS Fund","RPI*MYR*BML","CSH",0,"CSH","S","MY",null,"MYR",20296296,19976963.689999998,"MM",{"$f":"IFERROR(VLOOKUP(D:D,Mapping!B:C,2,0),D:D)","v":9}]
[3202514.15,20296296,15.778810823413297,"TAICP","TA Islamic CashPLUS Fund","RPI*MYR*PBBISL","CSH",0,"CSH","S","MY",null,"MYR",20296296,19976963.689999998,"MM",{"$f":"IFERROR(VLOOKUP(D:D,Mapping!B:C,2,0),D:D)","v":9}]
[117248.63,6341697.6600000001,1.8488524096558712,"TASF","TA Small Cap Fund","RPC*MYR*CIMB","CSH",0,"CSH","C","MY",null,"MYR",6341697.6600000011,6285785.5900000008,"MM",{"$f":"IFERROR(VLOOKUP(D:D,Mapping!B:C,2,0),D:D)","v":5}]
[572653.98,4443557.84,12.887285383011916,"TIF","TA Income Fund","RPI*MYR*MIDF S","CSH",0,"CSH","C","MY",null,"MYR",4443557.8399999989,4432342.4499999993,"MM",{"$f":"IFERROR(VLOOKUP(D:D,Mapping!B:C,2,0),D:D)","v":4}]
[1093113.3600000001,26198127.359999999,4.1724866246317847,"TADO","TA Dana Optimix","RPI*MYR*CIMBIS","CSH",0,"CSH","S","MY",null,"MYR",26198127.359999999,24631490.600000001,"MM",{"$f":"IFERROR(VLOOKUP(D:D,Mapping!B:C,2,0),D:D)","v":7}]
[1443370.08,26198127.359999999,5.5094398930351636,"TADO","TA Dana Optimix","RPI*MYR*HLIB","CSH",0,"CSH","S","MY",null,"MYR",26198127.359999999,24631490.600000001,"MM",{"$f":"IFERROR(VLOOKUP(D:D,Mapping!B:C,2,0),D:D)","v":7}]
[974916.17,24962678.760000002,3.9054949966435411,"TAGF","TA Growth Fund","RPC*MYR*CIMB","CSH",0,"CSH","C","MY",null,"MYR",24962678.760000002,24507503.960000005,"MM",{"$f":"IFERROR(VLOOKUP(D:D,Mapping!B:C,2,0),D:D)","v":1}]
[1028477.3,24962678.760000002,4.1200598296686968,"TAGF","TA Growth Fund","RPC*MYR*KIBB","CSH",0,"CSH","C","MY",null,"MYR",24962678.760000002,24507503.960000005,"MM",{"$f":"IFERROR(VLOOKUP(D:D,Mapping!B:C,2,0),D:D)","v":1}]
[412349.67,10046983.25,4.1042137698398173,"TAIB","TA Asia Pacific Islamic Balanced Fund","RPI*MYR*CIMBIS","CSH",0,"CSH","S","MY",null,"MYR",10046983.25,7389600.2200000007,"MM",{"$f":"IFERROR(VLOOKUP(D:D,Mapping!B:C,2,0),D:D)","v":12}]
[533007.18000000005,4443557.84,11.995054395421127,"TIF","TA Income Fund","FDC*MYR*RHB","CSH",0,"CSH","C","MY",null,"MYR",4443557.8399999989,4432342.4499999993,"MM",{"$f":"IFERROR(VLOOKUP(D:D,Mapping!B:C,2,0),D:D)","v":4}]
[2166435.73,20296296,10.67404481093496,"TAICP","TA Islamic CashPLUS Fund","FDI*MYR*AIBB","CSH",0,"CSH","S","MY",null,"MYR",20296296,19976963.689999998,"MM",{"$f":"IFERROR(VLOOKUP(D:D,Mapping!B:C,2,0),D:D)","v":9}]
[1745261.88,29722319.989999998,5.871889814076388,"TAEURO","TA European Equity Fund","RPC*MYR*CIMB","CSH",0,"CSH","C","MY",null,"MYR",29722319.989999998,30211647.639999997,"MM",{"$f":"IFERROR(VLOOKUP(D:D,Mapping!B:C,2,0),D:D)","v":13}]
[1501650.99,55935751.590000004,2.6845996474792337,"TAIF","TA Islamic Fund","RPI*MYR*CIMBIS","CSH",0,"CSH","S","MY",null,"MYR",55935751.589999996,54243167.740000002,"MM",{"$f":"IFERROR(VLOOKUP(D:D,Mapping!B:C,2,0),D:D)","v":3}]
[1574874.71,55935751.590000004,2.8155064788323156,"TAIF","TA Islamic Fund","RPI*MYR*HLIB","CSH",0,"CSH","S","MY",null,"MYR",55935751.589999996,54243167.740000002,"MM",{"$f":"IFERROR(VLOOKUP(D:D,Mapping!B:C,2,0),D:D)","v":3}]
[300680.05,4443557.84,6.7666509771368251,"TIF","TA Income Fund","RPC*MYR*CIMB","CSH",0,"CSH","C","MY",null,"MYR",4443557.8399999989,4432342.4499999993,"MM",{"$f":"IFERROR(VLOOKUP(D:D,Mapping!B:C,2,0),D:D)","v":4}]
[773.89,1624227.35,4.7646654884859557E-2,"TAGAAF","TA Global Asset Allocator Fund","SG9999002463","EQT",27,"FU","C","SG","SG","SGD",1624227.3499999999,1538605.82,"FU",{"$f":"IFERROR(VLOOKUP(D:D,Mapping!B:C,2,0),D:D)","v":11}]
[503306.7,15990892.609999999,3.147458445723375,"TACF","TA Comet Fund","SGXC75818630","EQT",40,"EQT","C","SG","SG","USD",15990892.610000003,15243375.109999998,"EQ",{"$f":"IFERROR(VLOOKUP(D:D,Mapping!B:C,2,0),D:D)","v":2}]
[902704.92,24962678.760000002,3.6162181498184691,"TAGF","TA Growth Fund","SGXC75818630","EQT",40,"EQT","C","SG","SG","USD",24962678.760000002,24507503.960000005,"EQ",{"$f":"IFERROR(VLOOKUP(D:D,Mapping!B:C,2,0),D:D)","v":1}]
[280217.39,15990892.609999999,1.7523561494294846,"TACF","TA Comet Fund","TAREITS","EQT",31,"FU","C","MY","MY","MYR",15990892.610000003,15243375.109999998,"FU",{"$f":"IFERROR(VLOOKUP(D:D,Mapping!B:C,2,0),D:D)","v":2}]
[569046.69999999995,24962678.760000002,2.2795898848477587,"TAGF","TA Growth Fund","TAREITS","EQT",31,"FU","C","MY","MY","MYR",24962678.760000002,24507503.960000005,"FU",{"$f":"IFERROR(VLOOKUP(D:D,Mapping!B:C,2,0),D:D)","v":1}]
[183028.61,6341697.6600000001,2.8861137791926836,"TASF","TA Small Cap Fund","TAREITS","EQT",31,"FU","C","MY","MY","MYR",6341697.6600000011,6285785.5900000008,"FU",{"$f":"IFERROR(VLOOKUP(D:D,Mapping!B:C,2,0),D:D)","v":5}]
[113656.9,6341697.6600000001,1.7922156825117392,"TASF","TA Small Cap Fund","TH0933010009","EQT",10,"EQT","C","TH","TH","THB",6341697.6600000011,6285785.5900000008,"EQ",{"$f":"IFERROR(VLOOKUP(D:D,Mapping!B:C,2,0),D:D)","v":5}]
[441256.2,15990892.609999999,2.7594219457396507,"TACF","TA Comet Fund","TH9829010R11","EQT",9,"EQT","C","TH","TH","THB",15990892.610000003,15243375.109999998,"EQ",{"$f":"IFERROR(VLOOKUP(D:D,Mapping!B:C,2,0),D:D)","v":2}]
[735427,24962678.760000002,2.9461060933029448,"TAGF","TA Growth Fund","TH9829010R11","EQT",9,"EQT","C","TH","TH","THB",24962678.760000002,24507503.960000005,"EQ",{"$f":"IFERROR(VLOOKUP(D:D,Mapping!B:C,2,0),D:D)","v":1}]
[193049.59,6341697.6600000001,3.0441310883937662,"TASF","TA Small Cap Fund","TH9829010R11","EQT",9,"EQT","C","TH","TH","THB",6341697.6600000011,6285785.5900000008,"EQ",{"$f":"IFERROR(VLOOKUP(D:D,Mapping!B:C,2,0),D:D)","v":5}]
[75681.09,1624227.35,4.6595133372184625,"TAGAAF","TA Global Asset Allocator Fund","US78463X5418","EQT",17,"FU","C","US","US","USD",1624227.3499999999,1538605.82,"FU",{"$f":"IFERROR(VLOOKUP(D:D,Mapping!B:C,2,0),D:D)","v":11}]
[67738.84,1624227.35,4.1705269893405008,"TAGAAF","TA Global Asset Allocator Fund","US78464A6073","EQT",17,"FU","C","US","US","USD",1624227.3499999999,1538605.82,"FU",{"$f":"IFERROR(VLOOKUP(D:D,Mapping!B:C,2,0),D:D)","v":11}]
[937640.82,10046983.25,9.3325607962967396,"TAIB","TA Asia Pacific Islamic Balanced Fund","US8740391003","EQT",4,"EQT","S","TW","US","USD",10046983.25,7389600.2200000007,"EQ",{"$f":"IFERROR(VLOOKUP(D:D,Mapping!B:C,2,0),D:D)","v":12}]
[0,51665977,0,"TADIF","TA Asian Dividend Income Fund","TradeDrVal","TBI",null,"TBI","C",null,null,null,51665977,50574895.890000001,"CA",{"$f":"IFERROR(VLOOKUP(D:D,Mapping!B:C,2,0),D:D)","v":14}]
[0,51665977,0,"TADIF","TA Asian Dividend Income Fund","TradeCrVal","TBI",null,"TBI","C",null,null,null,51665977,50574895.890000001,"CA",{"$f":"IFERROR(VLOOKUP(D:D,Mapping!B:C,2,0),D:D)","v":14}]
[41072.22,51665977,7.949568049395446E-2,"TADIF","TA Asian Dividend Income Fund","MngDb","TBI",null,"TBI","C",null,null,null,51665977,50574895.890000001,"CA",{"$f":"IFERROR(VLOOKUP(D:D,Mapping!B:C,2,0),D:D)","v":14}]
[-948974.5,51665977,-1.8367493563510857,"TADIF","TA Asian Dividend Income Fund","MngCr","TBI",null,"TBI","C",null,null,null,51665977,50574895.890000001,"CA",{"$f":"IFERROR(VLOOKUP(D:D,Mapping!B:C,2,0),D:D)","v":14}]
[0,51665977,0,"TADIF","TA Asian Dividend Income Fund","DivVal","TBI",null,"TBI","C",null,null,null,51665977,50574895.890000001,"CA",{"$f":"IFERROR(VLOOKUP(D:D,Mapping!B:C,2,0),D:D)","v":14}]
[0,51665977,0,"TADIF","TA Asian Dividend Income Fund","DivTaxRec","TBI",null,"TBI","C",null,null,null,51665977,50574895.890000001,"CA",{"$f":"IFERROR(VLOOKUP(D:D,Mapping!B:C,2,0),D:D)","v":14}]
[0,1172933.3600000001,0,"TRFIF","TA Total Return Fixed Income Fund","TaxVal","TBI",null,"TBI","C",null,null,null,1172933.3600000001,1161707.97,"CA",{"$f":"IFERROR(VLOOKUP(D:D,Mapping!B:C,2,0),D:D)","v":28}]
[22093.31,1172933.3600000001,1.8835946485484902,"TRFIF","TA Total Return Fixed Income Fund","BankVal","TBI",null,"TBI","C",null,null,null,1172933.3600000001,1161707.97,"CA",{"$f":"IFERROR(VLOOKUP(D:D,Mapping!B:C,2,0),D:D)","v":28}]
[0,1172933.3600000001,0,"TRFIF","TA Total Return Fixed Income Fund","BankVal-FX","TBI",null,"TBI","C",null,null,null,1172933.3600000001,1161707.97,"CA",{"$f":"IFERROR(VLOOKUP(D:D,Mapping!B:C,2,0),D:D)","v":28}]
[1380.85,1172933.3600000001,0.11772621080536066,"TRFIF","TA Total Return Fixed Income Fund","MngFeeRebate_BF","TBI",null,"TBI","C",null,null,null,1172933.3600000001,1161707.97,"CA",{"$f":"IFERROR(VLOOKUP(D:D,Mapping!B:C,2,0),D:D)","v":28}]
[-45.13,1172933.3600000001,-3.8476184188332742E-3,"TRFIF","TA Total Return Fixed Income Fund","TrusteeFee_BF","TBI",null,"TBI","C",null,null,null,1172933.3600000001,1161707.97,"CA",{"$f":"IFERROR(VLOOKUP(D:D,Mapping!B:C,2,0),D:D)","v":28}]
[-5500,1172933.3600000001,-0.46890984497192573,"TRFIF","TA Total Return Fixed Income Fund","AuditorFee_BF","TBI",null,"TBI","C",null,null,null,1172933.3600000001,1161707.97,"CA",{"$f":"IFERROR(VLOOKUP(D:D,Mapping!B:C,2,0),D:D)","v":28}]
[0,1172933.3600000001,0,"TRFIF","TA Total Return Fixed Income Fund","CustodianFee_BF","TBI",null,"TBI","C",null,null,null,1172933.3600000001,1161707.97,"CA",{"$f":"IFERROR(VLOOKUP(D:D,Mapping!B:C,2,0),D:D)","v":28}]
[0,1172933.3600000001,0,"TRFIF","TA Total Return Fixed Income Fund","BrokerageFee_BF","TBI",null,"TBI","C",null,null,null,1172933.3600000001,1161707.97,"CA",{"$f":"IFERROR(VLOOKUP(D:D,Mapping!B:C,2,0),D:D)","v":28}]
[0,1172933.3600000001,0,"TRFIF","TA Total Return Fixed Income Fund","OthVal","TBI",null,"TBI","C",null,null,null,1172933.3600000001,1161707.97,"CA",{"$f":"IFERROR(VLOOKUP(D:D,Mapping!B:C,2,0),D:D)","v":28}]
[620.23,1172933.3600000001,5.2878536935806818E-2,"TRFIF","TA Total Return Fixed Income Fund","OtherDbVal","TBI",null,"TBI","C",null,null,null,1172933.3600000001,1161707.97,"CA",{"$f":"IFERROR(VLOOKUP(D:D,Mapping!B:C,2,0),D:D)","v":28}]
[-5970,1172933.3600000001,-0.50898032263316306,"TRFIF","TA Total Return Fixed Income Fund","OtherCrVal","TBI",null,"TBI","C",null,null,null,1172933.3600000001,1161707.97,"CA",{"$f":"IFERROR(VLOOKUP(D:D,Mapping!B:C,2,0),D:D)","v":28}]
[0,1172933.3600000001,0,"TRFIF","TA Total Return Fixed Income Fund","TaxProvVal","TBI",null,"TBI","C",null,null,null,1172933.3600000001,1161707.97,"CA",{"$f":"IFERROR(VLOOKUP(D:D,Mapping!B:C,2,0),D:D)","v":28}]
[0,1172933.3600000001,0,"TRFIF","TA Total Return Fixed Income Fund","DefTaxProvVal","TBI",null,"TBI","C",null,null,null,1172933.3600000001,1161707.97,"CA",{"$f":"IFERROR(VLOOKUP(D:D,Mapping!B:C,2,0),D:D)","v":28}]
[0,1172933.3600000001,0,"TRFIF","TA Total Return Fixed Income Fund","ProvDistVal","TBI",null,"TBI","C",null,null,null,1172933.3600000001,1161707.97,"CA",{"$f":"IFERROR(VLOOKUP(D:D,Mapping!B:C,2,0),D:D)","v":28}]
[-1353.87,1172933.3600000001,-0.11542599487493474,"TRFIF","TA Total Return Fixed Income Fund","MngFee_BF","TBI",null,"TBI","C",null,null,null,1172933.3600000001,1161707.97,"CA",{"$f":"IFERROR(VLOOKUP(D:D,Mapping!B:C,2,0),D:D)","v":28}]
[0,1172933.3600000001,0,"TRFIF","TA Total Return Fixed Income Fund","TradeDrVal","TBI",null,"TBI","C",null,null,null,1172933.3600000001,1161707.97,"CA",{"$f":"IFERROR(VLOOKUP(D:D,Mapping!B:C,2,0),D:D)","v":28}]
[0,1172933.3600000001,0,"TRFIF","TA Total Return Fixed Income Fund","TradeCrVal","TBI",null,"TBI","C",null,null,null,1172933.3600000001,1161707.97,"CA",{"$f":"IFERROR(VLOOKUP(D:D,Mapping!B:C,2,0),D:D)","v":28}]
[0,1172933.3600000001,0,"TRFIF","TA Total Return Fixed Income Fund","MngDb","TBI",null,"TBI","C",null,null,null,1172933.3600000001,1161707.97,"CA",{"$f":"IFERROR(VLOOKUP(D:D,Mapping!B:C,2,0),D:D)","v":28}]
[0,1172933.3600000001,0,"TRFIF","TA Total Return Fixed Income Fund","MngCr","TBI",null,"TBI","C",null,null,null,1172933.3600000001,1161707.97,"CA",{"$f":"IFERROR(VLOOKUP(D:D,Mapping!B:C,2,0),D:D)","v":28}]
[0,1172933.3600000001,0,"TRFIF","TA Total Return Fixed Income Fund","DivVal","TBI",null,"TBI","C",null,null,null,1172933.3600000001,1161707.97,"CA",{"$f":"IFERROR(VLOOKUP(D:D,Mapping!B:C,2,0),D:D)","v":28}]
[0,1172933.3600000001,0,"TRFIF","TA Total Return Fixed Income Fund","DivTaxRec","TBI",null,"TBI","C",null,null,null,1172933.3600000001,1161707.97,"CA",{"$f":"IFERROR(VLOOKUP(D:D,Mapping!B:C,2,0),D:D)","v":28}]
[0,6341697.6600000001,0,"TASF","TA Small Cap Fund","CustodianFee_BF","TBI",null,"TBI","C",null,null,null,6341697.6600000011,6285785.5900000008,"CA",{"$f":"IFERROR(VLOOKUP(D:D,Mapping!B:C,2,0),D:D)","v":5}]
[0,6341697.6600000001,0,"TASF","TA Small Cap Fund","BrokerageFee_BF","TBI",null,"TBI","C",null,null,null,6341697.6600000011,6285785.5900000008,"CA",{"$f":"IFERROR(VLOOKUP(D:D,Mapping!B:C,2,0),D:D)","v":5}]
[0,6341697.6600000001,0,"TASF","TA Small Cap Fund","OthVal","TBI",null,"TBI","C",null,null,null,6341697.6600000011,6285785.5900000008,"CA",{"$f":"IFERROR(VLOOKUP(D:D,Mapping!B:C,2,0),D:D)","v":5}]
[0,6341697.6600000001,0,"TASF","TA Small Cap Fund","TaxVal","TBI",null,"TBI","C",null,null,null,6341697.6600000011,6285785.5900000008,"CA",{"$f":"IFERROR(VLOOKUP(D:D,Mapping!B:C,2,0),D:D)","v":5}]
[62079.96,6341697.6600000001,0.97891705546870866,"TASF","TA Small Cap Fund","BankVal","TBI",null,"TBI","C",null,null,null,6341697.6600000011,6285785.5900000008,"CA",{"$f":"IFERROR(VLOOKUP(D:D,Mapping!B:C,2,0),D:D)","v":5}]
[199390.8,6341697.6600000001,3.1441233986547381,"TASF","TA Small Cap Fund","BankVal-FX","TBI",null,"TBI","C",null,null,null,6341697.6600000011,6285785.5900000008,"CA",{"$f":"IFERROR(VLOOKUP(D:D,Mapping!B:C,2,0),D:D)","v":5}]
[0,6341697.6600000001,0,"TASF","TA Small Cap Fund","DefTaxProvVal","TBI",null,"TBI","C",null,null,null,6341697.6600000011,6285785.5900000008,"CA",{"$f":"IFERROR(VLOOKUP(D:D,Mapping!B:C,2,0),D:D)","v":5}]
[0,6341697.6600000001,0,"TASF","TA Small Cap Fund","ProvDistVal","TBI",null,"TBI","C",null,null,null,6341697.6600000011,6285785.5900000008,"CA",{"$f":"IFERROR(VLOOKUP(D:D,Mapping!B:C,2,0),D:D)","v":5}]
[-7257.25,6341697.6600000001,-0.11443702284602449,"TASF","TA Small Cap Fund","MngFee_BF","TBI",null,"TBI","C",null,null,null,6341697.6600000011,6285785.5900000008,"CA",{"$f":"IFERROR(VLOOKUP(D:D,Mapping!B:C,2,0),D:D)","v":5}]
[210.86,6341697.6600000001,3.3249771796910292E-3,"TASF","TA Small Cap Fund","MngFeeRebate_BF","TBI",null,"TBI","C",null,null,null,6341697.6600000011,6285785.5900000008,"CA",{"$f":"IFERROR(VLOOKUP(D:D,Mapping!B:C,2,0),D:D)","v":5}]
[-266.08999999999997,6341697.6600000001,-4.1958796250781841E-3,"TASF","TA Small Cap Fund","TrusteeFee_BF","TBI",null,"TBI","C",null,null,null,6341697.6600000011,6285785.5900000008,"CA",{"$f":"IFERROR(VLOOKUP(D:D,Mapping!B:C,2,0),D:D)","v":5}]
[-11300,6341697.6600000001,-0.17818572574461078,"TASF","TA Small Cap Fund","AuditorFee_BF","TBI",null,"TBI","C",null,null,null,6341697.6600000011,6285785.5900000008,"CA",{"$f":"IFERROR(VLOOKUP(D:D,Mapping!B:C,2,0),D:D)","v":5}]
[-11829.68,6341697.6600000001,-0.1865380633740272,"TASF","TA Small Cap Fund","MngCr","TBI",null,"TBI","C",null,null,null,6341697.6600000011,6285785.5900000008,"CA",{"$f":"IFERROR(VLOOKUP(D:D,Mapping!B:C,2,0),D:D)","v":5}]
[3780,6341697.6600000001,5.9605490558816705E-2,"TASF","TA Small Cap Fund","DivVal","TBI",null,"TBI","C",null,null,null,6341697.6600000011,6285785.5900000008,"CA",{"$f":"IFERROR(VLOOKUP(D:D,Mapping!B:C,2,0),D:D)","v":5}]
[0,6341697.6600000001,0,"TASF","TA Small Cap Fund","DivTaxRec","TBI",null,"TBI","C",null,null,null,6341697.6600000011,6285785.5900000008,"CA",{"$f":"IFERROR(VLOOKUP(D:D,Mapping!B:C,2,0),D:D)","v":5}]
[21652.57,6341697.6600000001,0.34143176103415818,"TASF","TA Small Cap Fund","OtherDbVal","TBI",null,"TBI","C",null,null,null,6341697.6600000011,6285785.5900000008,"CA",{"$f":"IFERROR(VLOOKUP(D:D,Mapping!B:C,2,0),D:D)","v":5}]
[-10580,6341697.6600000001,-0.16683229897150284,"TASF","TA Small Cap Fund","OtherCrVal","TBI",null,"TBI","C",null,null,null,6341697.6600000011,6285785.5900000008,"CA",{"$f":"IFERROR(VLOOKUP(D:D,Mapping!B:C,2,0),D:D)","v":5}]
[0,6341697.6600000001,0,"TASF","TA Small Cap Fund","TaxProvVal","TBI",null,"TBI","C",null,null,null,6341697.6600000011,6285785.5900000008,"CA",{"$f":"IFERROR(VLOOKUP(D:D,Mapping!B:C,2,0),D:D)","v":5}]
[0,4443557.84,0,"TIF","TA Income Fund","TaxVal","TBI",null,"TBI","C",null,null,null,4443557.8399999989,4432342.4499999993,"CA",{"$f":"IFERROR(VLOOKUP(D:D,Mapping!B:C,2,0),D:D)","v":4}]
[59399.18,4443557.84,1.3367482125539296,"TIF","TA Income Fund","BankVal","TBI",null,"TBI","C",null,null,null,4443557.8399999989,4432342.4499999993,"CA",{"$f":"IFERROR(VLOOKUP(D:D,Mapping!B:C,2,0),D:D)","v":4}]
[4844.6400000000003,4443557.84,0.10902614919039741,"TIF","TA Income Fund","BankVal-FX","TBI",null,"TBI","C",null,null,null,4443557.8399999989,4432342.4499999993,"CA",{"$f":"IFERROR(VLOOKUP(D:D,Mapping!B:C,2,0),D:D)","v":4}]
[0,6341697.6600000001,0,"TASF","TA Small Cap Fund","TradeDrVal","TBI",null,"TBI","C",null,null,null,6341697.6600000011,6285785.5900000008,"CA",{"$f":"IFERROR(VLOOKUP(D:D,Mapping!B:C,2,0),D:D)","v":5}]
[-190951.9,6341697.6600000001,-3.0110533525497649,"TASF","TA Small Cap Fund","TradeCrVal","TBI",null,"TBI","C",null,null,null,6341697.6600000011,6285785.5900000008,"CA",{"$f":"IFERROR(VLOOKUP(D:D,Mapping!B:C,2,0),D:D)","v":5}]
[982.8,6341697.6600000001,1.5497427545292344E-2,"TASF","TA Small Cap Fund","MngDb","TBI",null,"TBI","C",null,null,null,6341697.6600000011,6285785.5900000008,"CA",{"$f":"IFERROR(VLOOKUP(D:D,Mapping!B:C,2,0),D:D)","v":5}]
[0,4443557.84,0,"TIF","TA Income Fund","MngFeeRebate_BF","TBI",null,"TBI","C",null,null,null,4443557.8399999989,4432342.4499999993,"CA",{"$f":"IFERROR(VLOOKUP(D:D,Mapping!B:C,2,0),D:D)","v":4}]
[-274.42,4443557.84,-6.1756819620918902E-3,"TIF","TA Income Fund","TrusteeFee_BF","TBI",null,"TBI","C",null,null,null,4443557.8399999989,4432342.4499999993,"CA",{"$f":"IFERROR(VLOOKUP(D:D,Mapping!B:C,2,0),D:D)","v":4}]
[-6500,4443557.84,-0.14627918064863088,"TIF","TA Income Fund","AuditorFee_BF","TBI",null,"TBI","C",null,null,null,4443557.8399999989,4432342.4499999993,"CA",{"$f":"IFERROR(VLOOKUP(D:D,Mapping!B:C,2,0),D:D)","v":4}]
[0,4443557.84,0,"TIF","TA Income Fund","CustodianFee_BF","TBI",null,"TBI","C",null,null,null,4443557.8399999989,4432342.4499999993,"CA",{"$f":"IFERROR(VLOOKUP(D:D,Mapping!B:C,2,0),D:D)","v":4}]
[0,4443557.84,0,"TIF","TA Income Fund","BrokerageFee_BF","TBI",null,"TBI","C",null,null,null,4443557.8399999989,4432342.4499999993,"CA",{"$f":"IFERROR(VLOOKUP(D:D,Mapping!B:C,2,0),D:D)","v":4}]
[0,4443557.84,0,"TIF","TA Income Fund","OthVal","TBI",null,"TBI","C",null,null,null,4443557.8399999989,4432342.4499999993,"CA",{"$f":"IFERROR(VLOOKUP(D:D,Mapping!B:C,2,0),D:D)","v":4}]
[0,4443557.84,0,"TIF","TA Income Fund","OtherDbVal","TBI",null,"TBI","C",null,null,null,4443557.8399999989,4432342.4499999993,"CA",{"$f":"IFERROR(VLOOKUP(D:D,Mapping!B:C,2,0),D:D)","v":4}]
[-6520,4443557.84,-0.14672927043524206,"TIF","TA Income Fund","OtherCrVal","TBI",null,"TBI","C",null,null,null,4443557.8399999989,4432342.4499999993,"CA",{"$f":"IFERROR(VLOOKUP(D:D,Mapping!B:C,2,0),D:D)","v":4}]
[0,4443557.84,0,"TIF","TA Income Fund","TaxProvVal","TBI",null,"TBI","C",null,null,null,4443557.8399999989,4432342.4499999993,"CA",{"$f":"IFERROR(VLOOKUP(D:D,Mapping!B:C,2,0),D:D)","v":4}]
[0,4443557.84,0,"TIF","TA Income Fund","DefTaxProvVal","TBI",null,"TBI","C",null,null,null,4443557.8399999989,4432342.4499999993,"CA",{"$f":"IFERROR(VLOOKUP(D:D,Mapping!B:C,2,0),D:D)","v":4}]
[0,4443557.84,0,"TIF","TA Income Fund","ProvDistVal","TBI",null,"TBI","C",null,null,null,4443557.8399999989,4432342.4499999993,"CA",{"$f":"IFERROR(VLOOKUP(D:D,Mapping!B:C,2,0),D:D)","v":4}]
[-5145.53,4443557.84,-0.11579752498506918,"TIF","TA Income Fund","MngFee_BF","TBI",null,"TBI","C",null,null,null,4443557.8399999989,4432342.4499999993,"CA",{"$f":"IFERROR(VLOOKUP(D:D,Mapping!B:C,2,0),D:D)","v":4}]
[74624.25,4443557.84,1.6793806379259373,"TIF","TA Income Fund","TradeDrVal","TBI",null,"TBI","C",null,null,null,4443557.8399999989,4432342.4499999993,"CA",{"$f":"IFERROR(VLOOKUP(D:D,Mapping!B:C,2,0),D:D)","v":4}]
[-113188.17,4443557.84,-2.5472419641104525,"TIF","TA Income Fund","TradeCrVal","TBI",null,"TBI","C",null,null,null,4443557.8399999989,4432342.4499999993,"CA",{"$f":"IFERROR(VLOOKUP(D:D,Mapping!B:C,2,0),D:D)","v":4}]
[19275.349999999999,4443557.84,0.43378190841778258,"TIF","TA Income Fund","MngDb","TBI",null,"TBI","C",null,null,null,4443557.8399999989,4432342.4499999993,"CA",{"$f":"IFERROR(VLOOKUP(D:D,Mapping!B:C,2,0),D:D)","v":4}]
[-15625.63,4443557.84,-0.35164682361825633,"TIF","TA Income Fund","MngCr","TBI",null,"TBI","C",null,null,null,4443557.8399999989,4432342.4499999993,"CA",{"$f":"IFERROR(VLOOKUP(D:D,Mapping!B:C,2,0),D:D)","v":4}]
[0,4443557.84,0,"TIF","TA Income Fund","DivVal","TBI",null,"TBI","C",null,null,null,4443557.8399999989,4432342.4499999993,"CA",{"$f":"IFERROR(VLOOKUP(D:D,Mapping!B:C,2,0),D:D)","v":4}]
[325.72000000000003,4443557.84,7.3301622647495472E-3,"TIF","TA Income Fund","DivTaxRec","TBI",null,"TBI","C",null,null,null,4443557.8399999989,4432342.4499999993,"CA",{"$f":"IFERROR(VLOOKUP(D:D,Mapping!B:C,2,0),D:D)","v":4}]
[0,55935751.590000004,0,"TAIF","TA Islamic Fund","CustodianFee_BF","TBI",null,"TBI","S",null,null,null,55935751.589999996,54243167.740000002,"CA",{"$f":"IFERROR(VLOOKUP(D:D,Mapping!B:C,2,0),D:D)","v":3}]
[0,55935751.590000004,0,"TAIF","TA Islamic Fund","BrokerageFee_BF","TBI",null,"TBI","S",null,null,null,55935751.589999996,54243167.740000002,"CA",{"$f":"IFERROR(VLOOKUP(D:D,Mapping!B:C,2,0),D:D)","v":3}]
[0,55935751.590000004,0,"TAIF","TA Islamic Fund","OthVal","TBI",null,"TBI","S",null,null,null,55935751.589999996,54243167.740000002,"CA",{"$f":"IFERROR(VLOOKUP(D:D,Mapping!B:C,2,0),D:D)","v":3}]
[0,55935751.590000004,0,"TAIF","TA Islamic Fund","TaxVal","TBI",null,"TBI","S",null,null,null,55935751.589999996,54243167.740000002,"CA",{"$f":"IFERROR(VLOOKUP(D:D,Mapping!B:C,2,0),D:D)","v":3}]
[896870.32,55935751.590000004,1.6033937052887286,"TAIF","TA Islamic Fund","BankVal","TBI",null,"TBI","S",null,null,null,55935751.589999996,54243167.740000002,"CA",{"$f":"IFERROR(VLOOKUP(D:D,Mapping!B:C,2,0),D:D)","v":3}]
[948645.4800000001,55935751.590000004,1.6959555436984521,"TAIF","TA Islamic Fund","BankVal-FX","TBI",null,"TBI","S",null,null,null,55935751.589999996,54243167.740000002,"CA",{"$f":"IFERROR(VLOOKUP(D:D,Mapping!B:C,2,0),D:D)","v":3}]
[0,55935751.590000004,0,"TAIF","TA Islamic Fund","DefTaxProvVal","TBI",null,"TBI","S",null,null,null,55935751.589999996,54243167.740000002,"CA",{"$f":"IFERROR(VLOOKUP(D:D,Mapping!B:C,2,0),D:D)","v":3}]
[0,55935751.590000004,0,"TAIF","TA Islamic Fund","ProvDistVal","TBI",null,"TBI","S",null,null,null,55935751.589999996,54243167.740000002,"CA",{"$f":"IFERROR(VLOOKUP(D:D,Mapping!B:C,2,0),D:D)","v":3}]
[-62548.480000000003,55935751.590000004,-0.11182200689546504,"TAIF","TA Islamic Fund","MngFee_BF","TBI",null,"TBI","S",null,null,null,55935751.589999996,54243167.740000002,"CA",{"$f":"IFERROR(VLOOKUP(D:D,Mapping!B:C,2,0),D:D)","v":3}]
[0,55935751.590000004,0,"TAIF","TA Islamic Fund","MngFeeRebate_BF","TBI",null,"TBI","S",null,null,null,55935751.589999996,54243167.740000002,"CA",{"$f":"IFERROR(VLOOKUP(D:D,Mapping!B:C,2,0),D:D)","v":3}]
[-2293.4499999999998,55935751.590000004,-4.100150502688543E-3,"TAIF","TA Islamic Fund","TrusteeFee_BF","TBI",null,"TBI","S",null,null,null,55935751.589999996,54243167.740000002,"CA",{"$f":"IFERROR(VLOOKUP(D:D,Mapping!B:C,2,0),D:D)","v":3}]
[-11250,55935751.590000004,-2.0112360485402391E-2,"TAIF","TA Islamic Fund","AuditorFee_BF","TBI",null,"TBI","S",null,null,null,55935751.589999996,54243167.740000002,"CA",{"$f":"IFERROR(VLOOKUP(D:D,Mapping!B:C,2,0),D:D)","v":3}]
[-303024.84999999998,55935751.590000004,-0.54173733504310984,"TAIF","TA Islamic Fund","MngCr","TBI",null,"TBI","S",null,null,null,55935751.589999996,54243167.740000002,"CA",{"$f":"IFERROR(VLOOKUP(D:D,Mapping!B:C,2,0),D:D)","v":3}]
[25223.31,55935751.590000004,4.5093360298227109E-2,"TAIF","TA Islamic Fund","DivVal","TBI",null,"TBI","S",null,null,null,55935751.589999996,54243167.740000002,"CA",{"$f":"IFERROR(VLOOKUP(D:D,Mapping!B:C,2,0),D:D)","v":3}]
[0,55935751.590000004,0,"TAIF","TA Islamic Fund","DivTaxRec","TBI",null,"TBI","S",null,null,null,55935751.589999996,54243167.740000002,"CA",{"$f":"IFERROR(VLOOKUP(D:D,Mapping!B:C,2,0),D:D)","v":3}]
[0,55935751.590000004,0,"TAIF","TA Islamic Fund","OtherDbVal","TBI",null,"TBI","S",null,null,null,55935751.589999996,54243167.740000002,"CA",{"$f":"IFERROR(VLOOKUP(D:D,Mapping!B:C,2,0),D:D)","v":3}]
[-7060.22,55935751.590000004,-1.2622016866333127E-2,"TAIF","TA Islamic Fund","OtherCrVal","TBI",null,"TBI","S",null,null,null,55935751.589999996,54243167.740000002,"CA",{"$f":"IFERROR(VLOOKUP(D:D,Mapping!B:C,2,0),D:D)","v":3}]
[0,55935751.590000004,0,"TAIF","TA Islamic Fund","TaxProvVal","TBI",null,"TBI","S",null,null,null,55935751.589999996,54243167.740000002,"CA",{"$f":"IFERROR(VLOOKUP(D:D,Mapping!B:C,2,0),D:D)","v":3}]
[0,20296296,0,"TAICP","TA Islamic CashPLUS Fund","TaxVal","TBI",null,"TBI","S",null,null,null,20296296,19976963.689999998,"CA",{"$f":"IFERROR(VLOOKUP(D:D,Mapping!B:C,2,0),D:D)","v":9}]
[54766.59,20296296,0.26983539262533418,"TAICP","TA Islamic CashPLUS Fund","BankVal","TBI",null,"TBI","S",null,null,null,20296296,19976963.689999998,"CA",{"$f":"IFERROR(VLOOKUP(D:D,Mapping!B:C,2,0),D:D)","v":9}]
[0,20296296,0,"TAICP","TA Islamic CashPLUS Fund","BankVal-FX","TBI",null,"TBI","S",null,null,null,20296296,19976963.689999998,"CA",{"$f":"IFERROR(VLOOKUP(D:D,Mapping!B:C,2,0),D:D)","v":9}]
[722100.15,55935751.590000004,1.2909456465211679,"TAIF","TA Islamic Fund","TradeDrVal","TBI",null,"TBI","S",null,null,null,55935751.589999996,54243167.740000002,"CA",{"$f":"IFERROR(VLOOKUP(D:D,Mapping!B:C,2,0),D:D)","v":3}]
[-600044.98,55935751.590000004,-1.0727396395747615,"TAIF","TA Islamic Fund","TradeCrVal","TBI",null,"TBI","S",null,null,null,55935751.589999996,54243167.740000002,"CA",{"$f":"IFERROR(VLOOKUP(D:D,Mapping!B:C,2,0),D:D)","v":3}]
[85966.57,55935751.590000004,0.15368805738076255,"TAIF","TA Islamic Fund","MngDb","TBI",null,"TBI","S",null,null,null,55935751.589999996,54243167.740000002,"CA",{"$f":"IFERROR(VLOOKUP(D:D,Mapping!B:C,2,0),D:D)","v":3}]
[0,20296296,0,"TAICP","TA Islamic CashPLUS Fund","MngFeeRebate_BF","TBI",null,"TBI","S",null,null,null,20296296,19976963.689999998,"CA",{"$f":"IFERROR(VLOOKUP(D:D,Mapping!B:C,2,0),D:D)","v":9}]
[-6261.59,20296296,-3.08509000854146E-2,"TAICP","TA Islamic CashPLUS Fund","TrusteeFee_BF","TBI",null,"TBI","S",null,null,null,20296296,19976963.689999998,"CA",{"$f":"IFERROR(VLOOKUP(D:D,Mapping!B:C,2,0),D:D)","v":9}]
[-7000,20296296,-3.4489051598380317E-2,"TAICP","TA Islamic CashPLUS Fund","AuditorFee_BF","TBI",null,"TBI","S",null,null,null,20296296,19976963.689999998,"CA",{"$f":"IFERROR(VLOOKUP(D:D,Mapping!B:C,2,0),D:D)","v":9}]
[0,20296296,0,"TAICP","TA Islamic CashPLUS Fund","CustodianFee_BF","TBI",null,"TBI","S",null,null,null,20296296,19976963.689999998,"CA",{"$f":"IFERROR(VLOOKUP(D:D,Mapping!B:C,2,0),D:D)","v":9}]
[0,20296296,0,"TAICP","TA Islamic CashPLUS Fund","BrokerageFee_BF","TBI",null,"TBI","S",null,null,null,20296296,19976963.689999998,"CA",{"$f":"IFERROR(VLOOKUP(D:D,Mapping!B:C,2,0),D:D)","v":9}]
[0,20296296,0,"TAICP","TA Islamic CashPLUS Fund","OthVal","TBI",null,"TBI","S",null,null,null,20296296,19976963.689999998,"CA",{"$f":"IFERROR(VLOOKUP(D:D,Mapping!B:C,2,0),D:D)","v":9}]
[0,20296296,0,"TAICP","TA Islamic CashPLUS Fund","OtherDbVal","TBI",null,"TBI","S",null,null,null,20296296,19976963.689999998,"CA",{"$f":"IFERROR(VLOOKUP(D:D,Mapping!B:C,2,0),D:D)","v":9}]
[-3250,20296296,-1.601277395639086E-2,"TAICP","TA Islamic CashPLUS Fund","OtherCrVal","TBI",null,"TBI","S",null,null,null,20296296,19976963.689999998,"CA",{"$f":"IFERROR(VLOOKUP(D:D,Mapping!B:C,2,0),D:D)","v":9}]
[0,20296296,0,"TAICP","TA Islamic CashPLUS Fund","TaxProvVal","TBI",null,"TBI","S",null,null,null,20296296,19976963.689999998,"CA",{"$f":"IFERROR(VLOOKUP(D:D,Mapping!B:C,2,0),D:D)","v":9}]
[0,20296296,0,"TAICP","TA Islamic CashPLUS Fund","DefTaxProvVal","TBI",null,"TBI","S",null,null,null,20296296,19976963.689999998,"CA",{"$f":"IFERROR(VLOOKUP(D:D,Mapping!B:C,2,0),D:D)","v":9}]
[-45189.79,20296296,-0.22265042843285296,"TAICP","TA Islamic CashPLUS Fund","ProvDistVal","TBI",null,"TBI","S",null,null,null,20296296,19976963.689999998,"CA",{"$f":"IFERROR(VLOOKUP(D:D,Mapping!B:C,2,0),D:D)","v":9}]
[-4604.79,20296296,-2.2687834272815097E-2,"TAICP","TA Islamic CashPLUS Fund","MngFee_BF","TBI",null,"TBI","S",null,null,null,20296296,19976963.689999998,"CA",{"$f":"IFERROR(VLOOKUP(D:D,Mapping!B:C,2,0),D:D)","v":9}]
[0,20296296,0,"TAICP","TA Islamic CashPLUS Fund","TradeDrVal","TBI",null,"TBI","S",null,null,null,20296296,19976963.689999998,"CA",{"$f":"IFERROR(VLOOKUP(D:D,Mapping!B:C,2,0),D:D)","v":9}]
[0,20296296,0,"TAICP","TA Islamic CashPLUS Fund","TradeCrVal","TBI",null,"TBI","S",null,null,null,20296296,19976963.689999998,"CA",{"$f":"IFERROR(VLOOKUP(D:D,Mapping!B:C,2,0),D:D)","v":9}]
[330871.89,20296296,1.6302082409519452,"TAICP","TA Islamic CashPLUS Fund","MngDb","TBI",null,"TBI","S",null,null,null,20296296,19976963.689999998,"CA",{"$f":"IFERROR(VLOOKUP(D:D,Mapping!B:C,2,0),D:D)","v":9}]
[0,20296296,0,"TAICP","TA Islamic CashPLUS Fund","MngCr","TBI",null,"TBI","S",null,null,null,20296296,19976963.689999998,"CA",{"$f":"IFERROR(VLOOKUP(D:D,Mapping!B:C,2,0),D:D)","v":9}]
[0,20296296,0,"TAICP","TA Islamic CashPLUS Fund","DivVal","TBI",null,"TBI","S",null,null,null,20296296,19976963.689999998,"CA",{"$f":"IFERROR(VLOOKUP(D:D,Mapping!B:C,2,0),D:D)","v":9}]
[0,20296296,0,"TAICP","TA Islamic CashPLUS Fund","DivTaxRec","TBI",null,"TBI","S",null,null,null,20296296,19976963.689999998,"CA",{"$f":"IFERROR(VLOOKUP(D:D,Mapping!B:C,2,0),D:D)","v":9}]
[0,10046983.25,0,"TAIB","TA Asia Pacific Islamic Balanced Fund","CustodianFee_BF","TBI",null,"TBI","S",null,null,null,10046983.25,7389600.2200000007,"CA",{"$f":"IFERROR(VLOOKUP(D:D,Mapping!B:C,2,0),D:D)","v":12}]
[0,10046983.25,0,"TAIB","TA Asia Pacific Islamic Balanced Fund","BrokerageFee_BF","TBI",null,"TBI","S",null,null,null,10046983.25,7389600.2200000007,"CA",{"$f":"IFERROR(VLOOKUP(D:D,Mapping!B:C,2,0),D:D)","v":12}]
[0,10046983.25,0,"TAIB","TA Asia Pacific Islamic Balanced Fund","OthVal","TBI",null,"TBI","S",null,null,null,10046983.25,7389600.2200000007,"CA",{"$f":"IFERROR(VLOOKUP(D:D,Mapping!B:C,2,0),D:D)","v":12}]
[0,10046983.25,0,"TAIB","TA Asia Pacific Islamic Balanced Fund","TaxVal","TBI",null,"TBI","S",null,null,null,10046983.25,7389600.2200000007,"CA",{"$f":"IFERROR(VLOOKUP(D:D,Mapping!B:C,2,0),D:D)","v":12}]
[50537.16,10046983.25,0.50300830351240011,"TAIB","TA Asia Pacific Islamic Balanced Fund","BankVal","TBI",null,"TBI","S",null,null,null,10046983.25,7389600.2200000007,"CA",{"$f":"IFERROR(VLOOKUP(D:D,Mapping!B:C,2,0),D:D)","v":12}]
[2504498.1799999997,10046983.25,24.927862599950085,"TAIB","TA Asia Pacific Islamic Balanced Fund","BankVal-FX","TBI",null,"TBI","S",null,null,null,10046983.25,7389600.2200000007,"CA",{"$f":"IFERROR(VLOOKUP(D:D,Mapping!B:C,2,0),D:D)","v":12}]
[0,10046983.25,0,"TAIB","TA Asia Pacific Islamic Balanced Fund","DefTaxProvVal","TBI",null,"TBI","S",null,null,null,10046983.25,7389600.2200000007,"CA",{"$f":"IFERROR(VLOOKUP(D:D,Mapping!B:C,2,0),D:D)","v":12}]
[0,10046983.25,0,"TAIB","TA Asia Pacific Islamic Balanced Fund","ProvDistVal","TBI",null,"TBI","S",null,null,null,10046983.25,7389600.2200000007,"CA",{"$f":"IFERROR(VLOOKUP(D:D,Mapping!B:C,2,0),D:D)","v":12}]
[-12506.65,10046983.25,-0.12448164477630635,"TAIB","TA Asia Pacific Islamic Balanced Fund","MngFee_BF","TBI",null,"TBI","S",null,null,null,10046983.25,7389600.2200000007,"CA",{"$f":"IFERROR(VLOOKUP(D:D,Mapping!B:C,2,0),D:D)","v":12}]
[0,10046983.25,0,"TAIB","TA Asia Pacific Islamic Balanced Fund","MngFeeRebate_BF","TBI",null,"TBI","S",null,null,null,10046983.25,7389600.2200000007,"CA",{"$f":"IFERROR(VLOOKUP(D:D,Mapping!B:C,2,0),D:D)","v":12}]
[-458.58,10046983.25,-4.5643551759678705E-3,"TAIB","TA Asia Pacific Islamic Balanced Fund","TrusteeFee_BF","TBI",null,"TBI","S",null,null,null,10046983.25,7389600.2200000007,"CA",{"$f":"IFERROR(VLOOKUP(D:D,Mapping!B:C,2,0),D:D)","v":12}]
[-6600,10046983.25,-6.5691360638030327E-2,"TAIB","TA Asia Pacific Islamic Balanced Fund","AuditorFee_BF","TBI",null,"TBI","S",null,null,null,10046983.25,7389600.2200000007,"CA",{"$f":"IFERROR(VLOOKUP(D:D,Mapping!B:C,2,0),D:D)","v":12}]
[-44076.19,10046983.25,-0.43870074133944637,"TAIB","TA Asia Pacific Islamic Balanced Fund","MngCr","TBI",null,"TBI","S",null,null,null,10046983.25,7389600.2200000007,"CA",{"$f":"IFERROR(VLOOKUP(D:D,Mapping!B:C,2,0),D:D)","v":12}]
[2846.38,10046983.25,2.8330693195890419E-2,"TAIB","TA Asia Pacific Islamic Balanced Fund","DivVal","TBI",null,"TBI","S",null,null,null,10046983.25,7389600.2200000007,"CA",{"$f":"IFERROR(VLOOKUP(D:D,Mapping!B:C,2,0),D:D)","v":12}]
[0,10046983.25,0,"TAIB","TA Asia Pacific Islamic Balanced Fund","DivTaxRec","TBI",null,"TBI","S",null,null,null,10046983.25,7389600.2200000007,"CA",{"$f":"IFERROR(VLOOKUP(D:D,Mapping!B:C,2,0),D:D)","v":12}]
[0,10046983.25,0,"TAIB","TA Asia Pacific Islamic Balanced Fund","OtherDbVal","TBI",null,"TBI","S",null,null,null,10046983.25,7389600.2200000007,"CA",{"$f":"IFERROR(VLOOKUP(D:D,Mapping!B:C,2,0),D:D)","v":12}]
[-8329.33,10046983.25,-8.2903791045934108E-2,"TAIB","TA Asia Pacific Islamic Balanced Fund","OtherCrVal","TBI",null,"TBI","S",null,null,null,10046983.25,7389600.2200000007,"CA",{"$f":"IFERROR(VLOOKUP(D:D,Mapping!B:C,2,0),D:D)","v":12}]
[0,10046983.25,0,"TAIB","TA Asia Pacific Islamic Balanced Fund","TaxProvVal","TBI",null,"TBI","S",null,null,null,10046983.25,7389600.2200000007,"CA",{"$f":"IFERROR(VLOOKUP(D:D,Mapping!B:C,2,0),D:D)","v":12}]
[0,24962678.760000002,0,"TAGF","TA Growth Fund","TaxVal","TBI",null,"TBI","C",null,null,null,24962678.760000002,24507503.960000005,"CA",{"$f":"IFERROR(VLOOKUP(D:D,Mapping!B:C,2,0),D:D)","v":1}]
[178235.81,24962678.760000002,0.71400914827139328,"TAGF","TA Growth Fund","BankVal","TBI",null,"TBI","C",null,null,null,24962678.760000002,24507503.960000005,"CA",{"$f":"IFERROR(VLOOKUP(D:D,Mapping!B:C,2,0),D:D)","v":1}]
[632679.13000000012,24962678.760000002,2.5345001475314426,"TAGF","TA Growth Fund","BankVal-FX","TBI",null,"TBI","C",null,null,null,24962678.760000002,24507503.960000005,"CA",{"$f":"IFERROR(VLOOKUP(D:D,Mapping!B:C,2,0),D:D)","v":1}]
[165539.25,10046983.25,1.6476512987119791,"TAIB","TA Asia Pacific Islamic Balanced Fund","TradeDrVal","TBI",null,"TBI","S",null,null,null,10046983.25,7389600.2200000007,"CA",{"$f":"IFERROR(VLOOKUP(D:D,Mapping!B:C,2,0),D:D)","v":12}]
[0,10046983.25,0,"TAIB","TA Asia Pacific Islamic Balanced Fund","TradeCrVal","TBI",null,"TBI","S",null,null,null,10046983.25,7389600.2200000007,"CA",{"$f":"IFERROR(VLOOKUP(D:D,Mapping!B:C,2,0),D:D)","v":12}]
[5932.81,10046983.25,5.9050660804077684E-2,"TAIB","TA Asia Pacific Islamic Balanced Fund","MngDb","TBI",null,"TBI","S",null,null,null,10046983.25,7389600.2200000007,"CA",{"$f":"IFERROR(VLOOKUP(D:D,Mapping!B:C,2,0),D:D)","v":12}]
[655.53,24962678.760000002,2.6260402831863386E-3,"TAGF","TA Growth Fund","MngFeeRebate_BF","TBI",null,"TBI","C",null,null,null,24962678.760000002,24507503.960000005,"CA",{"$f":"IFERROR(VLOOKUP(D:D,Mapping!B:C,2,0),D:D)","v":1}]
[-1070.82,24962678.760000002,-4.289683852823814E-3,"TAGF","TA Growth Fund","TrusteeFee_BF","TBI",null,"TBI","C",null,null,null,24962678.760000002,24507503.960000005,"CA",{"$f":"IFERROR(VLOOKUP(D:D,Mapping!B:C,2,0),D:D)","v":1}]
[-9900,24962678.760000002,-3.9659205228661926E-2,"TAGF","TA Growth Fund","AuditorFee_BF","TBI",null,"TBI","C",null,null,null,24962678.760000002,24507503.960000005,"CA",{"$f":"IFERROR(VLOOKUP(D:D,Mapping!B:C,2,0),D:D)","v":1}]
[0,24962678.760000002,0,"TAGF","TA Growth Fund","CustodianFee_BF","TBI",null,"TBI","C",null,null,null,24962678.760000002,24507503.960000005,"CA",{"$f":"IFERROR(VLOOKUP(D:D,Mapping!B:C,2,0),D:D)","v":1}]
[0,24962678.760000002,0,"TAGF","TA Growth Fund","BrokerageFee_BF","TBI",null,"TBI","C",null,null,null,24962678.760000002,24507503.960000005,"CA",{"$f":"IFERROR(VLOOKUP(D:D,Mapping!B:C,2,0),D:D)","v":1}]
[0,24962678.760000002,0,"TAGF","TA Growth Fund","OthVal","TBI",null,"TBI","C",null,null,null,24962678.760000002,24507503.960000005,"CA",{"$f":"IFERROR(VLOOKUP(D:D,Mapping!B:C,2,0),D:D)","v":1}]
[3382.19,24962678.760000002,1.3548986599225057E-2,"TAGF","TA Growth Fund","OtherDbVal","TBI",null,"TBI","C",null,null,null,24962678.760000002,24507503.960000005,"CA",{"$f":"IFERROR(VLOOKUP(D:D,Mapping!B:C,2,0),D:D)","v":1}]
[-10040,24962678.760000002,-4.0220042474319768E-2,"TAGF","TA Growth Fund","OtherCrVal","TBI",null,"TBI","C",null,null,null,24962678.760000002,24507503.960000005,"CA",{"$f":"IFERROR(VLOOKUP(D:D,Mapping!B:C,2,0),D:D)","v":1}]
[0,24962678.760000002,0,"TAGF","TA Growth Fund","TaxProvVal","TBI",null,"TBI","C",null,null,null,24962678.760000002,24507503.960000005,"CA",{"$f":"IFERROR(VLOOKUP(D:D,Mapping!B:C,2,0),D:D)","v":1}]
[0,24962678.760000002,0,"TAGF","TA Growth Fund","DefTaxProvVal","TBI",null,"TBI","C",null,null,null,24962678.760000002,24507503.960000005,"CA",{"$f":"IFERROR(VLOOKUP(D:D,Mapping!B:C,2,0),D:D)","v":1}]
[0,24962678.760000002,0,"TAGF","TA Growth Fund","ProvDistVal","TBI",null,"TBI","C",null,null,null,24962678.760000002,24507503.960000005,"CA",{"$f":"IFERROR(VLOOKUP(D:D,Mapping!B:C,2,0),D:D)","v":1}]
[-29203.98,24962678.760000002,-0.11699056932462003,"TAGF","TA Growth Fund","MngFee_BF","TBI",null,"TBI","C",null,null,null,24962678.760000002,24507503.960000005,"CA",{"$f":"IFERROR(VLOOKUP(D:D,Mapping!B:C,2,0),D:D)","v":1}]
[298597,24962678.760000002,1.1961737074406833,"TAGF","TA Growth Fund","TradeDrVal","TBI",null,"TBI","C",null,null,null,24962678.760000002,24507503.960000005,"CA",{"$f":"IFERROR(VLOOKUP(D:D,Mapping!B:C,2,0),D:D)","v":1}]
[-639309.23,24962678.760000002,-2.5610601976916998,"TAGF","TA Growth Fund","TradeCrVal","TBI",null,"TBI","C",null,null,null,24962678.760000002,24507503.960000005,"CA",{"$f":"IFERROR(VLOOKUP(D:D,Mapping!B:C,2,0),D:D)","v":1}]
[3090.16,24962678.760000002,1.2379120164586054E-2,"TAGF","TA Growth Fund","MngDb","TBI",null,"TBI","C",null,null,null,24962678.760000002,24507503.960000005,"CA",{"$f":"IFERROR(VLOOKUP(D:D,Mapping!B:C,2,0),D:D)","v":1}]
[-7860.02,24962678.760000002,-3.1487085482968413E-2,"TAGF","TA Growth Fund","MngCr","TBI",null,"TBI","C",null,null,null,24962678.760000002,24507503.960000005,"CA",{"$f":"IFERROR(VLOOKUP(D:D,Mapping!B:C,2,0),D:D)","v":1}]
[35919.03,24962678.760000002,0.14389092751358226,"TAGF","TA Growth Fund","DivVal","TBI",null,"TBI","C",null,null,null,24962678.760000002,24507503.960000005,"CA",{"$f":"IFERROR(VLOOKUP(D:D,Mapping!B:C,2,0),D:D)","v":1}]
[0,24962678.760000002,0,"TAGF","TA Growth Fund","DivTaxRec","TBI",null,"TBI","C",null,null,null,24962678.760000002,24507503.960000005,"CA",{"$f":"IFERROR(VLOOKUP(D:D,Mapping!B:C,2,0),D:D)","v":1}]
[0,1624227.35,0,"TAGAAF","TA Global Asset Allocator Fund","CustodianFee_BF","TBI",null,"TBI","C",null,null,null,1624227.3499999999,1538605.82,"CA",{"$f":"IFERROR(VLOOKUP(D:D,Mapping!B:C,2,0),D:D)","v":11}]
[0,1624227.35,0,"TAGAAF","TA Global Asset Allocator Fund","BrokerageFee_BF","TBI",null,"TBI","C",null,null,null,1624227.3499999999,1538605.82,"CA",{"$f":"IFERROR(VLOOKUP(D:D,Mapping!B:C,2,0),D:D)","v":11}]
[0,1624227.35,0,"TAGAAF","TA Global Asset Allocator Fund","OthVal","TBI",null,"TBI","C",null,null,null,1624227.3499999999,1538605.82,"CA",{"$f":"IFERROR(VLOOKUP(D:D,Mapping!B:C,2,0),D:D)","v":11}]
[0,1624227.35,0,"TAGAAF","TA Global Asset Allocator Fund","TaxVal","TBI",null,"TBI","C",null,null,null,1624227.3499999999,1538605.82,"CA",{"$f":"IFERROR(VLOOKUP(D:D,Mapping!B:C,2,0),D:D)","v":11}]
[17403.310000000001,1624227.35,1.0714823882260081,"TAGAAF","TA Global Asset Allocator Fund","BankVal","TBI",null,"TBI","C",null,null,null,1624227.3499999999,1538605.82,"CA",{"$f":"IFERROR(VLOOKUP(D:D,Mapping!B:C,2,0),D:D)","v":11}]
[85315.39,1624227.35,5.2526753720776833,"TAGAAF","TA Global Asset Allocator Fund","BankVal-FX","TBI",null,"TBI","C",null,null,null,1624227.3499999999,1538605.82,"CA",{"$f":"IFERROR(VLOOKUP(D:D,Mapping!B:C,2,0),D:D)","v":11}]
[0,1624227.35,0,"TAGAAF","TA Global Asset Allocator Fund","DefTaxProvVal","TBI",null,"TBI","C",null,null,null,1624227.3499999999,1538605.82,"CA",{"$f":"IFERROR(VLOOKUP(D:D,Mapping!B:C,2,0),D:D)","v":11}]
[0,1624227.35,0,"TAGAAF","TA Global Asset Allocator Fund","ProvDistVal","TBI",null,"TBI","C",null,null,null,1624227.3499999999,1538605.82,"CA",{"$f":"IFERROR(VLOOKUP(D:D,Mapping!B:C,2,0),D:D)","v":11}]
[-2223.87,1624227.35,-0.13691864011525234,"TAGAAF","TA Global Asset Allocator Fund","MngFee_BF","TBI",null,"TBI","C",null,null,null,1624227.3499999999,1538605.82,"CA",{"$f":"IFERROR(VLOOKUP(D:D,Mapping!B:C,2,0),D:D)","v":11}]
[2.88,1624227.35,1.773150784586899E-4,"TAGAAF","TA Global Asset Allocator Fund","MngFeeRebate_BF","TBI",null,"TBI","C",null,null,null,1624227.3499999999,1538605.82,"CA",{"$f":"IFERROR(VLOOKUP(D:D,Mapping!B:C,2,0),D:D)","v":11}]
[-70.42,1624227.35,-4.3355999392572717E-3,"TAGAAF","TA Global Asset Allocator Fund","TrusteeFee_BF","TBI",null,"TBI","C",null,null,null,1624227.3499999999,1538605.82,"CA",{"$f":"IFERROR(VLOOKUP(D:D,Mapping!B:C,2,0),D:D)","v":11}]
[-6500,1624227.35,-0.40019028124357098,"TAGAAF","TA Global Asset Allocator Fund","AuditorFee_BF","TBI",null,"TBI","C",null,null,null,1624227.3499999999,1538605.82,"CA",{"$f":"IFERROR(VLOOKUP(D:D,Mapping!B:C,2,0),D:D)","v":11}]
[0,1624227.35,0,"TAGAAF","TA Global Asset Allocator Fund","MngCr","TBI",null,"TBI","C",null,null,null,1624227.3499999999,1538605.82,"CA",{"$f":"IFERROR(VLOOKUP(D:D,Mapping!B:C,2,0),D:D)","v":11}]
[0,1624227.35,0,"TAGAAF","TA Global Asset Allocator Fund","DivVal","TBI",null,"TBI","C",null,null,null,1624227.3499999999,1538605.82,"CA",{"$f":"IFERROR(VLOOKUP(D:D,Mapping!B:C,2,0),D:D)","v":11}]
[0,1624227.35,0,"TAGAAF","TA Global Asset Allocator Fund","DivTaxRec","TBI",null,"TBI","C",null,null,null,1624227.3499999999,1538605.82,"CA",{"$f":"IFERROR(VLOOKUP(D:D,Mapping!B:C,2,0),D:D)","v":11}]
[14.24,1624227.35,8.7672455460130006E-4,"TAGAAF","TA Global Asset Allocator Fund","OtherDbVal","TBI",null,"TBI","C",null,null,null,1624227.3499999999,1538605.82,"CA",{"$f":"IFERROR(VLOOKUP(D:D,Mapping!B:C,2,0),D:D)","v":11}]
[-8320,1624227.35,-0.51224355999177085,"TAGAAF","TA Global Asset Allocator Fund","OtherCrVal","TBI",null,"TBI","C",null,null,null,1624227.3499999999,1538605.82,"CA",{"$f":"IFERROR(VLOOKUP(D:D,Mapping!B:C,2,0),D:D)","v":11}]
[0,1624227.35,0,"TAGAAF","TA Global Asset Allocator Fund","TaxProvVal","TBI",null,"TBI","C",null,null,null,1624227.3499999999,1538605.82,"CA",{"$f":"IFERROR(VLOOKUP(D:D,Mapping!B:C,2,0),D:D)","v":11}]
[0,29722319.989999998,0,"TAEURO","TA European Equity Fund","TaxVal","TBI",null,"TBI","C",null,null,null,29722319.989999998,30211647.639999997,"CA",{"$f":"IFERROR(VLOOKUP(D:D,Mapping!B:C,2,0),D:D)","v":13}]
[1088803.05,29722319.989999998,3.6632505482961126,"TAEURO","TA European Equity Fund","BankVal","TBI",null,"TBI","C",null,null,null,29722319.989999998,30211647.639999997,"CA",{"$f":"IFERROR(VLOOKUP(D:D,Mapping!B:C,2,0),D:D)","v":13}]
[57688.72,29722319.989999998,0.19409225127583993,"TAEURO","TA European Equity Fund","BankVal-FX","TBI",null,"TBI","C",null,null,null,29722319.989999998,30211647.639999997,"CA",{"$f":"IFERROR(VLOOKUP(D:D,Mapping!B:C,2,0),D:D)","v":13}]
[0,1624227.35,0,"TAGAAF","TA Global Asset Allocator Fund","TradeDrVal","TBI",null,"TBI","C",null,null,null,1624227.3499999999,1538605.82,"CA",{"$f":"IFERROR(VLOOKUP(D:D,Mapping!B:C,2,0),D:D)","v":11}]
[0,1624227.35,0,"TAGAAF","TA Global Asset Allocator Fund","TradeCrVal","TBI",null,"TBI","C",null,null,null,1624227.3499999999,1538605.82,"CA",{"$f":"IFERROR(VLOOKUP(D:D,Mapping!B:C,2,0),D:D)","v":11}]
[0,1624227.35,0,"TAGAAF","TA Global Asset Allocator Fund","MngDb","TBI",null,"TBI","C",null,null,null,1624227.3499999999,1538605.82,"CA",{"$f":"IFERROR(VLOOKUP(D:D,Mapping!B:C,2,0),D:D)","v":11}]
[9814.69,29722319.989999998,3.3021278296250525E-2,"TAEURO","TA European Equity Fund","MngFeeRebate_BF","TBI",null,"TBI","C",null,null,null,29722319.989999998,30211647.639999997,"CA",{"$f":"IFERROR(VLOOKUP(D:D,Mapping!B:C,2,0),D:D)","v":13}]
[-1232.45,29722319.989999998,-4.1465471080812492E-3,"TAEURO","TA European Equity Fund","TrusteeFee_BF","TBI",null,"TBI","C",null,null,null,29722319.989999998,30211647.639999997,"CA",{"$f":"IFERROR(VLOOKUP(D:D,Mapping!B:C,2,0),D:D)","v":13}]
[-7000,29722319.989999998,-2.3551324399828589E-2,"TAEURO","TA European Equity Fund","AuditorFee_BF","TBI",null,"TBI","C",null,null,null,29722319.989999998,30211647.639999997,"CA",{"$f":"IFERROR(VLOOKUP(D:D,Mapping!B:C,2,0),D:D)","v":13}]
[0,29722319.989999998,0,"TAEURO","TA European Equity Fund","CustodianFee_BF","TBI",null,"TBI","C",null,null,null,29722319.989999998,30211647.639999997,"CA",{"$f":"IFERROR(VLOOKUP(D:D,Mapping!B:C,2,0),D:D)","v":13}]
[0,29722319.989999998,0,"TAEURO","TA European Equity Fund","BrokerageFee_BF","TBI",null,"TBI","C",null,null,null,29722319.989999998,30211647.639999997,"CA",{"$f":"IFERROR(VLOOKUP(D:D,Mapping!B:C,2,0),D:D)","v":13}]
[0,29722319.989999998,0,"TAEURO","TA European Equity Fund","OthVal","TBI",null,"TBI","C",null,null,null,29722319.989999998,30211647.639999997,"CA",{"$f":"IFERROR(VLOOKUP(D:D,Mapping!B:C,2,0),D:D)","v":13}]
[33086.22,29722319.989999998,0.1113177571977281,"TAEURO","TA European Equity Fund","OtherDbVal","TBI",null,"TBI","C",null,null,null,29722319.989999998,30211647.639999997,"CA",{"$f":"IFERROR(VLOOKUP(D:D,Mapping!B:C,2,0),D:D)","v":13}]
[-7710,29722319.989999998,-2.5940101588954059E-2,"TAEURO","TA European Equity Fund","OtherCrVal","TBI",null,"TBI","C",null,null,null,29722319.989999998,30211647.639999997,"CA",{"$f":"IFERROR(VLOOKUP(D:D,Mapping!B:C,2,0),D:D)","v":13}]
[0,29722319.989999998,0,"TAEURO","TA European Equity Fund","TaxProvVal","TBI",null,"TBI","C",null,null,null,29722319.989999998,30211647.639999997,"CA",{"$f":"IFERROR(VLOOKUP(D:D,Mapping!B:C,2,0),D:D)","v":13}]
[0,29722319.989999998,0,"TAEURO","TA European Equity Fund","DefTaxProvVal","TBI",null,"TBI","C",null,null,null,29722319.989999998,30211647.639999997,"CA",{"$f":"IFERROR(VLOOKUP(D:D,Mapping!B:C,2,0),D:D)","v":13}]
[0,29722319.989999998,0,"TAEURO","TA European Equity Fund","ProvDistVal","TBI",null,"TBI","C",null,null,null,29722319.989999998,30211647.639999997,"CA",{"$f":"IFERROR(VLOOKUP(D:D,Mapping!B:C,2,0),D:D)","v":13}]
[-40334.51,29722319.989999998,-0.1357044470740186,"TAEURO","TA European Equity Fund","MngFee_BF","TBI",null,"TBI","C",null,null,null,29722319.989999998,30211647.639999997,"CA",{"$f":"IFERROR(VLOOKUP(D:D,Mapping!B:C,2,0),D:D)","v":13}]
[0,29722319.989999998,0,"TAEURO","TA European Equity Fund","TradeDrVal","TBI",null,"TBI","C",null,null,null,29722319.989999998,30211647.639999997,"CA",{"$f":"IFERROR(VLOOKUP(D:D,Mapping!B:C,2,0),D:D)","v":13}]
[0,29722319.989999998,0,"TAEURO","TA European Equity Fund","TradeCrVal","TBI",null,"TBI","C",null,null,null,29722319.989999998,30211647.639999997,"CA",{"$f":"IFERROR(VLOOKUP(D:D,Mapping!B:C,2,0),D:D)","v":13}]
[363989.86,29722319.989999998,1.224634753015456,"TAEURO","TA European Equity Fund","MngDb","TBI",null,"TBI","C",null,null,null,29722319.989999998,30211647.639999997,"CA",{"$f":"IFERROR(VLOOKUP(D:D,Mapping!B:C,2,0),D:D)","v":13}]
[-1986433.23,29722319.989999998,-6.6833047711899027,"TAEURO","TA European Equity Fund","MngCr","TBI",null,"TBI","C",null,null,null,29722319.989999998,30211647.639999997,"CA",{"$f":"IFERROR(VLOOKUP(D:D,Mapping!B:C,2,0),D:D)","v":13}]
[0,29722319.989999998,0,"TAEURO","TA European Equity Fund","DivVal","TBI",null,"TBI","C",null,null,null,29722319.989999998,30211647.639999997,"CA",{"$f":"IFERROR(VLOOKUP(D:D,Mapping!B:C,2,0),D:D)","v":13}]
[0,29722319.989999998,0,"TAEURO","TA European Equity Fund","DivTaxRec","TBI",null,"TBI","C",null,null,null,29722319.989999998,30211647.639999997,"CA",{"$f":"IFERROR(VLOOKUP(D:D,Mapping!B:C,2,0),D:D)","v":13}]
[0,26198127.359999999,0,"TADO","TA Dana Optimix","CustodianFee_BF","TBI",null,"TBI","S",null,null,null,26198127.359999999,24631490.600000001,"CA",{"$f":"IFERROR(VLOOKUP(D:D,Mapping!B:C,2,0),D:D)","v":7}]
[0,26198127.359999999,0,"TADO","TA Dana Optimix","BrokerageFee_BF","TBI",null,"TBI","S",null,null,null,26198127.359999999,24631490.600000001,"CA",{"$f":"IFERROR(VLOOKUP(D:D,Mapping!B:C,2,0),D:D)","v":7}]
[0,26198127.359999999,0,"TADO","TA Dana Optimix","OthVal","TBI",null,"TBI","S",null,null,null,26198127.359999999,24631490.600000001,"CA",{"$f":"IFERROR(VLOOKUP(D:D,Mapping!B:C,2,0),D:D)","v":7}]
[0,26198127.359999999,0,"TADO","TA Dana Optimix","TaxVal","TBI",null,"TBI","S",null,null,null,26198127.359999999,24631490.600000001,"CA",{"$f":"IFERROR(VLOOKUP(D:D,Mapping!B:C,2,0),D:D)","v":7}]
[460806.51,26198127.359999999,1.7589291924107968,"TADO","TA Dana Optimix","BankVal","TBI",null,"TBI","S",null,null,null,26198127.359999999,24631490.600000001,"CA",{"$f":"IFERROR(VLOOKUP(D:D,Mapping!B:C,2,0),D:D)","v":7}]
[851356.45,26198127.359999999,3.2496843698068045,"TADO","TA Dana Optimix","BankVal-FX","TBI",null,"TBI","S",null,null,null,26198127.359999999,24631490.600000001,"CA",{"$f":"IFERROR(VLOOKUP(D:D,Mapping!B:C,2,0),D:D)","v":7}]
[0,26198127.359999999,0,"TADO","TA Dana Optimix","DefTaxProvVal","TBI",null,"TBI","S",null,null,null,26198127.359999999,24631490.600000001,"CA",{"$f":"IFERROR(VLOOKUP(D:D,Mapping!B:C,2,0),D:D)","v":7}]
[0,26198127.359999999,0,"TADO","TA Dana Optimix","ProvDistVal","TBI",null,"TBI","S",null,null,null,26198127.359999999,24631490.600000001,"CA",{"$f":"IFERROR(VLOOKUP(D:D,Mapping!B:C,2,0),D:D)","v":7}]
[-28812,26198127.359999999,-0.10997732625726116,"TADO","TA Dana Optimix","MngFee_BF","TBI",null,"TBI","S",null,null,null,26198127.359999999,24631490.600000001,"CA",{"$f":"IFERROR(VLOOKUP(D:D,Mapping!B:C,2,0),D:D)","v":7}]
[0,26198127.359999999,0,"TADO","TA Dana Optimix","MngFeeRebate_BF","TBI",null,"TBI","S",null,null,null,26198127.359999999,24631490.600000001,"CA",{"$f":"IFERROR(VLOOKUP(D:D,Mapping!B:C,2,0),D:D)","v":7}]
[-1056.45,26198127.359999999,-4.0325401334334147E-3,"TADO","TA Dana Optimix","TrusteeFee_BF","TBI",null,"TBI","S",null,null,null,26198127.359999999,24631490.600000001,"CA",{"$f":"IFERROR(VLOOKUP(D:D,Mapping!B:C,2,0),D:D)","v":7}]
[-1125,26198127.359999999,-4.2942000569005552E-3,"TADO","TA Dana Optimix","AuditorFee_BF","TBI",null,"TBI","S",null,null,null,26198127.359999999,24631490.600000001,"CA",{"$f":"IFERROR(VLOOKUP(D:D,Mapping!B:C,2,0),D:D)","v":7}]
[-80252.73,26198127.359999999,-0.30633002465104436,"TADO","TA Dana Optimix","MngCr","TBI",null,"TBI","S",null,null,null,26198127.359999999,24631490.600000001,"CA",{"$f":"IFERROR(VLOOKUP(D:D,Mapping!B:C,2,0),D:D)","v":7}]
[10196,26198127.359999999,3.8918812249029391E-2,"TADO","TA Dana Optimix","DivVal","TBI",null,"TBI","S",null,null,null,26198127.359999999,24631490.600000001,"CA",{"$f":"IFERROR(VLOOKUP(D:D,Mapping!B:C,2,0),D:D)","v":7}]
[0,26198127.359999999,0,"TADO","TA Dana Optimix","DivTaxRec","TBI",null,"TBI","S",null,null,null,26198127.359999999,24631490.600000001,"CA",{"$f":"IFERROR(VLOOKUP(D:D,Mapping!B:C,2,0),D:D)","v":7}]
[0,26198127.359999999,0,"TADO","TA Dana Optimix","OtherDbVal","TBI",null,"TBI","S",null,null,null,26198127.359999999,24631490.600000001,"CA",{"$f":"IFERROR(VLOOKUP(D:D,Mapping!B:C,2,0),D:D)","v":7}]
[-8669.2900000000009,26198127.359999999,-3.3091258321144373E-2,"TADO","TA Dana Optimix","OtherCrVal","TBI",null,"TBI","S",null,null,null,26198127.359999999,24631490.600000001,"CA",{"$f":"IFERROR(VLOOKUP(D:D,Mapping!B:C,2,0),D:D)","v":7}]
[0,26198127.359999999,0,"TADO","TA Dana Optimix","TaxProvVal","TBI",null,"TBI","S",null,null,null,26198127.359999999,24631490.600000001,"CA",{"$f":"IFERROR(VLOOKUP(D:D,Mapping!B:C,2,0),D:D)","v":7}]
[0,9917375.8399999999,0,"TADF","TA Dana Fokus","TaxVal","TBI",null,"TBI","S",null,null,null,9917375.8399999999,9921584.2899999991,"CA",{"$f":"IFERROR(VLOOKUP(D:D,Mapping!B:C,2,0),D:D)","v":15}]
[51001.41,9917375.8399999999,0.5142631561294142,"TADF","TA Dana Fokus","BankVal","TBI",null,"TBI","S",null,null,null,9917375.8399999999,9921584.2899999991,"CA",{"$f":"IFERROR(VLOOKUP(D:D,Mapping!B:C,2,0),D:D)","v":15}]
[0,9917375.8399999999,0,"TADF","TA Dana Fokus","BankVal-FX","TBI",null,"TBI","S",null,null,null,9917375.8399999999,9921584.2899999991,"CA",{"$f":"IFERROR(VLOOKUP(D:D,Mapping!B:C,2,0),D:D)","v":15}]
[337824.62,26198127.359999999,1.2894991132679188,"TADO","TA Dana Optimix","TradeDrVal","TBI",null,"TBI","S",null,null,null,26198127.359999999,24631490.600000001,"CA",{"$f":"IFERROR(VLOOKUP(D:D,Mapping!B:C,2,0),D:D)","v":7}]
[-400120.69,26198127.359999999,-1.5272873686800796,"TADO","TA Dana Optimix","TradeCrVal","TBI",null,"TBI","S",null,null,null,26198127.359999999,24631490.600000001,"CA",{"$f":"IFERROR(VLOOKUP(D:D,Mapping!B:C,2,0),D:D)","v":7}]
[426489.34,26198127.359999999,1.6279382649737604,"TADO","TA Dana Optimix","MngDb","TBI",null,"TBI","S",null,null,null,26198127.359999999,24631490.600000001,"CA",{"$f":"IFERROR(VLOOKUP(D:D,Mapping!B:C,2,0),D:D)","v":7}]
[0,9917375.8399999999,0,"TADF","TA Dana Fokus","MngFeeRebate_BF","TBI",null,"TBI","S",null,null,null,9917375.8399999999,9921584.2899999991,"CA",{"$f":"IFERROR(VLOOKUP(D:D,Mapping!B:C,2,0),D:D)","v":15}]
[-402.65,9917375.8399999999,-4.0600457872735016E-3,"TADF","TA Dana Fokus","TrusteeFee_BF","TBI",null,"TBI","S",null,null,null,9917375.8399999999,9921584.2899999991,"CA",{"$f":"IFERROR(VLOOKUP(D:D,Mapping!B:C,2,0),D:D)","v":15}]
[-9040,9917375.8399999999,-9.1153145205395386E-2,"TADF","TA Dana Fokus","AuditorFee_BF","TBI",null,"TBI","S",null,null,null,9917375.8399999999,9921584.2899999991,"CA",{"$f":"IFERROR(VLOOKUP(D:D,Mapping!B:C,2,0),D:D)","v":15}]
[0,9917375.8399999999,0,"TADF","TA Dana Fokus","CustodianFee_BF","TBI",null,"TBI","S",null,null,null,9917375.8399999999,9921584.2899999991,"CA",{"$f":"IFERROR(VLOOKUP(D:D,Mapping!B:C,2,0),D:D)","v":15}]
[0,9917375.8399999999,0,"TADF","TA Dana Fokus","BrokerageFee_BF","TBI",null,"TBI","S",null,null,null,9917375.8399999999,9921584.2899999991,"CA",{"$f":"IFERROR(VLOOKUP(D:D,Mapping!B:C,2,0),D:D)","v":15}]
[0,9917375.8399999999,0,"TADF","TA Dana Fokus","OthVal","TBI",null,"TBI","S",null,null,null,9917375.8399999999,9921584.2899999991,"CA",{"$f":"IFERROR(VLOOKUP(D:D,Mapping!B:C,2,0),D:D)","v":15}]
[0,9917375.8399999999,0,"TADF","TA Dana Fokus","OtherDbVal","TBI",null,"TBI","S",null,null,null,9917375.8399999999,9921584.2899999991,"CA",{"$f":"IFERROR(VLOOKUP(D:D,Mapping!B:C,2,0),D:D)","v":15}]
[-10580,9917375.8399999999,-0.1066814464903853,"TADF","TA Dana Fokus","OtherCrVal","TBI",null,"TBI","S",null,null,null,9917375.8399999999,9921584.2899999991,"CA",{"$f":"IFERROR(VLOOKUP(D:D,Mapping!B:C,2,0),D:D)","v":15}]
[0,9917375.8399999999,0,"TADF","TA Dana Fokus","TaxProvVal","TBI",null,"TBI","S",null,null,null,9917375.8399999999,9921584.2899999991,"CA",{"$f":"IFERROR(VLOOKUP(D:D,Mapping!B:C,2,0),D:D)","v":15}]
[0,9917375.8399999999,0,"TADF","TA Dana Fokus","DefTaxProvVal","TBI",null,"TBI","S",null,null,null,9917375.8399999999,9921584.2899999991,"CA",{"$f":"IFERROR(VLOOKUP(D:D,Mapping!B:C,2,0),D:D)","v":15}]
[0,9917375.8399999999,0,"TADF","TA Dana Fokus","ProvDistVal","TBI",null,"TBI","S",null,null,null,9917375.8399999999,9921584.2899999991,"CA",{"$f":"IFERROR(VLOOKUP(D:D,Mapping!B:C,2,0),D:D)","v":15}]
[-10981.25,9917375.8399999999,-0.110727375640127,"TADF","TA Dana Fokus","MngFee_BF","TBI",null,"TBI","S",null,null,null,9917375.8399999999,9921584.2899999991,"CA",{"$f":"IFERROR(VLOOKUP(D:D,Mapping!B:C,2,0),D:D)","v":15}]
[137241.25,9917375.8399999999,1.3838464147588461,"TADF","TA Dana Fokus","TradeDrVal","TBI",null,"TBI","S",null,null,null,9917375.8399999999,9921584.2899999991,"CA",{"$f":"IFERROR(VLOOKUP(D:D,Mapping!B:C,2,0),D:D)","v":15}]
[-135676.35,9917375.8399999999,-1.3680670389920404,"TADF","TA Dana Fokus","TradeCrVal","TBI",null,"TBI","S",null,null,null,9917375.8399999999,9921584.2899999991,"CA",{"$f":"IFERROR(VLOOKUP(D:D,Mapping!B:C,2,0),D:D)","v":15}]
[0,9917375.8399999999,0,"TADF","TA Dana Fokus","MngDb","TBI",null,"TBI","S",null,null,null,9917375.8399999999,9921584.2899999991,"CA",{"$f":"IFERROR(VLOOKUP(D:D,Mapping!B:C,2,0),D:D)","v":15}]
[-35823.360000000001,9917375.8399999999,-0.36121813449393281,"TADF","TA Dana Fokus","MngCr","TBI",null,"TBI","S",null,null,null,9917375.8399999999,9921584.2899999991,"CA",{"$f":"IFERROR(VLOOKUP(D:D,Mapping!B:C,2,0),D:D)","v":15}]
[10052.5,9917375.8399999999,0.10136249913465012,"TADF","TA Dana Fokus","DivVal","TBI",null,"TBI","S",null,null,null,9917375.8399999999,9921584.2899999991,"CA",{"$f":"IFERROR(VLOOKUP(D:D,Mapping!B:C,2,0),D:D)","v":15}]
[0,9917375.8399999999,0,"TADF","TA Dana Fokus","DivTaxRec","TBI",null,"TBI","S",null,null,null,9917375.8399999999,9921584.2899999991,"CA",{"$f":"IFERROR(VLOOKUP(D:D,Mapping!B:C,2,0),D:D)","v":15}]
[0,15990892.609999999,0,"TACF","TA Comet Fund","CustodianFee_BF","TBI",null,"TBI","C",null,null,null,15990892.610000003,15243375.109999998,"CA",{"$f":"IFERROR(VLOOKUP(D:D,Mapping!B:C,2,0),D:D)","v":2}]
[0,15990892.609999999,0,"TACF","TA Comet Fund","BrokerageFee_BF","TBI",null,"TBI","C",null,null,null,15990892.610000003,15243375.109999998,"CA",{"$f":"IFERROR(VLOOKUP(D:D,Mapping!B:C,2,0),D:D)","v":2}]
[0,15990892.609999999,0,"TACF","TA Comet Fund","OthVal","TBI",null,"TBI","C",null,null,null,15990892.610000003,15243375.109999998,"CA",{"$f":"IFERROR(VLOOKUP(D:D,Mapping!B:C,2,0),D:D)","v":2}]
[0,15990892.609999999,0,"TACF","TA Comet Fund","TaxVal","TBI",null,"TBI","C",null,null,null,15990892.610000003,15243375.109999998,"CA",{"$f":"IFERROR(VLOOKUP(D:D,Mapping!B:C,2,0),D:D)","v":2}]
[52458.13,15990892.609999999,0.32805004247977376,"TACF","TA Comet Fund","BankVal","TBI",null,"TBI","C",null,null,null,15990892.610000003,15243375.109999998,"CA",{"$f":"IFERROR(VLOOKUP(D:D,Mapping!B:C,2,0),D:D)","v":2}]
[528319.49000000011,15990892.609999999,3.3038774187603033,"TACF","TA Comet Fund","BankVal-FX","TBI",null,"TBI","C",null,null,null,15990892.610000003,15243375.109999998,"CA",{"$f":"IFERROR(VLOOKUP(D:D,Mapping!B:C,2,0),D:D)","v":2}]
[0,15990892.609999999,0,"TACF","TA Comet Fund","DefTaxProvVal","TBI",null,"TBI","C",null,null,null,15990892.610000003,15243375.109999998,"CA",{"$f":"IFERROR(VLOOKUP(D:D,Mapping!B:C,2,0),D:D)","v":2}]
[0,15990892.609999999,0,"TACF","TA Comet Fund","ProvDistVal","TBI",null,"TBI","C",null,null,null,15990892.610000003,15243375.109999998,"CA",{"$f":"IFERROR(VLOOKUP(D:D,Mapping!B:C,2,0),D:D)","v":2}]
[-18380.240000000002,15990892.609999999,-0.11494192630939069,"TACF","TA Comet Fund","MngFee_BF","TBI",null,"TBI","C",null,null,null,15990892.610000003,15243375.109999998,"CA",{"$f":"IFERROR(VLOOKUP(D:D,Mapping!B:C,2,0),D:D)","v":2}]
[322.8,15990892.609999999,2.0186490390044589E-3,"TACF","TA Comet Fund","MngFeeRebate_BF","TBI",null,"TBI","C",null,null,null,15990892.610000003,15243375.109999998,"CA",{"$f":"IFERROR(VLOOKUP(D:D,Mapping!B:C,2,0),D:D)","v":2}]
[-673.94,15990892.609999999,-4.214523957083844E-3,"TACF","TA Comet Fund","TrusteeFee_BF","TBI",null,"TBI","C",null,null,null,15990892.610000003,15243375.109999998,"CA",{"$f":"IFERROR(VLOOKUP(D:D,Mapping!B:C,2,0),D:D)","v":2}]
[-7700,15990892.609999999,-4.8152408922968813E-2,"TACF","TA Comet Fund","AuditorFee_BF","TBI",null,"TBI","C",null,null,null,15990892.610000003,15243375.109999998,"CA",{"$f":"IFERROR(VLOOKUP(D:D,Mapping!B:C,2,0),D:D)","v":2}]
[-42598.1,15990892.609999999,-0.26638975721318414,"TACF","TA Comet Fund","MngCr","TBI",null,"TBI","C",null,null,null,15990892.610000003,15243375.109999998,"CA",{"$f":"IFERROR(VLOOKUP(D:D,Mapping!B:C,2,0),D:D)","v":2}]
[15387.49,15990892.609999999,9.6226585815336801E-2,"TACF","TA Comet Fund","DivVal","TBI",null,"TBI","C",null,null,null,15990892.610000003,15243375.109999998,"CA",{"$f":"IFERROR(VLOOKUP(D:D,Mapping!B:C,2,0),D:D)","v":2}]
[0,15990892.609999999,0,"TACF","TA Comet Fund","DivTaxRec","TBI",null,"TBI","C",null,null,null,15990892.610000003,15243375.109999998,"CA",{"$f":"IFERROR(VLOOKUP(D:D,Mapping!B:C,2,0),D:D)","v":2}]
[21289.65,15990892.609999999,0.13313609514634844,"TACF","TA Comet Fund","OtherDbVal","TBI",null,"TBI","C",null,null,null,15990892.610000003,15243375.109999998,"CA",{"$f":"IFERROR(VLOOKUP(D:D,Mapping!B:C,2,0),D:D)","v":2}]
[-5970,15990892.609999999,-3.7333750814301792E-2,"TACF","TA Comet Fund","OtherCrVal","TBI",null,"TBI","C",null,null,null,15990892.610000003,15243375.109999998,"CA",{"$f":"IFERROR(VLOOKUP(D:D,Mapping!B:C,2,0),D:D)","v":2}]
[0,15990892.609999999,0,"TACF","TA Comet Fund","TaxProvVal","TBI",null,"TBI","C",null,null,null,15990892.610000003,15243375.109999998,"CA",{"$f":"IFERROR(VLOOKUP(D:D,Mapping!B:C,2,0),D:D)","v":2}]
[0,51665977,0,"TADIF","TA Asian Dividend Income Fund","TaxVal","TBI",null,"TBI","C",null,null,null,51665977,50574895.890000001,"CA",{"$f":"IFERROR(VLOOKUP(D:D,Mapping!B:C,2,0),D:D)","v":14}]
[84707.83,51665977,0.16395282721548071,"TADIF","TA Asian Dividend Income Fund","BankVal","TBI",null,"TBI","C",null,null,null,51665977,50574895.890000001,"CA",{"$f":"IFERROR(VLOOKUP(D:D,Mapping!B:C,2,0),D:D)","v":14}]
[1925377.84,51665977,3.7265874987711931,"TADIF","TA Asian Dividend Income Fund","BankVal-FX","TBI",null,"TBI","C",null,null,null,51665977,50574895.890000001,"CA",{"$f":"IFERROR(VLOOKUP(D:D,Mapping!B:C,2,0),D:D)","v":14}]
[152199.22,15990892.609999999,0.95178689340219391,"TACF","TA Comet Fund","TradeDrVal","TBI",null,"TBI","C",null,null,null,15990892.610000003,15243375.109999998,"CA",{"$f":"IFERROR(VLOOKUP(D:D,Mapping!B:C,2,0),D:D)","v":2}]
[0,15990892.609999999,0,"TACF","TA Comet Fund","TradeCrVal","TBI",null,"TBI","C",null,null,null,15990892.610000003,15243375.109999998,"CA",{"$f":"IFERROR(VLOOKUP(D:D,Mapping!B:C,2,0),D:D)","v":2}]
[52863,15990892.609999999,0.33058192115518187,"TACF","TA Comet Fund","MngDb","TBI",null,"TBI","C",null,null,null,15990892.610000003,15243375.109999998,"CA",{"$f":"IFERROR(VLOOKUP(D:D,Mapping!B:C,2,0),D:D)","v":2}]
[17289.78,51665977,3.3464537020174802E-2,"TADIF","TA Asian Dividend Income Fund","MngFeeRebate_BF","TBI",null,"TBI","C",null,null,null,51665977,50574895.890000001,"CA",{"$f":"IFERROR(VLOOKUP(D:D,Mapping!B:C,2,0),D:D)","v":14}]
[-2280.31,51665977,-4.4135621397423689E-3,"TADIF","TA Asian Dividend Income Fund","TrusteeFee_BF","TBI",null,"TBI","C",null,null,null,51665977,50574895.890000001,"CA",{"$f":"IFERROR(VLOOKUP(D:D,Mapping!B:C,2,0),D:D)","v":14}]
[-7000,51665977,-1.3548567948303775E-2,"TADIF","TA Asian Dividend Income Fund","AuditorFee_BF","TBI",null,"TBI","C",null,null,null,51665977,50574895.890000001,"CA",{"$f":"IFERROR(VLOOKUP(D:D,Mapping!B:C,2,0),D:D)","v":14}]
[0,51665977,0,"TADIF","TA Asian Dividend Income Fund","CustodianFee_BF","TBI",null,"TBI","C",null,null,null,51665977,50574895.890000001,"CA",{"$f":"IFERROR(VLOOKUP(D:D,Mapping!B:C,2,0),D:D)","v":14}]
[0,51665977,0,"TADIF","TA Asian Dividend Income Fund","BrokerageFee_BF","TBI",null,"TBI","C",null,null,null,51665977,50574895.890000001,"CA",{"$f":"IFERROR(VLOOKUP(D:D,Mapping!B:C,2,0),D:D)","v":14}]
[0,51665977,0,"TADIF","TA Asian Dividend Income Fund","OthVal","TBI",null,"TBI","C",null,null,null,51665977,50574895.890000001,"CA",{"$f":"IFERROR(VLOOKUP(D:D,Mapping!B:C,2,0),D:D)","v":14}]
[64356.87,51665977,0.1245633465907361,"TADIF","TA Asian Dividend Income Fund","OtherDbVal","TBI",null,"TBI","C",null,null,null,51665977,50574895.890000001,"CA",{"$f":"IFERROR(VLOOKUP(D:D,Mapping!B:C,2,0),D:D)","v":14}]
[-8840,51665977,-1.7109905809000767E-2,"TADIF","TA Asian Dividend Income Fund","OtherCrVal","TBI",null,"TBI","C",null,null,null,51665977,50574895.890000001,"CA",{"$f":"IFERROR(VLOOKUP(D:D,Mapping!B:C,2,0),D:D)","v":14}]
[0,51665977,0,"TADIF","TA Asian Dividend Income Fund","TaxProvVal","TBI",null,"TBI","C",null,null,null,51665977,50574895.890000001,"CA",{"$f":"IFERROR(VLOOKUP(D:D,Mapping!B:C,2,0),D:D)","v":14}]
[0,51665977,0,"TADIF","TA Asian Dividend Income Fund","DefTaxProvVal","TBI",null,"TBI","C",null,null,null,51665977,50574895.890000001,"CA",{"$f":"IFERROR(VLOOKUP(D:D,Mapping!B:C,2,0),D:D)","v":14}]
[0,51665977,0,"TADIF","TA Asian Dividend Income Fund","ProvDistVal","TBI",null,"TBI","C",null,null,null,51665977,50574895.890000001,"CA",{"$f":"IFERROR(VLOOKUP(D:D,Mapping!B:C,2,0),D:D)","v":14}]
[-74628.62,51665977,-0.14444441842259173,"TADIF","TA Asian Dividend Income Fund","MngFee_BF","TBI",null,"TBI","C",null,null,null,51665977,50574895.890000001,"CA",{"$f":"IFERROR(VLOOKUP(D:D,Mapping!B:C,2,0),D:D)","v":14}]

{"sheet":"Mapping","index":13,"n_rows":16,"n_cols":3,"rows_kept":16,"cut":false,"hidden":true,"merged":[]}
["FUND NAME","FUNDCODE","MAP FUNDCODE"]
["TA Comet Fund","TACF",2]
["TA Dana Fokus","TADF",15]
["TA Dana OptiMix","TADO",7]
["TA High Growth Fund","TAHGF",6]
["TA Islamic Fund","TAIF",3]
["TA Small Cap Fund","TASF",5]
["TA Growth Fund","TAGF",1]
["TA Income Fund","TIF",4]
["TA CashPLUS Fund","TACP",8]
["TA Islamic CashPLUS Fund","TAICP",9]
["TA Asia Pacific Islamic Balanced Fund","TAIB",12]
["TA Global Asset Allocator Fund","TAGAAF",11]
["TA European Equity Fund","TAEURO",13]
["TA Asian Dividend Income Fund","TADIF",14]
["TA Total Return Fixed Income Fund","TRFIF",28]

{"sheet":"DataUTMC8","index":14,"n_rows":42,"n_cols":6,"rows_kept":42,"cut":false,"hidden":true,"merged":[]}
["FundPrefixMap","ListedCountry","qCountryID","amount","total","MapFundCode"]
["TACF","AU","AU",257924.90000000002,null,{"$f":"IFERROR(VLOOKUP(A:A,Mapping!B:C,2,0),A:A)","v":2}]
["TACF","HK","HK",1072094.57,null,{"$f":"IFERROR(VLOOKUP(A:A,Mapping!B:C,2,0),A:A)","v":2}]
["TACF","MY","MY",13716310.24,null,{"$f":"IFERROR(VLOOKUP(A:A,Mapping!B:C,2,0),A:A)","v":2}]
["TACF","SG","SG",503306.7,null,{"$f":"IFERROR(VLOOKUP(A:A,Mapping!B:C,2,0),A:A)","v":2}]
["TACF","TH","TH",441256.2,null,{"$f":"IFERROR(VLOOKUP(A:A,Mapping!B:C,2,0),A:A)","v":2}]
["TADF","MY","MY",9917375.8399999999,null,{"$f":"IFERROR(VLOOKUP(A:A,Mapping!B:C,2,0),A:A)","v":15}]
["TADIF","LU","LU",50574895.890000001,null,{"$f":"IFERROR(VLOOKUP(A:A,Mapping!B:C,2,0),A:A)","v":14}]
["TADIF","MY","MY",1091081.1099999999,null,{"$f":"IFERROR(VLOOKUP(A:A,Mapping!B:C,2,0),A:A)","v":14}]
["TADO","AU","AU",609045.06000000006,null,{"$f":"IFERROR(VLOOKUP(A:A,Mapping!B:C,2,0),A:A)","v":7}]
["TADO","HK","HK",505840.78,null,{"$f":"IFERROR(VLOOKUP(A:A,Mapping!B:C,2,0),A:A)","v":7}]
["TADO","MY","MY",25083241.520000003,null,{"$f":"IFERROR(VLOOKUP(A:A,Mapping!B:C,2,0),A:A)","v":7}]
["TAEURO","LU","LU",28466385.759999998,null,{"$f":"IFERROR(VLOOKUP(A:A,Mapping!B:C,2,0),A:A)","v":13}]
["TAEURO","MY","MY",1255934.2299999997,null,{"$f":"IFERROR(VLOOKUP(A:A,Mapping!B:C,2,0),A:A)","v":13}]
["TAGAAF","CH","CH",69666.259999999995,null,{"$f":"IFERROR(VLOOKUP(A:A,Mapping!B:C,2,0),A:A)","v":11}]
["TAGAAF","GB","GB",1324745.74,null,{"$f":"IFERROR(VLOOKUP(A:A,Mapping!B:C,2,0),A:A)","v":11}]
["TAGAAF","MY","MY",85621.53,null,{"$f":"IFERROR(VLOOKUP(A:A,Mapping!B:C,2,0),A:A)","v":11}]
["TAGAAF","SG","SG",773.89,null,{"$f":"IFERROR(VLOOKUP(A:A,Mapping!B:C,2,0),A:A)","v":11}]
["TAGAAF","US","US",143419.93,null,{"$f":"IFERROR(VLOOKUP(A:A,Mapping!B:C,2,0),A:A)","v":11}]
["TAGF","AU","AU",1537556.67,null,{"$f":"IFERROR(VLOOKUP(A:A,Mapping!B:C,2,0),A:A)","v":1}]
["TAGF","HK","HK",1726991.3399999999,null,{"$f":"IFERROR(VLOOKUP(A:A,Mapping!B:C,2,0),A:A)","v":1}]
["TAGF","MY","MY",20059998.830000002,null,{"$f":"IFERROR(VLOOKUP(A:A,Mapping!B:C,2,0),A:A)","v":1}]
["TAGF","SG","SG",902704.92,null,{"$f":"IFERROR(VLOOKUP(A:A,Mapping!B:C,2,0),A:A)","v":1}]
["TAGF","TH","TH",735427,null,{"$f":"IFERROR(VLOOKUP(A:A,Mapping!B:C,2,0),A:A)","v":1}]
["TAIB","AU","AU",666625.28000000003,null,{"$f":"IFERROR(VLOOKUP(A:A,Mapping!B:C,2,0),A:A)","v":12}]
["TAIB","HK","HK",2061712.06,null,{"$f":"IFERROR(VLOOKUP(A:A,Mapping!B:C,2,0),A:A)","v":12}]
["TAIB","JP","JP",2282022.6599999997,null,{"$f":"IFERROR(VLOOKUP(A:A,Mapping!B:C,2,0),A:A)","v":12}]
["TAIB","MY","MY",4098982.4299999997,null,{"$f":"IFERROR(VLOOKUP(A:A,Mapping!B:C,2,0),A:A)","v":12}]
["TAIB","US","TW",937640.82,null,{"$f":"IFERROR(VLOOKUP(A:A,Mapping!B:C,2,0),A:A)","v":12}]
["TAICP","MY","MY",20296295.999999996,null,{"$f":"IFERROR(VLOOKUP(A:A,Mapping!B:C,2,0),A:A)","v":9}]
["TAIF","AU","AU",992709.9,null,{"$f":"IFERROR(VLOOKUP(A:A,Mapping!B:C,2,0),A:A)","v":3}]
["TAIF","HK","HK",1100947.58,null,{"$f":"IFERROR(VLOOKUP(A:A,Mapping!B:C,2,0),A:A)","v":3}]
["TAIF","MY","MY",53842094.110000007,null,{"$f":"IFERROR(VLOOKUP(A:A,Mapping!B:C,2,0),A:A)","v":3}]
["TASF","AU","AU",184131.68,null,{"$f":"IFERROR(VLOOKUP(A:A,Mapping!B:C,2,0),A:A)","v":5}]
["TASF","HK","HK",491621.06,null,{"$f":"IFERROR(VLOOKUP(A:A,Mapping!B:C,2,0),A:A)","v":5}]
["TASF","ID","ID",57420.36,null,{"$f":"IFERROR(VLOOKUP(A:A,Mapping!B:C,2,0),A:A)","v":5}]
["TASF","MY","MY",5301818.0699999994,null,{"$f":"IFERROR(VLOOKUP(A:A,Mapping!B:C,2,0),A:A)","v":5}]
["TASF","TH","TH",306706.49,null,{"$f":"IFERROR(VLOOKUP(A:A,Mapping!B:C,2,0),A:A)","v":5}]
["TIF","HK","HK",236947.04,null,{"$f":"IFERROR(VLOOKUP(A:A,Mapping!B:C,2,0),A:A)","v":4}]
["TIF","MY","MY",4206610.8,null,{"$f":"IFERROR(VLOOKUP(A:A,Mapping!B:C,2,0),A:A)","v":4}]
["TRFIF","IE","IE",1161707.97,null,{"$f":"IFERROR(VLOOKUP(A:A,Mapping!B:C,2,0),A:A)","v":28}]
["TRFIF","MY","MY",11225.39,null,{"$f":"IFERROR(VLOOKUP(A:A,Mapping!B:C,2,0),A:A)","v":28}]

{"sheet":"DataUTMC9","index":15,"n_rows":58,"n_cols":5,"rows_kept":58,"cut":false,"hidden":true,"merged":[]}
["FundPrefixMap","qCurrencyCode","amount","total","MapFundCode"]
["TACF","AUD",441372.87083600007,null,{"$f":"IFERROR(VLOOKUP(A:A,Mapping!B:C,2,0),A:A)","v":2}]
["TACF","GBP",1074.1448519999994,null,{"$f":"IFERROR(VLOOKUP(A:A,Mapping!B:C,2,0),A:A)","v":2}]
["TACF","HKD",1382108.7598230001,null,{"$f":"IFERROR(VLOOKUP(A:A,Mapping!B:C,2,0),A:A)","v":2}]
["TACF","MYR",12761766.220000001,null,{"$f":"IFERROR(VLOOKUP(A:A,Mapping!B:C,2,0),A:A)","v":2}]
["TACF","SGD",27570.947321,null,{"$f":"IFERROR(VLOOKUP(A:A,Mapping!B:C,2,0),A:A)","v":2}]
["TACF","THB",441256.2,null,{"$f":"IFERROR(VLOOKUP(A:A,Mapping!B:C,2,0),A:A)","v":2}]
["TACF","USD",521690.42473999999,null,{"$f":"IFERROR(VLOOKUP(A:A,Mapping!B:C,2,0),A:A)","v":2}]
["TADF","MYR",9925792.7400000002,null,{"$f":"IFERROR(VLOOKUP(A:A,Mapping!B:C,2,0),A:A)","v":15}]
["TADIF","MYR",834296.73,null,{"$f":"IFERROR(VLOOKUP(A:A,Mapping!B:C,2,0),A:A)","v":14}]
["TADIF","USD",52500273.73184,null,{"$f":"IFERROR(VLOOKUP(A:A,Mapping!B:C,2,0),A:A)","v":14}]
["TADO","AUD",631118.20098600001,null,{"$f":"IFERROR(VLOOKUP(A:A,Mapping!B:C,2,0),A:A)","v":7}]
["TADO","HKD",906938.54159400007,null,{"$f":"IFERROR(VLOOKUP(A:A,Mapping!B:C,2,0),A:A)","v":7}]
["TADO","KRW",858.44642949999991,null,{"$f":"IFERROR(VLOOKUP(A:A,Mapping!B:C,2,0),A:A)","v":7}]
["TADO","MYR",22801324.449999999,null,{"$f":"IFERROR(VLOOKUP(A:A,Mapping!B:C,2,0),A:A)","v":7}]
["TADO","THB",406629.62255999999,null,{"$f":"IFERROR(VLOOKUP(A:A,Mapping!B:C,2,0),A:A)","v":7}]
["TADO","USD",20697.478510000004,null,{"$f":"IFERROR(VLOOKUP(A:A,Mapping!B:C,2,0),A:A)","v":7}]
["TAEURO","EUR",17821928.062384002,null,{"$f":"IFERROR(VLOOKUP(A:A,Mapping!B:C,2,0),A:A)","v":13}]
["TAEURO","MYR",2292278.25,null,{"$f":"IFERROR(VLOOKUP(A:A,Mapping!B:C,2,0),A:A)","v":13}]
["TAEURO","SGD",1650927.3716,null,{"$f":"IFERROR(VLOOKUP(A:A,Mapping!B:C,2,0),A:A)","v":13}]
["TAEURO","USD",9051219.0529999994,null,{"$f":"IFERROR(VLOOKUP(A:A,Mapping!B:C,2,0),A:A)","v":13}]
["TAGAAF","EUR",176418.82938399998,null,{"$f":"IFERROR(VLOOKUP(A:A,Mapping!B:C,2,0),A:A)","v":11}]
["TAGAAF","GBP",72.318443999999971,null,{"$f":"IFERROR(VLOOKUP(A:A,Mapping!B:C,2,0),A:A)","v":11}]
["TAGAAF","HKD",46.394697999999998,null,{"$f":"IFERROR(VLOOKUP(A:A,Mapping!B:C,2,0),A:A)","v":11}]
["TAGAAF","JPY",4.3090969999999995,null,{"$f":"IFERROR(VLOOKUP(A:A,Mapping!B:C,2,0),A:A)","v":11}]
["TAGAAF","MYR",-306.14000000000669,null,{"$f":"IFERROR(VLOOKUP(A:A,Mapping!B:C,2,0),A:A)","v":11}]
["TAGAAF","SGD",2395.7014180000001,null,{"$f":"IFERROR(VLOOKUP(A:A,Mapping!B:C,2,0),A:A)","v":11}]
["TAGAAF","USD",1444983.6561707,null,{"$f":"IFERROR(VLOOKUP(A:A,Mapping!B:C,2,0),A:A)","v":11}]
["TAGF","AUD",1641083.777892,null,{"$f":"IFERROR(VLOOKUP(A:A,Mapping!B:C,2,0),A:A)","v":1}]
["TAGF","HKD",2195451.3886859999,null,{"$f":"IFERROR(VLOOKUP(A:A,Mapping!B:C,2,0),A:A)","v":1}]
["TAGF","MYR",19804158.510000002,null,{"$f":"IFERROR(VLOOKUP(A:A,Mapping!B:C,2,0),A:A)","v":1}]
["TAGF","SGD",34773.798972000004,null,{"$f":"IFERROR(VLOOKUP(A:A,Mapping!B:C,2,0),A:A)","v":1}]
["TAGF","THB",735427,null,{"$f":"IFERROR(VLOOKUP(A:A,Mapping!B:C,2,0),A:A)","v":1}]
["TAGF","USD",950453.23947000003,null,{"$f":"IFERROR(VLOOKUP(A:A,Mapping!B:C,2,0),A:A)","v":1}]
["TAIB","AUD",1018395.9215600002,null,{"$f":"IFERROR(VLOOKUP(A:A,Mapping!B:C,2,0),A:A)","v":12}]
["TAIB","HKD",3419440.3395720003,null,{"$f":"IFERROR(VLOOKUP(A:A,Mapping!B:C,2,0),A:A)","v":12}]
["TAIB","JPY",3144813.7020739997,null,{"$f":"IFERROR(VLOOKUP(A:A,Mapping!B:C,2,0),A:A)","v":12}]
["TAIB","KRW",6.6794499999999993E-2,null,{"$f":"IFERROR(VLOOKUP(A:A,Mapping!B:C,2,0),A:A)","v":12}]
["TAIB","MYR",1457100.18,null,{"$f":"IFERROR(VLOOKUP(A:A,Mapping!B:C,2,0),A:A)","v":12}]
["TAIB","USD",1038234.59451,null,{"$f":"IFERROR(VLOOKUP(A:A,Mapping!B:C,2,0),A:A)","v":12}]
["TAICP","MYR",19657631.379999999,null,{"$f":"IFERROR(VLOOKUP(A:A,Mapping!B:C,2,0),A:A)","v":9}]
["TAIF","AUD",1010649.12858,null,{"$f":"IFERROR(VLOOKUP(A:A,Mapping!B:C,2,0),A:A)","v":3}]
["TAIF","HKD",2028541.7522640002,null,{"$f":"IFERROR(VLOOKUP(A:A,Mapping!B:C,2,0),A:A)","v":3}]
["TAIF","KRW",220.78043099999996,null,{"$f":"IFERROR(VLOOKUP(A:A,Mapping!B:C,2,0),A:A)","v":3}]
["TAIF","MYR",51405571.890000001,null,{"$f":"IFERROR(VLOOKUP(A:A,Mapping!B:C,2,0),A:A)","v":3}]
["TAIF","THB",2891.3004962800001,null,{"$f":"IFERROR(VLOOKUP(A:A,Mapping!B:C,2,0),A:A)","v":3}]
["TASF","AUD",202164.476444,null,{"$f":"IFERROR(VLOOKUP(A:A,Mapping!B:C,2,0),A:A)","v":5}]
["TASF","GBP",3052.3256279999991,null,{"$f":"IFERROR(VLOOKUP(A:A,Mapping!B:C,2,0),A:A)","v":5}]
["TASF","HKD",492503.71402700001,null,{"$f":"IFERROR(VLOOKUP(A:A,Mapping!B:C,2,0),A:A)","v":5}]
["TASF","IDR",57420.36,null,{"$f":"IFERROR(VLOOKUP(A:A,Mapping!B:C,2,0),A:A)","v":5}]
["TASF","MYR",5389384.7299999995,null,{"$f":"IFERROR(VLOOKUP(A:A,Mapping!B:C,2,0),A:A)","v":5}]
["TASF","SGD",2172.3741989999999,null,{"$f":"IFERROR(VLOOKUP(A:A,Mapping!B:C,2,0),A:A)","v":5}]
["TASF","THB",475304.07510798,null,{"$f":"IFERROR(VLOOKUP(A:A,Mapping!B:C,2,0),A:A)","v":5}]
["TASF","USD",6653.0568200000016,null,{"$f":"IFERROR(VLOOKUP(A:A,Mapping!B:C,2,0),A:A)","v":5}]
["TIF","HKD",241791.682,null,{"$f":"IFERROR(VLOOKUP(A:A,Mapping!B:C,2,0),A:A)","v":4}]
["TIF","MYR",4189024.6599999997,null,{"$f":"IFERROR(VLOOKUP(A:A,Mapping!B:C,2,0),A:A)","v":4}]
["TRFIF","MYR",-11225.39,null,{"$f":"IFERROR(VLOOKUP(A:A,Mapping!B:C,2,0),A:A)","v":28}]
["TRFIF","SGD",1161707.97,null,{"$f":"IFERROR(VLOOKUP(A:A,Mapping!B:C,2,0),A:A)","v":28}]